{"text_format":"1","workbook":"xlsx","n_sheets":16,"sheets":["Data","REFERENCE","Extension Table","Line Table","Product Table","Tone_set_table","Generic","Brekeke","3CX","SNOMONE","PBXnSIP","TRIXBOX","RESULT","Gen info","Setup","NOTA INTERNAS"],"not_rendered":{"charts":0,"images":4,"macros":1,"external_links":0,"defined_names":16,"comments":0,"pivot_tables":0},"unopened":[],"bounds":{"document_bytes":16777216,"sheet_cells":100000,"rows_first":2000,"rows_last":500,"rows_between":2000,"halvings":0,"cell_chars":16384,"cell_head_chars":4096},"cells_cut":0,"cells_raw":0,"read":"whole","date_system":"1900"}

{"sheet":"Data","index":0,"n_rows":89,"n_cols":4,"rows_kept":89,"cut":false,"hidden":false,"merged":[[32,1,32,3],[0,1,0,3],[12,1,12,3],[2,1,2,3],[22,1,22,3],[26,1,26,3],[11,2,11,3]]}
[null,"CONFIGURATION FILE - GENERATION TOOL\nVERSION 2.1\nJune 2011 \n\n(Only fill Yellow cells)\nUsage: Smart Nodes as a PSTN and/or Analog extensions gateway for IPPBX \nIncludes Generic, Brekeke, 3CX, Snom One, PBXnSIP and TrixBox\n(Please remember to enable macros)"]
[null,"ATTRIBUTE","VALUE","COMMENT"]
[null,"GENERAL DATA"]
[null,"Tool Version",{"$f":"+D44","v":"V2_1 06222011"},"<---Current Version"]
[null,"Number of analog Trunk lines (FXO)",12,"Number of FXO ports to be configured. This number must be not greater that the physical FXO available ports"]
[null,"Number of analog extension lines (FXS)",0,"Number of FXS ports to be configured. This number must be not greater that the physical FXO available ports"]
[null,"Router present (2 Ethernet)?","N","Use Y for all Smartnode with 2 Ethernet ports"]
[null,"In which side is the IP PBX?","LAN","LAN Side is always Ethernet 0 0 / WAN side is always Ethernet 0 1"]
[null,"SNTP Server address","1.1.1.1","Enter IP addres or name for the SNTP Server"]
[null,"DNS Server address","8.8.8.8","Enter IP addres or name for the DNS Server. Leave it empty if DNS will be provided by DHCP"]
[null,"Name and location of the config file to generate","PattonSample","Enter the name of the file to generate (no extension needed)"]
[null,"Directory where to save config files","C:/temp/"]
[null,"NETWORK DATA"]
[null,"LAN Interface Data"]
[null,"IP Address","10.10.1.10","<--- IP Address or dhcp"]
[null,"IP Mask","255.255.255.0","<-- If IP is dhcp, leave it blank"]
[]
[null,"WAN Interface Data"]
[null,"IP Address","dhcp","<--- IP Address or dhcp"]
[null,"IP Mask",null,"<-- If IP is dhcp, leave it blank"]
[]
[null,"Default Gateway",null,"Make sure the IP address belongs to any of the know networks in LAN of WAN interfaces"]
[null,"IP-PBX/SIP PROXY DATA"]
[null,"IP-PBX Ip Address /  Name / Domain","10.10.50.23","This is the IP PBX or Registrar Server address where extensions and trunks will be authenticated"]
[null,"IP-PBX SIP Port",5060,"This is the SIP port used to communicate to the IPPBX or Registrar"]
[null,"Realm",null,"Enter de associated domain or realm for this PBX (in 3CX is forced to 3CXPhoneSystem)"]
[null,"LOCALIZATION DATA"]
[null,"Country","United States","Select country from pulldown"]
[null,"Tone Set",{"$f":"+VLOOKUP($C$28,Table2[],2)","v":"Tone_Set_US"},"This field is automatically calculated!!!"]
[null,"Call Progress",{"$f":"+VLOOKUP($C$28,Table2[],3)","v":"profile call-progress-tone defaultDialtone\r\nflush-play-list \r\nplay 1 1000 350 -13 440 -13 \r\nprofile call-progress-tone defaultAlertingtone \r\nflush-play-list \r\nplay 1 1000 440 -19 480 -19 \r\npause 2 3000 \r\nprofile call-progress-tone defaultBusytone \r\nflush-play-list \r\nplay 1 500 480 -24 620 -24 \r\npause 2 500 \r\nprofile call-progress-tone defaultReleasetone \r\nflush-play-list \r\nplay 1 250 480 -24 620 -24 \r\npause 2 250 \r\nprofile call-progress-tone defaultCongestiontone \r\nflush-play-list \r\nplay 1 250 480 -24 620 -24 \r\npause 2 250\r\n"},"This field is automatically calculated!!!"]
[null,"FXO Profile",{"$f":"+VLOOKUP($C$28,Table2[],4)","v":"use profile fxo us"},"This field is automatically calculated!!!"]
[null,"FXS Profile",{"$f":"+VLOOKUP($C$28,Table2[],5)","v":"use profile fxs us"},"This field is automatically calculated!!!"]
[null,"GENERAL EXTENSIONS DATA"]
[null,"First extension",101,"Enter the first extension number to use"]
[null,"Extension Increment",1,"Enter incremental factor to caculate the rest of extension number (i.e 2 means 101, 103, 105, …..) - Valid numbers from 1 to 10"]
[null,"First SIP port for extensions",5060,"Enter the registration port to be used for the first extension. All the remaning ports will be calculated at incrementals of 2 (range from 5060 to 16999)"]
[null,"First SIP port for lines",5060,"Enter the registration port to be used for the first line. All the remaning ports will be calculated at incrementals of 2 (range from 5060 to 16999)"]
[null,"Digit Collection Timeout",2,"Enter Blank, 2, 5 or 7 seconds (If blank, no digit collection timeout is used)"]
[null,"Delivery Announcemets?","Y","Announcements by the telephone company, such as \"The mobile you are calling is not available\", can be removed from calls by this device. Please note that if you choose the \"Deliver Announcements\" setting, some functions (such as forwarding to an outside number from a Ring Group or a Queues) may fail or perform unpredictably."]
[null,"Wait for caller ID on incoming","Y","Incoming calls may require up to 2 ring sequences to deliver the Caller ID. Select whether you want to collect Caller ID information at the cost of delaying the first ring on incoming calls"]
[null,"Caller ID Format (FXS)","etsi","Select Caller ID format for FXS ports"]
[null,"Caller ID Presenttation (FXS)","pre-ring","Select how do you want to present caller id (mid ring, pre-ring or none)"]
[]
[null,null,"VERSION:","V2_1 06222011"]
[null,null,"File:",{"$f":"+CONCATENATE(C12,C11,\".cfg\")","v":"C:/temp/PattonSample.cfg"}]
[]
[null,null,"YESNO TABLE","Country"]
[null,null,"Y","Argentina"]
[null,null,"N","Australia"]
[null,null,null,"Austria 420Hz"]
[null,null,"VALID E1/T1 PORTS","Austria 450Hz"]
[null,null,0,"Belgium"]
[null,null,1,"Brazil"]
[null,null,4,"Cyprus"]
[null,null,null,"Czech Republic"]
[null,null,"TYPE IF DIGITAL","Denmark"]
[null,null,"T1","Finland"]
[null,null,"E1","France"]
[null,null,null,"Germany"]
[null,null,"IPPBX LOCATION","Greece"]
[null,null,"LAN","Holland"]
[null,null,"WAN","India"]
[null,null,null,"Ireland"]
[null,null,"TIMEOUT","Italy"]
[null,null,null,"Japan"]
[null,null,2,"New Zeland"]
[null,null,5,"Norway"]
[null,null,7,"Poland"]
[null,null,null,"Portugal"]
[null,null,null,"Russia"]
[null,null,"IPPBX","South Africa"]
[null,null,"Generic","Spain"]
[null,null,"Brekeke","Sweden"]
[null,null,"3CX","Switzerland"]
[null,null,"SNOMONE","Turkey"]
[null,null,"PBXnSIP","United Kindom"]
[null,null,"TRIXBOX","United States"]
[]
[null,null,"3CX"]
[]
[]
[null,null,"CALLER ID FMT"]
[null,null,"bell"]
[null,null,"etsi"]
[]
[null,null,"CALLER ID PRESENT"]
[null,null,"mid-ring"]
[null,null,"pre-ring"]
[null,null,"(none)"]

{"sheet":"REFERENCE","index":1,"n_rows":53,"n_cols":3,"rows_kept":53,"cut":false,"hidden":false,"merged":[]}
[]
[]
[]
[]
[]
[]
[]
[]
[]
[]
[]
[]
[]
[]
[]
[]
[]
[]
[]
[]
[]
[]
[]
[]
[]
[]
[]
[]
[]
[]
[]
[]
[]
[]
[]
[]
[]
[]
[null,"VARIABLE USED","EXPLANATION"]
[null,"IF_FXS_n","Logical FXS interface number \"n\". (i.e. IF_FXS_1, for the interfeace associated to physical FXS port 0). Each physical FXS port 0,1,2,3, …., n, will be \"bind\" to a logical FXS interface 1,2,3,4,….n+1."]
[null,"IF_FXO-n","Logical FXO interface number \"n\". (i.e. IF_FXO_1, for the interfeace associated to physical FXO port 0). Each physical FXO port 0,1,2,3, …., n, will be \"bind\" to a logical FXO interface 1,2,3,4,….n+1."]
[null,"IF_SIP_PBX","Sip Interface used to  associate all trafic related to extensions (FXS users) and the IP PBX."]
[null,"IF_IP_LAN","Logical interface associated to a physical Ethernet port, usually this is the default port. This port usually refers to the local network."]
[null,"IF_IP_WAN","Logical interface associated to a physical Ethernet port, usually this is the second por. This port usually refers to the Wide Area Network."]
[null,"RT_DIGITCOLLECTION","All dialed call from extensions will be passed thur a digit collection routing table. This routing table can validate dialed digits. It will also pass the dialed number thur a Mapping table (MT_EXT_TO_NAME) to add the used name is the signaling. "]
[null,"MT_EXT_TO_NAME","Mapping Table used to add the extension user name and last name to the signaling."]
[null,"GW_SIP_n","One gateway is being defined per each one of the available lines (FXO's).  GW_SIP_n corresponds to line \"n\", being n=1,2,3,….."]
[null,"GW_SIP_ALL_EXTENSIONS","I common Gateway is used for all Extensions."]
[null,"RT_TO_FXS","This table is used to route calls to specific extension number"]
[null,"AS_ALL_LINES","Authentication services associated to all lines"]
[null,"AS_ALL_EXTENSIONS","Authentication services associated to all extensions"]
[null,"LS_n","Location Service assciated to line \"n\""]
[null,"LS_ALL_EXTENSIONS","Location services associated to all extensions."]

{"sheet":"Extension Table","index":2,"n_rows":37,"n_cols":7,"rows_kept":37,"cut":false,"hidden":false,"merged":[]}
["Extension","Port","Line #","User F Name","User L Name","Auth_User","Auth_PWD"]
[{"$f":"+Data!$C$34","v":101},{"$f":"+Data!$C$36","v":5060},1,"Fname user 1","Lname user 1",{"$f":"+Table10[[#This Row],[Extension]]","v":101},{"$f":"+Table10[[#This Row],[Auth_User]]","v":101}]
[{"$f":"+A2+Data!$C$35","v":102},{"$f":"+B2+2","v":5062},{"$f":"+C2+1","v":2},"Fname user 2","Lname user 2",{"$f":"+Table10[[#This Row],[Extension]]","v":102},{"$f":"+Table10[[#This Row],[Auth_User]]","v":102}]
[{"$f":"+A3+Data!$C$35","v":103},{"$f":"+B3+2","v":5064},{"$f":"+C3+1","v":3},null,null,{"$f":"+Table10[[#This Row],[Extension]]","v":103},{"$f":"+Table10[[#This Row],[Auth_User]]","v":103}]
[{"$f":"+A4+Data!$C$35","v":104},5066,4,null,null,{"$f":"+Table10[[#This Row],[Extension]]","v":104},{"$f":"+Table10[[#This Row],[Auth_User]]","v":104}]
[{"$f":"+A5+Data!$C$35","v":105},5068,5,null,null,{"$f":"+Table10[[#This Row],[Extension]]","v":105},{"$f":"+Table10[[#This Row],[Auth_User]]","v":105}]
[{"$f":"+A6+Data!$C$35","v":106},5070,6,null,null,{"$f":"+Table10[[#This Row],[Extension]]","v":106},{"$f":"+Table10[[#This Row],[Auth_User]]","v":106}]
[{"$f":"+A7+Data!$C$35","v":107},5072,7,null,null,{"$f":"+Table10[[#This Row],[Extension]]","v":107},{"$f":"+Table10[[#This Row],[Auth_User]]","v":107}]
[{"$f":"+A8+Data!$C$35","v":108},5074,8,null,null,{"$f":"+Table10[[#This Row],[Extension]]","v":108},{"$f":"+Table10[[#This Row],[Auth_User]]","v":108}]
[{"$f":"+A9+Data!$C$35","v":109},5076,9,null,null,{"$f":"+Table10[[#This Row],[Extension]]","v":109},{"$f":"+Table10[[#This Row],[Auth_User]]","v":109}]
[{"$f":"+A10+Data!$C$35","v":110},5078,10,null,null,{"$f":"+Table10[[#This Row],[Extension]]","v":110},{"$f":"+Table10[[#This Row],[Auth_User]]","v":110}]
[{"$f":"+A11+Data!$C$35","v":111},5080,11,null,null,{"$f":"+Table10[[#This Row],[Extension]]","v":111},{"$f":"+Table10[[#This Row],[Auth_User]]","v":111}]
[{"$f":"+A12+Data!$C$35","v":112},5082,12,null,null,{"$f":"+Table10[[#This Row],[Extension]]","v":112},{"$f":"+Table10[[#This Row],[Auth_User]]","v":112}]
[{"$f":"+A13+Data!$C$35","v":113},5084,13,null,null,{"$f":"+Table10[[#This Row],[Extension]]","v":113},{"$f":"+Table10[[#This Row],[Auth_User]]","v":113}]
[{"$f":"+A14+Data!$C$35","v":114},5086,14,null,null,{"$f":"+Table10[[#This Row],[Extension]]","v":114},{"$f":"+Table10[[#This Row],[Auth_User]]","v":114}]
[{"$f":"+A15+Data!$C$35","v":115},5088,15,null,null,{"$f":"+Table10[[#This Row],[Extension]]","v":115},{"$f":"+Table10[[#This Row],[Auth_User]]","v":115}]
[{"$f":"+A16+Data!$C$35","v":116},5090,16,null,null,{"$f":"+Table10[[#This Row],[Extension]]","v":116},{"$f":"+Table10[[#This Row],[Auth_User]]","v":116}]
[{"$f":"+A17+Data!$C$35","v":117},5092,17,null,null,{"$f":"+Table10[[#This Row],[Extension]]","v":117},{"$f":"+Table10[[#This Row],[Auth_User]]","v":117}]
[{"$f":"+A18+Data!$C$35","v":118},5094,18,null,null,{"$f":"+Table10[[#This Row],[Extension]]","v":118},{"$f":"+Table10[[#This Row],[Auth_User]]","v":118}]
[{"$f":"+A19+Data!$C$35","v":119},5096,19,null,null,{"$f":"+Table10[[#This Row],[Extension]]","v":119},{"$f":"+Table10[[#This Row],[Auth_User]]","v":119}]
[{"$f":"+A20+Data!$C$35","v":120},5098,20,null,null,{"$f":"+Table10[[#This Row],[Extension]]","v":120},{"$f":"+Table10[[#This Row],[Auth_User]]","v":120}]
[{"$f":"+A21+Data!$C$35","v":121},5100,21,null,null,{"$f":"+Table10[[#This Row],[Extension]]","v":121},{"$f":"+Table10[[#This Row],[Auth_User]]","v":121}]
[{"$f":"+A22+Data!$C$35","v":122},5102,22,null,null,{"$f":"+Table10[[#This Row],[Extension]]","v":122},{"$f":"+Table10[[#This Row],[Auth_User]]","v":122}]
[{"$f":"+A23+Data!$C$35","v":123},5104,23,null,null,{"$f":"+Table10[[#This Row],[Extension]]","v":123},{"$f":"+Table10[[#This Row],[Auth_User]]","v":123}]
[{"$f":"+A24+Data!$C$35","v":124},5106,24,null,null,{"$f":"+Table10[[#This Row],[Extension]]","v":124},{"$f":"+Table10[[#This Row],[Auth_User]]","v":124}]
[{"$f":"+A25+Data!$C$35","v":125},5108,25,null,null,{"$f":"+Table10[[#This Row],[Extension]]","v":125},{"$f":"+Table10[[#This Row],[Auth_User]]","v":125}]
[{"$f":"+A26+Data!$C$35","v":126},5110,26,null,null,{"$f":"+Table10[[#This Row],[Extension]]","v":126},{"$f":"+Table10[[#This Row],[Auth_User]]","v":126}]
[{"$f":"+A27+Data!$C$35","v":127},5112,27,null,null,{"$f":"+Table10[[#This Row],[Extension]]","v":127},{"$f":"+Table10[[#This Row],[Auth_User]]","v":127}]
[{"$f":"+A28+Data!$C$35","v":128},5114,28,null,null,{"$f":"+Table10[[#This Row],[Extension]]","v":128},{"$f":"+Table10[[#This Row],[Auth_User]]","v":128}]
[{"$f":"+A29+Data!$C$35","v":129},5116,29,null,null,{"$f":"+Table10[[#This Row],[Extension]]","v":129},{"$f":"+Table10[[#This Row],[Auth_User]]","v":129}]
[{"$f":"+A30+Data!$C$35","v":130},5118,30,null,null,{"$f":"+Table10[[#This Row],[Extension]]","v":130},{"$f":"+Table10[[#This Row],[Auth_User]]","v":130}]
[{"$f":"+A31+Data!$C$35","v":131},5120,31,null,null,{"$f":"+Table10[[#This Row],[Extension]]","v":131},{"$f":"+Table10[[#This Row],[Auth_User]]","v":131}]
[{"$f":"+A32+Data!$C$35","v":132},5122,32,null,null,{"$f":"+Table10[[#This Row],[Extension]]","v":132},{"$f":"+Table10[[#This Row],[Auth_User]]","v":132}]
[{"$f":"+A33+Data!$C$35","v":133},5124,33,null,null,{"$f":"+Table10[[#This Row],[Extension]]","v":133},{"$f":"+Table10[[#This Row],[Auth_User]]","v":133}]
[{"$f":"+A34+Data!$C$35","v":134},5126,34,null,null,{"$f":"+Table10[[#This Row],[Extension]]","v":134},{"$f":"+Table10[[#This Row],[Auth_User]]","v":134}]
[{"$f":"+A35+Data!$C$35","v":135},5128,35,null,null,{"$f":"+Table10[[#This Row],[Extension]]","v":135},{"$f":"+Table10[[#This Row],[Auth_User]]","v":135}]
[{"$f":"+A36+Data!$C$35","v":136},5130,36,null,null,{"$f":"+Table10[[#This Row],[Extension]]","v":136},{"$f":"+Table10[[#This Row],[Auth_User]]","v":136}]

{"sheet":"Line Table","index":3,"n_rows":33,"n_cols":7,"rows_kept":33,"cut":false,"hidden":false,"merged":[]}
["SEQUENCE","LINE #","Early Media","Wait Caller ID","Auth_ID","Auth_PWD","SIP PORT"]
[1,10002,{"$f":"+IF(Data!$C$39=\"Y\",\"early-connect \",\"no early-connect \")","v":"early-connect "},{"$f":"+IF(Data!$C$40=\"Y\",\"ring-number on-caller-id \",\"ring-number 1\")","v":"ring-number on-caller-id "},{"$f":"+'Line Table'!$B2","v":10002},{"$f":"+'Line Table'!$E2","v":10002},{"$f":"+Data!$C$37","v":5060}]
[{"$f":"+A2+1","v":2},{"$f":"+B2+1","v":10003},{"$f":"+IF(Data!$C$39=\"Y\",\"early-connect \",\"no early-connect \")","v":"early-connect "},{"$f":"+IF(Data!$C$40=\"Y\",\"ring-number on-caller-id \",\"ring-number 1\")","v":"ring-number on-caller-id "},{"$f":"+'Line Table'!$B3","v":10003},{"$f":"+'Line Table'!$E3","v":10003},{"$f":"+G2+2","v":5062}]
[{"$f":"+A3+1","v":3},{"$f":"+B3+1","v":10004},{"$f":"+IF(Data!$C$39=\"Y\",\"early-connect \",\"no early-connect \")","v":"early-connect "},{"$f":"+IF(Data!$C$40=\"Y\",\"ring-number on-caller-id \",\"ring-number 1\")","v":"ring-number on-caller-id "},{"$f":"+'Line Table'!$B4","v":10004},{"$f":"+'Line Table'!$E4","v":10004},{"$f":"+G3+2","v":5064}]
[4,10005,{"$f":"+IF(Data!$C$39=\"Y\",\"early-connect \",\"no early-connect \")","v":"early-connect "},{"$f":"+IF(Data!$C$40=\"Y\",\"ring-number on-caller-id \",\"ring-number 1\")","v":"ring-number on-caller-id "},{"$f":"+'Line Table'!$B5","v":10005},{"$f":"+'Line Table'!$E5","v":10005},5066]
[5,10006,{"$f":"+IF(Data!$C$39=\"Y\",\"early-connect \",\"no early-connect \")","v":"early-connect "},{"$f":"+IF(Data!$C$40=\"Y\",\"ring-number on-caller-id \",\"ring-number 1\")","v":"ring-number on-caller-id "},{"$f":"+'Line Table'!$B6","v":10006},{"$f":"+'Line Table'!$E6","v":10006},5068]
[6,10007,{"$f":"+IF(Data!$C$39=\"Y\",\"early-connect \",\"no early-connect \")","v":"early-connect "},{"$f":"+IF(Data!$C$40=\"Y\",\"ring-number on-caller-id \",\"ring-number 1\")","v":"ring-number on-caller-id "},{"$f":"+'Line Table'!$B7","v":10007},{"$f":"+'Line Table'!$E7","v":10007},5070]
[7,10008,{"$f":"+IF(Data!$C$39=\"Y\",\"early-connect \",\"no early-connect \")","v":"early-connect "},{"$f":"+IF(Data!$C$40=\"Y\",\"ring-number on-caller-id \",\"ring-number 1\")","v":"ring-number on-caller-id "},{"$f":"+'Line Table'!$B8","v":10008},{"$f":"+'Line Table'!$E8","v":10008},5072]
[8,10009,{"$f":"+IF(Data!$C$39=\"Y\",\"early-connect \",\"no early-connect \")","v":"early-connect "},{"$f":"+IF(Data!$C$40=\"Y\",\"ring-number on-caller-id \",\"ring-number 1\")","v":"ring-number on-caller-id "},{"$f":"+'Line Table'!$B9","v":10009},{"$f":"+'Line Table'!$E9","v":10009},5074]
[9,10010,{"$f":"+IF(Data!$C$39=\"Y\",\"early-connect \",\"no early-connect \")","v":"early-connect "},{"$f":"+IF(Data!$C$40=\"Y\",\"ring-number on-caller-id \",\"ring-number 1\")","v":"ring-number on-caller-id "},{"$f":"+'Line Table'!$B10","v":10010},{"$f":"+'Line Table'!$E10","v":10010},5076]
[10,10011,{"$f":"+IF(Data!$C$39=\"Y\",\"early-connect \",\"no early-connect \")","v":"early-connect "},{"$f":"+IF(Data!$C$40=\"Y\",\"ring-number on-caller-id \",\"ring-number 1\")","v":"ring-number on-caller-id "},{"$f":"+'Line Table'!$B11","v":10011},{"$f":"+'Line Table'!$E11","v":10011},5078]
[11,10012,{"$f":"+IF(Data!$C$39=\"Y\",\"early-connect \",\"no early-connect \")","v":"early-connect "},{"$f":"+IF(Data!$C$40=\"Y\",\"ring-number on-caller-id \",\"ring-number 1\")","v":"ring-number on-caller-id "},{"$f":"+'Line Table'!$B12","v":10012},{"$f":"+'Line Table'!$E12","v":10012},5080]
[12,10013,{"$f":"+IF(Data!$C$39=\"Y\",\"early-connect \",\"no early-connect \")","v":"early-connect "},{"$f":"+IF(Data!$C$40=\"Y\",\"ring-number on-caller-id \",\"ring-number 1\")","v":"ring-number on-caller-id "},{"$f":"+'Line Table'!$B13","v":10013},{"$f":"+'Line Table'!$E13","v":10013},5082]
[13,10014,{"$f":"+IF(Data!$C$39=\"Y\",\"early-connect \",\"no early-connect \")","v":"early-connect "},{"$f":"+IF(Data!$C$40=\"Y\",\"ring-number on-caller-id \",\"ring-number 1\")","v":"ring-number on-caller-id "},{"$f":"+'Line Table'!$B14","v":10014},{"$f":"+'Line Table'!$E14","v":10014},5084]
[14,10015,{"$f":"+IF(Data!$C$39=\"Y\",\"early-connect \",\"no early-connect \")","v":"early-connect "},{"$f":"+IF(Data!$C$40=\"Y\",\"ring-number on-caller-id \",\"ring-number 1\")","v":"ring-number on-caller-id "},{"$f":"+'Line Table'!$B15","v":10015},{"$f":"+'Line Table'!$E15","v":10015},5086]
[15,10016,{"$f":"+IF(Data!$C$39=\"Y\",\"early-connect \",\"no early-connect \")","v":"early-connect "},{"$f":"+IF(Data!$C$40=\"Y\",\"ring-number on-caller-id \",\"ring-number 1\")","v":"ring-number on-caller-id "},{"$f":"+'Line Table'!$B16","v":10016},{"$f":"+'Line Table'!$E16","v":10016},5088]
[16,10017,{"$f":"+IF(Data!$C$39=\"Y\",\"early-connect \",\"no early-connect \")","v":"early-connect "},{"$f":"+IF(Data!$C$40=\"Y\",\"ring-number on-caller-id \",\"ring-number 1\")","v":"ring-number on-caller-id "},{"$f":"+'Line Table'!$B17","v":10017},{"$f":"+'Line Table'!$E17","v":10017},5090]
[17,10018,{"$f":"+IF(Data!$C$39=\"Y\",\"early-connect \",\"no early-connect \")","v":"early-connect "},{"$f":"+IF(Data!$C$40=\"Y\",\"ring-number on-caller-id \",\"ring-number 1\")","v":"ring-number on-caller-id "},{"$f":"+'Line Table'!$B18","v":10018},{"$f":"+'Line Table'!$E18","v":10018},5092]
[18,10019,{"$f":"+IF(Data!$C$39=\"Y\",\"early-connect \",\"no early-connect \")","v":"early-connect "},{"$f":"+IF(Data!$C$40=\"Y\",\"ring-number on-caller-id \",\"ring-number 1\")","v":"ring-number on-caller-id "},{"$f":"+'Line Table'!$B19","v":10019},{"$f":"+'Line Table'!$E19","v":10019},5094]
[19,10020,{"$f":"+IF(Data!$C$39=\"Y\",\"early-connect \",\"no early-connect \")","v":"early-connect "},{"$f":"+IF(Data!$C$40=\"Y\",\"ring-number on-caller-id \",\"ring-number 1\")","v":"ring-number on-caller-id "},{"$f":"+'Line Table'!$B20","v":10020},{"$f":"+'Line Table'!$E20","v":10020},5096]
[20,10021,{"$f":"+IF(Data!$C$39=\"Y\",\"early-connect \",\"no early-connect \")","v":"early-connect "},{"$f":"+IF(Data!$C$40=\"Y\",\"ring-number on-caller-id \",\"ring-number 1\")","v":"ring-number on-caller-id "},{"$f":"+'Line Table'!$B21","v":10021},{"$f":"+'Line Table'!$E21","v":10021},5098]
[21,10022,{"$f":"+IF(Data!$C$39=\"Y\",\"early-connect \",\"no early-connect \")","v":"early-connect "},{"$f":"+IF(Data!$C$40=\"Y\",\"ring-number on-caller-id \",\"ring-number 1\")","v":"ring-number on-caller-id "},{"$f":"+'Line Table'!$B22","v":10022},{"$f":"+'Line Table'!$E22","v":10022},5100]
[22,10023,{"$f":"+IF(Data!$C$39=\"Y\",\"early-connect \",\"no early-connect \")","v":"early-connect "},{"$f":"+IF(Data!$C$40=\"Y\",\"ring-number on-caller-id \",\"ring-number 1\")","v":"ring-number on-caller-id "},{"$f":"+'Line Table'!$B23","v":10023},{"$f":"+'Line Table'!$E23","v":10023},5102]
[23,10024,{"$f":"+IF(Data!$C$39=\"Y\",\"early-connect \",\"no early-connect \")","v":"early-connect "},{"$f":"+IF(Data!$C$40=\"Y\",\"ring-number on-caller-id \",\"ring-number 1\")","v":"ring-number on-caller-id "},{"$f":"+'Line Table'!$B24","v":10024},{"$f":"+'Line Table'!$E24","v":10024},5104]
[24,10025,{"$f":"+IF(Data!$C$39=\"Y\",\"early-connect \",\"no early-connect \")","v":"early-connect "},{"$f":"+IF(Data!$C$40=\"Y\",\"ring-number on-caller-id \",\"ring-number 1\")","v":"ring-number on-caller-id "},{"$f":"+'Line Table'!$B25","v":10025},{"$f":"+'Line Table'!$E25","v":10025},5106]
[25,10026,{"$f":"+IF(Data!$C$39=\"Y\",\"early-connect \",\"no early-connect \")","v":"early-connect "},{"$f":"+IF(Data!$C$40=\"Y\",\"ring-number on-caller-id \",\"ring-number 1\")","v":"ring-number on-caller-id "},{"$f":"+'Line Table'!$B26","v":10026},{"$f":"+'Line Table'!$E26","v":10026},5108]
[26,10027,{"$f":"+IF(Data!$C$39=\"Y\",\"early-connect \",\"no early-connect \")","v":"early-connect "},{"$f":"+IF(Data!$C$40=\"Y\",\"ring-number on-caller-id \",\"ring-number 1\")","v":"ring-number on-caller-id "},{"$f":"+'Line Table'!$B27","v":10027},{"$f":"+'Line Table'!$E27","v":10027},5110]
[27,10028,{"$f":"+IF(Data!$C$39=\"Y\",\"early-connect \",\"no early-connect \")","v":"early-connect "},{"$f":"+IF(Data!$C$40=\"Y\",\"ring-number on-caller-id \",\"ring-number 1\")","v":"ring-number on-caller-id "},{"$f":"+'Line Table'!$B28","v":10028},{"$f":"+'Line Table'!$E28","v":10028},5112]
[28,10029,{"$f":"+IF(Data!$C$39=\"Y\",\"early-connect \",\"no early-connect \")","v":"early-connect "},{"$f":"+IF(Data!$C$40=\"Y\",\"ring-number on-caller-id \",\"ring-number 1\")","v":"ring-number on-caller-id "},{"$f":"+'Line Table'!$B29","v":10029},{"$f":"+'Line Table'!$E29","v":10029},5114]
[29,10030,{"$f":"+IF(Data!$C$39=\"Y\",\"early-connect \",\"no early-connect \")","v":"early-connect "},{"$f":"+IF(Data!$C$40=\"Y\",\"ring-number on-caller-id \",\"ring-number 1\")","v":"ring-number on-caller-id "},{"$f":"+'Line Table'!$B30","v":10030},{"$f":"+'Line Table'!$E30","v":10030},5116]
[30,10031,{"$f":"+IF(Data!$C$39=\"Y\",\"early-connect \",\"no early-connect \")","v":"early-connect "},{"$f":"+IF(Data!$C$40=\"Y\",\"ring-number on-caller-id \",\"ring-number 1\")","v":"ring-number on-caller-id "},{"$f":"+'Line Table'!$B31","v":10031},{"$f":"+'Line Table'!$E31","v":10031},5118]
[31,10032,{"$f":"+IF(Data!$C$39=\"Y\",\"early-connect \",\"no early-connect \")","v":"early-connect "},{"$f":"+IF(Data!$C$40=\"Y\",\"ring-number on-caller-id \",\"ring-number 1\")","v":"ring-number on-caller-id "},{"$f":"+'Line Table'!$B32","v":10032},{"$f":"+'Line Table'!$E32","v":10032},5120]
[32,10033,{"$f":"+IF(Data!$C$39=\"Y\",\"early-connect \",\"no early-connect \")","v":"early-connect "},{"$f":"+IF(Data!$C$40=\"Y\",\"ring-number on-caller-id \",\"ring-number 1\")","v":"ring-number on-caller-id "},{"$f":"+'Line Table'!$B33","v":10033},{"$f":"+'Line Table'!$E33","v":10033},5122]

{"sheet":"Product Table","index":4,"n_rows":41,"n_cols":11,"rows_kept":41,"cut":false,"hidden":true,"merged":[]}
[]
[null,null,"SERIES","MODEL","FXS","FXO","E1","SIP CHANNELS","ROUTER","DUAL PS","KEY"]
[null,null,"SN4110","SN4112/JS",2,0,0,2,"N","N"]
[null,null,"SN4110","SN4112/JO",0,2,0,2,"N","N"]
[null,null,"SN4110","SN4114/JS",4,0,0,4,"N","N"]
[null,null,"SN4110","SN4114/JO",0,4,0,4,"N","N"]
[null,null,"SN4110","SN4114/2JS2JO",2,2,0,4,"N","N"]
[null,null,"SN4110","SN4118/JS",8,0,0,8,"N","N"]
[null,null,"SN4110","SN4118/4JS4JO",4,4,0,8,"N","N"]
[null,null,"SN4522","SN4522/JS",2,0,0,2,"Y","N"]
[null,null,"SN4522","SN4522/JO",0,2,0,2,"Y","N"]
[null,null,"SN4524","SN4524/JS",4,0,0,4,"Y","N"]
[null,null,"SN4524","SN4524/JO",0,4,0,4,"Y","N"]
[null,null,"SN4524","SN4524/2JS2JO",2,2,0,4,"Y","N"]
[null,null,"SN4528","SN4528/JS",8,0,0,8,"Y","N"]
[null,null,"SN4528","SN4528/4JS4JO",4,4,0,8,"Y","N"]
[null,null,"SN4300","SN4316/JS",16,0,0,16,"N","N"]
[null,null,"SN4300","SN4324/JS",24,0,0,24,"N","N"]
[null,null,"SN4300","SN4332/JS",32,0,0,32,"N","N"]
[null,null,"SN4400","SN4412/JS",12,0,0,12,"Y","N"]
[null,null,"SN4400","SN4416/JS",16,0,0,16,"Y","N"]
[null,null,"SN4400","SN4424/JS",24,0,0,24,"Y","N"]
[null,null,"SN4400","SN4432/JS",32,0,0,32,"Y","N"]
[null,null,"SN4900","SN4912/JS",12,0,0,12,"Y","Y"]
[null,null,"SN4900","SN4916/JS",16,0,0,16,"Y","Y"]
[null,null,"SN4900","SN4924/JS",24,0,0,24,"Y","Y"]
[null,null,"SN4900","SN4932/JS",32,0,0,32,"Y","Y"]
[null,null,"SN4900","SN4912/JO",0,12,0,12,"Y","Y"]
[null,null,"SN4900","SN4916/JO",0,16,0,16,"Y","Y"]
[null,null,"SN4900","SN4924/JO",0,24,0,24,"Y","Y"]
[null,null,"SN4900","SN4932/JO",0,32,0,32,"Y","Y"]
[null,null,"SN4960","SN4960/1E15V",0,0,1,15,"Y","N"]
[null,null,"SN4960","SN4960/1E24V",0,0,1,24,"Y","N"]
[null,null,"SN4960","SN4960/1E30V",0,0,1,30,"Y","N"]
[null,null,"SN4960","SN4960/4E15V",0,0,4,15,"Y","N"]
[null,null,"SN4960","SN4960/4E24V",0,0,4,23,"Y","N"]
[null,null,"SN4960","SN4960/4E30V",0,0,4,30,"Y","N"]
[null,null,"SN4960","SN4960/4E48V",0,0,4,48,"Y","N"]
[null,null,"SN4960","SN4960/4E60V",0,0,4,60,"Y","N"]
[null,null,"SN4960","SN4960/4E96V",0,0,4,96,"Y","N"]
[null,null,"SN4960","SN4960/4E120V",0,0,4,120,"Y","N"]

{"sheet":"Tone_set_table","index":5,"n_rows":32,"n_cols":9,"rows_kept":32,"cut":false,"hidden":true,"merged":[]}
[]
[null,"Country","Tone Set","Call Progress","FXO Profile","FXS profile","Column1","Column2","Column3"]
[null,"Argentina","Tone_Set_AR","profile call-progress-tone defaultDialtone \r\nflush-play-list \r\nplay 1 1000 425 -6 \r\nprofile call-progress-tone defaultAlertingtone \r\nflush-play-list \r\nplay 1 1000 425 -13 \r\npause 2 4000 \r\nprofile call-progress-tone defaultBusytone \r\nflush-play-list \r\nplay 1 300 425 -7 \r\npause 2 200 \r\nprofile call-progress-tone defaultReleasetone \r\nflush-play-list \r\nplay 1 300 425 -7 \r\npause 2 400 \r\nprofile call-progress-tone defaultCongestiontone \r\nflush-play-list \r\nplay 1 300 425 -7 \r\npause 2 400","use profile fxo etsi","use profile fxs etsi",{"$f":"+SUBSTITUTE(Table2[[#This Row],[Call Progress]],CHAR(10),CONCATENATE(CHAR(13),CHAR(10)))","v":"profile call-progress-tone defaultDialtone \r\r\nflush-play-list \r\r\nplay 1 1000 425 -6 \r\r\nprofile call-progress-tone defaultAlertingtone \r\r\nflush-play-list \r\r\nplay 1 1000 425 -13 \r\r\npause 2 4000 \r\r\nprofile call-progress-tone defaultBusytone \r\r\nflush-play-list \r\r\nplay 1 300 425 -7 \r\r\npause 2 200 \r\r\nprofile call-progress-tone defaultReleasetone \r\r\nflush-play-list \r\r\nplay 1 300 425 -7 \r\r\npause 2 400 \r\r\nprofile call-progress-tone defaultCongestiontone \r\r\nflush-play-list \r\r\nplay 1 300 425 -7 \r\r\npause 2 400"},"profile call-progress-tone defaultDialtone \r\nflush-play-list \r\nplay 1 1000 425 -6 \r\nprofile call-progress-tone defaultAlertingtone \r\nflush-play-list \r\nplay 1 1000 425 -13 \r\npause 2 4000 \r\nprofile call-progress-tone defaultBusytone \r\nflush-play-list \r\nplay 1 300 425 -7 \r\npause 2 200 \r\nprofile call-progress-tone defaultReleasetone \r\nflush-play-list \r\nplay 1 300 425 -7 \r\npause 2 400 \r\nprofile call-progress-tone defaultCongestiontone \r\nflush-play-list \r\nplay 1 300 425 -7 \r\npause 2 400","profile call-progress-tone defaultDialtone \nflush-play-list \nplay 1 1000 425 -6 \nprofile call-progress-tone defaultAlertingtone \nflush-play-list \nplay 1 1000 425 -13 \npause 2 4000 \nprofile call-progress-tone defaultBusytone \nflush-play-list \nplay 1 300 425 -7 \npause 2 200 \nprofile call-progress-tone defaultReleasetone \nflush-play-list \nplay 1 300 425 -7 \npause 2 400 \nprofile call-progress-tone defaultCongestiontone \nflush-play-list \nplay 1 300 425 -7 \npause 2 400"]
[null,"Australia","Tone_Set_AU","profile call-progress-tone defaultDialtone \r\nflush-play-list \r\nplay 1 1000 425 -6 450 -6 \r\nprofile call-progress-tone defaultAlertingtone \r\nflush-play-list \r\nplay 1 400 425 -13 450 -13 \r\npause 2 200 \r\nplay 1 400 425 -13 450 -13 \r\npause 2 2000 \r\nprofile call-progress-tone defaultBusytone \r\nflush-play-list \r\nplay 1 375 425 -7 \r\npause 2 375 \r\nprofile call-progress-tone defaultReleasetone \r\nflush-play-list \r\nplay 1 375 425 -7 \r\npause 2 375 \r\nprofile call-progress-tone defaultCongestiontone \r\nflush-play-list \r\nplay 1 375 425 -7 \r\npause 2 375\r\n","use profile fxo au","use profile fxs au",{"$f":"+SUBSTITUTE(Table2[[#This Row],[Call Progress]],CHAR(10),CONCATENATE(CHAR(13),CHAR(10)))","v":"profile call-progress-tone defaultDialtone \r\r\nflush-play-list \r\r\nplay 1 1000 425 -6 450 -6 \r\r\nprofile call-progress-tone defaultAlertingtone \r\r\nflush-play-list \r\r\nplay 1 400 425 -13 450 -13 \r\r\npause 2 200 \r\r\nplay 1 400 425 -13 450 -13 \r\r\npause 2 2000 \r\r\nprofile call-progress-tone defaultBusytone \r\r\nflush-play-list \r\r\nplay 1 375 425 -7 \r\r\npause 2 375 \r\r\nprofile call-progress-tone defaultReleasetone \r\r\nflush-play-list \r\r\nplay 1 375 425 -7 \r\r\npause 2 375 \r\r\nprofile call-progress-tone defaultCongestiontone \r\r\nflush-play-list \r\r\nplay 1 375 425 -7 \r\r\npause 2 375\r\r\n"},"profile call-progress-tone defaultDialtone \r\nflush-play-list \r\nplay 1 1000 425 -6 450 -6 \r\nprofile call-progress-tone defaultAlertingtone \r\nflush-play-list \r\nplay 1 400 425 -13 450 -13 \r\npause 2 200 \r\nplay 1 400 425 -13 450 -13 \r\npause 2 2000 \r\nprofile call-progress-tone defaultBusytone \r\nflush-play-list \r\nplay 1 375 425 -7 \r\npause 2 375 \r\nprofile call-progress-tone defaultReleasetone \r\nflush-play-list \r\nplay 1 375 425 -7 \r\npause 2 375 \r\nprofile call-progress-tone defaultCongestiontone \r\nflush-play-list \r\nplay 1 375 425 -7 \r\npause 2 375\r\n","profile call-progress-tone defaultDialtone \nflush-play-list \nplay 1 1000 425 -6 450 -6 \nprofile call-progress-tone defaultAlertingtone \nflush-play-list \nplay 1 400 425 -13 450 -13 \npause 2 200 \nplay 1 400 425 -13 450 -13 \npause 2 2000 \nprofile call-progress-tone defaultBusytone \nflush-play-list \nplay 1 375 425 -7 \npause 2 375 \nprofile call-progress-tone defaultReleasetone \nflush-play-list \nplay 1 375 425 -7 \npause 2 375 \nprofile call-progress-tone defaultCongestiontone \nflush-play-list \nplay 1 375 425 -7 \npause 2 375\n"]
[null,"Austria 420Hz","Tone_Set_AT420","profile call-progress-tone defaultDialtone \r\nflush-play-list \r\nplay 1 1000 420 -6 \r\nprofile call-progress-tone defaultAlertingtone \r\nflush-play-list \r\nplay 1 1000 420 -13 \r\npause 2 5000 \r\nprofile call-progress-tone defaultBusytone \r\nflush-play-list \r\nplay 1 400 420 -7 \r\npause 2 400 profile call-progress-tone defaultReleasetone \r\nflush-play-list \r\nplay 1 200 420 -7 \r\npause 2 200 \r\nprofile call-progress-tone defaultCongestiontone \r\nflush-play-list \r\nplay 1 200 420 -7 \r\npause 2 200\r\n","use profile fxo etsi","use profile fxs etsi",{"$f":"+SUBSTITUTE(Table2[[#This Row],[Call Progress]],CHAR(10),CONCATENATE(CHAR(13),CHAR(10)))","v":"profile call-progress-tone defaultDialtone \r\r\nflush-play-list \r\r\nplay 1 1000 420 -6 \r\r\nprofile call-progress-tone defaultAlertingtone \r\r\nflush-play-list \r\r\nplay 1 1000 420 -13 \r\r\npause 2 5000 \r\r\nprofile call-progress-tone defaultBusytone \r\r\nflush-play-list \r\r\nplay 1 400 420 -7 \r\r\npause 2 400 profile call-progress-tone defaultReleasetone \r\r\nflush-play-list \r\r\nplay 1 200 420 -7 \r\r\npause 2 200 \r\r\nprofile call-progress-tone defaultCongestiontone \r\r\nflush-play-list \r\r\nplay 1 200 420 -7 \r\r\npause 2 200\r\r\n"},"profile call-progress-tone defaultDialtone \r\nflush-play-list \r\nplay 1 1000 420 -6 \r\nprofile call-progress-tone defaultAlertingtone \r\nflush-play-list \r\nplay 1 1000 420 -13 \r\npause 2 5000 \r\nprofile call-progress-tone defaultBusytone \r\nflush-play-list \r\nplay 1 400 420 -7 \r\npause 2 400 profile call-progress-tone defaultReleasetone \r\nflush-play-list \r\nplay 1 200 420 -7 \r\npause 2 200 \r\nprofile call-progress-tone defaultCongestiontone \r\nflush-play-list \r\nplay 1 200 420 -7 \r\npause 2 200\r\n","profile call-progress-tone defaultDialtone \nflush-play-list \nplay 1 1000 420 -6 \nprofile call-progress-tone defaultAlertingtone \nflush-play-list \nplay 1 1000 420 -13 \npause 2 5000 \nprofile call-progress-tone defaultBusytone \nflush-play-list \nplay 1 400 420 -7 \npause 2 400 profile call-progress-tone defaultReleasetone \nflush-play-list \nplay 1 200 420 -7 \npause 2 200 \nprofile call-progress-tone defaultCongestiontone \nflush-play-list \nplay 1 200 420 -7 \npause 2 200\n"]
[null,"Austria 450Hz","Tone_Set_AT450","profile call-progress-tone defaultDialtone \r\nflush-play-list \r\nplay 1 1000 450 -6 \r\nprofile call-progress-tone defaultAlertingtone \r\nflush-play-list \r\nplay 1 1000 450 -13 \r\npause 2 5000 \r\nprofile call-progress-tone defaultBusytone \r\nflush-play-list \r\nplay 1 300 450 -7 \r\npause 2 300 \r\nprofile call-progress-tone defaultReleasetone \r\nflush-play-list \r\nplay 1 300 450 -7 \r\npause 2 300 \r\nprofile call-progress-tone defaultCongestiontone \r\nflush-play-list \r\nplay 1 300 450 -7 \r\npause 2 300\r\n","use profile fxo etsi","use profile fxs etsi",{"$f":"+SUBSTITUTE(Table2[[#This Row],[Call Progress]],CHAR(10),CONCATENATE(CHAR(13),CHAR(10)))","v":"profile call-progress-tone defaultDialtone \r\r\nflush-play-list \r\r\nplay 1 1000 450 -6 \r\r\nprofile call-progress-tone defaultAlertingtone \r\r\nflush-play-list \r\r\nplay 1 1000 450 -13 \r\r\npause 2 5000 \r\r\nprofile call-progress-tone defaultBusytone \r\r\nflush-play-list \r\r\nplay 1 300 450 -7 \r\r\npause 2 300 \r\r\nprofile call-progress-tone defaultReleasetone \r\r\nflush-play-list \r\r\nplay 1 300 450 -7 \r\r\npause 2 300 \r\r\nprofile call-progress-tone defaultCongestiontone \r\r\nflush-play-list \r\r\nplay 1 300 450 -7 \r\r\npause 2 300\r\r\n"},"profile call-progress-tone defaultDialtone \r\nflush-play-list \r\nplay 1 1000 450 -6 \r\nprofile call-progress-tone defaultAlertingtone \r\nflush-play-list \r\nplay 1 1000 450 -13 \r\npause 2 5000 \r\nprofile call-progress-tone defaultBusytone \r\nflush-play-list \r\nplay 1 300 450 -7 \r\npause 2 300 \r\nprofile call-progress-tone defaultReleasetone \r\nflush-play-list \r\nplay 1 300 450 -7 \r\npause 2 300 \r\nprofile call-progress-tone defaultCongestiontone \r\nflush-play-list \r\nplay 1 300 450 -7 \r\npause 2 300\r\n","profile call-progress-tone defaultDialtone \nflush-play-list \nplay 1 1000 450 -6 \nprofile call-progress-tone defaultAlertingtone \nflush-play-list \nplay 1 1000 450 -13 \npause 2 5000 \nprofile call-progress-tone defaultBusytone \nflush-play-list \nplay 1 300 450 -7 \npause 2 300 \nprofile call-progress-tone defaultReleasetone \nflush-play-list \nplay 1 300 450 -7 \npause 2 300 \nprofile call-progress-tone defaultCongestiontone \nflush-play-list \nplay 1 300 450 -7 \npause 2 300\n"]
[null,"Belgium","Tone_Set_BE","profile call-progress-tone defaultDialtone \r\nflush-play-list \r\nplay 1 1000 425 0 \r\nprofile call-progress-tone defaultAlertingtone \r\nflush-play-list \r\nplay 1 1000 425 -7 \r\npause 2 3000 \r\nprofile call-progress-tone defaultBusytone \r\nflush-play-list \r\nplay 1 500 425 -7 \r\npause 2 500 \r\nprofile call-progress-tone defaultReleasetone \r\nflush-play-list \r\nplay 1 170 425 -7 \r\npause 2 170 \r\nprofile call-progress-tone defaultCongestiontone \r\nflush-play-list \r\nplay 1 170 425 -7 \r\npause 2 170\r\n","use profile fxo etsi","use profile fxs etsi",{"$f":"+SUBSTITUTE(Table2[[#This Row],[Call Progress]],CHAR(10),CONCATENATE(CHAR(13),CHAR(10)))","v":"profile call-progress-tone defaultDialtone \r\r\nflush-play-list \r\r\nplay 1 1000 425 0 \r\r\nprofile call-progress-tone defaultAlertingtone \r\r\nflush-play-list \r\r\nplay 1 1000 425 -7 \r\r\npause 2 3000 \r\r\nprofile call-progress-tone defaultBusytone \r\r\nflush-play-list \r\r\nplay 1 500 425 -7 \r\r\npause 2 500 \r\r\nprofile call-progress-tone defaultReleasetone \r\r\nflush-play-list \r\r\nplay 1 170 425 -7 \r\r\npause 2 170 \r\r\nprofile call-progress-tone defaultCongestiontone \r\r\nflush-play-list \r\r\nplay 1 170 425 -7 \r\r\npause 2 170\r\r\n"},"profile call-progress-tone defaultDialtone \r\nflush-play-list \r\nplay 1 1000 425 0 \r\nprofile call-progress-tone defaultAlertingtone \r\nflush-play-list \r\nplay 1 1000 425 -7 \r\npause 2 3000 \r\nprofile call-progress-tone defaultBusytone \r\nflush-play-list \r\nplay 1 500 425 -7 \r\npause 2 500 \r\nprofile call-progress-tone defaultReleasetone \r\nflush-play-list \r\nplay 1 170 425 -7 \r\npause 2 170 \r\nprofile call-progress-tone defaultCongestiontone \r\nflush-play-list \r\nplay 1 170 425 -7 \r\npause 2 170\r\n","profile call-progress-tone defaultDialtone \nflush-play-list \nplay 1 1000 425 0 \nprofile call-progress-tone defaultAlertingtone \nflush-play-list \nplay 1 1000 425 -7 \npause 2 3000 \nprofile call-progress-tone defaultBusytone \nflush-play-list \nplay 1 500 425 -7 \npause 2 500 \nprofile call-progress-tone defaultReleasetone \nflush-play-list \nplay 1 170 425 -7 \npause 2 170 \nprofile call-progress-tone defaultCongestiontone \nflush-play-list \nplay 1 170 425 -7 \npause 2 170\n"]
[null,"Brazil","Tone_Set_BR","profile call-progress-tone defaultDialtone \r\nflush-play-list \r\nplay 1 1000 425 -6 \r\nprofile call-progress-tone defaultAlertingtone \r\nflush-play-list \r\nplay 1 1000 425 -7 \r\npause 2 4000 \r\nprofile call-progress-tone defaultBusytone \r\nflush-play-list \r\nplay 1 250 425 -7 \r\npause 2 250 profile call-progress-tone defaultReleasetone \r\nflush-play-list \r\nplay 1 250 425 -7 \r\npause 2 250 \r\nprofile call-progress-tone defaultCongestiontone \r\nflush-play-list \r\nplay 1 250 425 -7 \r\npause 2 250\r\n","use profile fxo etsi","use profile fxs etsi",{"$f":"+SUBSTITUTE(Table2[[#This Row],[Call Progress]],CHAR(10),CONCATENATE(CHAR(13),CHAR(10)))","v":"profile call-progress-tone defaultDialtone \r\r\nflush-play-list \r\r\nplay 1 1000 425 -6 \r\r\nprofile call-progress-tone defaultAlertingtone \r\r\nflush-play-list \r\r\nplay 1 1000 425 -7 \r\r\npause 2 4000 \r\r\nprofile call-progress-tone defaultBusytone \r\r\nflush-play-list \r\r\nplay 1 250 425 -7 \r\r\npause 2 250 profile call-progress-tone defaultReleasetone \r\r\nflush-play-list \r\r\nplay 1 250 425 -7 \r\r\npause 2 250 \r\r\nprofile call-progress-tone defaultCongestiontone \r\r\nflush-play-list \r\r\nplay 1 250 425 -7 \r\r\npause 2 250\r\r\n"},"profile call-progress-tone defaultDialtone \r\nflush-play-list \r\nplay 1 1000 425 -6 \r\nprofile call-progress-tone defaultAlertingtone \r\nflush-play-list \r\nplay 1 1000 425 -7 \r\npause 2 4000 \r\nprofile call-progress-tone defaultBusytone \r\nflush-play-list \r\nplay 1 250 425 -7 \r\npause 2 250 profile call-progress-tone defaultReleasetone \r\nflush-play-list \r\nplay 1 250 425 -7 \r\npause 2 250 \r\nprofile call-progress-tone defaultCongestiontone \r\nflush-play-list \r\nplay 1 250 425 -7 \r\npause 2 250\r\n","profile call-progress-tone defaultDialtone \nflush-play-list \nplay 1 1000 425 -6 \nprofile call-progress-tone defaultAlertingtone \nflush-play-list \nplay 1 1000 425 -7 \npause 2 4000 \nprofile call-progress-tone defaultBusytone \nflush-play-list \nplay 1 250 425 -7 \npause 2 250 profile call-progress-tone defaultReleasetone \nflush-play-list \nplay 1 250 425 -7 \npause 2 250 \nprofile call-progress-tone defaultCongestiontone \nflush-play-list \nplay 1 250 425 -7 \npause 2 250\n"]
[null,"Cyprus","Tone_Set_CY","profile call-progress-tone defaultDialtone \r\nflush-play-list \r\nplay 1 1000 350 -6 450 -6 \r\nprofile call-progress-tone defaultAlertingtone \r\nflush-play-list \r\nplay 1 1500 425 -13 \r\npause 2 3000 \r\nprofile call-progress-tone defaultBusytone \r\nflush-play-list \r\nplay 1 500 425 -7 \r\npause 2 500 \r\nprofile call-progress-tone defaultReleasetone \r\nflush-play-list \r\nplay 1 250 425 -7 \r\npause 2 250 \r\nprofile call-progress-tone defaultCongestiontone \r\nflush-play-list \r\nplay 1 250 425 -7 \r\npause 2 250\r\n","use profile fxo etsi","use profile fxs etsi",{"$f":"+SUBSTITUTE(Table2[[#This Row],[Call Progress]],CHAR(10),CONCATENATE(CHAR(13),CHAR(10)))","v":"profile call-progress-tone defaultDialtone \r\r\nflush-play-list \r\r\nplay 1 1000 350 -6 450 -6 \r\r\nprofile call-progress-tone defaultAlertingtone \r\r\nflush-play-list \r\r\nplay 1 1500 425 -13 \r\r\npause 2 3000 \r\r\nprofile call-progress-tone defaultBusytone \r\r\nflush-play-list \r\r\nplay 1 500 425 -7 \r\r\npause 2 500 \r\r\nprofile call-progress-tone defaultReleasetone \r\r\nflush-play-list \r\r\nplay 1 250 425 -7 \r\r\npause 2 250 \r\r\nprofile call-progress-tone defaultCongestiontone \r\r\nflush-play-list \r\r\nplay 1 250 425 -7 \r\r\npause 2 250\r\r\n"},"profile call-progress-tone defaultDialtone \r\nflush-play-list \r\nplay 1 1000 350 -6 450 -6 \r\nprofile call-progress-tone defaultAlertingtone \r\nflush-play-list \r\nplay 1 1500 425 -13 \r\npause 2 3000 \r\nprofile call-progress-tone defaultBusytone \r\nflush-play-list \r\nplay 1 500 425 -7 \r\npause 2 500 \r\nprofile call-progress-tone defaultReleasetone \r\nflush-play-list \r\nplay 1 250 425 -7 \r\npause 2 250 \r\nprofile call-progress-tone defaultCongestiontone \r\nflush-play-list \r\nplay 1 250 425 -7 \r\npause 2 250\r\n","profile call-progress-tone defaultDialtone \nflush-play-list \nplay 1 1000 350 -6 450 -6 \nprofile call-progress-tone defaultAlertingtone \nflush-play-list \nplay 1 1500 425 -13 \npause 2 3000 \nprofile call-progress-tone defaultBusytone \nflush-play-list \nplay 1 500 425 -7 \npause 2 500 \nprofile call-progress-tone defaultReleasetone \nflush-play-list \nplay 1 250 425 -7 \npause 2 250 \nprofile call-progress-tone defaultCongestiontone \nflush-play-list \nplay 1 250 425 -7 \npause 2 250\n"]
[null,"Czech Republic","Tone_Set_CZ","profile call-progress-tone defaultDialtone \r\nflush-play-list \r\nplay 1 330 425 -6 \r\npause 2 330 \r\nplay 3 660 425 -6 \r\npause 4 660 \r\nprofile call-progress-tone defaultAlertingtone \r\nflush-play-list \r\nplay 1 1000 425 -13 \r\npause 2 4000 \r\nprofile call-progress-tone defaultBusytone \r\nflush-play-list \r\nplay 1 330 425 -7 \r\npause 2 330 \r\nprofile call-progress-tone defaultReleasetone \r\nflush-play-list \r\nplay 1 165 425 -7 \r\npause 2 165 \r\nprofile call-progress-tone defaultCongestiontone \r\nflush-play-list \r\nplay 1 165 425 -7 \r\npause 2 165\r\n","use profile fxo etsi","use profile fxs etsi",{"$f":"+SUBSTITUTE(Table2[[#This Row],[Call Progress]],CHAR(10),CONCATENATE(CHAR(13),CHAR(10)))","v":"profile call-progress-tone defaultDialtone \r\r\nflush-play-list \r\r\nplay 1 330 425 -6 \r\r\npause 2 330 \r\r\nplay 3 660 425 -6 \r\r\npause 4 660 \r\r\nprofile call-progress-tone defaultAlertingtone \r\r\nflush-play-list \r\r\nplay 1 1000 425 -13 \r\r\npause 2 4000 \r\r\nprofile call-progress-tone defaultBusytone \r\r\nflush-play-list \r\r\nplay 1 330 425 -7 \r\r\npause 2 330 \r\r\nprofile call-progress-tone defaultReleasetone \r\r\nflush-play-list \r\r\nplay 1 165 425 -7 \r\r\npause 2 165 \r\r\nprofile call-progress-tone defaultCongestiontone \r\r\nflush-play-list \r\r\nplay 1 165 425 -7 \r\r\npause 2 165\r\r\n"},"profile call-progress-tone defaultDialtone \r\nflush-play-list \r\nplay 1 330 425 -6 \r\npause 2 330 \r\nplay 3 660 425 -6 \r\npause 4 660 \r\nprofile call-progress-tone defaultAlertingtone \r\nflush-play-list \r\nplay 1 1000 425 -13 \r\npause 2 4000 \r\nprofile call-progress-tone defaultBusytone \r\nflush-play-list \r\nplay 1 330 425 -7 \r\npause 2 330 \r\nprofile call-progress-tone defaultReleasetone \r\nflush-play-list \r\nplay 1 165 425 -7 \r\npause 2 165 \r\nprofile call-progress-tone defaultCongestiontone \r\nflush-play-list \r\nplay 1 165 425 -7 \r\npause 2 165\r\n","profile call-progress-tone defaultDialtone \nflush-play-list \nplay 1 330 425 -6 \npause 2 330 \nplay 3 660 425 -6 \npause 4 660 \nprofile call-progress-tone defaultAlertingtone \nflush-play-list \nplay 1 1000 425 -13 \npause 2 4000 \nprofile call-progress-tone defaultBusytone \nflush-play-list \nplay 1 330 425 -7 \npause 2 330 \nprofile call-progress-tone defaultReleasetone \nflush-play-list \nplay 1 165 425 -7 \npause 2 165 \nprofile call-progress-tone defaultCongestiontone \nflush-play-list \nplay 1 165 425 -7 \npause 2 165\n"]
[null,"Denmark","Tone_Set_DK","profile call-progress-tone defaultDialtone \r\nflush-play-list \r\nplay 1 1000 425 -6 \r\nprofile call-progress-tone defaultAlertingtone \r\nflush-play-list \r\nplay 1 1000 425 -7 \r\npause 2 4000 \r\nprofile call-progress-tone defaultBusytone \r\nflush-play-list \r\nplay 1 250 425 -7 \r\npause 2 250 \r\nprofile call-progress-tone defaultReleasetone \r\nflush-play-list \r\nplay 1 250 425 -7 \r\npause 2 250 \r\nprofile call-progress-tone defaultCongestiontone \r\nflush-play-list \r\nplay 1 250 425 -7 \r\npause 2 250\r\n","use profile fxo etsi","use profile fxs etsi",{"$f":"+SUBSTITUTE(Table2[[#This Row],[Call Progress]],CHAR(10),CONCATENATE(CHAR(13),CHAR(10)))","v":"profile call-progress-tone defaultDialtone \r\r\nflush-play-list \r\r\nplay 1 1000 425 -6 \r\r\nprofile call-progress-tone defaultAlertingtone \r\r\nflush-play-list \r\r\nplay 1 1000 425 -7 \r\r\npause 2 4000 \r\r\nprofile call-progress-tone defaultBusytone \r\r\nflush-play-list \r\r\nplay 1 250 425 -7 \r\r\npause 2 250 \r\r\nprofile call-progress-tone defaultReleasetone \r\r\nflush-play-list \r\r\nplay 1 250 425 -7 \r\r\npause 2 250 \r\r\nprofile call-progress-tone defaultCongestiontone \r\r\nflush-play-list \r\r\nplay 1 250 425 -7 \r\r\npause 2 250\r\r\n"},"profile call-progress-tone defaultDialtone \r\nflush-play-list \r\nplay 1 1000 425 -6 \r\nprofile call-progress-tone defaultAlertingtone \r\nflush-play-list \r\nplay 1 1000 425 -7 \r\npause 2 4000 \r\nprofile call-progress-tone defaultBusytone \r\nflush-play-list \r\nplay 1 250 425 -7 \r\npause 2 250 \r\nprofile call-progress-tone defaultReleasetone \r\nflush-play-list \r\nplay 1 250 425 -7 \r\npause 2 250 \r\nprofile call-progress-tone defaultCongestiontone \r\nflush-play-list \r\nplay 1 250 425 -7 \r\npause 2 250\r\n","profile call-progress-tone defaultDialtone \nflush-play-list \nplay 1 1000 425 -6 \nprofile call-progress-tone defaultAlertingtone \nflush-play-list \nplay 1 1000 425 -7 \npause 2 4000 \nprofile call-progress-tone defaultBusytone \nflush-play-list \nplay 1 250 425 -7 \npause 2 250 \nprofile call-progress-tone defaultReleasetone \nflush-play-list \nplay 1 250 425 -7 \npause 2 250 \nprofile call-progress-tone defaultCongestiontone \nflush-play-list \nplay 1 250 425 -7 \npause 2 250\n"]
[null,"Finland","Tone_Set_FI","profile call-progress-tone defaultDialtone \r\nflush-play-list \r\nplay 1 1000 425 -6 \r\nprofile call-progress-tone defaultAlertingtone \r\nflush-play-list \r\nplay 1 1000 425 -7 \r\npause 2 4000 \r\nprofile call-progress-tone defaultBusytone \r\nflush-play-list \r\nplay 1 300 425 -7 \r\npause 2 300 profile call-progress-tone defaultReleasetone \r\nflush-play-list \r\nplay 1 200 425 -7 \r\npause 2 200 \r\nprofile call-progress-tone defaultCongestiontone \r\nflush-play-list \r\nplay 1 200 425 -7 \r\npause 2 200\r\n","use profile fxo etsi","use profile fxs etsi",{"$f":"+SUBSTITUTE(Table2[[#This Row],[Call Progress]],CHAR(10),CONCATENATE(CHAR(13),CHAR(10)))","v":"profile call-progress-tone defaultDialtone \r\r\nflush-play-list \r\r\nplay 1 1000 425 -6 \r\r\nprofile call-progress-tone defaultAlertingtone \r\r\nflush-play-list \r\r\nplay 1 1000 425 -7 \r\r\npause 2 4000 \r\r\nprofile call-progress-tone defaultBusytone \r\r\nflush-play-list \r\r\nplay 1 300 425 -7 \r\r\npause 2 300 profile call-progress-tone defaultReleasetone \r\r\nflush-play-list \r\r\nplay 1 200 425 -7 \r\r\npause 2 200 \r\r\nprofile call-progress-tone defaultCongestiontone \r\r\nflush-play-list \r\r\nplay 1 200 425 -7 \r\r\npause 2 200\r\r\n"},"profile call-progress-tone defaultDialtone \r\nflush-play-list \r\nplay 1 1000 425 -6 \r\nprofile call-progress-tone defaultAlertingtone \r\nflush-play-list \r\nplay 1 1000 425 -7 \r\npause 2 4000 \r\nprofile call-progress-tone defaultBusytone \r\nflush-play-list \r\nplay 1 300 425 -7 \r\npause 2 300 profile call-progress-tone defaultReleasetone \r\nflush-play-list \r\nplay 1 200 425 -7 \r\npause 2 200 \r\nprofile call-progress-tone defaultCongestiontone \r\nflush-play-list \r\nplay 1 200 425 -7 \r\npause 2 200\r\n","profile call-progress-tone defaultDialtone \nflush-play-list \nplay 1 1000 425 -6 \nprofile call-progress-tone defaultAlertingtone \nflush-play-list \nplay 1 1000 425 -7 \npause 2 4000 \nprofile call-progress-tone defaultBusytone \nflush-play-list \nplay 1 300 425 -7 \npause 2 300 profile call-progress-tone defaultReleasetone \nflush-play-list \nplay 1 200 425 -7 \npause 2 200 \nprofile call-progress-tone defaultCongestiontone \nflush-play-list \nplay 1 200 425 -7 \npause 2 200\n"]
[null,"France","Tone_Set_FR","profile call-progress-tone defaultDialtone \r\nflush-play-list \r\nplay 1 1000 440 0 \r\nprofile call-progress-tone defaultAlertingtone \r\nflush-play-list \r\nplay 1 1500 440 -7 \r\npause 2 3500 \r\nprofile call-progress-tone defaultBusytone \r\nflush-play-list \r\nplay 1 500 440 -7 \r\npause 2 500 \r\nprofile call-progress-tone defaultReleasetone \r\nflush-play-list \r\nplay 1 250 425 -7 \r\npause 2 250 \r\nprofile call-progress-tone defaultCongestiontone \r\nflush-play-list \r\nplay 1 250 425 -7 \r\npause 2 250\r\n","use profile fxo etsi","use profile fxs etsi",{"$f":"+SUBSTITUTE(Table2[[#This Row],[Call Progress]],CHAR(10),CONCATENATE(CHAR(13),CHAR(10)))","v":"profile call-progress-tone defaultDialtone \r\r\nflush-play-list \r\r\nplay 1 1000 440 0 \r\r\nprofile call-progress-tone defaultAlertingtone \r\r\nflush-play-list \r\r\nplay 1 1500 440 -7 \r\r\npause 2 3500 \r\r\nprofile call-progress-tone defaultBusytone \r\r\nflush-play-list \r\r\nplay 1 500 440 -7 \r\r\npause 2 500 \r\r\nprofile call-progress-tone defaultReleasetone \r\r\nflush-play-list \r\r\nplay 1 250 425 -7 \r\r\npause 2 250 \r\r\nprofile call-progress-tone defaultCongestiontone \r\r\nflush-play-list \r\r\nplay 1 250 425 -7 \r\r\npause 2 250\r\r\n"},"profile call-progress-tone defaultDialtone \r\nflush-play-list \r\nplay 1 1000 440 0 \r\nprofile call-progress-tone defaultAlertingtone \r\nflush-play-list \r\nplay 1 1500 440 -7 \r\npause 2 3500 \r\nprofile call-progress-tone defaultBusytone \r\nflush-play-list \r\nplay 1 500 440 -7 \r\npause 2 500 \r\nprofile call-progress-tone defaultReleasetone \r\nflush-play-list \r\nplay 1 250 425 -7 \r\npause 2 250 \r\nprofile call-progress-tone defaultCongestiontone \r\nflush-play-list \r\nplay 1 250 425 -7 \r\npause 2 250\r\n","profile call-progress-tone defaultDialtone \nflush-play-list \nplay 1 1000 440 0 \nprofile call-progress-tone defaultAlertingtone \nflush-play-list \nplay 1 1500 440 -7 \npause 2 3500 \nprofile call-progress-tone defaultBusytone \nflush-play-list \nplay 1 500 440 -7 \npause 2 500 \nprofile call-progress-tone defaultReleasetone \nflush-play-list \nplay 1 250 425 -7 \npause 2 250 \nprofile call-progress-tone defaultCongestiontone \nflush-play-list \nplay 1 250 425 -7 \npause 2 250\n"]
[null,"Germany","Tone_Set_DE","profile call-progress-tone defaultDialtone \r\nflush-play-list \r\nplay 1 1000 425 0 \r\nprofile call-progress-tone defaultAlertingtone \r\nflush-play-list \r\nplay 1 1000 425 -7 \r\npause 2 4000 profile call-progress-tone defaultBusytone \r\nflush-play-list \r\nplay 1 480 425 -7 \r\npause 2 480 \r\nprofile call-progress-tone defaultReleasetone \r\nflush-play-list \r\nplay 1 240 425 -7 \r\npause 2 240 \r\nprofile call-progress-tone defaultCongestiontone \r\nflush-play-list \r\nplay 1 240 425 -7 \r\npause 2 240\r\n","use profile fxo etsi","use profile fxs etsi",{"$f":"+SUBSTITUTE(Table2[[#This Row],[Call Progress]],CHAR(10),CONCATENATE(CHAR(13),CHAR(10)))","v":"profile call-progress-tone defaultDialtone \r\r\nflush-play-list \r\r\nplay 1 1000 425 0 \r\r\nprofile call-progress-tone defaultAlertingtone \r\r\nflush-play-list \r\r\nplay 1 1000 425 -7 \r\r\npause 2 4000 profile call-progress-tone defaultBusytone \r\r\nflush-play-list \r\r\nplay 1 480 425 -7 \r\r\npause 2 480 \r\r\nprofile call-progress-tone defaultReleasetone \r\r\nflush-play-list \r\r\nplay 1 240 425 -7 \r\r\npause 2 240 \r\r\nprofile call-progress-tone defaultCongestiontone \r\r\nflush-play-list \r\r\nplay 1 240 425 -7 \r\r\npause 2 240\r\r\n"},"profile call-progress-tone defaultDialtone \r\nflush-play-list \r\nplay 1 1000 425 0 \r\nprofile call-progress-tone defaultAlertingtone \r\nflush-play-list \r\nplay 1 1000 425 -7 \r\npause 2 4000 profile call-progress-tone defaultBusytone \r\nflush-play-list \r\nplay 1 480 425 -7 \r\npause 2 480 \r\nprofile call-progress-tone defaultReleasetone \r\nflush-play-list \r\nplay 1 240 425 -7 \r\npause 2 240 \r\nprofile call-progress-tone defaultCongestiontone \r\nflush-play-list \r\nplay 1 240 425 -7 \r\npause 2 240\r\n","profile call-progress-tone defaultDialtone \nflush-play-list \nplay 1 1000 425 0 \nprofile call-progress-tone defaultAlertingtone \nflush-play-list \nplay 1 1000 425 -7 \npause 2 4000 profile call-progress-tone defaultBusytone \nflush-play-list \nplay 1 480 425 -7 \npause 2 480 \nprofile call-progress-tone defaultReleasetone \nflush-play-list \nplay 1 240 425 -7 \npause 2 240 \nprofile call-progress-tone defaultCongestiontone \nflush-play-list \nplay 1 240 425 -7 \npause 2 240\n"]
[null,"Greece","Tone_Set_GR","profile call-progress-tone defaultDialtone \r\nplay 1 200 425 0 \r\npause 2 300 \r\nplay 3 700 425 0 \r\npause 4 800 \r\nprofile call-progress-tone defaultBusytone \r\nplay 1 300 425 -7 \r\npause 2 300 \r\nprofile call-progress-tone defaultReleasetone \r\nplay 1 150 425 -7 \r\npause 2 150 \r\nprofile call-progress-tone defaultCongestiontone \r\nplay 1 150 425 -7 \r\npause 2 150\r\n","use profile fxo etsi","use profile fxs etsi",{"$f":"+SUBSTITUTE(Table2[[#This Row],[Call Progress]],CHAR(10),CONCATENATE(CHAR(13),CHAR(10)))","v":"profile call-progress-tone defaultDialtone \r\r\nplay 1 200 425 0 \r\r\npause 2 300 \r\r\nplay 3 700 425 0 \r\r\npause 4 800 \r\r\nprofile call-progress-tone defaultBusytone \r\r\nplay 1 300 425 -7 \r\r\npause 2 300 \r\r\nprofile call-progress-tone defaultReleasetone \r\r\nplay 1 150 425 -7 \r\r\npause 2 150 \r\r\nprofile call-progress-tone defaultCongestiontone \r\r\nplay 1 150 425 -7 \r\r\npause 2 150\r\r\n"},"profile call-progress-tone defaultDialtone \r\nplay 1 200 425 0 \r\npause 2 300 \r\nplay 3 700 425 0 \r\npause 4 800 \r\nprofile call-progress-tone defaultBusytone \r\nplay 1 300 425 -7 \r\npause 2 300 \r\nprofile call-progress-tone defaultReleasetone \r\nplay 1 150 425 -7 \r\npause 2 150 \r\nprofile call-progress-tone defaultCongestiontone \r\nplay 1 150 425 -7 \r\npause 2 150\r\n","profile call-progress-tone defaultDialtone \nplay 1 200 425 0 \npause 2 300 \nplay 3 700 425 0 \npause 4 800 \nprofile call-progress-tone defaultBusytone \nplay 1 300 425 -7 \npause 2 300 \nprofile call-progress-tone defaultReleasetone \nplay 1 150 425 -7 \npause 2 150 \nprofile call-progress-tone defaultCongestiontone \nplay 1 150 425 -7 \npause 2 150\n"]
[null,"Holland","Tone_Set_NL","profile call-progress-tone defaultDialtone \r\nflush-play-list \r\nplay 1 1000 425 0 \r\nprofile call-progress-tone defaultAlertingtone \r\nflush-play-list \r\nplay 1 1000 425 -7 \r\npause 2 4000 \r\nprofile call-progress-tone defaultBusytone \r\nflush-play-list \r\nplay 1 500 425 -7 \r\npause 2 500 \r\nprofile call-progress-tone defaultReleasetone \r\nflush-play-list \r\nplay 1 250 425 -7 \r\npause 2 250 \r\nprofile call-progress-tone defaultCongestiontone \r\nflush-play-list \r\nplay 1 250 425 -7 \r\npause 2 250\r\n","use profile fxo nl","use profile fxs nl",{"$f":"+SUBSTITUTE(Table2[[#This Row],[Call Progress]],CHAR(10),CONCATENATE(CHAR(13),CHAR(10)))","v":"profile call-progress-tone defaultDialtone \r\r\nflush-play-list \r\r\nplay 1 1000 425 0 \r\r\nprofile call-progress-tone defaultAlertingtone \r\r\nflush-play-list \r\r\nplay 1 1000 425 -7 \r\r\npause 2 4000 \r\r\nprofile call-progress-tone defaultBusytone \r\r\nflush-play-list \r\r\nplay 1 500 425 -7 \r\r\npause 2 500 \r\r\nprofile call-progress-tone defaultReleasetone \r\r\nflush-play-list \r\r\nplay 1 250 425 -7 \r\r\npause 2 250 \r\r\nprofile call-progress-tone defaultCongestiontone \r\r\nflush-play-list \r\r\nplay 1 250 425 -7 \r\r\npause 2 250\r\r\n"},"profile call-progress-tone defaultDialtone \r\nflush-play-list \r\nplay 1 1000 425 0 \r\nprofile call-progress-tone defaultAlertingtone \r\nflush-play-list \r\nplay 1 1000 425 -7 \r\npause 2 4000 \r\nprofile call-progress-tone defaultBusytone \r\nflush-play-list \r\nplay 1 500 425 -7 \r\npause 2 500 \r\nprofile call-progress-tone defaultReleasetone \r\nflush-play-list \r\nplay 1 250 425 -7 \r\npause 2 250 \r\nprofile call-progress-tone defaultCongestiontone \r\nflush-play-list \r\nplay 1 250 425 -7 \r\npause 2 250\r\n","profile call-progress-tone defaultDialtone \nflush-play-list \nplay 1 1000 425 0 \nprofile call-progress-tone defaultAlertingtone \nflush-play-list \nplay 1 1000 425 -7 \npause 2 4000 \nprofile call-progress-tone defaultBusytone \nflush-play-list \nplay 1 500 425 -7 \npause 2 500 \nprofile call-progress-tone defaultReleasetone \nflush-play-list \nplay 1 250 425 -7 \npause 2 250 \nprofile call-progress-tone defaultCongestiontone \nflush-play-list \nplay 1 250 425 -7 \npause 2 250\n"]
[null,"India","Tone_Set_IN","profile call-progress-tone defaultDialtone \r\nflush-play-list \r\nplay 1 1000 425 -6 \r\nprofile call-progress-tone defaultAlertingtone \r\nflush-play-list \r\nplay 1 400 400 -13 \r\npause 2 200 \r\nplay 3 400 400 -13 \r\npause 4 2000 \r\nprofile call-progress-tone defaultBusytone \r\nflush-play-list \r\nplay 1 750 400 -7 \r\npause 2 750 \r\nprofile call-progress-tone defaultReleasetone \r\nflush-play-list \r\nplay 1 250 400 -7 \r\npause 2 250 \r\nprofile call-progress-tone defaultCongestiontone \r\nflush-play-list \r\nplay 1 250 400 -7 \r\npause 2 250\r\n","use profile fxo etsi","use profile fxs etsi",{"$f":"+SUBSTITUTE(Table2[[#This Row],[Call Progress]],CHAR(10),CONCATENATE(CHAR(13),CHAR(10)))","v":"profile call-progress-tone defaultDialtone \r\r\nflush-play-list \r\r\nplay 1 1000 425 -6 \r\r\nprofile call-progress-tone defaultAlertingtone \r\r\nflush-play-list \r\r\nplay 1 400 400 -13 \r\r\npause 2 200 \r\r\nplay 3 400 400 -13 \r\r\npause 4 2000 \r\r\nprofile call-progress-tone defaultBusytone \r\r\nflush-play-list \r\r\nplay 1 750 400 -7 \r\r\npause 2 750 \r\r\nprofile call-progress-tone defaultReleasetone \r\r\nflush-play-list \r\r\nplay 1 250 400 -7 \r\r\npause 2 250 \r\r\nprofile call-progress-tone defaultCongestiontone \r\r\nflush-play-list \r\r\nplay 1 250 400 -7 \r\r\npause 2 250\r\r\n"},"profile call-progress-tone defaultDialtone \r\nflush-play-list \r\nplay 1 1000 425 -6 \r\nprofile call-progress-tone defaultAlertingtone \r\nflush-play-list \r\nplay 1 400 400 -13 \r\npause 2 200 \r\nplay 3 400 400 -13 \r\npause 4 2000 \r\nprofile call-progress-tone defaultBusytone \r\nflush-play-list \r\nplay 1 750 400 -7 \r\npause 2 750 \r\nprofile call-progress-tone defaultReleasetone \r\nflush-play-list \r\nplay 1 250 400 -7 \r\npause 2 250 \r\nprofile call-progress-tone defaultCongestiontone \r\nflush-play-list \r\nplay 1 250 400 -7 \r\npause 2 250\r\n","profile call-progress-tone defaultDialtone \nflush-play-list \nplay 1 1000 425 -6 \nprofile call-progress-tone defaultAlertingtone \nflush-play-list \nplay 1 400 400 -13 \npause 2 200 \nplay 3 400 400 -13 \npause 4 2000 \nprofile call-progress-tone defaultBusytone \nflush-play-list \nplay 1 750 400 -7 \npause 2 750 \nprofile call-progress-tone defaultReleasetone \nflush-play-list \nplay 1 250 400 -7 \npause 2 250 \nprofile call-progress-tone defaultCongestiontone \nflush-play-list \nplay 1 250 400 -7 \npause 2 250\n"]
[null,"Ireland","Tone_Set_IE","profile call-progress-tone defaultDialtone \r\nflush-play-list \r\nplay 1 1000 400 -6 \r\nprofile call-progress-tone defaultAlertingtone \r\nflush-play-list \r\nplay 1 400 400 -6 \r\npause 2 200 \r\nplay 3 400 400 -6 \r\npause 4 2000 \r\nprofile call-progress-tone defaultBusytone \r\nflush-play-list \r\nplay 1 500 425 -6 \r\npause 2 500 \r\nprofile call-progress-tone defaultReleasetone \r\nflush-play-list \r\nplay 1 500 425 -6 \r\npause 2 500 \r\nprofile call-progress-tone defaultCongestiontone \r\nflush-play-list \r\nplay 1 500 425 -6 \r\npause 2 500\r\n","use profile fxo etsi","use profile fxs etsi",{"$f":"+SUBSTITUTE(Table2[[#This Row],[Call Progress]],CHAR(10),CONCATENATE(CHAR(13),CHAR(10)))","v":"profile call-progress-tone defaultDialtone \r\r\nflush-play-list \r\r\nplay 1 1000 400 -6 \r\r\nprofile call-progress-tone defaultAlertingtone \r\r\nflush-play-list \r\r\nplay 1 400 400 -6 \r\r\npause 2 200 \r\r\nplay 3 400 400 -6 \r\r\npause 4 2000 \r\r\nprofile call-progress-tone defaultBusytone \r\r\nflush-play-list \r\r\nplay 1 500 425 -6 \r\r\npause 2 500 \r\r\nprofile call-progress-tone defaultReleasetone \r\r\nflush-play-list \r\r\nplay 1 500 425 -6 \r\r\npause 2 500 \r\r\nprofile call-progress-tone defaultCongestiontone \r\r\nflush-play-list \r\r\nplay 1 500 425 -6 \r\r\npause 2 500\r\r\n"},"profile call-progress-tone defaultDialtone \r\nflush-play-list \r\nplay 1 1000 400 -6 \r\nprofile call-progress-tone defaultAlertingtone \r\nflush-play-list \r\nplay 1 400 400 -6 \r\npause 2 200 \r\nplay 3 400 400 -6 \r\npause 4 2000 \r\nprofile call-progress-tone defaultBusytone \r\nflush-play-list \r\nplay 1 500 425 -6 \r\npause 2 500 \r\nprofile call-progress-tone defaultReleasetone \r\nflush-play-list \r\nplay 1 500 425 -6 \r\npause 2 500 \r\nprofile call-progress-tone defaultCongestiontone \r\nflush-play-list \r\nplay 1 500 425 -6 \r\npause 2 500\r\n","profile call-progress-tone defaultDialtone \nflush-play-list \nplay 1 1000 400 -6 \nprofile call-progress-tone defaultAlertingtone \nflush-play-list \nplay 1 400 400 -6 \npause 2 200 \nplay 3 400 400 -6 \npause 4 2000 \nprofile call-progress-tone defaultBusytone \nflush-play-list \nplay 1 500 425 -6 \npause 2 500 \nprofile call-progress-tone defaultReleasetone \nflush-play-list \nplay 1 500 425 -6 \npause 2 500 \nprofile call-progress-tone defaultCongestiontone \nflush-play-list \nplay 1 500 425 -6 \npause 2 500\n"]
[null,"Italy","Tone_Set_IT","profile call-progress-tone defaultDialtone \r\nflush-play-list \r\nplay 1 200 425 0 \r\npause 2 200 \r\nplay 1 600 425 0 \r\npause 1 1000 \r\nprofile call-progress-tone defaultAlertingtone \r\nflush-play-list \r\nplay 1 1000 425 -7 \r\npause 2 4000 \r\nprofile call-progress-tone defaultBusytone \r\nflush-play-list \r\nplay 1 200 425 -7 \r\npause 2 200 \r\nprofile call-progress-tone defaultReleasetone \r\nflush-play-list \r\nplay 1 250 425 -7 \r\npause 2 250 \r\nprofile call-progress-tone defaultCongestiontone \r\nflush-play-list \r\nplay 1 250 425 -7 \r\npause 2 250\r\n","use profile fxo etsi","use profile fxs etsi",{"$f":"+SUBSTITUTE(Table2[[#This Row],[Call Progress]],CHAR(10),CONCATENATE(CHAR(13),CHAR(10)))","v":"profile call-progress-tone defaultDialtone \r\r\nflush-play-list \r\r\nplay 1 200 425 0 \r\r\npause 2 200 \r\r\nplay 1 600 425 0 \r\r\npause 1 1000 \r\r\nprofile call-progress-tone defaultAlertingtone \r\r\nflush-play-list \r\r\nplay 1 1000 425 -7 \r\r\npause 2 4000 \r\r\nprofile call-progress-tone defaultBusytone \r\r\nflush-play-list \r\r\nplay 1 200 425 -7 \r\r\npause 2 200 \r\r\nprofile call-progress-tone defaultReleasetone \r\r\nflush-play-list \r\r\nplay 1 250 425 -7 \r\r\npause 2 250 \r\r\nprofile call-progress-tone defaultCongestiontone \r\r\nflush-play-list \r\r\nplay 1 250 425 -7 \r\r\npause 2 250\r\r\n"},"profile call-progress-tone defaultDialtone \r\nflush-play-list \r\nplay 1 200 425 0 \r\npause 2 200 \r\nplay 1 600 425 0 \r\npause 1 1000 \r\nprofile call-progress-tone defaultAlertingtone \r\nflush-play-list \r\nplay 1 1000 425 -7 \r\npause 2 4000 \r\nprofile call-progress-tone defaultBusytone \r\nflush-play-list \r\nplay 1 200 425 -7 \r\npause 2 200 \r\nprofile call-progress-tone defaultReleasetone \r\nflush-play-list \r\nplay 1 250 425 -7 \r\npause 2 250 \r\nprofile call-progress-tone defaultCongestiontone \r\nflush-play-list \r\nplay 1 250 425 -7 \r\npause 2 250\r\n","profile call-progress-tone defaultDialtone \nflush-play-list \nplay 1 200 425 0 \npause 2 200 \nplay 1 600 425 0 \npause 1 1000 \nprofile call-progress-tone defaultAlertingtone \nflush-play-list \nplay 1 1000 425 -7 \npause 2 4000 \nprofile call-progress-tone defaultBusytone \nflush-play-list \nplay 1 200 425 -7 \npause 2 200 \nprofile call-progress-tone defaultReleasetone \nflush-play-list \nplay 1 250 425 -7 \npause 2 250 \nprofile call-progress-tone defaultCongestiontone \nflush-play-list \nplay 1 250 425 -7 \npause 2 250\n"]
[null,"Japan","Tone_Set_JP","profile call-progress-tone defaultDialtone \r\nflush-play-list \r\nplay 1 1000 400 -6 \r\nprofile call-progress-tone defaultAlertingtone \r\nflush-play-list \r\nplay 1 1000 400 -13 \r\npause 2 2000 \r\nprofile call-progress-tone defaultBusytone \r\nflush-play-list \r\nplay 1 500 400 -7 \r\npause 2 500 \r\nprofile call-progress-tone defaultReleasetone \r\nflush-play-list \r\nplay 1 500 400 -7 \r\npause 2 500 \r\nprofile call-progress-tone defaultCongestiontone \r\nflush-play-list \r\nplay 1 500 400 -7 \r\npause 2 500\r\n","use profile fxo etsi","use profile fxs etsi",{"$f":"+SUBSTITUTE(Table2[[#This Row],[Call Progress]],CHAR(10),CONCATENATE(CHAR(13),CHAR(10)))","v":"profile call-progress-tone defaultDialtone \r\r\nflush-play-list \r\r\nplay 1 1000 400 -6 \r\r\nprofile call-progress-tone defaultAlertingtone \r\r\nflush-play-list \r\r\nplay 1 1000 400 -13 \r\r\npause 2 2000 \r\r\nprofile call-progress-tone defaultBusytone \r\r\nflush-play-list \r\r\nplay 1 500 400 -7 \r\r\npause 2 500 \r\r\nprofile call-progress-tone defaultReleasetone \r\r\nflush-play-list \r\r\nplay 1 500 400 -7 \r\r\npause 2 500 \r\r\nprofile call-progress-tone defaultCongestiontone \r\r\nflush-play-list \r\r\nplay 1 500 400 -7 \r\r\npause 2 500\r\r\n"},"profile call-progress-tone defaultDialtone \r\nflush-play-list \r\nplay 1 1000 400 -6 \r\nprofile call-progress-tone defaultAlertingtone \r\nflush-play-list \r\nplay 1 1000 400 -13 \r\npause 2 2000 \r\nprofile call-progress-tone defaultBusytone \r\nflush-play-list \r\nplay 1 500 400 -7 \r\npause 2 500 \r\nprofile call-progress-tone defaultReleasetone \r\nflush-play-list \r\nplay 1 500 400 -7 \r\npause 2 500 \r\nprofile call-progress-tone defaultCongestiontone \r\nflush-play-list \r\nplay 1 500 400 -7 \r\npause 2 500\r\n","profile call-progress-tone defaultDialtone \nflush-play-list \nplay 1 1000 400 -6 \nprofile call-progress-tone defaultAlertingtone \nflush-play-list \nplay 1 1000 400 -13 \npause 2 2000 \nprofile call-progress-tone defaultBusytone \nflush-play-list \nplay 1 500 400 -7 \npause 2 500 \nprofile call-progress-tone defaultReleasetone \nflush-play-list \nplay 1 500 400 -7 \npause 2 500 \nprofile call-progress-tone defaultCongestiontone \nflush-play-list \nplay 1 500 400 -7 \npause 2 500\n"]
[null,"New Zeland","Tone_Set_NZ","profile call-progress-tone defaultDialtone \r\nflush-play-list \r\nplay 1 5000 400 -15 \r\nprofile call-progress-tone defaultAlertingtone \r\nflush-play-list \r\npause 2 200 \r\nplay 3 400 400 -15 450 -15 \r\npause 4 2000 \r\nprofile call-progress-tone defaultBusytone \r\nflush-play-list \r\nplay 1 500 400 -15 \r\npause 500 \r\nprofile call-progress-tone defaultReleasetone \r\nflush-play-list \r\nplay 1 500 400 -15 \r\npause 500 \r\nprofile call-progress-tone defaultCongestiontone \r\nflush-play-list \r\nplay 1 500 400 -15 \r\npause 500 \r\nprofile call-progress-tone defaultSDTone \r\nflush-play-list \r\nplay 1 10000 425 -19 620 -19 \r\nprofile call-progress-tone defaultWaitingtone \r\nflush-play-list \r\nplay 1 200 400 -15 \r\npause 200\r\n","use profile fxo etsi","use profile fxs etsi",{"$f":"+SUBSTITUTE(Table2[[#This Row],[Call Progress]],CHAR(10),CONCATENATE(CHAR(13),CHAR(10)))","v":"profile call-progress-tone defaultDialtone \r\r\nflush-play-list \r\r\nplay 1 5000 400 -15 \r\r\nprofile call-progress-tone defaultAlertingtone \r\r\nflush-play-list \r\r\npause 2 200 \r\r\nplay 3 400 400 -15 450 -15 \r\r\npause 4 2000 \r\r\nprofile call-progress-tone defaultBusytone \r\r\nflush-play-list \r\r\nplay 1 500 400 -15 \r\r\npause 500 \r\r\nprofile call-progress-tone defaultReleasetone \r\r\nflush-play-list \r\r\nplay 1 500 400 -15 \r\r\npause 500 \r\r\nprofile call-progress-tone defaultCongestiontone \r\r\nflush-play-list \r\r\nplay 1 500 400 -15 \r\r\npause 500 \r\r\nprofile call-progress-tone defaultSDTone \r\r\nflush-play-list \r\r\nplay 1 10000 425 -19 620 -19 \r\r\nprofile call-progress-tone defaultWaitingtone \r\r\nflush-play-list \r\r\nplay 1 200 400 -15 \r\r\npause 200\r\r\n"},"profile call-progress-tone defaultDialtone \r\nflush-play-list \r\nplay 1 5000 400 -15 \r\nprofile call-progress-tone defaultAlertingtone \r\nflush-play-list \r\npause 2 200 \r\nplay 3 400 400 -15 450 -15 \r\npause 4 2000 \r\nprofile call-progress-tone defaultBusytone \r\nflush-play-list \r\nplay 1 500 400 -15 \r\npause 500 \r\nprofile call-progress-tone defaultReleasetone \r\nflush-play-list \r\nplay 1 500 400 -15 \r\npause 500 \r\nprofile call-progress-tone defaultCongestiontone \r\nflush-play-list \r\nplay 1 500 400 -15 \r\npause 500 \r\nprofile call-progress-tone defaultSDTone \r\nflush-play-list \r\nplay 1 10000 425 -19 620 -19 \r\nprofile call-progress-tone defaultWaitingtone \r\nflush-play-list \r\nplay 1 200 400 -15 \r\npause 200\r\n","profile call-progress-tone defaultDialtone \nflush-play-list \nplay 1 5000 400 -15 \nprofile call-progress-tone defaultAlertingtone \nflush-play-list \npause 2 200 \nplay 3 400 400 -15 450 -15 \npause 4 2000 \nprofile call-progress-tone defaultBusytone \nflush-play-list \nplay 1 500 400 -15 \npause 500 \nprofile call-progress-tone defaultReleasetone \nflush-play-list \nplay 1 500 400 -15 \npause 500 \nprofile call-progress-tone defaultCongestiontone \nflush-play-list \nplay 1 500 400 -15 \npause 500 \nprofile call-progress-tone defaultSDTone \nflush-play-list \nplay 1 10000 425 -19 620 -19 \nprofile call-progress-tone defaultWaitingtone \nflush-play-list \nplay 1 200 400 -15 \npause 200\n"]
[null,"Norway","Tone_Set_NO","profile call-progress-tone defaultDialtone \r\nflush-play-list \r\nplay 1 1000 425 -6 \r\nprofile call-progress-tone defaultAlertingtone \r\nflush-play-list \r\nplay 1 1000 425 -13 \r\npause 2 4000 \r\nprofile call-progress-tone defaultBusytone \r\nflush-play-list \r\nplay 1 500 425 -7 \r\npause 2 500 \r\nprofile call-progress-tone defaultReleasetone \r\nflush-play-list \r\nplay 1 200 425 -7 \r\npause 2 200 \r\nprofile call-progress-tone defaultCongestiontone \r\nflush-play-list \r\nplay 1 200 425 -7 \r\npause 2 200\r\n","use profile fxo etsi","use profile fxs etsi",{"$f":"+SUBSTITUTE(Table2[[#This Row],[Call Progress]],CHAR(10),CONCATENATE(CHAR(13),CHAR(10)))","v":"profile call-progress-tone defaultDialtone \r\r\nflush-play-list \r\r\nplay 1 1000 425 -6 \r\r\nprofile call-progress-tone defaultAlertingtone \r\r\nflush-play-list \r\r\nplay 1 1000 425 -13 \r\r\npause 2 4000 \r\r\nprofile call-progress-tone defaultBusytone \r\r\nflush-play-list \r\r\nplay 1 500 425 -7 \r\r\npause 2 500 \r\r\nprofile call-progress-tone defaultReleasetone \r\r\nflush-play-list \r\r\nplay 1 200 425 -7 \r\r\npause 2 200 \r\r\nprofile call-progress-tone defaultCongestiontone \r\r\nflush-play-list \r\r\nplay 1 200 425 -7 \r\r\npause 2 200\r\r\n"},"profile call-progress-tone defaultDialtone \r\nflush-play-list \r\nplay 1 1000 425 -6 \r\nprofile call-progress-tone defaultAlertingtone \r\nflush-play-list \r\nplay 1 1000 425 -13 \r\npause 2 4000 \r\nprofile call-progress-tone defaultBusytone \r\nflush-play-list \r\nplay 1 500 425 -7 \r\npause 2 500 \r\nprofile call-progress-tone defaultReleasetone \r\nflush-play-list \r\nplay 1 200 425 -7 \r\npause 2 200 \r\nprofile call-progress-tone defaultCongestiontone \r\nflush-play-list \r\nplay 1 200 425 -7 \r\npause 2 200\r\n","profile call-progress-tone defaultDialtone \nflush-play-list \nplay 1 1000 425 -6 \nprofile call-progress-tone defaultAlertingtone \nflush-play-list \nplay 1 1000 425 -13 \npause 2 4000 \nprofile call-progress-tone defaultBusytone \nflush-play-list \nplay 1 500 425 -7 \npause 2 500 \nprofile call-progress-tone defaultReleasetone \nflush-play-list \nplay 1 200 425 -7 \npause 2 200 \nprofile call-progress-tone defaultCongestiontone \nflush-play-list \nplay 1 200 425 -7 \npause 2 200\n"]
[null,"Poland","Tone_Set_PL","profile call-progress-tone defaultDialtone \r\nflush-play-list \r\nplay 1 1000 425 -6 \r\nprofile call-progress-tone defaultAlertingtone \r\nflush-play-list \r\nplay 1 1000 425 -13 \r\npause 2 4000 profile call-progress-tone defaultBusytone \r\nflush-play-list \r\nplay 1 500 425 -7 \r\npause 2 500 \r\nprofile call-progress-tone defaultReleasetone \r\nflush-play-list \r\nplay 1 500 425 -7 \r\npause 2 500 \r\nprofile call-progress-tone defaultCongestiontone \r\nflush-play-list \r\nplay 1 500 425 -7 \r\npause 2 500\r\n","use profile fxo etsi","use profile fxs etsi",{"$f":"+SUBSTITUTE(Table2[[#This Row],[Call Progress]],CHAR(10),CONCATENATE(CHAR(13),CHAR(10)))","v":"profile call-progress-tone defaultDialtone \r\r\nflush-play-list \r\r\nplay 1 1000 425 -6 \r\r\nprofile call-progress-tone defaultAlertingtone \r\r\nflush-play-list \r\r\nplay 1 1000 425 -13 \r\r\npause 2 4000 profile call-progress-tone defaultBusytone \r\r\nflush-play-list \r\r\nplay 1 500 425 -7 \r\r\npause 2 500 \r\r\nprofile call-progress-tone defaultReleasetone \r\r\nflush-play-list \r\r\nplay 1 500 425 -7 \r\r\npause 2 500 \r\r\nprofile call-progress-tone defaultCongestiontone \r\r\nflush-play-list \r\r\nplay 1 500 425 -7 \r\r\npause 2 500\r\r\n"},"profile call-progress-tone defaultDialtone \r\nflush-play-list \r\nplay 1 1000 425 -6 \r\nprofile call-progress-tone defaultAlertingtone \r\nflush-play-list \r\nplay 1 1000 425 -13 \r\npause 2 4000 profile call-progress-tone defaultBusytone \r\nflush-play-list \r\nplay 1 500 425 -7 \r\npause 2 500 \r\nprofile call-progress-tone defaultReleasetone \r\nflush-play-list \r\nplay 1 500 425 -7 \r\npause 2 500 \r\nprofile call-progress-tone defaultCongestiontone \r\nflush-play-list \r\nplay 1 500 425 -7 \r\npause 2 500\r\n","profile call-progress-tone defaultDialtone \nflush-play-list \nplay 1 1000 425 -6 \nprofile call-progress-tone defaultAlertingtone \nflush-play-list \nplay 1 1000 425 -13 \npause 2 4000 profile call-progress-tone defaultBusytone \nflush-play-list \nplay 1 500 425 -7 \npause 2 500 \nprofile call-progress-tone defaultReleasetone \nflush-play-list \nplay 1 500 425 -7 \npause 2 500 \nprofile call-progress-tone defaultCongestiontone \nflush-play-list \nplay 1 500 425 -7 \npause 2 500\n"]
[null,"Portugal","Tone_Set_PT","profile call-progress-tone defaultDialtone \r\nflush-play-list \r\nplay 1 1000 425 -6 \r\nprofile call-progress-tone defaultAlertingtone \r\nflush-play-list \r\nplay 1 1000 425 -13 \r\npause 2 5000 \r\nprofile call-progress-tone defaultBusytone \r\nflush-play-list \r\nplay 1 500 425 -7 \r\npause 2 500 \r\nprofile call-progress-tone defaultReleasetone \r\nflush-play-list \r\nplay 1 200 425 -7 \r\npause 2 200 \r\nprofile call-progress-tone defaultCongestiontone \r\nflush-play-list \r\nplay 1 200 425 -7 \r\npause 2 200\r\n","use profile fxo etsi","use profile fxs etsi",{"$f":"+SUBSTITUTE(Table2[[#This Row],[Call Progress]],CHAR(10),CONCATENATE(CHAR(13),CHAR(10)))","v":"profile call-progress-tone defaultDialtone \r\r\nflush-play-list \r\r\nplay 1 1000 425 -6 \r\r\nprofile call-progress-tone defaultAlertingtone \r\r\nflush-play-list \r\r\nplay 1 1000 425 -13 \r\r\npause 2 5000 \r\r\nprofile call-progress-tone defaultBusytone \r\r\nflush-play-list \r\r\nplay 1 500 425 -7 \r\r\npause 2 500 \r\r\nprofile call-progress-tone defaultReleasetone \r\r\nflush-play-list \r\r\nplay 1 200 425 -7 \r\r\npause 2 200 \r\r\nprofile call-progress-tone defaultCongestiontone \r\r\nflush-play-list \r\r\nplay 1 200 425 -7 \r\r\npause 2 200\r\r\n"},"profile call-progress-tone defaultDialtone \r\nflush-play-list \r\nplay 1 1000 425 -6 \r\nprofile call-progress-tone defaultAlertingtone \r\nflush-play-list \r\nplay 1 1000 425 -13 \r\npause 2 5000 \r\nprofile call-progress-tone defaultBusytone \r\nflush-play-list \r\nplay 1 500 425 -7 \r\npause 2 500 \r\nprofile call-progress-tone defaultReleasetone \r\nflush-play-list \r\nplay 1 200 425 -7 \r\npause 2 200 \r\nprofile call-progress-tone defaultCongestiontone \r\nflush-play-list \r\nplay 1 200 425 -7 \r\npause 2 200\r\n","profile call-progress-tone defaultDialtone \nflush-play-list \nplay 1 1000 425 -6 \nprofile call-progress-tone defaultAlertingtone \nflush-play-list \nplay 1 1000 425 -13 \npause 2 5000 \nprofile call-progress-tone defaultBusytone \nflush-play-list \nplay 1 500 425 -7 \npause 2 500 \nprofile call-progress-tone defaultReleasetone \nflush-play-list \nplay 1 200 425 -7 \npause 2 200 \nprofile call-progress-tone defaultCongestiontone \nflush-play-list \nplay 1 200 425 -7 \npause 2 200\n"]
[null,"Russia","Tone_Set_RU","profile call-progress-tone defaultDialtone \r\nflush-play-list \r\nplay 1 1000 425 -6 \r\nprofile call-progress-tone defaultAlertingtone \r\nflush-play-list \r\nplay 1 800 425 -13 \r\npause 2 3200 \r\nprofile call-progress-tone defaultBusytone \r\nflush-play-list \r\nplay 1 400 425 -7 \r\npause 2 400 \r\nprofile call-progress-tone defaultReleasetone \r\nflush-play-list \r\nplay 1 400 425 -7 \r\npause 2 400 \r\nprofile call-progress-tone defaultCongestiontone \r\nflush-play-list \r\nplay 1 400 425 -7 \r\npause 2 400\r\n","use profile fxo etsi","use profile fxs etsi",{"$f":"+SUBSTITUTE(Table2[[#This Row],[Call Progress]],CHAR(10),CONCATENATE(CHAR(13),CHAR(10)))","v":"profile call-progress-tone defaultDialtone \r\r\nflush-play-list \r\r\nplay 1 1000 425 -6 \r\r\nprofile call-progress-tone defaultAlertingtone \r\r\nflush-play-list \r\r\nplay 1 800 425 -13 \r\r\npause 2 3200 \r\r\nprofile call-progress-tone defaultBusytone \r\r\nflush-play-list \r\r\nplay 1 400 425 -7 \r\r\npause 2 400 \r\r\nprofile call-progress-tone defaultReleasetone \r\r\nflush-play-list \r\r\nplay 1 400 425 -7 \r\r\npause 2 400 \r\r\nprofile call-progress-tone defaultCongestiontone \r\r\nflush-play-list \r\r\nplay 1 400 425 -7 \r\r\npause 2 400\r\r\n"},"profile call-progress-tone defaultDialtone \r\nflush-play-list \r\nplay 1 1000 425 -6 \r\nprofile call-progress-tone defaultAlertingtone \r\nflush-play-list \r\nplay 1 800 425 -13 \r\npause 2 3200 \r\nprofile call-progress-tone defaultBusytone \r\nflush-play-list \r\nplay 1 400 425 -7 \r\npause 2 400 \r\nprofile call-progress-tone defaultReleasetone \r\nflush-play-list \r\nplay 1 400 425 -7 \r\npause 2 400 \r\nprofile call-progress-tone defaultCongestiontone \r\nflush-play-list \r\nplay 1 400 425 -7 \r\npause 2 400\r\n","profile call-progress-tone defaultDialtone \nflush-play-list \nplay 1 1000 425 -6 \nprofile call-progress-tone defaultAlertingtone \nflush-play-list \nplay 1 800 425 -13 \npause 2 3200 \nprofile call-progress-tone defaultBusytone \nflush-play-list \nplay 1 400 425 -7 \npause 2 400 \nprofile call-progress-tone defaultReleasetone \nflush-play-list \nplay 1 400 425 -7 \npause 2 400 \nprofile call-progress-tone defaultCongestiontone \nflush-play-list \nplay 1 400 425 -7 \npause 2 400\n"]
[null,"South Africa","Tone_Set_ZA","profile call-progress-tone defaultDialtone \r\nflush-play-list \r\nplay 1 1000 400 -6 \r\nprofile call-progress-tone defaultAlertingtone \r\nflush-play-list \r\nplay 1 400 400 -13 \r\npause 2 200 \r\nplay 3 400 400 -13 \r\npause 4 2000 \r\nprofile call-progress-tone defaultBusytone \r\nflush-play-list \r\nplay 1 500 400 -7 \r\npause 2 500 \r\nprofile call-progress-tone defaultReleasetone \r\nflush-play-list \r\nplay 1 250 400 -7 \r\npause 2 250 \r\nprofile call-progress-tone defaultCongestiontone \r\nflush-play-list \r\nplay 1 250 400 -7 \r\npause 2 250\r\n","use profile fxo etsi","use profile fxs etsi",{"$f":"+SUBSTITUTE(Table2[[#This Row],[Call Progress]],CHAR(10),CONCATENATE(CHAR(13),CHAR(10)))","v":"profile call-progress-tone defaultDialtone \r\r\nflush-play-list \r\r\nplay 1 1000 400 -6 \r\r\nprofile call-progress-tone defaultAlertingtone \r\r\nflush-play-list \r\r\nplay 1 400 400 -13 \r\r\npause 2 200 \r\r\nplay 3 400 400 -13 \r\r\npause 4 2000 \r\r\nprofile call-progress-tone defaultBusytone \r\r\nflush-play-list \r\r\nplay 1 500 400 -7 \r\r\npause 2 500 \r\r\nprofile call-progress-tone defaultReleasetone \r\r\nflush-play-list \r\r\nplay 1 250 400 -7 \r\r\npause 2 250 \r\r\nprofile call-progress-tone defaultCongestiontone \r\r\nflush-play-list \r\r\nplay 1 250 400 -7 \r\r\npause 2 250\r\r\n"},"profile call-progress-tone defaultDialtone \r\nflush-play-list \r\nplay 1 1000 400 -6 \r\nprofile call-progress-tone defaultAlertingtone \r\nflush-play-list \r\nplay 1 400 400 -13 \r\npause 2 200 \r\nplay 3 400 400 -13 \r\npause 4 2000 \r\nprofile call-progress-tone defaultBusytone \r\nflush-play-list \r\nplay 1 500 400 -7 \r\npause 2 500 \r\nprofile call-progress-tone defaultReleasetone \r\nflush-play-list \r\nplay 1 250 400 -7 \r\npause 2 250 \r\nprofile call-progress-tone defaultCongestiontone \r\nflush-play-list \r\nplay 1 250 400 -7 \r\npause 2 250\r\n","profile call-progress-tone defaultDialtone \nflush-play-list \nplay 1 1000 400 -6 \nprofile call-progress-tone defaultAlertingtone \nflush-play-list \nplay 1 400 400 -13 \npause 2 200 \nplay 3 400 400 -13 \npause 4 2000 \nprofile call-progress-tone defaultBusytone \nflush-play-list \nplay 1 500 400 -7 \npause 2 500 \nprofile call-progress-tone defaultReleasetone \nflush-play-list \nplay 1 250 400 -7 \npause 2 250 \nprofile call-progress-tone defaultCongestiontone \nflush-play-list \nplay 1 250 400 -7 \npause 2 250\n"]
[null,"Spain","Tone_Set_ES","profile call-progress-tone defaultDialtone \r\nflush-play-list \r\nplay 1 1000 425 -6 \r\nprofile call-progress-tone defaultAlertingtone \r\nflush-play-list \r\nplay 1 1500 425 -13 \r\npause 2 3000 \r\nprofile call-progress-tone defaultBusytone \r\nflush-play-list \r\nplay 1 200 425 -7 \r\npause 2 200 \r\nprofile call-progress-tone defaultReleasetone \r\nflush-play-list \r\nplay 1 200 425 -7 \r\npause 2 200 \r\nplay 3 200 425 -7 \r\npause 4 200 \r\nplay 5 200 425 -7 \r\npause 6 600 \r\nprofile call-progress-tone defaultCongestiontone \r\nflush-play-list \r\nplay 1 200 425 -7 \r\npause 2 200 \r\nplay 3 200 425 -7 \r\npause 4 200 \r\nplay 5 200 425 -7 \r\npause 6 600\r\n","use profile fxo etsi","use profile fxs etsi",{"$f":"+SUBSTITUTE(Table2[[#This Row],[Call Progress]],CHAR(10),CONCATENATE(CHAR(13),CHAR(10)))","v":"profile call-progress-tone defaultDialtone \r\r\nflush-play-list \r\r\nplay 1 1000 425 -6 \r\r\nprofile call-progress-tone defaultAlertingtone \r\r\nflush-play-list \r\r\nplay 1 1500 425 -13 \r\r\npause 2 3000 \r\r\nprofile call-progress-tone defaultBusytone \r\r\nflush-play-list \r\r\nplay 1 200 425 -7 \r\r\npause 2 200 \r\r\nprofile call-progress-tone defaultReleasetone \r\r\nflush-play-list \r\r\nplay 1 200 425 -7 \r\r\npause 2 200 \r\r\nplay 3 200 425 -7 \r\r\npause 4 200 \r\r\nplay 5 200 425 -7 \r\r\npause 6 600 \r\r\nprofile call-progress-tone defaultCongestiontone \r\r\nflush-play-list \r\r\nplay 1 200 425 -7 \r\r\npause 2 200 \r\r\nplay 3 200 425 -7 \r\r\npause 4 200 \r\r\nplay 5 200 425 -7 \r\r\npause 6 600\r\r\n"},"profile call-progress-tone defaultDialtone \r\nflush-play-list \r\nplay 1 1000 425 -6 \r\nprofile call-progress-tone defaultAlertingtone \r\nflush-play-list \r\nplay 1 1500 425 -13 \r\npause 2 3000 \r\nprofile call-progress-tone defaultBusytone \r\nflush-play-list \r\nplay 1 200 425 -7 \r\npause 2 200 \r\nprofile call-progress-tone defaultReleasetone \r\nflush-play-list \r\nplay 1 200 425 -7 \r\npause 2 200 \r\nplay 3 200 425 -7 \r\npause 4 200 \r\nplay 5 200 425 -7 \r\npause 6 600 \r\nprofile call-progress-tone defaultCongestiontone \r\nflush-play-list \r\nplay 1 200 425 -7 \r\npause 2 200 \r\nplay 3 200 425 -7 \r\npause 4 200 \r\nplay 5 200 425 -7 \r\npause 6 600\r\n","profile call-progress-tone defaultDialtone \nflush-play-list \nplay 1 1000 425 -6 \nprofile call-progress-tone defaultAlertingtone \nflush-play-list \nplay 1 1500 425 -13 \npause 2 3000 \nprofile call-progress-tone defaultBusytone \nflush-play-list \nplay 1 200 425 -7 \npause 2 200 \nprofile call-progress-tone defaultReleasetone \nflush-play-list \nplay 1 200 425 -7 \npause 2 200 \nplay 3 200 425 -7 \npause 4 200 \nplay 5 200 425 -7 \npause 6 600 \nprofile call-progress-tone defaultCongestiontone \nflush-play-list \nplay 1 200 425 -7 \npause 2 200 \nplay 3 200 425 -7 \npause 4 200 \nplay 5 200 425 -7 \npause 6 600\n"]
[null,"Sweden","Tone_Set_SE","profile call-progress-tone defaultDialtone \r\nflush-play-list \r\nplay 1 1000 425 -6 \r\nprofile call-progress-tone defaultAlertingtone \r\nflush-play-list \r\nplay 1 1000 425 -13 \r\npause 2 5000 \r\nprofile call-progress-tone defaultBusytone \r\nflush-play-list \r\nplay 1 250 425 -7 \r\npause 2 250 \r\nprofile call-progress-tone defaultReleasetone \r\nflush-play-list \r\nplay 1 250 425 -7 \r\npause 2 750 \r\nprofile call-progress-tone defaultCongestiontone \r\nflush-play-list \r\nplay 1 250 425 -7 \r\npause 2 750\r\n","use profile fxo etsi","use profile fxs etsi",{"$f":"+SUBSTITUTE(Table2[[#This Row],[Call Progress]],CHAR(10),CONCATENATE(CHAR(13),CHAR(10)))","v":"profile call-progress-tone defaultDialtone \r\r\nflush-play-list \r\r\nplay 1 1000 425 -6 \r\r\nprofile call-progress-tone defaultAlertingtone \r\r\nflush-play-list \r\r\nplay 1 1000 425 -13 \r\r\npause 2 5000 \r\r\nprofile call-progress-tone defaultBusytone \r\r\nflush-play-list \r\r\nplay 1 250 425 -7 \r\r\npause 2 250 \r\r\nprofile call-progress-tone defaultReleasetone \r\r\nflush-play-list \r\r\nplay 1 250 425 -7 \r\r\npause 2 750 \r\r\nprofile call-progress-tone defaultCongestiontone \r\r\nflush-play-list \r\r\nplay 1 250 425 -7 \r\r\npause 2 750\r\r\n"},"profile call-progress-tone defaultDialtone \r\nflush-play-list \r\nplay 1 1000 425 -6 \r\nprofile call-progress-tone defaultAlertingtone \r\nflush-play-list \r\nplay 1 1000 425 -13 \r\npause 2 5000 \r\nprofile call-progress-tone defaultBusytone \r\nflush-play-list \r\nplay 1 250 425 -7 \r\npause 2 250 \r\nprofile call-progress-tone defaultReleasetone \r\nflush-play-list \r\nplay 1 250 425 -7 \r\npause 2 750 \r\nprofile call-progress-tone defaultCongestiontone \r\nflush-play-list \r\nplay 1 250 425 -7 \r\npause 2 750\r\n","profile call-progress-tone defaultDialtone \nflush-play-list \nplay 1 1000 425 -6 \nprofile call-progress-tone defaultAlertingtone \nflush-play-list \nplay 1 1000 425 -13 \npause 2 5000 \nprofile call-progress-tone defaultBusytone \nflush-play-list \nplay 1 250 425 -7 \npause 2 250 \nprofile call-progress-tone defaultReleasetone \nflush-play-list \nplay 1 250 425 -7 \npause 2 750 \nprofile call-progress-tone defaultCongestiontone \nflush-play-list \nplay 1 250 425 -7 \npause 2 750\n"]
[null,"Switzerland","Tone_Set_CH","profile call-progress-tone defaultDialtone \r\nflush-play-list \r\nplay 1 1000 425 0 \r\nprofile call-progress-tone defaultAlertingtone \r\nflush-play-list \r\nplay 1 1000 425 -7 \r\npause 2 4000 \r\nprofile call-progress-tone defaultBusytone \r\nflush-play-list \r\nplay 1 500 425 -7 \r\npause 2 500 \r\nprofile call-progress-tone defaultReleasetone \r\nflush-play-list \r\nplay 1 250 425 -7 \r\npause 2 250 \r\nprofile call-progress-tone defaultCongestiontone \r\nflush-play-list \r\nplay 1 250 425 -7 \r\npause 2 250\r\n","use profile fxo ch","use profile fxs ch",{"$f":"+SUBSTITUTE(Table2[[#This Row],[Call Progress]],CHAR(10),CONCATENATE(CHAR(13),CHAR(10)))","v":"profile call-progress-tone defaultDialtone \r\r\nflush-play-list \r\r\nplay 1 1000 425 0 \r\r\nprofile call-progress-tone defaultAlertingtone \r\r\nflush-play-list \r\r\nplay 1 1000 425 -7 \r\r\npause 2 4000 \r\r\nprofile call-progress-tone defaultBusytone \r\r\nflush-play-list \r\r\nplay 1 500 425 -7 \r\r\npause 2 500 \r\r\nprofile call-progress-tone defaultReleasetone \r\r\nflush-play-list \r\r\nplay 1 250 425 -7 \r\r\npause 2 250 \r\r\nprofile call-progress-tone defaultCongestiontone \r\r\nflush-play-list \r\r\nplay 1 250 425 -7 \r\r\npause 2 250\r\r\n"},"profile call-progress-tone defaultDialtone \r\nflush-play-list \r\nplay 1 1000 425 0 \r\nprofile call-progress-tone defaultAlertingtone \r\nflush-play-list \r\nplay 1 1000 425 -7 \r\npause 2 4000 \r\nprofile call-progress-tone defaultBusytone \r\nflush-play-list \r\nplay 1 500 425 -7 \r\npause 2 500 \r\nprofile call-progress-tone defaultReleasetone \r\nflush-play-list \r\nplay 1 250 425 -7 \r\npause 2 250 \r\nprofile call-progress-tone defaultCongestiontone \r\nflush-play-list \r\nplay 1 250 425 -7 \r\npause 2 250\r\n","profile call-progress-tone defaultDialtone \nflush-play-list \nplay 1 1000 425 0 \nprofile call-progress-tone defaultAlertingtone \nflush-play-list \nplay 1 1000 425 -7 \npause 2 4000 \nprofile call-progress-tone defaultBusytone \nflush-play-list \nplay 1 500 425 -7 \npause 2 500 \nprofile call-progress-tone defaultReleasetone \nflush-play-list \nplay 1 250 425 -7 \npause 2 250 \nprofile call-progress-tone defaultCongestiontone \nflush-play-list \nplay 1 250 425 -7 \npause 2 250\n"]
[null,"Turkey","Tone_Set_TR","profile call-progress-tone defaultDialtone \r\nflush-play-list \r\nplay 1 1000 450 -6 \r\nprofile call-progress-tone defaultAlertingtone \r\nflush-play-list \r\nplay 1 2000 450 -13 \r\npause 2 4000 \r\nprofile call-progress-tone defaultBusytone \r\nflush-play-list \r\nplay 1 500 450 -7 \r\npause 2 500 \r\nprofile call-progress-tone defaultReleasetone \r\nflush-play-list \r\nplay 1 200 450 -7 \r\npause 2 200 \r\nplay 3 200 450 -7 \r\npause 4 200 \r\nplay 5 200 450 -7 \r\npause 6 200 \r\nplay 7 600 450 -7 \r\npause 8 200 \r\nprofile call-progress-tone defaultCongestiontone \r\nflush-play-list \r\nplay 1 200 450 -7 \r\npause 2 200 \r\nplay 3 200 450 -7 \r\npause 4 200 \r\nplay 5 200 450 -7 \r\npause 6 200 \r\nplay 7 600 450 -7 \r\npause 8 200\r\n","use profile fxo etsi","use profile fxs etsi",{"$f":"+SUBSTITUTE(Table2[[#This Row],[Call Progress]],CHAR(10),CONCATENATE(CHAR(13),CHAR(10)))","v":"profile call-progress-tone defaultDialtone \r\r\nflush-play-list \r\r\nplay 1 1000 450 -6 \r\r\nprofile call-progress-tone defaultAlertingtone \r\r\nflush-play-list \r\r\nplay 1 2000 450 -13 \r\r\npause 2 4000 \r\r\nprofile call-progress-tone defaultBusytone \r\r\nflush-play-list \r\r\nplay 1 500 450 -7 \r\r\npause 2 500 \r\r\nprofile call-progress-tone defaultReleasetone \r\r\nflush-play-list \r\r\nplay 1 200 450 -7 \r\r\npause 2 200 \r\r\nplay 3 200 450 -7 \r\r\npause 4 200 \r\r\nplay 5 200 450 -7 \r\r\npause 6 200 \r\r\nplay 7 600 450 -7 \r\r\npause 8 200 \r\r\nprofile call-progress-tone defaultCongestiontone \r\r\nflush-play-list \r\r\nplay 1 200 450 -7 \r\r\npause 2 200 \r\r\nplay 3 200 450 -7 \r\r\npause 4 200 \r\r\nplay 5 200 450 -7 \r\r\npause 6 200 \r\r\nplay 7 600 450 -7 \r\r\npause 8 200\r\r\n"},"profile call-progress-tone defaultDialtone \r\nflush-play-list \r\nplay 1 1000 450 -6 \r\nprofile call-progress-tone defaultAlertingtone \r\nflush-play-list \r\nplay 1 2000 450 -13 \r\npause 2 4000 \r\nprofile call-progress-tone defaultBusytone \r\nflush-play-list \r\nplay 1 500 450 -7 \r\npause 2 500 \r\nprofile call-progress-tone defaultReleasetone \r\nflush-play-list \r\nplay 1 200 450 -7 \r\npause 2 200 \r\nplay 3 200 450 -7 \r\npause 4 200 \r\nplay 5 200 450 -7 \r\npause 6 200 \r\nplay 7 600 450 -7 \r\npause 8 200 \r\nprofile call-progress-tone defaultCongestiontone \r\nflush-play-list \r\nplay 1 200 450 -7 \r\npause 2 200 \r\nplay 3 200 450 -7 \r\npause 4 200 \r\nplay 5 200 450 -7 \r\npause 6 200 \r\nplay 7 600 450 -7 \r\npause 8 200\r\n","profile call-progress-tone defaultDialtone \nflush-play-list \nplay 1 1000 450 -6 \nprofile call-progress-tone defaultAlertingtone \nflush-play-list \nplay 1 2000 450 -13 \npause 2 4000 \nprofile call-progress-tone defaultBusytone \nflush-play-list \nplay 1 500 450 -7 \npause 2 500 \nprofile call-progress-tone defaultReleasetone \nflush-play-list \nplay 1 200 450 -7 \npause 2 200 \nplay 3 200 450 -7 \npause 4 200 \nplay 5 200 450 -7 \npause 6 200 \nplay 7 600 450 -7 \npause 8 200 \nprofile call-progress-tone defaultCongestiontone \nflush-play-list \nplay 1 200 450 -7 \npause 2 200 \nplay 3 200 450 -7 \npause 4 200 \nplay 5 200 450 -7 \npause 6 200 \nplay 7 600 450 -7 \npause 8 200\n"]
[null,"United Kindom","Tone_Set_UK","profile call-progress-tone defaultDialtone \r\nflush-play-list \r\nplay 1 1000 350 -13 440 -13 \r\nprofile call-progress-tone defaultAlertingtone \r\nflush-play-list \r\nplay 1 400 400 -19 450 -19 \r\npause 2 200 \r\nplay 3 400 400 -19 450 -19 \r\npause 4 2000 \r\nprofile call-progress-tone defaultBusytone \r\nflush-play-list \r\nplay 1 375 400 -24 \r\npause 2 375 \r\nprofile call-progress-tone defaultReleasetone \r\nflush-play-list \r\nplay 1 400 400 -24 \r\npause 2 350 \r\nplay 3 225 400 -24 \r\npause 4 525 \r\nprofile call-progress-tone defaultCongestiontone \r\nflush-play-list \r\nplay 1 400 400 -24 \r\npause 2 350 \r\nplay 3 225 400 -24 \r\npause 4 525\r\n","use profile fxo gb","use profile fxs gb",{"$f":"+SUBSTITUTE(Table2[[#This Row],[Call Progress]],CHAR(10),CONCATENATE(CHAR(13),CHAR(10)))","v":"profile call-progress-tone defaultDialtone \r\r\nflush-play-list \r\r\nplay 1 1000 350 -13 440 -13 \r\r\nprofile call-progress-tone defaultAlertingtone \r\r\nflush-play-list \r\r\nplay 1 400 400 -19 450 -19 \r\r\npause 2 200 \r\r\nplay 3 400 400 -19 450 -19 \r\r\npause 4 2000 \r\r\nprofile call-progress-tone defaultBusytone \r\r\nflush-play-list \r\r\nplay 1 375 400 -24 \r\r\npause 2 375 \r\r\nprofile call-progress-tone defaultReleasetone \r\r\nflush-play-list \r\r\nplay 1 400 400 -24 \r\r\npause 2 350 \r\r\nplay 3 225 400 -24 \r\r\npause 4 525 \r\r\nprofile call-progress-tone defaultCongestiontone \r\r\nflush-play-list \r\r\nplay 1 400 400 -24 \r\r\npause 2 350 \r\r\nplay 3 225 400 -24 \r\r\npause 4 525\r\r\n"},"profile call-progress-tone defaultDialtone \r\nflush-play-list \r\nplay 1 1000 350 -13 440 -13 \r\nprofile call-progress-tone defaultAlertingtone \r\nflush-play-list \r\nplay 1 400 400 -19 450 -19 \r\npause 2 200 \r\nplay 3 400 400 -19 450 -19 \r\npause 4 2000 \r\nprofile call-progress-tone defaultBusytone \r\nflush-play-list \r\nplay 1 375 400 -24 \r\npause 2 375 \r\nprofile call-progress-tone defaultReleasetone \r\nflush-play-list \r\nplay 1 400 400 -24 \r\npause 2 350 \r\nplay 3 225 400 -24 \r\npause 4 525 \r\nprofile call-progress-tone defaultCongestiontone \r\nflush-play-list \r\nplay 1 400 400 -24 \r\npause 2 350 \r\nplay 3 225 400 -24 \r\npause 4 525\r\n","profile call-progress-tone defaultDialtone \nflush-play-list \nplay 1 1000 350 -13 440 -13 \nprofile call-progress-tone defaultAlertingtone \nflush-play-list \nplay 1 400 400 -19 450 -19 \npause 2 200 \nplay 3 400 400 -19 450 -19 \npause 4 2000 \nprofile call-progress-tone defaultBusytone \nflush-play-list \nplay 1 375 400 -24 \npause 2 375 \nprofile call-progress-tone defaultReleasetone \nflush-play-list \nplay 1 400 400 -24 \npause 2 350 \nplay 3 225 400 -24 \npause 4 525 \nprofile call-progress-tone defaultCongestiontone \nflush-play-list \nplay 1 400 400 -24 \npause 2 350 \nplay 3 225 400 -24 \npause 4 525\n"]
[null,"United States","Tone_Set_US","profile call-progress-tone defaultDialtone\r\nflush-play-list \r\nplay 1 1000 350 -13 440 -13 \r\nprofile call-progress-tone defaultAlertingtone \r\nflush-play-list \r\nplay 1 1000 440 -19 480 -19 \r\npause 2 3000 \r\nprofile call-progress-tone defaultBusytone \r\nflush-play-list \r\nplay 1 500 480 -24 620 -24 \r\npause 2 500 \r\nprofile call-progress-tone defaultReleasetone \r\nflush-play-list \r\nplay 1 250 480 -24 620 -24 \r\npause 2 250 \r\nprofile call-progress-tone defaultCongestiontone \r\nflush-play-list \r\nplay 1 250 480 -24 620 -24 \r\npause 2 250\r\n","use profile fxo us","use profile fxs us",{"$f":"+SUBSTITUTE(Table2[[#This Row],[Call Progress]],CHAR(10),CONCATENATE(CHAR(13),CHAR(10)))","v":"profile call-progress-tone defaultDialtone\r\r\nflush-play-list \r\r\nplay 1 1000 350 -13 440 -13 \r\r\nprofile call-progress-tone defaultAlertingtone \r\r\nflush-play-list \r\r\nplay 1 1000 440 -19 480 -19 \r\r\npause 2 3000 \r\r\nprofile call-progress-tone defaultBusytone \r\r\nflush-play-list \r\r\nplay 1 500 480 -24 620 -24 \r\r\npause 2 500 \r\r\nprofile call-progress-tone defaultReleasetone \r\r\nflush-play-list \r\r\nplay 1 250 480 -24 620 -24 \r\r\npause 2 250 \r\r\nprofile call-progress-tone defaultCongestiontone \r\r\nflush-play-list \r\r\nplay 1 250 480 -24 620 -24 \r\r\npause 2 250\r\r\n"},"profile call-progress-tone defaultDialtone\r\nflush-play-list \r\nplay 1 1000 350 -13 440 -13 \r\nprofile call-progress-tone defaultAlertingtone \r\nflush-play-list \r\nplay 1 1000 440 -19 480 -19 \r\npause 2 3000 \r\nprofile call-progress-tone defaultBusytone \r\nflush-play-list \r\nplay 1 500 480 -24 620 -24 \r\npause 2 500 \r\nprofile call-progress-tone defaultReleasetone \r\nflush-play-list \r\nplay 1 250 480 -24 620 -24 \r\npause 2 250 \r\nprofile call-progress-tone defaultCongestiontone \r\nflush-play-list \r\nplay 1 250 480 -24 620 -24 \r\npause 2 250\r\n","profile call-progress-tone defaultDialtone\nflush-play-list \nplay 1 1000 350 -13 440 -13 \nprofile call-progress-tone defaultAlertingtone \nflush-play-list \nplay 1 1000 440 -19 480 -19 \npause 2 3000 \nprofile call-progress-tone defaultBusytone \nflush-play-list \nplay 1 500 480 -24 620 -24 \npause 2 500 \nprofile call-progress-tone defaultReleasetone \nflush-play-list \nplay 1 250 480 -24 620 -24 \npause 2 250 \nprofile call-progress-tone defaultCongestiontone \nflush-play-list \nplay 1 250 480 -24 620 -24 \npause 2 250\n"]

{"sheet":"Generic","index":6,"n_rows":509,"n_cols":4,"rows_kept":509,"cut":false,"hidden":true,"merged":[]}
["LINE #","DISCARD (#)","COMMAND","Column1"]
[1,null,"####################################################################################"]
[2,null,{"$f":"+CONCATENATE(\"# Configuration file for SmartNode with: \",Data!C5,\" FXO and \", Data!C6,\" FXS\")","v":"# Configuration file for SmartNode with: 12 FXO and 0 FXS"}]
[3,{"$f":"+IF(Data!$C$5>ROW(Generic!B4)-ROW(Generic!$B$477),\"\",\"#\")","v":""},{"$f":"+IF(Data!C7=\"Y\",\"# With 2 ethernet ports\",\"# With one ethernet port\")","v":"# With one ethernet port"}]
[4,{"$f":"+IF(Data!$C$5>ROW(Generic!B5)-ROW(Generic!$B$477),\"\",\"#\")","v":""},{"$f":"+CONCATENATE(\"# Configuration file name is \",Data!C11)","v":"# Configuration file name is PattonSample"}]
[5,{"$f":"+IF(Data!$C$5>ROW(Generic!B6)-ROW(Generic!$B$477),\"\",\"#\")","v":""},"# Generic IPPBX"]
[6,{"$f":"+IF(Data!$C$5>ROW(Generic!B7)-ROW(Generic!$B$477),\"\",\"#\")","v":""},"####################################################################################"]
[7,{"$f":"+IF(Data!$C$5>ROW(Generic!B8)-ROW(Generic!$B$477),\"\",\"#\")","v":""},{"$f":"+CONCATENATE(\"# \",Data!B14,\" \",Data!C14)","v":"# LAN Interface Data "}]
[8,{"$f":"+IF(Data!$C$5>ROW(Generic!B9)-ROW(Generic!$B$477),\"\",\"#\")","v":""},{"$f":"+CONCATENATE(\"# \",Data!B15,\" \",Data!C15)","v":"# IP Address 10.10.1.10"}]
[9,{"$f":"+IF(Data!$C$5>ROW(Generic!B10)-ROW(Generic!$B$477),\"\",\"#\")","v":""},{"$f":"+CONCATENATE(\"# \",Data!B16,\" \",Data!C16)","v":"# IP Mask 255.255.255.0"}]
[10,{"$f":"+IF(Data!$C$5>ROW(Generic!B11)-ROW(Generic!$B$477),\"\",\"#\")","v":""},"####################################################################################"]
[11,{"$f":"+IF(Data!$C$5>ROW(Generic!B12)-ROW(Generic!$B$477),\"\",\"#\")","v":""},{"$f":"+CONCATENATE(\"# \",Data!B18,\" \",Data!C18)","v":"# WAN Interface Data "}]
[12,{"$f":"+IF(Data!$C$5>ROW(Generic!B13)-ROW(Generic!$B$477),\"\",\"#\")","v":""},{"$f":"+CONCATENATE(\"# \",Data!B19,\" \",Data!C19)","v":"# IP Address dhcp"}]
[13,{"$f":"+IF(Data!$C$5>ROW(Generic!B14)-ROW(Generic!$B$477),\"\",\"#\")","v":""},{"$f":"+CONCATENATE(\"# \",Data!B20,\" \",Data!C20)","v":"# IP Mask "}]
[14,{"$f":"+IF(Data!$C$5>ROW(Generic!B15)-ROW(Generic!$B$477),\"\",\"#\")","v":""},"####################################################################################"]
[15,{"$f":"+IF(Data!$C$5>ROW(Generic!B16)-ROW(Generic!$B$477),\"\",\"#\")","v":""},{"$f":"+CONCATENATE(\"# \",Data!B22,\" \",Data!C22)","v":"# Default Gateway "}]
[16,{"$f":"+IF(Data!$C$5>ROW(Generic!B17)-ROW(Generic!$B$477),\"\",\"#\")","v":""},"####################################################################################"]
[17,{"$f":"+IF(Data!$C$5>ROW(Generic!B18)-ROW(Generic!$B$477),\"\",\"#\")","v":""},{"$f":"+CONCATENATE(\"# \",Data!B23,\" \",Data!C23)","v":"# IP-PBX/SIP PROXY DATA "}]
[18,{"$f":"+IF(Data!$C$5>ROW(Generic!B19)-ROW(Generic!$B$477),\"\",\"#\")","v":""},{"$f":"+CONCATENATE(\"# \",Data!B24,\" \",Data!C24)","v":"# IP-PBX Ip Address /  Name / Domain 10.10.50.23"}]
[19,{"$f":"+IF(Data!$C$5>ROW(Generic!B20)-ROW(Generic!$B$477),\"\",\"#\")","v":""},{"$f":"+CONCATENATE(\"# \",Data!B25,\" \",Data!C25)","v":"# IP-PBX SIP Port 5060"}]
[20,{"$f":"+IF(Data!$C$5>ROW(Generic!B21)-ROW(Generic!$B$477),\"\",\"#\")","v":""},"####################################################################################"]
[21,{"$f":"+IF(Data!$C$5>ROW(Generic!B22)-ROW(Generic!$B$477),\"\",\"#\")","v":""},{"$f":"+CONCATENATE(\"# \",Data!B27,\" \",Data!C27)","v":"# LOCALIZATION DATA "}]
[22,{"$f":"+IF(Data!$C$5>ROW(Generic!B23)-ROW(Generic!$B$477),\"\",\"#\")","v":""},{"$f":"+CONCATENATE(\"# \",Data!B28,\" \",Data!C28)","v":"# Country United States"}]
[23,{"$f":"+IF(Data!$C$5>ROW(Generic!B24)-ROW(Generic!$B$477),\"\",\"#\")","v":""},"####################################################################################"]
[24,null,"# Supported firmware versions R5.x"]
[25,{"$f":"+IF(Data!$C$5>ROW(Generic!B26)-ROW(Generic!$B$477),\"\",\"#\")","v":""},{"$f":"+CONCATENATE(\"# Tool version \",Data!$C$4)","v":"# Tool version V2_1 06222011"}]
[26,null,"# Adapted: Ernesto Casas "]
[27,null,"# for comments, feedback or suggestions please send an email to: ecasas@patton.com"]
[28,null,"####################################################################################"]
[29]
[30,null,"webserver port 80 language en"]
[31,null,{"$f":"+CONCATENATE(\"sntp-client server \",Data!C9)","v":"sntp-client server 1.1.1.1"}]
[32,{"$f":"+IF(Data!C10=\"\",\"#\",\"\")","v":""},{"$f":"+CONCATENATE(\"dns-client server \",Data!C10)","v":"dns-client server 8.8.8.8"}]
[33]
[34,null,"system"]
[35,null,"ic voice 0"]
[36,null,"low-bitrate-codec g729"]
[37,null,"profile ppp default"]
[38]
[39,{"$f":"+IF(Data!$C$5>ROW(Generic!B40)-ROW(Generic!$B$477),\"\",\"#\")","v":""},{"$f":"+CONCATENATE(\"# Call Progress tones based on country selection. Your selected country is: \",Data!$C$28)","v":"# Call Progress tones based on country selection. Your selected country is: United States"}]
[40]
[41,null,{"$f":"+Data!$C$30","v":"profile call-progress-tone defaultDialtone\r\nflush-play-list \r\nplay 1 1000 350 -13 440 -13 \r\nprofile call-progress-tone defaultAlertingtone \r\nflush-play-list \r\nplay 1 1000 440 -19 480 -19 \r\npause 2 3000 \r\nprofile call-progress-tone defaultBusytone \r\nflush-play-list \r\nplay 1 500 480 -24 620 -24 \r\npause 2 500 \r\nprofile call-progress-tone defaultReleasetone \r\nflush-play-list \r\nplay 1 250 480 -24 620 -24 \r\npause 2 250 \r\nprofile call-progress-tone defaultCongestiontone \r\nflush-play-list \r\nplay 1 250 480 -24 620 -24 \r\npause 2 250\r\n"}]
[42,{"$f":"+IF(Data!$C$5>ROW(Generic!B43)-ROW(Generic!$B$477),\"\",\"#\")","v":""}]
[43,null,"profile tone-set default"]
[44,null,"profile voip default"]
[45,null,"  codec 1 g711alaw64k rx-length 20 tx-length 20"]
[46,null,"  codec 2 g711ulaw64k rx-length 20 tx-length 20"]
[47,null,"  fax transmission 1 relay t38-udp"]
[48,null,"  fax transmission 2 bypass g711alaw64k"]
[49,null,"profile pstn default"]
[50,null,"profile sip default"]
[51,null,"profile aaa default"]
[52,null,"  method 1 local"]
[53,null,"  method 2 none"]
[54]
[55,null,"context ip router"]
[56,null,"interface IF_IP_LAN"]
[57,null,{"$f":"+CONCATENATE(\"     ipaddress \",Data!C15,\" \",Data!C16)","v":"     ipaddress 10.10.1.10 255.255.255.0"}]
[58,null,"    tcp adjust-mss rx mtu"]
[59,null,"    tcp adjust-mss tx mtu"]
[60]
[61,null,"interface IF_IP_WAN"]
[62,null,{"$f":"+CONCATENATE(\"     ipaddress \",Data!C19,\" \",Data!C20)","v":"     ipaddress dhcp "}]
[63,null,"    tcp adjust-mss rx mtu"]
[64,null,"    tcp adjust-mss tx mtu"]
[65]
[66,null,"context ip router"]
[67,null,{"$f":"+CONCATENATE(\"     route 0.0.0.0 0.0.0.0  \",Data!C22)","v":"     route 0.0.0.0 0.0.0.0  "}]
[68,null,"context cs switch"]
[69,null,{"$f":"+IF(Data!C38=\"\",\"     no digit-collection timeout\",+CONCATENATE(\"     digit-collection timeout \",Data!C38))","v":"     digit-collection timeout 2"}]
[70]
[71,{"$f":"+IF(Data!$C$6>0,\" \",\"#\")","v":"#"},"routing-table called-e164 RT_DIGITCOLLECTION"]
[72,{"$f":"+IF(Data!$C$6>0,\" \",\"#\")","v":"#"},"      route .T dest-interface IF_SIP_PBX MT_EXT_TO_NAME"]
[73]
[74,{"$f":"+IF(Data!$C$6>0,\" \",\"#\")","v":"#"},"routing-table called-e164 RT_TO_FXS"]
[75,{"$f":"+IF(Data!$C$6>ROW(Generic!B76)-ROW(Generic!$B$76),\"\",\"#\")","v":"#"},{"$f":"+CONCATENATE(\"        route \",'Extension Table'!A2,\" dest-interface IF_FXS_\",'Extension Table'!C2)","v":"        route 101 dest-interface IF_FXS_1"}]
[76,{"$f":"+IF(Data!$C$6>ROW(Generic!B77)-ROW(Generic!$B$76),\"\",\"#\")","v":"#"},{"$f":"+CONCATENATE(\"        route \",'Extension Table'!A3,\" dest-interface IF_FXS_\",'Extension Table'!C3)","v":"        route 102 dest-interface IF_FXS_2"}]
[77,{"$f":"+IF(Data!$C$6>ROW(Generic!B78)-ROW(Generic!$B$76),\"\",\"#\")","v":"#"},{"$f":"+CONCATENATE(\"        route \",'Extension Table'!A4,\" dest-interface IF_FXS_\",'Extension Table'!C4)","v":"        route 103 dest-interface IF_FXS_3"}]
[78,{"$f":"+IF(Data!$C$6>ROW(Generic!B79)-ROW(Generic!$B$76),\"\",\"#\")","v":"#"},{"$f":"+CONCATENATE(\"        route \",'Extension Table'!A5,\" dest-interface IF_FXS_\",'Extension Table'!C5)","v":"        route 104 dest-interface IF_FXS_4"}]
[79,{"$f":"+IF(Data!$C$6>ROW(Generic!B80)-ROW(Generic!$B$76),\"\",\"#\")","v":"#"},{"$f":"+CONCATENATE(\"        route \",'Extension Table'!A6,\" dest-interface IF_FXS_\",'Extension Table'!C6)","v":"        route 105 dest-interface IF_FXS_5"}]
[80,{"$f":"+IF(Data!$C$6>ROW(Generic!B81)-ROW(Generic!$B$76),\"\",\"#\")","v":"#"},{"$f":"+CONCATENATE(\"        route \",'Extension Table'!A7,\" dest-interface IF_FXS_\",'Extension Table'!C7)","v":"        route 106 dest-interface IF_FXS_6"}]
[81,{"$f":"+IF(Data!$C$6>ROW(Generic!B82)-ROW(Generic!$B$76),\"\",\"#\")","v":"#"},{"$f":"+CONCATENATE(\"        route \",'Extension Table'!A8,\" dest-interface IF_FXS_\",'Extension Table'!C8)","v":"        route 107 dest-interface IF_FXS_7"}]
[82,{"$f":"+IF(Data!$C$6>ROW(Generic!B83)-ROW(Generic!$B$76),\"\",\"#\")","v":"#"},{"$f":"+CONCATENATE(\"        route \",'Extension Table'!A9,\" dest-interface IF_FXS_\",'Extension Table'!C9)","v":"        route 108 dest-interface IF_FXS_8"}]
[83,{"$f":"+IF(Data!$C$6>ROW(Generic!B84)-ROW(Generic!$B$76),\"\",\"#\")","v":"#"},{"$f":"+CONCATENATE(\"        route \",'Extension Table'!A10,\" dest-interface IF_FXS_\",'Extension Table'!C10)","v":"        route 109 dest-interface IF_FXS_9"}]
[84,{"$f":"+IF(Data!$C$6>ROW(Generic!B85)-ROW(Generic!$B$76),\"\",\"#\")","v":"#"},{"$f":"+CONCATENATE(\"        route \",'Extension Table'!A11,\" dest-interface IF_FXS_\",'Extension Table'!C11)","v":"        route 110 dest-interface IF_FXS_10"}]
[85,{"$f":"+IF(Data!$C$6>ROW(Generic!B86)-ROW(Generic!$B$76),\"\",\"#\")","v":"#"},{"$f":"+CONCATENATE(\"        route \",'Extension Table'!A12,\" dest-interface IF_FXS_\",'Extension Table'!C12)","v":"        route 111 dest-interface IF_FXS_11"}]
[86,{"$f":"+IF(Data!$C$6>ROW(Generic!B87)-ROW(Generic!$B$76),\"\",\"#\")","v":"#"},{"$f":"+CONCATENATE(\"        route \",'Extension Table'!A13,\" dest-interface IF_FXS_\",'Extension Table'!C13)","v":"        route 112 dest-interface IF_FXS_12"}]
[87,{"$f":"+IF(Data!$C$6>ROW(Generic!B88)-ROW(Generic!$B$76),\"\",\"#\")","v":"#"},{"$f":"+CONCATENATE(\"        route \",'Extension Table'!A14,\" dest-interface IF_FXS_\",'Extension Table'!C14)","v":"        route 113 dest-interface IF_FXS_13"}]
[88,{"$f":"+IF(Data!$C$6>ROW(Generic!B89)-ROW(Generic!$B$76),\"\",\"#\")","v":"#"},{"$f":"+CONCATENATE(\"        route \",'Extension Table'!A15,\" dest-interface IF_FXS_\",'Extension Table'!C15)","v":"        route 114 dest-interface IF_FXS_14"}]
[89,{"$f":"+IF(Data!$C$6>ROW(Generic!B90)-ROW(Generic!$B$76),\"\",\"#\")","v":"#"},{"$f":"+CONCATENATE(\"        route \",'Extension Table'!A16,\" dest-interface IF_FXS_\",'Extension Table'!C16)","v":"        route 115 dest-interface IF_FXS_15"}]
[90,{"$f":"+IF(Data!$C$6>ROW(Generic!B91)-ROW(Generic!$B$76),\"\",\"#\")","v":"#"},{"$f":"+CONCATENATE(\"        route \",'Extension Table'!A17,\" dest-interface IF_FXS_\",'Extension Table'!C17)","v":"        route 116 dest-interface IF_FXS_16"}]
[91,{"$f":"+IF(Data!$C$6>ROW(Generic!B92)-ROW(Generic!$B$76),\"\",\"#\")","v":"#"},{"$f":"+CONCATENATE(\"        route \",'Extension Table'!A18,\" dest-interface IF_FXS_\",'Extension Table'!C18)","v":"        route 117 dest-interface IF_FXS_17"}]
[92,{"$f":"+IF(Data!$C$6>ROW(Generic!B93)-ROW(Generic!$B$76),\"\",\"#\")","v":"#"},{"$f":"+CONCATENATE(\"        route \",'Extension Table'!A19,\" dest-interface IF_FXS_\",'Extension Table'!C19)","v":"        route 118 dest-interface IF_FXS_18"}]
[93,{"$f":"+IF(Data!$C$6>ROW(Generic!B94)-ROW(Generic!$B$76),\"\",\"#\")","v":"#"},{"$f":"+CONCATENATE(\"        route \",'Extension Table'!A20,\" dest-interface IF_FXS_\",'Extension Table'!C20)","v":"        route 119 dest-interface IF_FXS_19"}]
[94,{"$f":"+IF(Data!$C$6>ROW(Generic!B95)-ROW(Generic!$B$76),\"\",\"#\")","v":"#"},{"$f":"+CONCATENATE(\"        route \",'Extension Table'!A21,\" dest-interface IF_FXS_\",'Extension Table'!C21)","v":"        route 120 dest-interface IF_FXS_20"}]
[95,{"$f":"+IF(Data!$C$6>ROW(Generic!B96)-ROW(Generic!$B$76),\"\",\"#\")","v":"#"},{"$f":"+CONCATENATE(\"        route \",'Extension Table'!A22,\" dest-interface IF_FXS_\",'Extension Table'!C22)","v":"        route 121 dest-interface IF_FXS_21"}]
[96,{"$f":"+IF(Data!$C$6>ROW(Generic!B97)-ROW(Generic!$B$76),\"\",\"#\")","v":"#"},{"$f":"+CONCATENATE(\"        route \",'Extension Table'!A23,\" dest-interface IF_FXS_\",'Extension Table'!C23)","v":"        route 122 dest-interface IF_FXS_22"}]
[97,{"$f":"+IF(Data!$C$6>ROW(Generic!B98)-ROW(Generic!$B$76),\"\",\"#\")","v":"#"},{"$f":"+CONCATENATE(\"        route \",'Extension Table'!A24,\" dest-interface IF_FXS_\",'Extension Table'!C24)","v":"        route 123 dest-interface IF_FXS_23"}]
[98,{"$f":"+IF(Data!$C$6>ROW(Generic!B99)-ROW(Generic!$B$76),\"\",\"#\")","v":"#"},{"$f":"+CONCATENATE(\"        route \",'Extension Table'!A25,\" dest-interface IF_FXS_\",'Extension Table'!C25)","v":"        route 124 dest-interface IF_FXS_24"}]
[99,{"$f":"+IF(Data!$C$6>ROW(Generic!B100)-ROW(Generic!$B$76),\"\",\"#\")","v":"#"},{"$f":"+CONCATENATE(\"        route \",'Extension Table'!A26,\" dest-interface IF_FXS_\",'Extension Table'!C26)","v":"        route 125 dest-interface IF_FXS_25"}]
[100,{"$f":"+IF(Data!$C$6>ROW(Generic!B101)-ROW(Generic!$B$76),\"\",\"#\")","v":"#"},{"$f":"+CONCATENATE(\"        route \",'Extension Table'!A27,\" dest-interface IF_FXS_\",'Extension Table'!C27)","v":"        route 126 dest-interface IF_FXS_26"}]
[101,{"$f":"+IF(Data!$C$6>ROW(Generic!B102)-ROW(Generic!$B$76),\"\",\"#\")","v":"#"},{"$f":"+CONCATENATE(\"        route \",'Extension Table'!A28,\" dest-interface IF_FXS_\",'Extension Table'!C28)","v":"        route 127 dest-interface IF_FXS_27"}]
[102,{"$f":"+IF(Data!$C$6>ROW(Generic!B103)-ROW(Generic!$B$76),\"\",\"#\")","v":"#"},{"$f":"+CONCATENATE(\"        route \",'Extension Table'!A29,\" dest-interface IF_FXS_\",'Extension Table'!C29)","v":"        route 128 dest-interface IF_FXS_28"}]
[103,{"$f":"+IF(Data!$C$6>ROW(Generic!B104)-ROW(Generic!$B$76),\"\",\"#\")","v":"#"},{"$f":"+CONCATENATE(\"        route \",'Extension Table'!A30,\" dest-interface IF_FXS_\",'Extension Table'!C30)","v":"        route 129 dest-interface IF_FXS_29"}]
[104,{"$f":"+IF(Data!$C$6>ROW(Generic!B105)-ROW(Generic!$B$76),\"\",\"#\")","v":"#"},{"$f":"+CONCATENATE(\"        route \",'Extension Table'!A31,\" dest-interface IF_FXS_\",'Extension Table'!C31)","v":"        route 130 dest-interface IF_FXS_30"}]
[105,{"$f":"+IF(Data!$C$6>ROW(Generic!B106)-ROW(Generic!$B$76),\"\",\"#\")","v":"#"},{"$f":"+CONCATENATE(\"        route \",'Extension Table'!A32,\" dest-interface IF_FXS_\",'Extension Table'!C32)","v":"        route 131 dest-interface IF_FXS_31"}]
[106,{"$f":"+IF(Data!$C$6>ROW(Generic!B107)-ROW(Generic!$B$76),\"\",\"#\")","v":"#"},{"$f":"+CONCATENATE(\"        route \",'Extension Table'!A33,\" dest-interface IF_FXS_\",'Extension Table'!C33)","v":"        route 132 dest-interface IF_FXS_32"}]
[107,null," "]
[108,{"$f":"+IF(Data!$C$6>0,\" \",\"#\")","v":"#"},"mapping-table calling-e164 to calling-name MT_EXT_TO_NAME"]
[109,{"$f":"+IF(Data!$C$6>ROW(Generic!B110)-ROW(Generic!$B$110),\"\",\"#\")","v":"#"},{"$f":"+CONCATENATE(\"        map \",'Extension Table'!A2,\" to \"\"\",'Extension Table'!D2,\" \",'Extension Table'!E2,\"\"\"\")","v":"        map 101 to \"Fname user 1 Lname user 1\""}]
[110,{"$f":"+IF(Data!$C$6>ROW(Generic!B111)-ROW(Generic!$B$110),\"\",\"#\")","v":"#"},{"$f":"+CONCATENATE(\"        map \",'Extension Table'!A3,\" to \"\"\",'Extension Table'!D3,\" \",'Extension Table'!E3,\"\"\"\")","v":"        map 102 to \"Fname user 2 Lname user 2\""}]
[111,{"$f":"+IF(Data!$C$6>ROW(Generic!B112)-ROW(Generic!$B$110),\"\",\"#\")","v":"#"},{"$f":"+CONCATENATE(\"        map \",'Extension Table'!A4,\" to \"\"\",'Extension Table'!D4,\" \",'Extension Table'!E4,\"\"\"\")","v":"        map 103 to \" \""}]
[112,{"$f":"+IF(Data!$C$6>ROW(Generic!B113)-ROW(Generic!$B$110),\"\",\"#\")","v":"#"},{"$f":"+CONCATENATE(\"        map \",'Extension Table'!A5,\" to \"\"\",'Extension Table'!D5,\" \",'Extension Table'!E5,\"\"\"\")","v":"        map 104 to \" \""}]
[113,{"$f":"+IF(Data!$C$6>ROW(Generic!B114)-ROW(Generic!$B$110),\"\",\"#\")","v":"#"},{"$f":"+CONCATENATE(\"        map \",'Extension Table'!A6,\" to \"\"\",'Extension Table'!D6,\" \",'Extension Table'!E6,\"\"\"\")","v":"        map 105 to \" \""}]
[114,{"$f":"+IF(Data!$C$6>ROW(Generic!B115)-ROW(Generic!$B$110),\"\",\"#\")","v":"#"},{"$f":"+CONCATENATE(\"        map \",'Extension Table'!A7,\" to \"\"\",'Extension Table'!D7,\" \",'Extension Table'!E7,\"\"\"\")","v":"        map 106 to \" \""}]
[115,{"$f":"+IF(Data!$C$6>ROW(Generic!B116)-ROW(Generic!$B$110),\"\",\"#\")","v":"#"},{"$f":"+CONCATENATE(\"        map \",'Extension Table'!A8,\" to \"\"\",'Extension Table'!D8,\" \",'Extension Table'!E8,\"\"\"\")","v":"        map 107 to \" \""}]
[116,{"$f":"+IF(Data!$C$6>ROW(Generic!B117)-ROW(Generic!$B$110),\"\",\"#\")","v":"#"},{"$f":"+CONCATENATE(\"        map \",'Extension Table'!A9,\" to \"\"\",'Extension Table'!D9,\" \",'Extension Table'!E9,\"\"\"\")","v":"        map 108 to \" \""}]
[117,{"$f":"+IF(Data!$C$6>ROW(Generic!B118)-ROW(Generic!$B$110),\"\",\"#\")","v":"#"},{"$f":"+CONCATENATE(\"        map \",'Extension Table'!A10,\" to \"\"\",'Extension Table'!D10,\" \",'Extension Table'!E10,\"\"\"\")","v":"        map 109 to \" \""}]
[118,{"$f":"+IF(Data!$C$6>ROW(Generic!B119)-ROW(Generic!$B$110),\"\",\"#\")","v":"#"},{"$f":"+CONCATENATE(\"        map \",'Extension Table'!A11,\" to \"\"\",'Extension Table'!D11,\" \",'Extension Table'!E11,\"\"\"\")","v":"        map 110 to \" \""}]
[119,{"$f":"+IF(Data!$C$6>ROW(Generic!B120)-ROW(Generic!$B$110),\"\",\"#\")","v":"#"},{"$f":"+CONCATENATE(\"        map \",'Extension Table'!A12,\" to \"\"\",'Extension Table'!D12,\" \",'Extension Table'!E12,\"\"\"\")","v":"        map 111 to \" \""}]
[120,{"$f":"+IF(Data!$C$6>ROW(Generic!B121)-ROW(Generic!$B$110),\"\",\"#\")","v":"#"},{"$f":"+CONCATENATE(\"        map \",'Extension Table'!A13,\" to \"\"\",'Extension Table'!D13,\" \",'Extension Table'!E13,\"\"\"\")","v":"        map 112 to \" \""}]
[121,{"$f":"+IF(Data!$C$6>ROW(Generic!B122)-ROW(Generic!$B$110),\"\",\"#\")","v":"#"},{"$f":"+CONCATENATE(\"        map \",'Extension Table'!A14,\" to \"\"\",'Extension Table'!D14,\" \",'Extension Table'!E14,\"\"\"\")","v":"        map 113 to \" \""}]
[122,{"$f":"+IF(Data!$C$6>ROW(Generic!B123)-ROW(Generic!$B$110),\"\",\"#\")","v":"#"},{"$f":"+CONCATENATE(\"        map \",'Extension Table'!A15,\" to \"\"\",'Extension Table'!D15,\" \",'Extension Table'!E15,\"\"\"\")","v":"        map 114 to \" \""}]
[123,{"$f":"+IF(Data!$C$6>ROW(Generic!B124)-ROW(Generic!$B$110),\"\",\"#\")","v":"#"},{"$f":"+CONCATENATE(\"        map \",'Extension Table'!A16,\" to \"\"\",'Extension Table'!D16,\" \",'Extension Table'!E16,\"\"\"\")","v":"        map 115 to \" \""}]
[124,{"$f":"+IF(Data!$C$6>ROW(Generic!B125)-ROW(Generic!$B$110),\"\",\"#\")","v":"#"},{"$f":"+CONCATENATE(\"        map \",'Extension Table'!A17,\" to \"\"\",'Extension Table'!D17,\" \",'Extension Table'!E17,\"\"\"\")","v":"        map 116 to \" \""}]
[125,{"$f":"+IF(Data!$C$6>ROW(Generic!B126)-ROW(Generic!$B$110),\"\",\"#\")","v":"#"},{"$f":"+CONCATENATE(\"        map \",'Extension Table'!A18,\" to \"\"\",'Extension Table'!D18,\" \",'Extension Table'!E18,\"\"\"\")","v":"        map 117 to \" \""}]
[126,{"$f":"+IF(Data!$C$6>ROW(Generic!B127)-ROW(Generic!$B$110),\"\",\"#\")","v":"#"},{"$f":"+CONCATENATE(\"        map \",'Extension Table'!A19,\" to \"\"\",'Extension Table'!D19,\" \",'Extension Table'!E19,\"\"\"\")","v":"        map 118 to \" \""}]
[127,{"$f":"+IF(Data!$C$6>ROW(Generic!B128)-ROW(Generic!$B$110),\"\",\"#\")","v":"#"},{"$f":"+CONCATENATE(\"        map \",'Extension Table'!A20,\" to \"\"\",'Extension Table'!D20,\" \",'Extension Table'!E20,\"\"\"\")","v":"        map 119 to \" \""}]
[128,{"$f":"+IF(Data!$C$6>ROW(Generic!B129)-ROW(Generic!$B$110),\"\",\"#\")","v":"#"},{"$f":"+CONCATENATE(\"        map \",'Extension Table'!A21,\" to \"\"\",'Extension Table'!D21,\" \",'Extension Table'!E21,\"\"\"\")","v":"        map 120 to \" \""}]
[129,{"$f":"+IF(Data!$C$6>ROW(Generic!B130)-ROW(Generic!$B$110),\"\",\"#\")","v":"#"},{"$f":"+CONCATENATE(\"        map \",'Extension Table'!A22,\" to \"\"\",'Extension Table'!D22,\" \",'Extension Table'!E22,\"\"\"\")","v":"        map 121 to \" \""}]
[130,{"$f":"+IF(Data!$C$6>ROW(Generic!B131)-ROW(Generic!$B$110),\"\",\"#\")","v":"#"},{"$f":"+CONCATENATE(\"        map \",'Extension Table'!A23,\" to \"\"\",'Extension Table'!D23,\" \",'Extension Table'!E23,\"\"\"\")","v":"        map 122 to \" \""}]
[131,{"$f":"+IF(Data!$C$6>ROW(Generic!B132)-ROW(Generic!$B$110),\"\",\"#\")","v":"#"},{"$f":"+CONCATENATE(\"        map \",'Extension Table'!A24,\" to \"\"\",'Extension Table'!D24,\" \",'Extension Table'!E24,\"\"\"\")","v":"        map 123 to \" \""}]
[132,{"$f":"+IF(Data!$C$6>ROW(Generic!B133)-ROW(Generic!$B$110),\"\",\"#\")","v":"#"},{"$f":"+CONCATENATE(\"        map \",'Extension Table'!A25,\" to \"\"\",'Extension Table'!D25,\" \",'Extension Table'!E25,\"\"\"\")","v":"        map 124 to \" \""}]
[133,{"$f":"+IF(Data!$C$6>ROW(Generic!B134)-ROW(Generic!$B$110),\"\",\"#\")","v":"#"},{"$f":"+CONCATENATE(\"        map \",'Extension Table'!A26,\" to \"\"\",'Extension Table'!D26,\" \",'Extension Table'!E26,\"\"\"\")","v":"        map 125 to \" \""}]
[134,{"$f":"+IF(Data!$C$6>ROW(Generic!B135)-ROW(Generic!$B$110),\"\",\"#\")","v":"#"},{"$f":"+CONCATENATE(\"        map \",'Extension Table'!A27,\" to \"\"\",'Extension Table'!D27,\" \",'Extension Table'!E27,\"\"\"\")","v":"        map 126 to \" \""}]
[135,{"$f":"+IF(Data!$C$6>ROW(Generic!B136)-ROW(Generic!$B$110),\"\",\"#\")","v":"#"},{"$f":"+CONCATENATE(\"        map \",'Extension Table'!A28,\" to \"\"\",'Extension Table'!D28,\" \",'Extension Table'!E28,\"\"\"\")","v":"        map 127 to \" \""}]
[136,{"$f":"+IF(Data!$C$6>ROW(Generic!B137)-ROW(Generic!$B$110),\"\",\"#\")","v":"#"},{"$f":"+CONCATENATE(\"        map \",'Extension Table'!A29,\" to \"\"\",'Extension Table'!D29,\" \",'Extension Table'!E29,\"\"\"\")","v":"        map 128 to \" \""}]
[137,{"$f":"+IF(Data!$C$6>ROW(Generic!B138)-ROW(Generic!$B$110),\"\",\"#\")","v":"#"},{"$f":"+CONCATENATE(\"        map \",'Extension Table'!A30,\" to \"\"\",'Extension Table'!D30,\" \",'Extension Table'!E30,\"\"\"\")","v":"        map 129 to \" \""}]
[138,{"$f":"+IF(Data!$C$6>ROW(Generic!B139)-ROW(Generic!$B$110),\"\",\"#\")","v":"#"},{"$f":"+CONCATENATE(\"        map \",'Extension Table'!A31,\" to \"\"\",'Extension Table'!D31,\" \",'Extension Table'!E31,\"\"\"\")","v":"        map 130 to \" \""}]
[139,{"$f":"+IF(Data!$C$6>ROW(Generic!B140)-ROW(Generic!$B$110),\"\",\"#\")","v":"#"},{"$f":"+CONCATENATE(\"        map \",'Extension Table'!A32,\" to \"\"\",'Extension Table'!D32,\" \",'Extension Table'!E32,\"\"\"\")","v":"        map 131 to \" \""}]
[140,{"$f":"+IF(Data!$C$6>ROW(Generic!B141)-ROW(Generic!$B$110),\"\",\"#\")","v":"#"},{"$f":"+CONCATENATE(\"        map \",'Extension Table'!A33,\" to \"\"\",'Extension Table'!D33,\" \",'Extension Table'!E33,\"\"\"\")","v":"        map 132 to \" \""}]
[141]
[142,{"$f":"+IF(Data!$C$5>ROW(Generic!B143)-ROW(Generic!$B$143),\"\",\"#\")","v":""},{"$f":"+CONCATENATE(\"  interface sip IF_SIP_\",'Line Table'!A2,CHAR(13),CHAR(10),,\"        bind context sip-gateway GW_SIP_\",'Line Table'!A2,CHAR(13),CHAR(10),,\"        \",+'Line Table'!C2,CHAR(13),CHAR(10),,\"        early-disconnect\",CHAR(13),CHAR(10),,\"        route call dest-interface IF_FXO_\",'Line Table'!A2,CHAR(13),CHAR(10),,\"        remote \",Data!$C$24,\" \",Data!$C$25,CHAR(13),CHAR(10),,\"        address-translation outgoing-call request-uri user-part fix \",'Line Table'!B2,\" host-part to-header target-param none\",CHAR(13),CHAR(10),,\"        address-translation incoming-call called-e164 request-uri\",CHAR(13),CHAR(10),,CHAR(13),CHAR(10),)","v":"  interface sip IF_SIP_1\r\n        bind context sip-gateway GW_SIP_1\r\n        early-connect \r\n        early-disconnect\r\n        route call dest-interface IF_FXO_1\r\n        remote 10.10.50.23 5060\r\n        address-translation outgoing-call request-uri user-part fix 10002 host-part to-header target-param none\r\n        address-translation incoming-call called-e164 request-uri\r\n\r\n"}]
[143,{"$f":"+IF(Data!$C$5>ROW(Generic!B144)-ROW(Generic!$B$143),\"\",\"#\")","v":""},{"$f":"+CONCATENATE(\"  interface sip IF_SIP_\",'Line Table'!A3,CHAR(13),CHAR(10),,\"        bind context sip-gateway GW_SIP_\",'Line Table'!A3,CHAR(13),CHAR(10),,\"        \",+'Line Table'!C3,CHAR(13),CHAR(10),,\"        early-disconnect\",CHAR(13),CHAR(10),,\"        route call dest-interface IF_FXO_\",'Line Table'!A3,CHAR(13),CHAR(10),,\"        remote \",Data!$C$24,\" \",Data!$C$25,CHAR(13),CHAR(10),,\"        address-translation outgoing-call request-uri user-part fix \",'Line Table'!B3,\" host-part to-header target-param none\",CHAR(13),CHAR(10),,\"        address-translation incoming-call called-e164 request-uri\",CHAR(13),CHAR(10),,CHAR(13),CHAR(10),)","v":"  interface sip IF_SIP_2\r\n        bind context sip-gateway GW_SIP_2\r\n        early-connect \r\n        early-disconnect\r\n        route call dest-interface IF_FXO_2\r\n        remote 10.10.50.23 5060\r\n        address-translation outgoing-call request-uri user-part fix 10003 host-part to-header target-param none\r\n        address-translation incoming-call called-e164 request-uri\r\n\r\n"}]
[144,{"$f":"+IF(Data!$C$5>ROW(Generic!B145)-ROW(Generic!$B$143),\"\",\"#\")","v":""},{"$f":"+CONCATENATE(\"  interface sip IF_SIP_\",'Line Table'!A4,CHAR(13),CHAR(10),,\"        bind context sip-gateway GW_SIP_\",'Line Table'!A4,CHAR(13),CHAR(10),,\"        \",+'Line Table'!C4,CHAR(13),CHAR(10),,\"        early-disconnect\",CHAR(13),CHAR(10),,\"        route call dest-interface IF_FXO_\",'Line Table'!A4,CHAR(13),CHAR(10),,\"        remote \",Data!$C$24,\" \",Data!$C$25,CHAR(13),CHAR(10),,\"        address-translation outgoing-call request-uri user-part fix \",'Line Table'!B4,\" host-part to-header target-param none\",CHAR(13),CHAR(10),,\"        address-translation incoming-call called-e164 request-uri\",CHAR(13),CHAR(10),,CHAR(13),CHAR(10),)","v":"  interface sip IF_SIP_3\r\n        bind context sip-gateway GW_SIP_3\r\n        early-connect \r\n        early-disconnect\r\n        route call dest-interface IF_FXO_3\r\n        remote 10.10.50.23 5060\r\n        address-translation outgoing-call request-uri user-part fix 10004 host-part to-header target-param none\r\n        address-translation incoming-call called-e164 request-uri\r\n\r\n"}]
[145,{"$f":"+IF(Data!$C$5>ROW(Generic!B146)-ROW(Generic!$B$143),\"\",\"#\")","v":""},{"$f":"+CONCATENATE(\"  interface sip IF_SIP_\",'Line Table'!A5,CHAR(13),CHAR(10),,\"        bind context sip-gateway GW_SIP_\",'Line Table'!A5,CHAR(13),CHAR(10),,\"        \",+'Line Table'!C5,CHAR(13),CHAR(10),,\"        early-disconnect\",CHAR(13),CHAR(10),,\"        route call dest-interface IF_FXO_\",'Line Table'!A5,CHAR(13),CHAR(10),,\"        remote \",Data!$C$24,\" \",Data!$C$25,CHAR(13),CHAR(10),,\"        address-translation outgoing-call request-uri user-part fix \",'Line Table'!B5,\" host-part to-header target-param none\",CHAR(13),CHAR(10),,\"        address-translation incoming-call called-e164 request-uri\",CHAR(13),CHAR(10),,CHAR(13),CHAR(10),)","v":"  interface sip IF_SIP_4\r\n        bind context sip-gateway GW_SIP_4\r\n        early-connect \r\n        early-disconnect\r\n        route call dest-interface IF_FXO_4\r\n        remote 10.10.50.23 5060\r\n        address-translation outgoing-call request-uri user-part fix 10005 host-part to-header target-param none\r\n        address-translation incoming-call called-e164 request-uri\r\n\r\n"}]
[146,{"$f":"+IF(Data!$C$5>ROW(Generic!B147)-ROW(Generic!$B$143),\"\",\"#\")","v":""},{"$f":"+CONCATENATE(\"  interface sip IF_SIP_\",'Line Table'!A6,CHAR(13),CHAR(10),,\"        bind context sip-gateway GW_SIP_\",'Line Table'!A6,CHAR(13),CHAR(10),,\"        \",+'Line Table'!C6,CHAR(13),CHAR(10),,\"        early-disconnect\",CHAR(13),CHAR(10),,\"        route call dest-interface IF_FXO_\",'Line Table'!A6,CHAR(13),CHAR(10),,\"        remote \",Data!$C$24,\" \",Data!$C$25,CHAR(13),CHAR(10),,\"        address-translation outgoing-call request-uri user-part fix \",'Line Table'!B6,\" host-part to-header target-param none\",CHAR(13),CHAR(10),,\"        address-translation incoming-call called-e164 request-uri\",CHAR(13),CHAR(10),,CHAR(13),CHAR(10),)","v":"  interface sip IF_SIP_5\r\n        bind context sip-gateway GW_SIP_5\r\n        early-connect \r\n        early-disconnect\r\n        route call dest-interface IF_FXO_5\r\n        remote 10.10.50.23 5060\r\n        address-translation outgoing-call request-uri user-part fix 10006 host-part to-header target-param none\r\n        address-translation incoming-call called-e164 request-uri\r\n\r\n"}]
[147,{"$f":"+IF(Data!$C$5>ROW(Generic!B148)-ROW(Generic!$B$143),\"\",\"#\")","v":""},{"$f":"+CONCATENATE(\"  interface sip IF_SIP_\",'Line Table'!A7,CHAR(13),CHAR(10),,\"        bind context sip-gateway GW_SIP_\",'Line Table'!A7,CHAR(13),CHAR(10),,\"        \",+'Line Table'!C7,CHAR(13),CHAR(10),,\"        early-disconnect\",CHAR(13),CHAR(10),,\"        route call dest-interface IF_FXO_\",'Line Table'!A7,CHAR(13),CHAR(10),,\"        remote \",Data!$C$24,\" \",Data!$C$25,CHAR(13),CHAR(10),,\"        address-translation outgoing-call request-uri user-part fix \",'Line Table'!B7,\" host-part to-header target-param none\",CHAR(13),CHAR(10),,\"        address-translation incoming-call called-e164 request-uri\",CHAR(13),CHAR(10),,CHAR(13),CHAR(10),)","v":"  interface sip IF_SIP_6\r\n        bind context sip-gateway GW_SIP_6\r\n        early-connect \r\n        early-disconnect\r\n        route call dest-interface IF_FXO_6\r\n        remote 10.10.50.23 5060\r\n        address-translation outgoing-call request-uri user-part fix 10007 host-part to-header target-param none\r\n        address-translation incoming-call called-e164 request-uri\r\n\r\n"}]
[148,{"$f":"+IF(Data!$C$5>ROW(Generic!B149)-ROW(Generic!$B$143),\"\",\"#\")","v":""},{"$f":"+CONCATENATE(\"  interface sip IF_SIP_\",'Line Table'!A8,CHAR(13),CHAR(10),,\"        bind context sip-gateway GW_SIP_\",'Line Table'!A8,CHAR(13),CHAR(10),,\"        \",+'Line Table'!C8,CHAR(13),CHAR(10),,\"        early-disconnect\",CHAR(13),CHAR(10),,\"        route call dest-interface IF_FXO_\",'Line Table'!A8,CHAR(13),CHAR(10),,\"        remote \",Data!$C$24,\" \",Data!$C$25,CHAR(13),CHAR(10),,\"        address-translation outgoing-call request-uri user-part fix \",'Line Table'!B8,\" host-part to-header target-param none\",CHAR(13),CHAR(10),,\"        address-translation incoming-call called-e164 request-uri\",CHAR(13),CHAR(10),,CHAR(13),CHAR(10),)","v":"  interface sip IF_SIP_7\r\n        bind context sip-gateway GW_SIP_7\r\n        early-connect \r\n        early-disconnect\r\n        route call dest-interface IF_FXO_7\r\n        remote 10.10.50.23 5060\r\n        address-translation outgoing-call request-uri user-part fix 10008 host-part to-header target-param none\r\n        address-translation incoming-call called-e164 request-uri\r\n\r\n"}]
[149,{"$f":"+IF(Data!$C$5>ROW(Generic!B150)-ROW(Generic!$B$143),\"\",\"#\")","v":""},{"$f":"+CONCATENATE(\"  interface sip IF_SIP_\",'Line Table'!A9,CHAR(13),CHAR(10),,\"        bind context sip-gateway GW_SIP_\",'Line Table'!A9,CHAR(13),CHAR(10),,\"        \",+'Line Table'!C9,CHAR(13),CHAR(10),,\"        early-disconnect\",CHAR(13),CHAR(10),,\"        route call dest-interface IF_FXO_\",'Line Table'!A9,CHAR(13),CHAR(10),,\"        remote \",Data!$C$24,\" \",Data!$C$25,CHAR(13),CHAR(10),,\"        address-translation outgoing-call request-uri user-part fix \",'Line Table'!B9,\" host-part to-header target-param none\",CHAR(13),CHAR(10),,\"        address-translation incoming-call called-e164 request-uri\",CHAR(13),CHAR(10),,CHAR(13),CHAR(10),)","v":"  interface sip IF_SIP_8\r\n        bind context sip-gateway GW_SIP_8\r\n        early-connect \r\n        early-disconnect\r\n        route call dest-interface IF_FXO_8\r\n        remote 10.10.50.23 5060\r\n        address-translation outgoing-call request-uri user-part fix 10009 host-part to-header target-param none\r\n        address-translation incoming-call called-e164 request-uri\r\n\r\n"}]
[150,{"$f":"+IF(Data!$C$5>ROW(Generic!B151)-ROW(Generic!$B$143),\"\",\"#\")","v":""},{"$f":"+CONCATENATE(\"  interface sip IF_SIP_\",'Line Table'!A10,CHAR(13),CHAR(10),,\"        bind context sip-gateway GW_SIP_\",'Line Table'!A10,CHAR(13),CHAR(10),,\"        \",+'Line Table'!C10,CHAR(13),CHAR(10),,\"        early-disconnect\",CHAR(13),CHAR(10),,\"        route call dest-interface IF_FXO_\",'Line Table'!A10,CHAR(13),CHAR(10),,\"        remote \",Data!$C$24,\" \",Data!$C$25,CHAR(13),CHAR(10),,\"        address-translation outgoing-call request-uri user-part fix \",'Line Table'!B10,\" host-part to-header target-param none\",CHAR(13),CHAR(10),,\"        address-translation incoming-call called-e164 request-uri\",CHAR(13),CHAR(10),,CHAR(13),CHAR(10),)","v":"  interface sip IF_SIP_9\r\n        bind context sip-gateway GW_SIP_9\r\n        early-connect \r\n        early-disconnect\r\n        route call dest-interface IF_FXO_9\r\n        remote 10.10.50.23 5060\r\n        address-translation outgoing-call request-uri user-part fix 10010 host-part to-header target-param none\r\n        address-translation incoming-call called-e164 request-uri\r\n\r\n"}]
[151,{"$f":"+IF(Data!$C$5>ROW(Generic!B152)-ROW(Generic!$B$143),\"\",\"#\")","v":""},{"$f":"+CONCATENATE(\"  interface sip IF_SIP_\",'Line Table'!A11,CHAR(13),CHAR(10),,\"        bind context sip-gateway GW_SIP_\",'Line Table'!A11,CHAR(13),CHAR(10),,\"        \",+'Line Table'!C11,CHAR(13),CHAR(10),,\"        early-disconnect\",CHAR(13),CHAR(10),,\"        route call dest-interface IF_FXO_\",'Line Table'!A11,CHAR(13),CHAR(10),,\"        remote \",Data!$C$24,\" \",Data!$C$25,CHAR(13),CHAR(10),,\"        address-translation outgoing-call request-uri user-part fix \",'Line Table'!B11,\" host-part to-header target-param none\",CHAR(13),CHAR(10),,\"        address-translation incoming-call called-e164 request-uri\",CHAR(13),CHAR(10),,CHAR(13),CHAR(10),)","v":"  interface sip IF_SIP_10\r\n        bind context sip-gateway GW_SIP_10\r\n        early-connect \r\n        early-disconnect\r\n        route call dest-interface IF_FXO_10\r\n        remote 10.10.50.23 5060\r\n        address-translation outgoing-call request-uri user-part fix 10011 host-part to-header target-param none\r\n        address-translation incoming-call called-e164 request-uri\r\n\r\n"}]
[152,{"$f":"+IF(Data!$C$5>ROW(Generic!B153)-ROW(Generic!$B$143),\"\",\"#\")","v":""},{"$f":"+CONCATENATE(\"  interface sip IF_SIP_\",'Line Table'!A12,CHAR(13),CHAR(10),,\"        bind context sip-gateway GW_SIP_\",'Line Table'!A12,CHAR(13),CHAR(10),,\"        \",+'Line Table'!C12,CHAR(13),CHAR(10),,\"        early-disconnect\",CHAR(13),CHAR(10),,\"        route call dest-interface IF_FXO_\",'Line Table'!A12,CHAR(13),CHAR(10),,\"        remote \",Data!$C$24,\" \",Data!$C$25,CHAR(13),CHAR(10),,\"        address-translation outgoing-call request-uri user-part fix \",'Line Table'!B12,\" host-part to-header target-param none\",CHAR(13),CHAR(10),,\"        address-translation incoming-call called-e164 request-uri\",CHAR(13),CHAR(10),,CHAR(13),CHAR(10),)","v":"  interface sip IF_SIP_11\r\n        bind context sip-gateway GW_SIP_11\r\n        early-connect \r\n        early-disconnect\r\n        route call dest-interface IF_FXO_11\r\n        remote 10.10.50.23 5060\r\n        address-translation outgoing-call request-uri user-part fix 10012 host-part to-header target-param none\r\n        address-translation incoming-call called-e164 request-uri\r\n\r\n"}]
[153,{"$f":"+IF(Data!$C$5>ROW(Generic!B154)-ROW(Generic!$B$143),\"\",\"#\")","v":""},{"$f":"+CONCATENATE(\"  interface sip IF_SIP_\",'Line Table'!A13,CHAR(13),CHAR(10),,\"        bind context sip-gateway GW_SIP_\",'Line Table'!A13,CHAR(13),CHAR(10),,\"        \",+'Line Table'!C13,CHAR(13),CHAR(10),,\"        early-disconnect\",CHAR(13),CHAR(10),,\"        route call dest-interface IF_FXO_\",'Line Table'!A13,CHAR(13),CHAR(10),,\"        remote \",Data!$C$24,\" \",Data!$C$25,CHAR(13),CHAR(10),,\"        address-translation outgoing-call request-uri user-part fix \",'Line Table'!B13,\" host-part to-header target-param none\",CHAR(13),CHAR(10),,\"        address-translation incoming-call called-e164 request-uri\",CHAR(13),CHAR(10),,CHAR(13),CHAR(10),)","v":"  interface sip IF_SIP_12\r\n        bind context sip-gateway GW_SIP_12\r\n        early-connect \r\n        early-disconnect\r\n        route call dest-interface IF_FXO_12\r\n        remote 10.10.50.23 5060\r\n        address-translation outgoing-call request-uri user-part fix 10013 host-part to-header target-param none\r\n        address-translation incoming-call called-e164 request-uri\r\n\r\n"}]
[154,{"$f":"+IF(Data!$C$5>ROW(Generic!B155)-ROW(Generic!$B$143),\"\",\"#\")","v":"#"},{"$f":"+CONCATENATE(\"  interface sip IF_SIP_\",'Line Table'!A14,CHAR(13),CHAR(10),,\"        bind context sip-gateway GW_SIP_\",'Line Table'!A14,CHAR(13),CHAR(10),,\"        \",+'Line Table'!C14,CHAR(13),CHAR(10),,\"        early-disconnect\",CHAR(13),CHAR(10),,\"        route call dest-interface IF_FXO_\",'Line Table'!A14,CHAR(13),CHAR(10),,\"        remote \",Data!$C$24,\" \",Data!$C$25,CHAR(13),CHAR(10),,\"        address-translation outgoing-call request-uri user-part fix \",'Line Table'!B14,\" host-part to-header target-param none\",CHAR(13),CHAR(10),,\"        address-translation incoming-call called-e164 request-uri\",CHAR(13),CHAR(10),,CHAR(13),CHAR(10),)","v":"  interface sip IF_SIP_13\r\n        bind context sip-gateway GW_SIP_13\r\n        early-connect \r\n        early-disconnect\r\n        route call dest-interface IF_FXO_13\r\n        remote 10.10.50.23 5060\r\n        address-translation outgoing-call request-uri user-part fix 10014 host-part to-header target-param none\r\n        address-translation incoming-call called-e164 request-uri\r\n\r\n"}]
[155,{"$f":"+IF(Data!$C$5>ROW(Generic!B156)-ROW(Generic!$B$143),\"\",\"#\")","v":"#"},{"$f":"+CONCATENATE(\"  interface sip IF_SIP_\",'Line Table'!A15,CHAR(13),CHAR(10),,\"        bind context sip-gateway GW_SIP_\",'Line Table'!A15,CHAR(13),CHAR(10),,\"        \",+'Line Table'!C15,CHAR(13),CHAR(10),,\"        early-disconnect\",CHAR(13),CHAR(10),,\"        route call dest-interface IF_FXO_\",'Line Table'!A15,CHAR(13),CHAR(10),,\"        remote \",Data!$C$24,\" \",Data!$C$25,CHAR(13),CHAR(10),,\"        address-translation outgoing-call request-uri user-part fix \",'Line Table'!B15,\" host-part to-header target-param none\",CHAR(13),CHAR(10),,\"        address-translation incoming-call called-e164 request-uri\",CHAR(13),CHAR(10),,CHAR(13),CHAR(10),)","v":"  interface sip IF_SIP_14\r\n        bind context sip-gateway GW_SIP_14\r\n        early-connect \r\n        early-disconnect\r\n        route call dest-interface IF_FXO_14\r\n        remote 10.10.50.23 5060\r\n        address-translation outgoing-call request-uri user-part fix 10015 host-part to-header target-param none\r\n        address-translation incoming-call called-e164 request-uri\r\n\r\n"}]
[156,{"$f":"+IF(Data!$C$5>ROW(Generic!B157)-ROW(Generic!$B$143),\"\",\"#\")","v":"#"},{"$f":"+CONCATENATE(\"  interface sip IF_SIP_\",'Line Table'!A16,CHAR(13),CHAR(10),,\"        bind context sip-gateway GW_SIP_\",'Line Table'!A16,CHAR(13),CHAR(10),,\"        \",+'Line Table'!C16,CHAR(13),CHAR(10),,\"        early-disconnect\",CHAR(13),CHAR(10),,\"        route call dest-interface IF_FXO_\",'Line Table'!A16,CHAR(13),CHAR(10),,\"        remote \",Data!$C$24,\" \",Data!$C$25,CHAR(13),CHAR(10),,\"        address-translation outgoing-call request-uri user-part fix \",'Line Table'!B16,\" host-part to-header target-param none\",CHAR(13),CHAR(10),,\"        address-translation incoming-call called-e164 request-uri\",CHAR(13),CHAR(10),,CHAR(13),CHAR(10),)","v":"  interface sip IF_SIP_15\r\n        bind context sip-gateway GW_SIP_15\r\n        early-connect \r\n        early-disconnect\r\n        route call dest-interface IF_FXO_15\r\n        remote 10.10.50.23 5060\r\n        address-translation outgoing-call request-uri user-part fix 10016 host-part to-header target-param none\r\n        address-translation incoming-call called-e164 request-uri\r\n\r\n"}]
[157,{"$f":"+IF(Data!$C$5>ROW(Generic!B158)-ROW(Generic!$B$143),\"\",\"#\")","v":"#"},{"$f":"+CONCATENATE(\"  interface sip IF_SIP_\",'Line Table'!A17,CHAR(13),CHAR(10),,\"        bind context sip-gateway GW_SIP_\",'Line Table'!A17,CHAR(13),CHAR(10),,\"        \",+'Line Table'!C17,CHAR(13),CHAR(10),,\"        early-disconnect\",CHAR(13),CHAR(10),,\"        route call dest-interface IF_FXO_\",'Line Table'!A17,CHAR(13),CHAR(10),,\"        remote \",Data!$C$24,\" \",Data!$C$25,CHAR(13),CHAR(10),,\"        address-translation outgoing-call request-uri user-part fix \",'Line Table'!B17,\" host-part to-header target-param none\",CHAR(13),CHAR(10),,\"        address-translation incoming-call called-e164 request-uri\",CHAR(13),CHAR(10),,CHAR(13),CHAR(10),)","v":"  interface sip IF_SIP_16\r\n        bind context sip-gateway GW_SIP_16\r\n        early-connect \r\n        early-disconnect\r\n        route call dest-interface IF_FXO_16\r\n        remote 10.10.50.23 5060\r\n        address-translation outgoing-call request-uri user-part fix 10017 host-part to-header target-param none\r\n        address-translation incoming-call called-e164 request-uri\r\n\r\n"}]
[158,{"$f":"+IF(Data!$C$5>ROW(Generic!B159)-ROW(Generic!$B$143),\"\",\"#\")","v":"#"},{"$f":"+CONCATENATE(\"  interface sip IF_SIP_\",'Line Table'!A18,CHAR(13),CHAR(10),,\"        bind context sip-gateway GW_SIP_\",'Line Table'!A18,CHAR(13),CHAR(10),,\"        \",+'Line Table'!C18,CHAR(13),CHAR(10),,\"        early-disconnect\",CHAR(13),CHAR(10),,\"        route call dest-interface IF_FXO_\",'Line Table'!A18,CHAR(13),CHAR(10),,\"        remote \",Data!$C$24,\" \",Data!$C$25,CHAR(13),CHAR(10),,\"        address-translation outgoing-call request-uri user-part fix \",'Line Table'!B18,\" host-part to-header target-param none\",CHAR(13),CHAR(10),,\"        address-translation incoming-call called-e164 request-uri\",CHAR(13),CHAR(10),,CHAR(13),CHAR(10),)","v":"  interface sip IF_SIP_17\r\n        bind context sip-gateway GW_SIP_17\r\n        early-connect \r\n        early-disconnect\r\n        route call dest-interface IF_FXO_17\r\n        remote 10.10.50.23 5060\r\n        address-translation outgoing-call request-uri user-part fix 10018 host-part to-header target-param none\r\n        address-translation incoming-call called-e164 request-uri\r\n\r\n"}]
[159,{"$f":"+IF(Data!$C$5>ROW(Generic!B160)-ROW(Generic!$B$143),\"\",\"#\")","v":"#"},{"$f":"+CONCATENATE(\"  interface sip IF_SIP_\",'Line Table'!A19,CHAR(13),CHAR(10),,\"        bind context sip-gateway GW_SIP_\",'Line Table'!A19,CHAR(13),CHAR(10),,\"        \",+'Line Table'!C19,CHAR(13),CHAR(10),,\"        early-disconnect\",CHAR(13),CHAR(10),,\"        route call dest-interface IF_FXO_\",'Line Table'!A19,CHAR(13),CHAR(10),,\"        remote \",Data!$C$24,\" \",Data!$C$25,CHAR(13),CHAR(10),,\"        address-translation outgoing-call request-uri user-part fix \",'Line Table'!B19,\" host-part to-header target-param none\",CHAR(13),CHAR(10),,\"        address-translation incoming-call called-e164 request-uri\",CHAR(13),CHAR(10),,CHAR(13),CHAR(10),)","v":"  interface sip IF_SIP_18\r\n        bind context sip-gateway GW_SIP_18\r\n        early-connect \r\n        early-disconnect\r\n        route call dest-interface IF_FXO_18\r\n        remote 10.10.50.23 5060\r\n        address-translation outgoing-call request-uri user-part fix 10019 host-part to-header target-param none\r\n        address-translation incoming-call called-e164 request-uri\r\n\r\n"}]
[160,{"$f":"+IF(Data!$C$5>ROW(Generic!B161)-ROW(Generic!$B$143),\"\",\"#\")","v":"#"},{"$f":"+CONCATENATE(\"  interface sip IF_SIP_\",'Line Table'!A20,CHAR(13),CHAR(10),,\"        bind context sip-gateway GW_SIP_\",'Line Table'!A20,CHAR(13),CHAR(10),,\"        \",+'Line Table'!C20,CHAR(13),CHAR(10),,\"        early-disconnect\",CHAR(13),CHAR(10),,\"        route call dest-interface IF_FXO_\",'Line Table'!A20,CHAR(13),CHAR(10),,\"        remote \",Data!$C$24,\" \",Data!$C$25,CHAR(13),CHAR(10),,\"        address-translation outgoing-call request-uri user-part fix \",'Line Table'!B20,\" host-part to-header target-param none\",CHAR(13),CHAR(10),,\"        address-translation incoming-call called-e164 request-uri\",CHAR(13),CHAR(10),,CHAR(13),CHAR(10),)","v":"  interface sip IF_SIP_19\r\n        bind context sip-gateway GW_SIP_19\r\n        early-connect \r\n        early-disconnect\r\n        route call dest-interface IF_FXO_19\r\n        remote 10.10.50.23 5060\r\n        address-translation outgoing-call request-uri user-part fix 10020 host-part to-header target-param none\r\n        address-translation incoming-call called-e164 request-uri\r\n\r\n"}]
[161,{"$f":"+IF(Data!$C$5>ROW(Generic!B162)-ROW(Generic!$B$143),\"\",\"#\")","v":"#"},{"$f":"+CONCATENATE(\"  interface sip IF_SIP_\",'Line Table'!A21,CHAR(13),CHAR(10),,\"        bind context sip-gateway GW_SIP_\",'Line Table'!A21,CHAR(13),CHAR(10),,\"        \",+'Line Table'!C21,CHAR(13),CHAR(10),,\"        early-disconnect\",CHAR(13),CHAR(10),,\"        route call dest-interface IF_FXO_\",'Line Table'!A21,CHAR(13),CHAR(10),,\"        remote \",Data!$C$24,\" \",Data!$C$25,CHAR(13),CHAR(10),,\"        address-translation outgoing-call request-uri user-part fix \",'Line Table'!B21,\" host-part to-header target-param none\",CHAR(13),CHAR(10),,\"        address-translation incoming-call called-e164 request-uri\",CHAR(13),CHAR(10),,CHAR(13),CHAR(10),)","v":"  interface sip IF_SIP_20\r\n        bind context sip-gateway GW_SIP_20\r\n        early-connect \r\n        early-disconnect\r\n        route call dest-interface IF_FXO_20\r\n        remote 10.10.50.23 5060\r\n        address-translation outgoing-call request-uri user-part fix 10021 host-part to-header target-param none\r\n        address-translation incoming-call called-e164 request-uri\r\n\r\n"}]
[162,{"$f":"+IF(Data!$C$5>ROW(Generic!B163)-ROW(Generic!$B$143),\"\",\"#\")","v":"#"},{"$f":"+CONCATENATE(\"  interface sip IF_SIP_\",'Line Table'!A22,CHAR(13),CHAR(10),,\"        bind context sip-gateway GW_SIP_\",'Line Table'!A22,CHAR(13),CHAR(10),,\"        \",+'Line Table'!C22,CHAR(13),CHAR(10),,\"        early-disconnect\",CHAR(13),CHAR(10),,\"        route call dest-interface IF_FXO_\",'Line Table'!A22,CHAR(13),CHAR(10),,\"        remote \",Data!$C$24,\" \",Data!$C$25,CHAR(13),CHAR(10),,\"        address-translation outgoing-call request-uri user-part fix \",'Line Table'!B22,\" host-part to-header target-param none\",CHAR(13),CHAR(10),,\"        address-translation incoming-call called-e164 request-uri\",CHAR(13),CHAR(10),,CHAR(13),CHAR(10),)","v":"  interface sip IF_SIP_21\r\n        bind context sip-gateway GW_SIP_21\r\n        early-connect \r\n        early-disconnect\r\n        route call dest-interface IF_FXO_21\r\n        remote 10.10.50.23 5060\r\n        address-translation outgoing-call request-uri user-part fix 10022 host-part to-header target-param none\r\n        address-translation incoming-call called-e164 request-uri\r\n\r\n"}]
[163,{"$f":"+IF(Data!$C$5>ROW(Generic!B164)-ROW(Generic!$B$143),\"\",\"#\")","v":"#"},{"$f":"+CONCATENATE(\"  interface sip IF_SIP_\",'Line Table'!A23,CHAR(13),CHAR(10),,\"        bind context sip-gateway GW_SIP_\",'Line Table'!A23,CHAR(13),CHAR(10),,\"        \",+'Line Table'!C23,CHAR(13),CHAR(10),,\"        early-disconnect\",CHAR(13),CHAR(10),,\"        route call dest-interface IF_FXO_\",'Line Table'!A23,CHAR(13),CHAR(10),,\"        remote \",Data!$C$24,\" \",Data!$C$25,CHAR(13),CHAR(10),,\"        address-translation outgoing-call request-uri user-part fix \",'Line Table'!B23,\" host-part to-header target-param none\",CHAR(13),CHAR(10),,\"        address-translation incoming-call called-e164 request-uri\",CHAR(13),CHAR(10),,CHAR(13),CHAR(10),)","v":"  interface sip IF_SIP_22\r\n        bind context sip-gateway GW_SIP_22\r\n        early-connect \r\n        early-disconnect\r\n        route call dest-interface IF_FXO_22\r\n        remote 10.10.50.23 5060\r\n        address-translation outgoing-call request-uri user-part fix 10023 host-part to-header target-param none\r\n        address-translation incoming-call called-e164 request-uri\r\n\r\n"}]
[164,{"$f":"+IF(Data!$C$5>ROW(Generic!B165)-ROW(Generic!$B$143),\"\",\"#\")","v":"#"},{"$f":"+CONCATENATE(\"  interface sip IF_SIP_\",'Line Table'!A24,CHAR(13),CHAR(10),,\"        bind context sip-gateway GW_SIP_\",'Line Table'!A24,CHAR(13),CHAR(10),,\"        \",+'Line Table'!C24,CHAR(13),CHAR(10),,\"        early-disconnect\",CHAR(13),CHAR(10),,\"        route call dest-interface IF_FXO_\",'Line Table'!A24,CHAR(13),CHAR(10),,\"        remote \",Data!$C$24,\" \",Data!$C$25,CHAR(13),CHAR(10),,\"        address-translation outgoing-call request-uri user-part fix \",'Line Table'!B24,\" host-part to-header target-param none\",CHAR(13),CHAR(10),,\"        address-translation incoming-call called-e164 request-uri\",CHAR(13),CHAR(10),,CHAR(13),CHAR(10),)","v":"  interface sip IF_SIP_23\r\n        bind context sip-gateway GW_SIP_23\r\n        early-connect \r\n        early-disconnect\r\n        route call dest-interface IF_FXO_23\r\n        remote 10.10.50.23 5060\r\n        address-translation outgoing-call request-uri user-part fix 10024 host-part to-header target-param none\r\n        address-translation incoming-call called-e164 request-uri\r\n\r\n"}]
[165,{"$f":"+IF(Data!$C$5>ROW(Generic!B166)-ROW(Generic!$B$143),\"\",\"#\")","v":"#"},{"$f":"+CONCATENATE(\"  interface sip IF_SIP_\",'Line Table'!A25,CHAR(13),CHAR(10),,\"        bind context sip-gateway GW_SIP_\",'Line Table'!A25,CHAR(13),CHAR(10),,\"        \",+'Line Table'!C25,CHAR(13),CHAR(10),,\"        early-disconnect\",CHAR(13),CHAR(10),,\"        route call dest-interface IF_FXO_\",'Line Table'!A25,CHAR(13),CHAR(10),,\"        remote \",Data!$C$24,\" \",Data!$C$25,CHAR(13),CHAR(10),,\"        address-translation outgoing-call request-uri user-part fix \",'Line Table'!B25,\" host-part to-header target-param none\",CHAR(13),CHAR(10),,\"        address-translation incoming-call called-e164 request-uri\",CHAR(13),CHAR(10),,CHAR(13),CHAR(10),)","v":"  interface sip IF_SIP_24\r\n        bind context sip-gateway GW_SIP_24\r\n        early-connect \r\n        early-disconnect\r\n        route call dest-interface IF_FXO_24\r\n        remote 10.10.50.23 5060\r\n        address-translation outgoing-call request-uri user-part fix 10025 host-part to-header target-param none\r\n        address-translation incoming-call called-e164 request-uri\r\n\r\n"}]
[166,{"$f":"+IF(Data!$C$5>ROW(Generic!B167)-ROW(Generic!$B$143),\"\",\"#\")","v":"#"},{"$f":"+CONCATENATE(\"  interface sip IF_SIP_\",'Line Table'!A26,CHAR(13),CHAR(10),,\"        bind context sip-gateway GW_SIP_\",'Line Table'!A26,CHAR(13),CHAR(10),,\"        \",+'Line Table'!C26,CHAR(13),CHAR(10),,\"        early-disconnect\",CHAR(13),CHAR(10),,\"        route call dest-interface IF_FXO_\",'Line Table'!A26,CHAR(13),CHAR(10),,\"        remote \",Data!$C$24,\" \",Data!$C$25,CHAR(13),CHAR(10),,\"        address-translation outgoing-call request-uri user-part fix \",'Line Table'!B26,\" host-part to-header target-param none\",CHAR(13),CHAR(10),,\"        address-translation incoming-call called-e164 request-uri\",CHAR(13),CHAR(10),,CHAR(13),CHAR(10),)","v":"  interface sip IF_SIP_25\r\n        bind context sip-gateway GW_SIP_25\r\n        early-connect \r\n        early-disconnect\r\n        route call dest-interface IF_FXO_25\r\n        remote 10.10.50.23 5060\r\n        address-translation outgoing-call request-uri user-part fix 10026 host-part to-header target-param none\r\n        address-translation incoming-call called-e164 request-uri\r\n\r\n"}]
[167,{"$f":"+IF(Data!$C$5>ROW(Generic!B168)-ROW(Generic!$B$143),\"\",\"#\")","v":"#"},{"$f":"+CONCATENATE(\"  interface sip IF_SIP_\",'Line Table'!A27,CHAR(13),CHAR(10),,\"        bind context sip-gateway GW_SIP_\",'Line Table'!A27,CHAR(13),CHAR(10),,\"        \",+'Line Table'!C27,CHAR(13),CHAR(10),,\"        early-disconnect\",CHAR(13),CHAR(10),,\"        route call dest-interface IF_FXO_\",'Line Table'!A27,CHAR(13),CHAR(10),,\"        remote \",Data!$C$24,\" \",Data!$C$25,CHAR(13),CHAR(10),,\"        address-translation outgoing-call request-uri user-part fix \",'Line Table'!B27,\" host-part to-header target-param none\",CHAR(13),CHAR(10),,\"        address-translation incoming-call called-e164 request-uri\",CHAR(13),CHAR(10),,CHAR(13),CHAR(10),)","v":"  interface sip IF_SIP_26\r\n        bind context sip-gateway GW_SIP_26\r\n        early-connect \r\n        early-disconnect\r\n        route call dest-interface IF_FXO_26\r\n        remote 10.10.50.23 5060\r\n        address-translation outgoing-call request-uri user-part fix 10027 host-part to-header target-param none\r\n        address-translation incoming-call called-e164 request-uri\r\n\r\n"}]
[168,{"$f":"+IF(Data!$C$5>ROW(Generic!B169)-ROW(Generic!$B$143),\"\",\"#\")","v":"#"},{"$f":"+CONCATENATE(\"  interface sip IF_SIP_\",'Line Table'!A28,CHAR(13),CHAR(10),,\"        bind context sip-gateway GW_SIP_\",'Line Table'!A28,CHAR(13),CHAR(10),,\"        \",+'Line Table'!C28,CHAR(13),CHAR(10),,\"        early-disconnect\",CHAR(13),CHAR(10),,\"        route call dest-interface IF_FXO_\",'Line Table'!A28,CHAR(13),CHAR(10),,\"        remote \",Data!$C$24,\" \",Data!$C$25,CHAR(13),CHAR(10),,\"        address-translation outgoing-call request-uri user-part fix \",'Line Table'!B28,\" host-part to-header target-param none\",CHAR(13),CHAR(10),,\"        address-translation incoming-call called-e164 request-uri\",CHAR(13),CHAR(10),,CHAR(13),CHAR(10),)","v":"  interface sip IF_SIP_27\r\n        bind context sip-gateway GW_SIP_27\r\n        early-connect \r\n        early-disconnect\r\n        route call dest-interface IF_FXO_27\r\n        remote 10.10.50.23 5060\r\n        address-translation outgoing-call request-uri user-part fix 10028 host-part to-header target-param none\r\n        address-translation incoming-call called-e164 request-uri\r\n\r\n"}]
[169,{"$f":"+IF(Data!$C$5>ROW(Generic!B170)-ROW(Generic!$B$143),\"\",\"#\")","v":"#"},{"$f":"+CONCATENATE(\"  interface sip IF_SIP_\",'Line Table'!A29,CHAR(13),CHAR(10),,\"        bind context sip-gateway GW_SIP_\",'Line Table'!A29,CHAR(13),CHAR(10),,\"        \",+'Line Table'!C29,CHAR(13),CHAR(10),,\"        early-disconnect\",CHAR(13),CHAR(10),,\"        route call dest-interface IF_FXO_\",'Line Table'!A29,CHAR(13),CHAR(10),,\"        remote \",Data!$C$24,\" \",Data!$C$25,CHAR(13),CHAR(10),,\"        address-translation outgoing-call request-uri user-part fix \",'Line Table'!B29,\" host-part to-header target-param none\",CHAR(13),CHAR(10),,\"        address-translation incoming-call called-e164 request-uri\",CHAR(13),CHAR(10),,CHAR(13),CHAR(10),)","v":"  interface sip IF_SIP_28\r\n        bind context sip-gateway GW_SIP_28\r\n        early-connect \r\n        early-disconnect\r\n        route call dest-interface IF_FXO_28\r\n        remote 10.10.50.23 5060\r\n        address-translation outgoing-call request-uri user-part fix 10029 host-part to-header target-param none\r\n        address-translation incoming-call called-e164 request-uri\r\n\r\n"}]
[170,{"$f":"+IF(Data!$C$5>ROW(Generic!B171)-ROW(Generic!$B$143),\"\",\"#\")","v":"#"},{"$f":"+CONCATENATE(\"  interface sip IF_SIP_\",'Line Table'!A30,CHAR(13),CHAR(10),,\"        bind context sip-gateway GW_SIP_\",'Line Table'!A30,CHAR(13),CHAR(10),,\"        \",+'Line Table'!C30,CHAR(13),CHAR(10),,\"        early-disconnect\",CHAR(13),CHAR(10),,\"        route call dest-interface IF_FXO_\",'Line Table'!A30,CHAR(13),CHAR(10),,\"        remote \",Data!$C$24,\" \",Data!$C$25,CHAR(13),CHAR(10),,\"        address-translation outgoing-call request-uri user-part fix \",'Line Table'!B30,\" host-part to-header target-param none\",CHAR(13),CHAR(10),,\"        address-translation incoming-call called-e164 request-uri\",CHAR(13),CHAR(10),,CHAR(13),CHAR(10),)","v":"  interface sip IF_SIP_29\r\n        bind context sip-gateway GW_SIP_29\r\n        early-connect \r\n        early-disconnect\r\n        route call dest-interface IF_FXO_29\r\n        remote 10.10.50.23 5060\r\n        address-translation outgoing-call request-uri user-part fix 10030 host-part to-header target-param none\r\n        address-translation incoming-call called-e164 request-uri\r\n\r\n"}]
[171,{"$f":"+IF(Data!$C$5>ROW(Generic!B172)-ROW(Generic!$B$143),\"\",\"#\")","v":"#"},{"$f":"+CONCATENATE(\"  interface sip IF_SIP_\",'Line Table'!A31,CHAR(13),CHAR(10),,\"        bind context sip-gateway GW_SIP_\",'Line Table'!A31,CHAR(13),CHAR(10),,\"        \",+'Line Table'!C31,CHAR(13),CHAR(10),,\"        early-disconnect\",CHAR(13),CHAR(10),,\"        route call dest-interface IF_FXO_\",'Line Table'!A31,CHAR(13),CHAR(10),,\"        remote \",Data!$C$24,\" \",Data!$C$25,CHAR(13),CHAR(10),,\"        address-translation outgoing-call request-uri user-part fix \",'Line Table'!B31,\" host-part to-header target-param none\",CHAR(13),CHAR(10),,\"        address-translation incoming-call called-e164 request-uri\",CHAR(13),CHAR(10),,CHAR(13),CHAR(10),)","v":"  interface sip IF_SIP_30\r\n        bind context sip-gateway GW_SIP_30\r\n        early-connect \r\n        early-disconnect\r\n        route call dest-interface IF_FXO_30\r\n        remote 10.10.50.23 5060\r\n        address-translation outgoing-call request-uri user-part fix 10031 host-part to-header target-param none\r\n        address-translation incoming-call called-e164 request-uri\r\n\r\n"}]
[172,{"$f":"+IF(Data!$C$5>ROW(Generic!B173)-ROW(Generic!$B$143),\"\",\"#\")","v":"#"},{"$f":"+CONCATENATE(\"  interface sip IF_SIP_\",'Line Table'!A32,CHAR(13),CHAR(10),,\"        bind context sip-gateway GW_SIP_\",'Line Table'!A32,CHAR(13),CHAR(10),,\"        \",+'Line Table'!C32,CHAR(13),CHAR(10),,\"        early-disconnect\",CHAR(13),CHAR(10),,\"        route call dest-interface IF_FXO_\",'Line Table'!A32,CHAR(13),CHAR(10),,\"        remote \",Data!$C$24,\" \",Data!$C$25,CHAR(13),CHAR(10),,\"        address-translation outgoing-call request-uri user-part fix \",'Line Table'!B32,\" host-part to-header target-param none\",CHAR(13),CHAR(10),,\"        address-translation incoming-call called-e164 request-uri\",CHAR(13),CHAR(10),,CHAR(13),CHAR(10),)","v":"  interface sip IF_SIP_31\r\n        bind context sip-gateway GW_SIP_31\r\n        early-connect \r\n        early-disconnect\r\n        route call dest-interface IF_FXO_31\r\n        remote 10.10.50.23 5060\r\n        address-translation outgoing-call request-uri user-part fix 10032 host-part to-header target-param none\r\n        address-translation incoming-call called-e164 request-uri\r\n\r\n"}]
[173,{"$f":"+IF(Data!$C$5>ROW(Generic!B174)-ROW(Generic!$B$143),\"\",\"#\")","v":"#"},{"$f":"+CONCATENATE(\"  interface sip IF_SIP_\",'Line Table'!A33,CHAR(13),CHAR(10),,\"        bind context sip-gateway GW_SIP_\",'Line Table'!A33,CHAR(13),CHAR(10),,\"        \",+'Line Table'!C33,CHAR(13),CHAR(10),,\"        early-disconnect\",CHAR(13),CHAR(10),,\"        route call dest-interface IF_FXO_\",'Line Table'!A33,CHAR(13),CHAR(10),,\"        remote \",Data!$C$24,\" \",Data!$C$25,CHAR(13),CHAR(10),,\"        address-translation outgoing-call request-uri user-part fix \",'Line Table'!B33,\" host-part to-header target-param none\",CHAR(13),CHAR(10),,\"        address-translation incoming-call called-e164 request-uri\",CHAR(13),CHAR(10),,CHAR(13),CHAR(10),)","v":"  interface sip IF_SIP_32\r\n        bind context sip-gateway GW_SIP_32\r\n        early-connect \r\n        early-disconnect\r\n        route call dest-interface IF_FXO_32\r\n        remote 10.10.50.23 5060\r\n        address-translation outgoing-call request-uri user-part fix 10033 host-part to-header target-param none\r\n        address-translation incoming-call called-e164 request-uri\r\n\r\n"}]
[174]
[175,{"$f":"+IF(Data!$C$5>ROW(Generic!B176)-ROW(Generic!$B$176),\"\",\"#\")","v":""},{"$f":"+CONCATENATE(\" interface fxo IF_FXO_\",'Line Table'!A2,CHAR(13),CHAR(10),\"          route call dest-interface IF_SIP_\",'Line Table'!A2,CHAR(13),CHAR(10),\"         loop-break-duration min 200 max 1000\",CHAR(13),CHAR(10),\"          \",'Line Table'!D2,CHAR(13),CHAR(10),\"         mute-dialing\",CHAR(13),CHAR(10),\"           disconnect-signal loop-break\",CHAR(13),CHAR(10),\"         disconnect-signal busy-tone\",CHAR(13),CHAR(10),\"         dial-after timeout 1\")","v":" interface fxo IF_FXO_1\r\n          route call dest-interface IF_SIP_1\r\n         loop-break-duration min 200 max 1000\r\n          ring-number on-caller-id \r\n         mute-dialing\r\n           disconnect-signal loop-break\r\n         disconnect-signal busy-tone\r\n         dial-after timeout 1"}]
[176,{"$f":"+IF(Data!$C$5>ROW(Generic!B177)-ROW(Generic!$B$176),\"\",\"#\")","v":""},{"$f":"+CONCATENATE(\" interface fxo IF_FXO_\",'Line Table'!A3,CHAR(13),CHAR(10),\"          route call dest-interface IF_SIP_\",'Line Table'!A3,CHAR(13),CHAR(10),\"         loop-break-duration min 200 max 1000\",CHAR(13),CHAR(10),\"          \",'Line Table'!D3,CHAR(13),CHAR(10),\"         mute-dialing\",CHAR(13),CHAR(10),\"           disconnect-signal loop-break\",CHAR(13),CHAR(10),\"         disconnect-signal busy-tone\",CHAR(13),CHAR(10),\"         dial-after timeout 1\")","v":" interface fxo IF_FXO_2\r\n          route call dest-interface IF_SIP_2\r\n         loop-break-duration min 200 max 1000\r\n          ring-number on-caller-id \r\n         mute-dialing\r\n           disconnect-signal loop-break\r\n         disconnect-signal busy-tone\r\n         dial-after timeout 1"}]
[177,{"$f":"+IF(Data!$C$5>ROW(Generic!B178)-ROW(Generic!$B$176),\"\",\"#\")","v":""},{"$f":"+CONCATENATE(\" interface fxo IF_FXO_\",'Line Table'!A4,CHAR(13),CHAR(10),\"          route call dest-interface IF_SIP_\",'Line Table'!A4,CHAR(13),CHAR(10),\"         loop-break-duration min 200 max 1000\",CHAR(13),CHAR(10),\"          \",'Line Table'!D4,CHAR(13),CHAR(10),\"         mute-dialing\",CHAR(13),CHAR(10),\"           disconnect-signal loop-break\",CHAR(13),CHAR(10),\"         disconnect-signal busy-tone\",CHAR(13),CHAR(10),\"         dial-after timeout 1\")","v":" interface fxo IF_FXO_3\r\n          route call dest-interface IF_SIP_3\r\n         loop-break-duration min 200 max 1000\r\n          ring-number on-caller-id \r\n         mute-dialing\r\n           disconnect-signal loop-break\r\n         disconnect-signal busy-tone\r\n         dial-after timeout 1"}]
[178,{"$f":"+IF(Data!$C$5>ROW(Generic!B179)-ROW(Generic!$B$176),\"\",\"#\")","v":""},{"$f":"+CONCATENATE(\" interface fxo IF_FXO_\",'Line Table'!A5,CHAR(13),CHAR(10),\"          route call dest-interface IF_SIP_\",'Line Table'!A5,CHAR(13),CHAR(10),\"         loop-break-duration min 200 max 1000\",CHAR(13),CHAR(10),\"          \",'Line Table'!D5,CHAR(13),CHAR(10),\"         mute-dialing\",CHAR(13),CHAR(10),\"           disconnect-signal loop-break\",CHAR(13),CHAR(10),\"         disconnect-signal busy-tone\",CHAR(13),CHAR(10),\"         dial-after timeout 1\")","v":" interface fxo IF_FXO_4\r\n          route call dest-interface IF_SIP_4\r\n         loop-break-duration min 200 max 1000\r\n          ring-number on-caller-id \r\n         mute-dialing\r\n           disconnect-signal loop-break\r\n         disconnect-signal busy-tone\r\n         dial-after timeout 1"}]
[179,{"$f":"+IF(Data!$C$5>ROW(Generic!B180)-ROW(Generic!$B$176),\"\",\"#\")","v":""},{"$f":"+CONCATENATE(\" interface fxo IF_FXO_\",'Line Table'!A6,CHAR(13),CHAR(10),\"          route call dest-interface IF_SIP_\",'Line Table'!A6,CHAR(13),CHAR(10),\"         loop-break-duration min 200 max 1000\",CHAR(13),CHAR(10),\"          \",'Line Table'!D6,CHAR(13),CHAR(10),\"         mute-dialing\",CHAR(13),CHAR(10),\"           disconnect-signal loop-break\",CHAR(13),CHAR(10),\"         disconnect-signal busy-tone\",CHAR(13),CHAR(10),\"         dial-after timeout 1\")","v":" interface fxo IF_FXO_5\r\n          route call dest-interface IF_SIP_5\r\n         loop-break-duration min 200 max 1000\r\n          ring-number on-caller-id \r\n         mute-dialing\r\n           disconnect-signal loop-break\r\n         disconnect-signal busy-tone\r\n         dial-after timeout 1"}]
[180,{"$f":"+IF(Data!$C$5>ROW(Generic!B181)-ROW(Generic!$B$176),\"\",\"#\")","v":""},{"$f":"+CONCATENATE(\" interface fxo IF_FXO_\",'Line Table'!A7,CHAR(13),CHAR(10),\"          route call dest-interface IF_SIP_\",'Line Table'!A7,CHAR(13),CHAR(10),\"         loop-break-duration min 200 max 1000\",CHAR(13),CHAR(10),\"          \",'Line Table'!D7,CHAR(13),CHAR(10),\"         mute-dialing\",CHAR(13),CHAR(10),\"           disconnect-signal loop-break\",CHAR(13),CHAR(10),\"         disconnect-signal busy-tone\",CHAR(13),CHAR(10),\"         dial-after timeout 1\")","v":" interface fxo IF_FXO_6\r\n          route call dest-interface IF_SIP_6\r\n         loop-break-duration min 200 max 1000\r\n          ring-number on-caller-id \r\n         mute-dialing\r\n           disconnect-signal loop-break\r\n         disconnect-signal busy-tone\r\n         dial-after timeout 1"}]
[181,{"$f":"+IF(Data!$C$5>ROW(Generic!B182)-ROW(Generic!$B$176),\"\",\"#\")","v":""},{"$f":"+CONCATENATE(\" interface fxo IF_FXO_\",'Line Table'!A8,CHAR(13),CHAR(10),\"          route call dest-interface IF_SIP_\",'Line Table'!A8,CHAR(13),CHAR(10),\"         loop-break-duration min 200 max 1000\",CHAR(13),CHAR(10),\"          \",'Line Table'!D8,CHAR(13),CHAR(10),\"         mute-dialing\",CHAR(13),CHAR(10),\"           disconnect-signal loop-break\",CHAR(13),CHAR(10),\"         disconnect-signal busy-tone\",CHAR(13),CHAR(10),\"         dial-after timeout 1\")","v":" interface fxo IF_FXO_7\r\n          route call dest-interface IF_SIP_7\r\n         loop-break-duration min 200 max 1000\r\n          ring-number on-caller-id \r\n         mute-dialing\r\n           disconnect-signal loop-break\r\n         disconnect-signal busy-tone\r\n         dial-after timeout 1"}]
[182,{"$f":"+IF(Data!$C$5>ROW(Generic!B183)-ROW(Generic!$B$176),\"\",\"#\")","v":""},{"$f":"+CONCATENATE(\" interface fxo IF_FXO_\",'Line Table'!A9,CHAR(13),CHAR(10),\"          route call dest-interface IF_SIP_\",'Line Table'!A9,CHAR(13),CHAR(10),\"         loop-break-duration min 200 max 1000\",CHAR(13),CHAR(10),\"          \",'Line Table'!D9,CHAR(13),CHAR(10),\"         mute-dialing\",CHAR(13),CHAR(10),\"           disconnect-signal loop-break\",CHAR(13),CHAR(10),\"         disconnect-signal busy-tone\",CHAR(13),CHAR(10),\"         dial-after timeout 1\")","v":" interface fxo IF_FXO_8\r\n          route call dest-interface IF_SIP_8\r\n         loop-break-duration min 200 max 1000\r\n          ring-number on-caller-id \r\n         mute-dialing\r\n           disconnect-signal loop-break\r\n         disconnect-signal busy-tone\r\n         dial-after timeout 1"}]
[183,{"$f":"+IF(Data!$C$5>ROW(Generic!B184)-ROW(Generic!$B$176),\"\",\"#\")","v":""},{"$f":"+CONCATENATE(\" interface fxo IF_FXO_\",'Line Table'!A10,CHAR(13),CHAR(10),\"          route call dest-interface IF_SIP_\",'Line Table'!A10,CHAR(13),CHAR(10),\"         loop-break-duration min 200 max 1000\",CHAR(13),CHAR(10),\"          \",'Line Table'!D10,CHAR(13),CHAR(10),\"         mute-dialing\",CHAR(13),CHAR(10),\"           disconnect-signal loop-break\",CHAR(13),CHAR(10),\"         disconnect-signal busy-tone\",CHAR(13),CHAR(10),\"         dial-after timeout 1\")","v":" interface fxo IF_FXO_9\r\n          route call dest-interface IF_SIP_9\r\n         loop-break-duration min 200 max 1000\r\n          ring-number on-caller-id \r\n         mute-dialing\r\n           disconnect-signal loop-break\r\n         disconnect-signal busy-tone\r\n         dial-after timeout 1"}]
[184,{"$f":"+IF(Data!$C$5>ROW(Generic!B185)-ROW(Generic!$B$176),\"\",\"#\")","v":""},{"$f":"+CONCATENATE(\" interface fxo IF_FXO_\",'Line Table'!A11,CHAR(13),CHAR(10),\"          route call dest-interface IF_SIP_\",'Line Table'!A11,CHAR(13),CHAR(10),\"         loop-break-duration min 200 max 1000\",CHAR(13),CHAR(10),\"          \",'Line Table'!D11,CHAR(13),CHAR(10),\"         mute-dialing\",CHAR(13),CHAR(10),\"           disconnect-signal loop-break\",CHAR(13),CHAR(10),\"         disconnect-signal busy-tone\",CHAR(13),CHAR(10),\"         dial-after timeout 1\")","v":" interface fxo IF_FXO_10\r\n          route call dest-interface IF_SIP_10\r\n         loop-break-duration min 200 max 1000\r\n          ring-number on-caller-id \r\n         mute-dialing\r\n           disconnect-signal loop-break\r\n         disconnect-signal busy-tone\r\n         dial-after timeout 1"}]
[185,{"$f":"+IF(Data!$C$5>ROW(Generic!B186)-ROW(Generic!$B$176),\"\",\"#\")","v":""},{"$f":"+CONCATENATE(\" interface fxo IF_FXO_\",'Line Table'!A12,CHAR(13),CHAR(10),\"          route call dest-interface IF_SIP_\",'Line Table'!A12,CHAR(13),CHAR(10),\"         loop-break-duration min 200 max 1000\",CHAR(13),CHAR(10),\"          \",'Line Table'!D12,CHAR(13),CHAR(10),\"         mute-dialing\",CHAR(13),CHAR(10),\"           disconnect-signal loop-break\",CHAR(13),CHAR(10),\"         disconnect-signal busy-tone\",CHAR(13),CHAR(10),\"         dial-after timeout 1\")","v":" interface fxo IF_FXO_11\r\n          route call dest-interface IF_SIP_11\r\n         loop-break-duration min 200 max 1000\r\n          ring-number on-caller-id \r\n         mute-dialing\r\n           disconnect-signal loop-break\r\n         disconnect-signal busy-tone\r\n         dial-after timeout 1"}]
[186,{"$f":"+IF(Data!$C$5>ROW(Generic!B187)-ROW(Generic!$B$176),\"\",\"#\")","v":""},{"$f":"+CONCATENATE(\" interface fxo IF_FXO_\",'Line Table'!A13,CHAR(13),CHAR(10),\"          route call dest-interface IF_SIP_\",'Line Table'!A13,CHAR(13),CHAR(10),\"         loop-break-duration min 200 max 1000\",CHAR(13),CHAR(10),\"          \",'Line Table'!D13,CHAR(13),CHAR(10),\"         mute-dialing\",CHAR(13),CHAR(10),\"           disconnect-signal loop-break\",CHAR(13),CHAR(10),\"         disconnect-signal busy-tone\",CHAR(13),CHAR(10),\"         dial-after timeout 1\")","v":" interface fxo IF_FXO_12\r\n          route call dest-interface IF_SIP_12\r\n         loop-break-duration min 200 max 1000\r\n          ring-number on-caller-id \r\n         mute-dialing\r\n           disconnect-signal loop-break\r\n         disconnect-signal busy-tone\r\n         dial-after timeout 1"}]
[187,{"$f":"+IF(Data!$C$5>ROW(Generic!B188)-ROW(Generic!$B$176),\"\",\"#\")","v":"#"},{"$f":"+CONCATENATE(\" interface fxo IF_FXO_\",'Line Table'!A14,CHAR(13),CHAR(10),\"          route call dest-interface IF_SIP_\",'Line Table'!A14,CHAR(13),CHAR(10),\"         loop-break-duration min 200 max 1000\",CHAR(13),CHAR(10),\"          \",'Line Table'!D14,CHAR(13),CHAR(10),\"         mute-dialing\",CHAR(13),CHAR(10),\"           disconnect-signal loop-break\",CHAR(13),CHAR(10),\"         disconnect-signal busy-tone\",CHAR(13),CHAR(10),\"         dial-after timeout 1\")","v":" interface fxo IF_FXO_13\r\n          route call dest-interface IF_SIP_13\r\n         loop-break-duration min 200 max 1000\r\n          ring-number on-caller-id \r\n         mute-dialing\r\n           disconnect-signal loop-break\r\n         disconnect-signal busy-tone\r\n         dial-after timeout 1"}]
[188,{"$f":"+IF(Data!$C$5>ROW(Generic!B189)-ROW(Generic!$B$176),\"\",\"#\")","v":"#"},{"$f":"+CONCATENATE(\" interface fxo IF_FXO_\",'Line Table'!A15,CHAR(13),CHAR(10),\"          route call dest-interface IF_SIP_\",'Line Table'!A15,CHAR(13),CHAR(10),\"         loop-break-duration min 200 max 1000\",CHAR(13),CHAR(10),\"          \",'Line Table'!D15,CHAR(13),CHAR(10),\"         mute-dialing\",CHAR(13),CHAR(10),\"           disconnect-signal loop-break\",CHAR(13),CHAR(10),\"         disconnect-signal busy-tone\",CHAR(13),CHAR(10),\"         dial-after timeout 1\")","v":" interface fxo IF_FXO_14\r\n          route call dest-interface IF_SIP_14\r\n         loop-break-duration min 200 max 1000\r\n          ring-number on-caller-id \r\n         mute-dialing\r\n           disconnect-signal loop-break\r\n         disconnect-signal busy-tone\r\n         dial-after timeout 1"}]
[189,{"$f":"+IF(Data!$C$5>ROW(Generic!B190)-ROW(Generic!$B$176),\"\",\"#\")","v":"#"},{"$f":"+CONCATENATE(\" interface fxo IF_FXO_\",'Line Table'!A16,CHAR(13),CHAR(10),\"          route call dest-interface IF_SIP_\",'Line Table'!A16,CHAR(13),CHAR(10),\"         loop-break-duration min 200 max 1000\",CHAR(13),CHAR(10),\"          \",'Line Table'!D16,CHAR(13),CHAR(10),\"         mute-dialing\",CHAR(13),CHAR(10),\"           disconnect-signal loop-break\",CHAR(13),CHAR(10),\"         disconnect-signal busy-tone\",CHAR(13),CHAR(10),\"         dial-after timeout 1\")","v":" interface fxo IF_FXO_15\r\n          route call dest-interface IF_SIP_15\r\n         loop-break-duration min 200 max 1000\r\n          ring-number on-caller-id \r\n         mute-dialing\r\n           disconnect-signal loop-break\r\n         disconnect-signal busy-tone\r\n         dial-after timeout 1"}]
[190,{"$f":"+IF(Data!$C$5>ROW(Generic!B191)-ROW(Generic!$B$176),\"\",\"#\")","v":"#"},{"$f":"+CONCATENATE(\" interface fxo IF_FXO_\",'Line Table'!A17,CHAR(13),CHAR(10),\"          route call dest-interface IF_SIP_\",'Line Table'!A17,CHAR(13),CHAR(10),\"         loop-break-duration min 200 max 1000\",CHAR(13),CHAR(10),\"          \",'Line Table'!D17,CHAR(13),CHAR(10),\"         mute-dialing\",CHAR(13),CHAR(10),\"           disconnect-signal loop-break\",CHAR(13),CHAR(10),\"         disconnect-signal busy-tone\",CHAR(13),CHAR(10),\"         dial-after timeout 1\")","v":" interface fxo IF_FXO_16\r\n          route call dest-interface IF_SIP_16\r\n         loop-break-duration min 200 max 1000\r\n          ring-number on-caller-id \r\n         mute-dialing\r\n           disconnect-signal loop-break\r\n         disconnect-signal busy-tone\r\n         dial-after timeout 1"}]
[191,{"$f":"+IF(Data!$C$5>ROW(Generic!B192)-ROW(Generic!$B$176),\"\",\"#\")","v":"#"},{"$f":"+CONCATENATE(\" interface fxo IF_FXO_\",'Line Table'!A18,CHAR(13),CHAR(10),\"          route call dest-interface IF_SIP_\",'Line Table'!A18,CHAR(13),CHAR(10),\"         loop-break-duration min 200 max 1000\",CHAR(13),CHAR(10),\"          \",'Line Table'!D18,CHAR(13),CHAR(10),\"         mute-dialing\",CHAR(13),CHAR(10),\"           disconnect-signal loop-break\",CHAR(13),CHAR(10),\"         disconnect-signal busy-tone\",CHAR(13),CHAR(10),\"         dial-after timeout 1\")","v":" interface fxo IF_FXO_17\r\n          route call dest-interface IF_SIP_17\r\n         loop-break-duration min 200 max 1000\r\n          ring-number on-caller-id \r\n         mute-dialing\r\n           disconnect-signal loop-break\r\n         disconnect-signal busy-tone\r\n         dial-after timeout 1"}]
[192,{"$f":"+IF(Data!$C$5>ROW(Generic!B193)-ROW(Generic!$B$176),\"\",\"#\")","v":"#"},{"$f":"+CONCATENATE(\" interface fxo IF_FXO_\",'Line Table'!A19,CHAR(13),CHAR(10),\"          route call dest-interface IF_SIP_\",'Line Table'!A19,CHAR(13),CHAR(10),\"         loop-break-duration min 200 max 1000\",CHAR(13),CHAR(10),\"          \",'Line Table'!D19,CHAR(13),CHAR(10),\"         mute-dialing\",CHAR(13),CHAR(10),\"           disconnect-signal loop-break\",CHAR(13),CHAR(10),\"         disconnect-signal busy-tone\",CHAR(13),CHAR(10),\"         dial-after timeout 1\")","v":" interface fxo IF_FXO_18\r\n          route call dest-interface IF_SIP_18\r\n         loop-break-duration min 200 max 1000\r\n          ring-number on-caller-id \r\n         mute-dialing\r\n           disconnect-signal loop-break\r\n         disconnect-signal busy-tone\r\n         dial-after timeout 1"}]
[193,{"$f":"+IF(Data!$C$5>ROW(Generic!B194)-ROW(Generic!$B$176),\"\",\"#\")","v":"#"},{"$f":"+CONCATENATE(\" interface fxo IF_FXO_\",'Line Table'!A20,CHAR(13),CHAR(10),\"          route call dest-interface IF_SIP_\",'Line Table'!A20,CHAR(13),CHAR(10),\"         loop-break-duration min 200 max 1000\",CHAR(13),CHAR(10),\"          \",'Line Table'!D20,CHAR(13),CHAR(10),\"         mute-dialing\",CHAR(13),CHAR(10),\"           disconnect-signal loop-break\",CHAR(13),CHAR(10),\"         disconnect-signal busy-tone\",CHAR(13),CHAR(10),\"         dial-after timeout 1\")","v":" interface fxo IF_FXO_19\r\n          route call dest-interface IF_SIP_19\r\n         loop-break-duration min 200 max 1000\r\n          ring-number on-caller-id \r\n         mute-dialing\r\n           disconnect-signal loop-break\r\n         disconnect-signal busy-tone\r\n         dial-after timeout 1"}]
[194,{"$f":"+IF(Data!$C$5>ROW(Generic!B195)-ROW(Generic!$B$176),\"\",\"#\")","v":"#"},{"$f":"+CONCATENATE(\" interface fxo IF_FXO_\",'Line Table'!A21,CHAR(13),CHAR(10),\"          route call dest-interface IF_SIP_\",'Line Table'!A21,CHAR(13),CHAR(10),\"         loop-break-duration min 200 max 1000\",CHAR(13),CHAR(10),\"          \",'Line Table'!D21,CHAR(13),CHAR(10),\"         mute-dialing\",CHAR(13),CHAR(10),\"           disconnect-signal loop-break\",CHAR(13),CHAR(10),\"         disconnect-signal busy-tone\",CHAR(13),CHAR(10),\"         dial-after timeout 1\")","v":" interface fxo IF_FXO_20\r\n          route call dest-interface IF_SIP_20\r\n         loop-break-duration min 200 max 1000\r\n          ring-number on-caller-id \r\n         mute-dialing\r\n           disconnect-signal loop-break\r\n         disconnect-signal busy-tone\r\n         dial-after timeout 1"}]
[195,{"$f":"+IF(Data!$C$5>ROW(Generic!B196)-ROW(Generic!$B$176),\"\",\"#\")","v":"#"},{"$f":"+CONCATENATE(\" interface fxo IF_FXO_\",'Line Table'!A22,CHAR(13),CHAR(10),\"          route call dest-interface IF_SIP_\",'Line Table'!A22,CHAR(13),CHAR(10),\"         loop-break-duration min 200 max 1000\",CHAR(13),CHAR(10),\"          \",'Line Table'!D22,CHAR(13),CHAR(10),\"         mute-dialing\",CHAR(13),CHAR(10),\"           disconnect-signal loop-break\",CHAR(13),CHAR(10),\"         disconnect-signal busy-tone\",CHAR(13),CHAR(10),\"         dial-after timeout 1\")","v":" interface fxo IF_FXO_21\r\n          route call dest-interface IF_SIP_21\r\n         loop-break-duration min 200 max 1000\r\n          ring-number on-caller-id \r\n         mute-dialing\r\n           disconnect-signal loop-break\r\n         disconnect-signal busy-tone\r\n         dial-after timeout 1"}]
[196,{"$f":"+IF(Data!$C$5>ROW(Generic!B197)-ROW(Generic!$B$176),\"\",\"#\")","v":"#"},{"$f":"+CONCATENATE(\" interface fxo IF_FXO_\",'Line Table'!A23,CHAR(13),CHAR(10),\"          route call dest-interface IF_SIP_\",'Line Table'!A23,CHAR(13),CHAR(10),\"         loop-break-duration min 200 max 1000\",CHAR(13),CHAR(10),\"          \",'Line Table'!D23,CHAR(13),CHAR(10),\"         mute-dialing\",CHAR(13),CHAR(10),\"           disconnect-signal loop-break\",CHAR(13),CHAR(10),\"         disconnect-signal busy-tone\",CHAR(13),CHAR(10),\"         dial-after timeout 1\")","v":" interface fxo IF_FXO_22\r\n          route call dest-interface IF_SIP_22\r\n         loop-break-duration min 200 max 1000\r\n          ring-number on-caller-id \r\n         mute-dialing\r\n           disconnect-signal loop-break\r\n         disconnect-signal busy-tone\r\n         dial-after timeout 1"}]
[197,{"$f":"+IF(Data!$C$5>ROW(Generic!B198)-ROW(Generic!$B$176),\"\",\"#\")","v":"#"},{"$f":"+CONCATENATE(\" interface fxo IF_FXO_\",'Line Table'!A24,CHAR(13),CHAR(10),\"          route call dest-interface IF_SIP_\",'Line Table'!A24,CHAR(13),CHAR(10),\"         loop-break-duration min 200 max 1000\",CHAR(13),CHAR(10),\"          \",'Line Table'!D24,CHAR(13),CHAR(10),\"         mute-dialing\",CHAR(13),CHAR(10),\"           disconnect-signal loop-break\",CHAR(13),CHAR(10),\"         disconnect-signal busy-tone\",CHAR(13),CHAR(10),\"         dial-after timeout 1\")","v":" interface fxo IF_FXO_23\r\n          route call dest-interface IF_SIP_23\r\n         loop-break-duration min 200 max 1000\r\n          ring-number on-caller-id \r\n         mute-dialing\r\n           disconnect-signal loop-break\r\n         disconnect-signal busy-tone\r\n         dial-after timeout 1"}]
[198,{"$f":"+IF(Data!$C$5>ROW(Generic!B199)-ROW(Generic!$B$176),\"\",\"#\")","v":"#"},{"$f":"+CONCATENATE(\" interface fxo IF_FXO_\",'Line Table'!A25,CHAR(13),CHAR(10),\"          route call dest-interface IF_SIP_\",'Line Table'!A25,CHAR(13),CHAR(10),\"         loop-break-duration min 200 max 1000\",CHAR(13),CHAR(10),\"          \",'Line Table'!D25,CHAR(13),CHAR(10),\"         mute-dialing\",CHAR(13),CHAR(10),\"           disconnect-signal loop-break\",CHAR(13),CHAR(10),\"         disconnect-signal busy-tone\",CHAR(13),CHAR(10),\"         dial-after timeout 1\")","v":" interface fxo IF_FXO_24\r\n          route call dest-interface IF_SIP_24\r\n         loop-break-duration min 200 max 1000\r\n          ring-number on-caller-id \r\n         mute-dialing\r\n           disconnect-signal loop-break\r\n         disconnect-signal busy-tone\r\n         dial-after timeout 1"}]
[199,{"$f":"+IF(Data!$C$5>ROW(Generic!B200)-ROW(Generic!$B$176),\"\",\"#\")","v":"#"},{"$f":"+CONCATENATE(\" interface fxo IF_FXO_\",'Line Table'!A26,CHAR(13),CHAR(10),\"          route call dest-interface IF_SIP_\",'Line Table'!A26,CHAR(13),CHAR(10),\"         loop-break-duration min 200 max 1000\",CHAR(13),CHAR(10),\"          \",'Line Table'!D26,CHAR(13),CHAR(10),\"         mute-dialing\",CHAR(13),CHAR(10),\"           disconnect-signal loop-break\",CHAR(13),CHAR(10),\"         disconnect-signal busy-tone\",CHAR(13),CHAR(10),\"         dial-after timeout 1\")","v":" interface fxo IF_FXO_25\r\n          route call dest-interface IF_SIP_25\r\n         loop-break-duration min 200 max 1000\r\n          ring-number on-caller-id \r\n         mute-dialing\r\n           disconnect-signal loop-break\r\n         disconnect-signal busy-tone\r\n         dial-after timeout 1"}]
[200,{"$f":"+IF(Data!$C$5>ROW(Generic!B201)-ROW(Generic!$B$176),\"\",\"#\")","v":"#"},{"$f":"+CONCATENATE(\" interface fxo IF_FXO_\",'Line Table'!A27,CHAR(13),CHAR(10),\"          route call dest-interface IF_SIP_\",'Line Table'!A27,CHAR(13),CHAR(10),\"         loop-break-duration min 200 max 1000\",CHAR(13),CHAR(10),\"          \",'Line Table'!D27,CHAR(13),CHAR(10),\"         mute-dialing\",CHAR(13),CHAR(10),\"           disconnect-signal loop-break\",CHAR(13),CHAR(10),\"         disconnect-signal busy-tone\",CHAR(13),CHAR(10),\"         dial-after timeout 1\")","v":" interface fxo IF_FXO_26\r\n          route call dest-interface IF_SIP_26\r\n         loop-break-duration min 200 max 1000\r\n          ring-number on-caller-id \r\n         mute-dialing\r\n           disconnect-signal loop-break\r\n         disconnect-signal busy-tone\r\n         dial-after timeout 1"}]
[201,{"$f":"+IF(Data!$C$5>ROW(Generic!B202)-ROW(Generic!$B$176),\"\",\"#\")","v":"#"},{"$f":"+CONCATENATE(\" interface fxo IF_FXO_\",'Line Table'!A28,CHAR(13),CHAR(10),\"          route call dest-interface IF_SIP_\",'Line Table'!A28,CHAR(13),CHAR(10),\"         loop-break-duration min 200 max 1000\",CHAR(13),CHAR(10),\"          \",'Line Table'!D28,CHAR(13),CHAR(10),\"         mute-dialing\",CHAR(13),CHAR(10),\"           disconnect-signal loop-break\",CHAR(13),CHAR(10),\"         disconnect-signal busy-tone\",CHAR(13),CHAR(10),\"         dial-after timeout 1\")","v":" interface fxo IF_FXO_27\r\n          route call dest-interface IF_SIP_27\r\n         loop-break-duration min 200 max 1000\r\n          ring-number on-caller-id \r\n         mute-dialing\r\n           disconnect-signal loop-break\r\n         disconnect-signal busy-tone\r\n         dial-after timeout 1"}]
[202,{"$f":"+IF(Data!$C$5>ROW(Generic!B203)-ROW(Generic!$B$176),\"\",\"#\")","v":"#"},{"$f":"+CONCATENATE(\" interface fxo IF_FXO_\",'Line Table'!A29,CHAR(13),CHAR(10),\"          route call dest-interface IF_SIP_\",'Line Table'!A29,CHAR(13),CHAR(10),\"         loop-break-duration min 200 max 1000\",CHAR(13),CHAR(10),\"          \",'Line Table'!D29,CHAR(13),CHAR(10),\"         mute-dialing\",CHAR(13),CHAR(10),\"           disconnect-signal loop-break\",CHAR(13),CHAR(10),\"         disconnect-signal busy-tone\",CHAR(13),CHAR(10),\"         dial-after timeout 1\")","v":" interface fxo IF_FXO_28\r\n          route call dest-interface IF_SIP_28\r\n         loop-break-duration min 200 max 1000\r\n          ring-number on-caller-id \r\n         mute-dialing\r\n           disconnect-signal loop-break\r\n         disconnect-signal busy-tone\r\n         dial-after timeout 1"}]
[203,{"$f":"+IF(Data!$C$5>ROW(Generic!B204)-ROW(Generic!$B$176),\"\",\"#\")","v":"#"},{"$f":"+CONCATENATE(\" interface fxo IF_FXO_\",'Line Table'!A30,CHAR(13),CHAR(10),\"          route call dest-interface IF_SIP_\",'Line Table'!A30,CHAR(13),CHAR(10),\"         loop-break-duration min 200 max 1000\",CHAR(13),CHAR(10),\"          \",'Line Table'!D30,CHAR(13),CHAR(10),\"         mute-dialing\",CHAR(13),CHAR(10),\"           disconnect-signal loop-break\",CHAR(13),CHAR(10),\"         disconnect-signal busy-tone\",CHAR(13),CHAR(10),\"         dial-after timeout 1\")","v":" interface fxo IF_FXO_29\r\n          route call dest-interface IF_SIP_29\r\n         loop-break-duration min 200 max 1000\r\n          ring-number on-caller-id \r\n         mute-dialing\r\n           disconnect-signal loop-break\r\n         disconnect-signal busy-tone\r\n         dial-after timeout 1"}]
[204,{"$f":"+IF(Data!$C$5>ROW(Generic!B205)-ROW(Generic!$B$176),\"\",\"#\")","v":"#"},{"$f":"+CONCATENATE(\" interface fxo IF_FXO_\",'Line Table'!A31,CHAR(13),CHAR(10),\"          route call dest-interface IF_SIP_\",'Line Table'!A31,CHAR(13),CHAR(10),\"         loop-break-duration min 200 max 1000\",CHAR(13),CHAR(10),\"          \",'Line Table'!D31,CHAR(13),CHAR(10),\"         mute-dialing\",CHAR(13),CHAR(10),\"           disconnect-signal loop-break\",CHAR(13),CHAR(10),\"         disconnect-signal busy-tone\",CHAR(13),CHAR(10),\"         dial-after timeout 1\")","v":" interface fxo IF_FXO_30\r\n          route call dest-interface IF_SIP_30\r\n         loop-break-duration min 200 max 1000\r\n          ring-number on-caller-id \r\n         mute-dialing\r\n           disconnect-signal loop-break\r\n         disconnect-signal busy-tone\r\n         dial-after timeout 1"}]
[205,{"$f":"+IF(Data!$C$5>ROW(Generic!B206)-ROW(Generic!$B$176),\"\",\"#\")","v":"#"},{"$f":"+CONCATENATE(\" interface fxo IF_FXO_\",'Line Table'!A32,CHAR(13),CHAR(10),\"          route call dest-interface IF_SIP_\",'Line Table'!A32,CHAR(13),CHAR(10),\"         loop-break-duration min 200 max 1000\",CHAR(13),CHAR(10),\"          \",'Line Table'!D32,CHAR(13),CHAR(10),\"         mute-dialing\",CHAR(13),CHAR(10),\"           disconnect-signal loop-break\",CHAR(13),CHAR(10),\"         disconnect-signal busy-tone\",CHAR(13),CHAR(10),\"         dial-after timeout 1\")","v":" interface fxo IF_FXO_31\r\n          route call dest-interface IF_SIP_31\r\n         loop-break-duration min 200 max 1000\r\n          ring-number on-caller-id \r\n         mute-dialing\r\n           disconnect-signal loop-break\r\n         disconnect-signal busy-tone\r\n         dial-after timeout 1"}]
[206,{"$f":"+IF(Data!$C$5>ROW(Generic!B207)-ROW(Generic!$B$176),\"\",\"#\")","v":"#"},{"$f":"+CONCATENATE(\" interface fxo IF_FXO_\",'Line Table'!A33,CHAR(13),CHAR(10),\"          route call dest-interface IF_SIP_\",'Line Table'!A33,CHAR(13),CHAR(10),\"         loop-break-duration min 200 max 1000\",CHAR(13),CHAR(10),\"          \",'Line Table'!D33,CHAR(13),CHAR(10),\"         mute-dialing\",CHAR(13),CHAR(10),\"           disconnect-signal loop-break\",CHAR(13),CHAR(10),\"         disconnect-signal busy-tone\",CHAR(13),CHAR(10),\"         dial-after timeout 1\")","v":" interface fxo IF_FXO_32\r\n          route call dest-interface IF_SIP_32\r\n         loop-break-duration min 200 max 1000\r\n          ring-number on-caller-id \r\n         mute-dialing\r\n           disconnect-signal loop-break\r\n         disconnect-signal busy-tone\r\n         dial-after timeout 1"}]
[207]
[208,{"$f":"+IF(Data!$C$6>0,\" \",\"#\")","v":"#"},"interface sip IF_SIP_PBX"]
[209,{"$f":"+IF(Data!$C$6>0,\" \",\"#\")","v":"#"},"        bind context sip-gateway GW_SIP_ALL_EXTENSIONS"]
[210,{"$f":"+IF(Data!$C$6>0,\" \",\"#\")","v":"#"},"        route call dest-table RT_TO_FXS"]
[211,{"$f":"+IF(Data!$C$6>0,\" \",\"#\")","v":"#"},{"$f":"+CONCATENATE(\"              remote \",Data!C24,\" \",Data!C25)","v":"              remote 10.10.50.23 5060"}]
[212,{"$f":"+IF(Data!$C$6>0,\" \",\"#\")","v":"#"},{"$f":"+IF(OR(AND(UPPER(Data!C15)=\"DHCP\",Data!$C$8=\"LAN\"),AND(UPPER(Data!C19)=\"DHCP\",Data!$C$8=\"WAN\")),\" \",+CONCATENATE(\"              local \",Data!C15))","v":"              local 10.10.1.10"},"Agregar Early connect / Disconnect"]
[213]
[214,{"$f":"+IF(Data!$C$6>ROW(Generic!B215)-ROW(Generic!$B$215),\"\",\"#\")","v":"#"},{"$f":"+CONCATENATE(\"    interface fxs IF_FXS_\",'Extension Table'!C2,CHAR(13),CHAR(10),IF(Data!$C$42=\"(none)\",\"\",CONCATENATE(\"        caller-id-presentation \",Data!$C$42)),CHAR(13),CHAR(10),\"             route call dest-table RT_DIGITCOLLECTION\",CHAR(13),CHAR(10),\"             message-waiting-indication stutter-dial-tone\",CHAR(13),CHAR(10),\"             message-waiting-indication frequency-shift-keying\",CHAR(13),CHAR(10),\"             call-transfer\",CHAR(13),CHAR(10),\"             subscriber-number \",'Extension Table'!A2)","v":"    interface fxs IF_FXS_1\r\n        caller-id-presentation pre-ring\r\n             route call dest-table RT_DIGITCOLLECTION\r\n             message-waiting-indication stutter-dial-tone\r\n             message-waiting-indication frequency-shift-keying\r\n             call-transfer\r\n             subscriber-number 101"}]
[215,{"$f":"+IF(Data!$C$6>ROW(Generic!B216)-ROW(Generic!$B$215),\"\",\"#\")","v":"#"},{"$f":"+CONCATENATE(\"    interface fxs IF_FXS_\",'Extension Table'!C3,CHAR(13),CHAR(10),IF(Data!$C$42=\"(none)\",\"\",CONCATENATE(\"        caller-id-presentation \",Data!$C$42)),CHAR(13),CHAR(10),\"             route call dest-table RT_DIGITCOLLECTION\",CHAR(13),CHAR(10),\"             message-waiting-indication stutter-dial-tone\",CHAR(13),CHAR(10),\"             message-waiting-indication frequency-shift-keying\",CHAR(13),CHAR(10),\"             call-transfer\",CHAR(13),CHAR(10),\"             subscriber-number \",'Extension Table'!A3)","v":"    interface fxs IF_FXS_2\r\n        caller-id-presentation pre-ring\r\n             route call dest-table RT_DIGITCOLLECTION\r\n             message-waiting-indication stutter-dial-tone\r\n             message-waiting-indication frequency-shift-keying\r\n             call-transfer\r\n             subscriber-number 102"}]
[216,{"$f":"+IF(Data!$C$6>ROW(Generic!B217)-ROW(Generic!$B$215),\"\",\"#\")","v":"#"},{"$f":"+CONCATENATE(\"    interface fxs IF_FXS_\",'Extension Table'!C4,CHAR(13),CHAR(10),IF(Data!$C$42=\"(none)\",\"\",CONCATENATE(\"        caller-id-presentation \",Data!$C$42)),CHAR(13),CHAR(10),\"             route call dest-table RT_DIGITCOLLECTION\",CHAR(13),CHAR(10),\"             message-waiting-indication stutter-dial-tone\",CHAR(13),CHAR(10),\"             message-waiting-indication frequency-shift-keying\",CHAR(13),CHAR(10),\"             call-transfer\",CHAR(13),CHAR(10),\"             subscriber-number \",'Extension Table'!A4)","v":"    interface fxs IF_FXS_3\r\n        caller-id-presentation pre-ring\r\n             route call dest-table RT_DIGITCOLLECTION\r\n             message-waiting-indication stutter-dial-tone\r\n             message-waiting-indication frequency-shift-keying\r\n             call-transfer\r\n             subscriber-number 103"}]
[217,{"$f":"+IF(Data!$C$6>ROW(Generic!B218)-ROW(Generic!$B$215),\"\",\"#\")","v":"#"},{"$f":"+CONCATENATE(\"    interface fxs IF_FXS_\",'Extension Table'!C5,CHAR(13),CHAR(10),IF(Data!$C$42=\"(none)\",\"\",CONCATENATE(\"        caller-id-presentation \",Data!$C$42)),CHAR(13),CHAR(10),\"             route call dest-table RT_DIGITCOLLECTION\",CHAR(13),CHAR(10),\"             message-waiting-indication stutter-dial-tone\",CHAR(13),CHAR(10),\"             message-waiting-indication frequency-shift-keying\",CHAR(13),CHAR(10),\"             call-transfer\",CHAR(13),CHAR(10),\"             subscriber-number \",'Extension Table'!A5)","v":"    interface fxs IF_FXS_4\r\n        caller-id-presentation pre-ring\r\n             route call dest-table RT_DIGITCOLLECTION\r\n             message-waiting-indication stutter-dial-tone\r\n             message-waiting-indication frequency-shift-keying\r\n             call-transfer\r\n             subscriber-number 104"}]
[218,{"$f":"+IF(Data!$C$6>ROW(Generic!B219)-ROW(Generic!$B$215),\"\",\"#\")","v":"#"},{"$f":"+CONCATENATE(\"    interface fxs IF_FXS_\",'Extension Table'!C6,CHAR(13),CHAR(10),IF(Data!$C$42=\"(none)\",\"\",CONCATENATE(\"        caller-id-presentation \",Data!$C$42)),CHAR(13),CHAR(10),\"             route call dest-table RT_DIGITCOLLECTION\",CHAR(13),CHAR(10),\"             message-waiting-indication stutter-dial-tone\",CHAR(13),CHAR(10),\"             message-waiting-indication frequency-shift-keying\",CHAR(13),CHAR(10),\"             call-transfer\",CHAR(13),CHAR(10),\"             subscriber-number \",'Extension Table'!A6)","v":"    interface fxs IF_FXS_5\r\n        caller-id-presentation pre-ring\r\n             route call dest-table RT_DIGITCOLLECTION\r\n             message-waiting-indication stutter-dial-tone\r\n             message-waiting-indication frequency-shift-keying\r\n             call-transfer\r\n             subscriber-number 105"}]
[219,{"$f":"+IF(Data!$C$6>ROW(Generic!B220)-ROW(Generic!$B$215),\"\",\"#\")","v":"#"},{"$f":"+CONCATENATE(\"    interface fxs IF_FXS_\",'Extension Table'!C7,CHAR(13),CHAR(10),IF(Data!$C$42=\"(none)\",\"\",CONCATENATE(\"        caller-id-presentation \",Data!$C$42)),CHAR(13),CHAR(10),\"             route call dest-table RT_DIGITCOLLECTION\",CHAR(13),CHAR(10),\"             message-waiting-indication stutter-dial-tone\",CHAR(13),CHAR(10),\"             message-waiting-indication frequency-shift-keying\",CHAR(13),CHAR(10),\"             call-transfer\",CHAR(13),CHAR(10),\"             subscriber-number \",'Extension Table'!A7)","v":"    interface fxs IF_FXS_6\r\n        caller-id-presentation pre-ring\r\n             route call dest-table RT_DIGITCOLLECTION\r\n             message-waiting-indication stutter-dial-tone\r\n             message-waiting-indication frequency-shift-keying\r\n             call-transfer\r\n             subscriber-number 106"}]
[220,{"$f":"+IF(Data!$C$6>ROW(Generic!B221)-ROW(Generic!$B$215),\"\",\"#\")","v":"#"},{"$f":"+CONCATENATE(\"    interface fxs IF_FXS_\",'Extension Table'!C8,CHAR(13),CHAR(10),IF(Data!$C$42=\"(none)\",\"\",CONCATENATE(\"        caller-id-presentation \",Data!$C$42)),CHAR(13),CHAR(10),\"             route call dest-table RT_DIGITCOLLECTION\",CHAR(13),CHAR(10),\"             message-waiting-indication stutter-dial-tone\",CHAR(13),CHAR(10),\"             message-waiting-indication frequency-shift-keying\",CHAR(13),CHAR(10),\"             call-transfer\",CHAR(13),CHAR(10),\"             subscriber-number \",'Extension Table'!A8)","v":"    interface fxs IF_FXS_7\r\n        caller-id-presentation pre-ring\r\n             route call dest-table RT_DIGITCOLLECTION\r\n             message-waiting-indication stutter-dial-tone\r\n             message-waiting-indication frequency-shift-keying\r\n             call-transfer\r\n             subscriber-number 107"}]
[221,{"$f":"+IF(Data!$C$6>ROW(Generic!B222)-ROW(Generic!$B$215),\"\",\"#\")","v":"#"},{"$f":"+CONCATENATE(\"    interface fxs IF_FXS_\",'Extension Table'!C9,CHAR(13),CHAR(10),IF(Data!$C$42=\"(none)\",\"\",CONCATENATE(\"        caller-id-presentation \",Data!$C$42)),CHAR(13),CHAR(10),\"             route call dest-table RT_DIGITCOLLECTION\",CHAR(13),CHAR(10),\"             message-waiting-indication stutter-dial-tone\",CHAR(13),CHAR(10),\"             message-waiting-indication frequency-shift-keying\",CHAR(13),CHAR(10),\"             call-transfer\",CHAR(13),CHAR(10),\"             subscriber-number \",'Extension Table'!A9)","v":"    interface fxs IF_FXS_8\r\n        caller-id-presentation pre-ring\r\n             route call dest-table RT_DIGITCOLLECTION\r\n             message-waiting-indication stutter-dial-tone\r\n             message-waiting-indication frequency-shift-keying\r\n             call-transfer\r\n             subscriber-number 108"}]
[222,{"$f":"+IF(Data!$C$6>ROW(Generic!B223)-ROW(Generic!$B$215),\"\",\"#\")","v":"#"},{"$f":"+CONCATENATE(\"    interface fxs IF_FXS_\",'Extension Table'!C10,CHAR(13),CHAR(10),IF(Data!$C$42=\"(none)\",\"\",CONCATENATE(\"        caller-id-presentation \",Data!$C$42)),CHAR(13),CHAR(10),\"             route call dest-table RT_DIGITCOLLECTION\",CHAR(13),CHAR(10),\"             message-waiting-indication stutter-dial-tone\",CHAR(13),CHAR(10),\"             message-waiting-indication frequency-shift-keying\",CHAR(13),CHAR(10),\"             call-transfer\",CHAR(13),CHAR(10),\"             subscriber-number \",'Extension Table'!A10)","v":"    interface fxs IF_FXS_9\r\n        caller-id-presentation pre-ring\r\n             route call dest-table RT_DIGITCOLLECTION\r\n             message-waiting-indication stutter-dial-tone\r\n             message-waiting-indication frequency-shift-keying\r\n             call-transfer\r\n             subscriber-number 109"}]
[223,{"$f":"+IF(Data!$C$6>ROW(Generic!B224)-ROW(Generic!$B$215),\"\",\"#\")","v":"#"},{"$f":"+CONCATENATE(\"    interface fxs IF_FXS_\",'Extension Table'!C11,CHAR(13),CHAR(10),IF(Data!$C$42=\"(none)\",\"\",CONCATENATE(\"        caller-id-presentation \",Data!$C$42)),CHAR(13),CHAR(10),\"             route call dest-table RT_DIGITCOLLECTION\",CHAR(13),CHAR(10),\"             message-waiting-indication stutter-dial-tone\",CHAR(13),CHAR(10),\"             message-waiting-indication frequency-shift-keying\",CHAR(13),CHAR(10),\"             call-transfer\",CHAR(13),CHAR(10),\"             subscriber-number \",'Extension Table'!A11)","v":"    interface fxs IF_FXS_10\r\n        caller-id-presentation pre-ring\r\n             route call dest-table RT_DIGITCOLLECTION\r\n             message-waiting-indication stutter-dial-tone\r\n             message-waiting-indication frequency-shift-keying\r\n             call-transfer\r\n             subscriber-number 110"}]
[224,{"$f":"+IF(Data!$C$6>ROW(Generic!B225)-ROW(Generic!$B$215),\"\",\"#\")","v":"#"},{"$f":"+CONCATENATE(\"    interface fxs IF_FXS_\",'Extension Table'!C12,CHAR(13),CHAR(10),IF(Data!$C$42=\"(none)\",\"\",CONCATENATE(\"        caller-id-presentation \",Data!$C$42)),CHAR(13),CHAR(10),\"             route call dest-table RT_DIGITCOLLECTION\",CHAR(13),CHAR(10),\"             message-waiting-indication stutter-dial-tone\",CHAR(13),CHAR(10),\"             message-waiting-indication frequency-shift-keying\",CHAR(13),CHAR(10),\"             call-transfer\",CHAR(13),CHAR(10),\"             subscriber-number \",'Extension Table'!A12)","v":"    interface fxs IF_FXS_11\r\n        caller-id-presentation pre-ring\r\n             route call dest-table RT_DIGITCOLLECTION\r\n             message-waiting-indication stutter-dial-tone\r\n             message-waiting-indication frequency-shift-keying\r\n             call-transfer\r\n             subscriber-number 111"}]
[225,{"$f":"+IF(Data!$C$6>ROW(Generic!B226)-ROW(Generic!$B$215),\"\",\"#\")","v":"#"},{"$f":"+CONCATENATE(\"    interface fxs IF_FXS_\",'Extension Table'!C13,CHAR(13),CHAR(10),IF(Data!$C$42=\"(none)\",\"\",CONCATENATE(\"        caller-id-presentation \",Data!$C$42)),CHAR(13),CHAR(10),\"             route call dest-table RT_DIGITCOLLECTION\",CHAR(13),CHAR(10),\"             message-waiting-indication stutter-dial-tone\",CHAR(13),CHAR(10),\"             message-waiting-indication frequency-shift-keying\",CHAR(13),CHAR(10),\"             call-transfer\",CHAR(13),CHAR(10),\"             subscriber-number \",'Extension Table'!A13)","v":"    interface fxs IF_FXS_12\r\n        caller-id-presentation pre-ring\r\n             route call dest-table RT_DIGITCOLLECTION\r\n             message-waiting-indication stutter-dial-tone\r\n             message-waiting-indication frequency-shift-keying\r\n             call-transfer\r\n             subscriber-number 112"}]
[226,{"$f":"+IF(Data!$C$6>ROW(Generic!B227)-ROW(Generic!$B$215),\"\",\"#\")","v":"#"},{"$f":"+CONCATENATE(\"    interface fxs IF_FXS_\",'Extension Table'!C14,CHAR(13),CHAR(10),IF(Data!$C$42=\"(none)\",\"\",CONCATENATE(\"        caller-id-presentation \",Data!$C$42)),CHAR(13),CHAR(10),\"             route call dest-table RT_DIGITCOLLECTION\",CHAR(13),CHAR(10),\"             message-waiting-indication stutter-dial-tone\",CHAR(13),CHAR(10),\"             message-waiting-indication frequency-shift-keying\",CHAR(13),CHAR(10),\"             call-transfer\",CHAR(13),CHAR(10),\"             subscriber-number \",'Extension Table'!A14)","v":"    interface fxs IF_FXS_13\r\n        caller-id-presentation pre-ring\r\n             route call dest-table RT_DIGITCOLLECTION\r\n             message-waiting-indication stutter-dial-tone\r\n             message-waiting-indication frequency-shift-keying\r\n             call-transfer\r\n             subscriber-number 113"}]
[227,{"$f":"+IF(Data!$C$6>ROW(Generic!B228)-ROW(Generic!$B$215),\"\",\"#\")","v":"#"},{"$f":"+CONCATENATE(\"    interface fxs IF_FXS_\",'Extension Table'!C15,CHAR(13),CHAR(10),IF(Data!$C$42=\"(none)\",\"\",CONCATENATE(\"        caller-id-presentation \",Data!$C$42)),CHAR(13),CHAR(10),\"             route call dest-table RT_DIGITCOLLECTION\",CHAR(13),CHAR(10),\"             message-waiting-indication stutter-dial-tone\",CHAR(13),CHAR(10),\"             message-waiting-indication frequency-shift-keying\",CHAR(13),CHAR(10),\"             call-transfer\",CHAR(13),CHAR(10),\"             subscriber-number \",'Extension Table'!A15)","v":"    interface fxs IF_FXS_14\r\n        caller-id-presentation pre-ring\r\n             route call dest-table RT_DIGITCOLLECTION\r\n             message-waiting-indication stutter-dial-tone\r\n             message-waiting-indication frequency-shift-keying\r\n             call-transfer\r\n             subscriber-number 114"}]
[228,{"$f":"+IF(Data!$C$6>ROW(Generic!B229)-ROW(Generic!$B$215),\"\",\"#\")","v":"#"},{"$f":"+CONCATENATE(\"    interface fxs IF_FXS_\",'Extension Table'!C16,CHAR(13),CHAR(10),IF(Data!$C$42=\"(none)\",\"\",CONCATENATE(\"        caller-id-presentation \",Data!$C$42)),CHAR(13),CHAR(10),\"             route call dest-table RT_DIGITCOLLECTION\",CHAR(13),CHAR(10),\"             message-waiting-indication stutter-dial-tone\",CHAR(13),CHAR(10),\"             message-waiting-indication frequency-shift-keying\",CHAR(13),CHAR(10),\"             call-transfer\",CHAR(13),CHAR(10),\"             subscriber-number \",'Extension Table'!A16)","v":"    interface fxs IF_FXS_15\r\n        caller-id-presentation pre-ring\r\n             route call dest-table RT_DIGITCOLLECTION\r\n             message-waiting-indication stutter-dial-tone\r\n             message-waiting-indication frequency-shift-keying\r\n             call-transfer\r\n             subscriber-number 115"}]
[229,{"$f":"+IF(Data!$C$6>ROW(Generic!B230)-ROW(Generic!$B$215),\"\",\"#\")","v":"#"},{"$f":"+CONCATENATE(\"    interface fxs IF_FXS_\",'Extension Table'!C17,CHAR(13),CHAR(10),IF(Data!$C$42=\"(none)\",\"\",CONCATENATE(\"        caller-id-presentation \",Data!$C$42)),CHAR(13),CHAR(10),\"             route call dest-table RT_DIGITCOLLECTION\",CHAR(13),CHAR(10),\"             message-waiting-indication stutter-dial-tone\",CHAR(13),CHAR(10),\"             message-waiting-indication frequency-shift-keying\",CHAR(13),CHAR(10),\"             call-transfer\",CHAR(13),CHAR(10),\"             subscriber-number \",'Extension Table'!A17)","v":"    interface fxs IF_FXS_16\r\n        caller-id-presentation pre-ring\r\n             route call dest-table RT_DIGITCOLLECTION\r\n             message-waiting-indication stutter-dial-tone\r\n             message-waiting-indication frequency-shift-keying\r\n             call-transfer\r\n             subscriber-number 116"}]
[230,{"$f":"+IF(Data!$C$6>ROW(Generic!B231)-ROW(Generic!$B$215),\"\",\"#\")","v":"#"},{"$f":"+CONCATENATE(\"    interface fxs IF_FXS_\",'Extension Table'!C18,CHAR(13),CHAR(10),IF(Data!$C$42=\"(none)\",\"\",CONCATENATE(\"        caller-id-presentation \",Data!$C$42)),CHAR(13),CHAR(10),\"             route call dest-table RT_DIGITCOLLECTION\",CHAR(13),CHAR(10),\"             message-waiting-indication stutter-dial-tone\",CHAR(13),CHAR(10),\"             message-waiting-indication frequency-shift-keying\",CHAR(13),CHAR(10),\"             call-transfer\",CHAR(13),CHAR(10),\"             subscriber-number \",'Extension Table'!A18)","v":"    interface fxs IF_FXS_17\r\n        caller-id-presentation pre-ring\r\n             route call dest-table RT_DIGITCOLLECTION\r\n             message-waiting-indication stutter-dial-tone\r\n             message-waiting-indication frequency-shift-keying\r\n             call-transfer\r\n             subscriber-number 117"}]
[231,{"$f":"+IF(Data!$C$6>ROW(Generic!B232)-ROW(Generic!$B$215),\"\",\"#\")","v":"#"},{"$f":"+CONCATENATE(\"    interface fxs IF_FXS_\",'Extension Table'!C19,CHAR(13),CHAR(10),IF(Data!$C$42=\"(none)\",\"\",CONCATENATE(\"        caller-id-presentation \",Data!$C$42)),CHAR(13),CHAR(10),\"             route call dest-table RT_DIGITCOLLECTION\",CHAR(13),CHAR(10),\"             message-waiting-indication stutter-dial-tone\",CHAR(13),CHAR(10),\"             message-waiting-indication frequency-shift-keying\",CHAR(13),CHAR(10),\"             call-transfer\",CHAR(13),CHAR(10),\"             subscriber-number \",'Extension Table'!A19)","v":"    interface fxs IF_FXS_18\r\n        caller-id-presentation pre-ring\r\n             route call dest-table RT_DIGITCOLLECTION\r\n             message-waiting-indication stutter-dial-tone\r\n             message-waiting-indication frequency-shift-keying\r\n             call-transfer\r\n             subscriber-number 118"}]
[232,{"$f":"+IF(Data!$C$6>ROW(Generic!B233)-ROW(Generic!$B$215),\"\",\"#\")","v":"#"},{"$f":"+CONCATENATE(\"    interface fxs IF_FXS_\",'Extension Table'!C20,CHAR(13),CHAR(10),IF(Data!$C$42=\"(none)\",\"\",CONCATENATE(\"        caller-id-presentation \",Data!$C$42)),CHAR(13),CHAR(10),\"             route call dest-table RT_DIGITCOLLECTION\",CHAR(13),CHAR(10),\"             message-waiting-indication stutter-dial-tone\",CHAR(13),CHAR(10),\"             message-waiting-indication frequency-shift-keying\",CHAR(13),CHAR(10),\"             call-transfer\",CHAR(13),CHAR(10),\"             subscriber-number \",'Extension Table'!A20)","v":"    interface fxs IF_FXS_19\r\n        caller-id-presentation pre-ring\r\n             route call dest-table RT_DIGITCOLLECTION\r\n             message-waiting-indication stutter-dial-tone\r\n             message-waiting-indication frequency-shift-keying\r\n             call-transfer\r\n             subscriber-number 119"}]
[233,{"$f":"+IF(Data!$C$6>ROW(Generic!B234)-ROW(Generic!$B$215),\"\",\"#\")","v":"#"},{"$f":"+CONCATENATE(\"    interface fxs IF_FXS_\",'Extension Table'!C21,CHAR(13),CHAR(10),IF(Data!$C$42=\"(none)\",\"\",CONCATENATE(\"        caller-id-presentation \",Data!$C$42)),CHAR(13),CHAR(10),\"             route call dest-table RT_DIGITCOLLECTION\",CHAR(13),CHAR(10),\"             message-waiting-indication stutter-dial-tone\",CHAR(13),CHAR(10),\"             message-waiting-indication frequency-shift-keying\",CHAR(13),CHAR(10),\"             call-transfer\",CHAR(13),CHAR(10),\"             subscriber-number \",'Extension Table'!A21)","v":"    interface fxs IF_FXS_20\r\n        caller-id-presentation pre-ring\r\n             route call dest-table RT_DIGITCOLLECTION\r\n             message-waiting-indication stutter-dial-tone\r\n             message-waiting-indication frequency-shift-keying\r\n             call-transfer\r\n             subscriber-number 120"}]
[234,{"$f":"+IF(Data!$C$6>ROW(Generic!B235)-ROW(Generic!$B$215),\"\",\"#\")","v":"#"},{"$f":"+CONCATENATE(\"    interface fxs IF_FXS_\",'Extension Table'!C22,CHAR(13),CHAR(10),IF(Data!$C$42=\"(none)\",\"\",CONCATENATE(\"        caller-id-presentation \",Data!$C$42)),CHAR(13),CHAR(10),\"             route call dest-table RT_DIGITCOLLECTION\",CHAR(13),CHAR(10),\"             message-waiting-indication stutter-dial-tone\",CHAR(13),CHAR(10),\"             message-waiting-indication frequency-shift-keying\",CHAR(13),CHAR(10),\"             call-transfer\",CHAR(13),CHAR(10),\"             subscriber-number \",'Extension Table'!A22)","v":"    interface fxs IF_FXS_21\r\n        caller-id-presentation pre-ring\r\n             route call dest-table RT_DIGITCOLLECTION\r\n             message-waiting-indication stutter-dial-tone\r\n             message-waiting-indication frequency-shift-keying\r\n             call-transfer\r\n             subscriber-number 121"}]
[235,{"$f":"+IF(Data!$C$6>ROW(Generic!B236)-ROW(Generic!$B$215),\"\",\"#\")","v":"#"},{"$f":"+CONCATENATE(\"    interface fxs IF_FXS_\",'Extension Table'!C23,CHAR(13),CHAR(10),IF(Data!$C$42=\"(none)\",\"\",CONCATENATE(\"        caller-id-presentation \",Data!$C$42)),CHAR(13),CHAR(10),\"             route call dest-table RT_DIGITCOLLECTION\",CHAR(13),CHAR(10),\"             message-waiting-indication stutter-dial-tone\",CHAR(13),CHAR(10),\"             message-waiting-indication frequency-shift-keying\",CHAR(13),CHAR(10),\"             call-transfer\",CHAR(13),CHAR(10),\"             subscriber-number \",'Extension Table'!A23)","v":"    interface fxs IF_FXS_22\r\n        caller-id-presentation pre-ring\r\n             route call dest-table RT_DIGITCOLLECTION\r\n             message-waiting-indication stutter-dial-tone\r\n             message-waiting-indication frequency-shift-keying\r\n             call-transfer\r\n             subscriber-number 122"}]
[236,{"$f":"+IF(Data!$C$6>ROW(Generic!B237)-ROW(Generic!$B$215),\"\",\"#\")","v":"#"},{"$f":"+CONCATENATE(\"    interface fxs IF_FXS_\",'Extension Table'!C24,CHAR(13),CHAR(10),IF(Data!$C$42=\"(none)\",\"\",CONCATENATE(\"        caller-id-presentation \",Data!$C$42)),CHAR(13),CHAR(10),\"             route call dest-table RT_DIGITCOLLECTION\",CHAR(13),CHAR(10),\"             message-waiting-indication stutter-dial-tone\",CHAR(13),CHAR(10),\"             message-waiting-indication frequency-shift-keying\",CHAR(13),CHAR(10),\"             call-transfer\",CHAR(13),CHAR(10),\"             subscriber-number \",'Extension Table'!A24)","v":"    interface fxs IF_FXS_23\r\n        caller-id-presentation pre-ring\r\n             route call dest-table RT_DIGITCOLLECTION\r\n             message-waiting-indication stutter-dial-tone\r\n             message-waiting-indication frequency-shift-keying\r\n             call-transfer\r\n             subscriber-number 123"}]
[237,{"$f":"+IF(Data!$C$6>ROW(Generic!B238)-ROW(Generic!$B$215),\"\",\"#\")","v":"#"},{"$f":"+CONCATENATE(\"    interface fxs IF_FXS_\",'Extension Table'!C25,CHAR(13),CHAR(10),IF(Data!$C$42=\"(none)\",\"\",CONCATENATE(\"        caller-id-presentation \",Data!$C$42)),CHAR(13),CHAR(10),\"             route call dest-table RT_DIGITCOLLECTION\",CHAR(13),CHAR(10),\"             message-waiting-indication stutter-dial-tone\",CHAR(13),CHAR(10),\"             message-waiting-indication frequency-shift-keying\",CHAR(13),CHAR(10),\"             call-transfer\",CHAR(13),CHAR(10),\"             subscriber-number \",'Extension Table'!A25)","v":"    interface fxs IF_FXS_24\r\n        caller-id-presentation pre-ring\r\n             route call dest-table RT_DIGITCOLLECTION\r\n             message-waiting-indication stutter-dial-tone\r\n             message-waiting-indication frequency-shift-keying\r\n             call-transfer\r\n             subscriber-number 124"}]
[238,{"$f":"+IF(Data!$C$6>ROW(Generic!B239)-ROW(Generic!$B$215),\"\",\"#\")","v":"#"},{"$f":"+CONCATENATE(\"    interface fxs IF_FXS_\",'Extension Table'!C26,CHAR(13),CHAR(10),IF(Data!$C$42=\"(none)\",\"\",CONCATENATE(\"        caller-id-presentation \",Data!$C$42)),CHAR(13),CHAR(10),\"             route call dest-table RT_DIGITCOLLECTION\",CHAR(13),CHAR(10),\"             message-waiting-indication stutter-dial-tone\",CHAR(13),CHAR(10),\"             message-waiting-indication frequency-shift-keying\",CHAR(13),CHAR(10),\"             call-transfer\",CHAR(13),CHAR(10),\"             subscriber-number \",'Extension Table'!A26)","v":"    interface fxs IF_FXS_25\r\n        caller-id-presentation pre-ring\r\n             route call dest-table RT_DIGITCOLLECTION\r\n             message-waiting-indication stutter-dial-tone\r\n             message-waiting-indication frequency-shift-keying\r\n             call-transfer\r\n             subscriber-number 125"}]
[239,{"$f":"+IF(Data!$C$6>ROW(Generic!B240)-ROW(Generic!$B$215),\"\",\"#\")","v":"#"},{"$f":"+CONCATENATE(\"    interface fxs IF_FXS_\",'Extension Table'!C27,CHAR(13),CHAR(10),IF(Data!$C$42=\"(none)\",\"\",CONCATENATE(\"        caller-id-presentation \",Data!$C$42)),CHAR(13),CHAR(10),\"             route call dest-table RT_DIGITCOLLECTION\",CHAR(13),CHAR(10),\"             message-waiting-indication stutter-dial-tone\",CHAR(13),CHAR(10),\"             message-waiting-indication frequency-shift-keying\",CHAR(13),CHAR(10),\"             call-transfer\",CHAR(13),CHAR(10),\"             subscriber-number \",'Extension Table'!A27)","v":"    interface fxs IF_FXS_26\r\n        caller-id-presentation pre-ring\r\n             route call dest-table RT_DIGITCOLLECTION\r\n             message-waiting-indication stutter-dial-tone\r\n             message-waiting-indication frequency-shift-keying\r\n             call-transfer\r\n             subscriber-number 126"}]
[240,{"$f":"+IF(Data!$C$6>ROW(Generic!B241)-ROW(Generic!$B$215),\"\",\"#\")","v":"#"},{"$f":"+CONCATENATE(\"    interface fxs IF_FXS_\",'Extension Table'!C28,CHAR(13),CHAR(10),IF(Data!$C$42=\"(none)\",\"\",CONCATENATE(\"        caller-id-presentation \",Data!$C$42)),CHAR(13),CHAR(10),\"             route call dest-table RT_DIGITCOLLECTION\",CHAR(13),CHAR(10),\"             message-waiting-indication stutter-dial-tone\",CHAR(13),CHAR(10),\"             message-waiting-indication frequency-shift-keying\",CHAR(13),CHAR(10),\"             call-transfer\",CHAR(13),CHAR(10),\"             subscriber-number \",'Extension Table'!A28)","v":"    interface fxs IF_FXS_27\r\n        caller-id-presentation pre-ring\r\n             route call dest-table RT_DIGITCOLLECTION\r\n             message-waiting-indication stutter-dial-tone\r\n             message-waiting-indication frequency-shift-keying\r\n             call-transfer\r\n             subscriber-number 127"}]
[241,{"$f":"+IF(Data!$C$6>ROW(Generic!B242)-ROW(Generic!$B$215),\"\",\"#\")","v":"#"},{"$f":"+CONCATENATE(\"    interface fxs IF_FXS_\",'Extension Table'!C29,CHAR(13),CHAR(10),IF(Data!$C$42=\"(none)\",\"\",CONCATENATE(\"        caller-id-presentation \",Data!$C$42)),CHAR(13),CHAR(10),\"             route call dest-table RT_DIGITCOLLECTION\",CHAR(13),CHAR(10),\"             message-waiting-indication stutter-dial-tone\",CHAR(13),CHAR(10),\"             message-waiting-indication frequency-shift-keying\",CHAR(13),CHAR(10),\"             call-transfer\",CHAR(13),CHAR(10),\"             subscriber-number \",'Extension Table'!A29)","v":"    interface fxs IF_FXS_28\r\n        caller-id-presentation pre-ring\r\n             route call dest-table RT_DIGITCOLLECTION\r\n             message-waiting-indication stutter-dial-tone\r\n             message-waiting-indication frequency-shift-keying\r\n             call-transfer\r\n             subscriber-number 128"}]
[242,{"$f":"+IF(Data!$C$6>ROW(Generic!B243)-ROW(Generic!$B$215),\"\",\"#\")","v":"#"},{"$f":"+CONCATENATE(\"    interface fxs IF_FXS_\",'Extension Table'!C30,CHAR(13),CHAR(10),IF(Data!$C$42=\"(none)\",\"\",CONCATENATE(\"        caller-id-presentation \",Data!$C$42)),CHAR(13),CHAR(10),\"             route call dest-table RT_DIGITCOLLECTION\",CHAR(13),CHAR(10),\"             message-waiting-indication stutter-dial-tone\",CHAR(13),CHAR(10),\"             message-waiting-indication frequency-shift-keying\",CHAR(13),CHAR(10),\"             call-transfer\",CHAR(13),CHAR(10),\"             subscriber-number \",'Extension Table'!A30)","v":"    interface fxs IF_FXS_29\r\n        caller-id-presentation pre-ring\r\n             route call dest-table RT_DIGITCOLLECTION\r\n             message-waiting-indication stutter-dial-tone\r\n             message-waiting-indication frequency-shift-keying\r\n             call-transfer\r\n             subscriber-number 129"}]
[243,{"$f":"+IF(Data!$C$6>ROW(Generic!B244)-ROW(Generic!$B$215),\"\",\"#\")","v":"#"},{"$f":"+CONCATENATE(\"    interface fxs IF_FXS_\",'Extension Table'!C31,CHAR(13),CHAR(10),IF(Data!$C$42=\"(none)\",\"\",CONCATENATE(\"        caller-id-presentation \",Data!$C$42)),CHAR(13),CHAR(10),\"             route call dest-table RT_DIGITCOLLECTION\",CHAR(13),CHAR(10),\"             message-waiting-indication stutter-dial-tone\",CHAR(13),CHAR(10),\"             message-waiting-indication frequency-shift-keying\",CHAR(13),CHAR(10),\"             call-transfer\",CHAR(13),CHAR(10),\"             subscriber-number \",'Extension Table'!A31)","v":"    interface fxs IF_FXS_30\r\n        caller-id-presentation pre-ring\r\n             route call dest-table RT_DIGITCOLLECTION\r\n             message-waiting-indication stutter-dial-tone\r\n             message-waiting-indication frequency-shift-keying\r\n             call-transfer\r\n             subscriber-number 130"}]
[244,{"$f":"+IF(Data!$C$6>ROW(Generic!B245)-ROW(Generic!$B$215),\"\",\"#\")","v":"#"},{"$f":"+CONCATENATE(\"    interface fxs IF_FXS_\",'Extension Table'!C32,CHAR(13),CHAR(10),IF(Data!$C$42=\"(none)\",\"\",CONCATENATE(\"        caller-id-presentation \",Data!$C$42)),CHAR(13),CHAR(10),\"             route call dest-table RT_DIGITCOLLECTION\",CHAR(13),CHAR(10),\"             message-waiting-indication stutter-dial-tone\",CHAR(13),CHAR(10),\"             message-waiting-indication frequency-shift-keying\",CHAR(13),CHAR(10),\"             call-transfer\",CHAR(13),CHAR(10),\"             subscriber-number \",'Extension Table'!A32)","v":"    interface fxs IF_FXS_31\r\n        caller-id-presentation pre-ring\r\n             route call dest-table RT_DIGITCOLLECTION\r\n             message-waiting-indication stutter-dial-tone\r\n             message-waiting-indication frequency-shift-keying\r\n             call-transfer\r\n             subscriber-number 131"}]
[245,{"$f":"+IF(Data!$C$6>ROW(Generic!B246)-ROW(Generic!$B$215),\"\",\"#\")","v":"#"},{"$f":"+CONCATENATE(\"    interface fxs IF_FXS_\",'Extension Table'!C33,CHAR(13),CHAR(10),IF(Data!$C$42=\"(none)\",\"\",CONCATENATE(\"        caller-id-presentation \",Data!$C$42)),CHAR(13),CHAR(10),\"             route call dest-table RT_DIGITCOLLECTION\",CHAR(13),CHAR(10),\"             message-waiting-indication stutter-dial-tone\",CHAR(13),CHAR(10),\"             message-waiting-indication frequency-shift-keying\",CHAR(13),CHAR(10),\"             call-transfer\",CHAR(13),CHAR(10),\"             subscriber-number \",'Extension Table'!A33)","v":"    interface fxs IF_FXS_32\r\n        caller-id-presentation pre-ring\r\n             route call dest-table RT_DIGITCOLLECTION\r\n             message-waiting-indication stutter-dial-tone\r\n             message-waiting-indication frequency-shift-keying\r\n             call-transfer\r\n             subscriber-number 132"}]
[246,null,"                "]
[247,null,"context cs switch"]
[248,null,"  no shutdown"]
[249]
[250,{"$f":"+IF(Data!$C$6>0,\" \",\"#\")","v":"#"},"authentication-service AS_ALL_EXTENSIONS"]
[251,{"$f":"+IF(Data!$C$6>0,\" \",\"#\")","v":"#"},null,"Revisar si hace falta para 3CX"]
[252,{"$f":"+IF(Data!$C$6>ROW(Generic!B253)-ROW(Generic!$B$253),\"\",\"#\")","v":"#"},{"$f":"+CONCATENATE(\"      username \",'Extension Table'!F2,\" password \",'Extension Table'!G2)","v":"      username 101 password 101"}]
[253,{"$f":"+IF(Data!$C$6>ROW(Generic!B254)-ROW(Generic!$B$253),\"\",\"#\")","v":"#"},{"$f":"+CONCATENATE(\"      username \",'Extension Table'!F3,\" password \",'Extension Table'!G3)","v":"      username 102 password 102"}]
[254,{"$f":"+IF(Data!$C$6>ROW(Generic!B255)-ROW(Generic!$B$253),\"\",\"#\")","v":"#"},{"$f":"+CONCATENATE(\"      username \",'Extension Table'!F4,\" password \",'Extension Table'!G4)","v":"      username 103 password 103"}]
[255,{"$f":"+IF(Data!$C$6>ROW(Generic!B256)-ROW(Generic!$B$253),\"\",\"#\")","v":"#"},{"$f":"+CONCATENATE(\"      username \",'Extension Table'!F5,\" password \",'Extension Table'!G5)","v":"      username 104 password 104"}]
[256,{"$f":"+IF(Data!$C$6>ROW(Generic!B257)-ROW(Generic!$B$253),\"\",\"#\")","v":"#"},{"$f":"+CONCATENATE(\"      username \",'Extension Table'!F6,\" password \",'Extension Table'!G6)","v":"      username 105 password 105"}]
[257,{"$f":"+IF(Data!$C$6>ROW(Generic!B258)-ROW(Generic!$B$253),\"\",\"#\")","v":"#"},{"$f":"+CONCATENATE(\"      username \",'Extension Table'!F7,\" password \",'Extension Table'!G7)","v":"      username 106 password 106"}]
[258,{"$f":"+IF(Data!$C$6>ROW(Generic!B259)-ROW(Generic!$B$253),\"\",\"#\")","v":"#"},{"$f":"+CONCATENATE(\"      username \",'Extension Table'!F8,\" password \",'Extension Table'!G8)","v":"      username 107 password 107"}]
[259,{"$f":"+IF(Data!$C$6>ROW(Generic!B260)-ROW(Generic!$B$253),\"\",\"#\")","v":"#"},{"$f":"+CONCATENATE(\"      username \",'Extension Table'!F9,\" password \",'Extension Table'!G9)","v":"      username 108 password 108"}]
[260,{"$f":"+IF(Data!$C$6>ROW(Generic!B261)-ROW(Generic!$B$253),\"\",\"#\")","v":"#"},{"$f":"+CONCATENATE(\"      username \",'Extension Table'!F10,\" password \",'Extension Table'!G10)","v":"      username 109 password 109"}]
[261,{"$f":"+IF(Data!$C$6>ROW(Generic!B262)-ROW(Generic!$B$253),\"\",\"#\")","v":"#"},{"$f":"+CONCATENATE(\"      username \",'Extension Table'!F11,\" password \",'Extension Table'!G11)","v":"      username 110 password 110"}]
[262,{"$f":"+IF(Data!$C$6>ROW(Generic!B263)-ROW(Generic!$B$253),\"\",\"#\")","v":"#"},{"$f":"+CONCATENATE(\"      username \",'Extension Table'!F12,\" password \",'Extension Table'!G12)","v":"      username 111 password 111"}]
[263,{"$f":"+IF(Data!$C$6>ROW(Generic!B264)-ROW(Generic!$B$253),\"\",\"#\")","v":"#"},{"$f":"+CONCATENATE(\"      username \",'Extension Table'!F13,\" password \",'Extension Table'!G13)","v":"      username 112 password 112"}]
[264,{"$f":"+IF(Data!$C$6>ROW(Generic!B265)-ROW(Generic!$B$253),\"\",\"#\")","v":"#"},{"$f":"+CONCATENATE(\"      username \",'Extension Table'!F14,\" password \",'Extension Table'!G14)","v":"      username 113 password 113"}]
[265,{"$f":"+IF(Data!$C$6>ROW(Generic!B266)-ROW(Generic!$B$253),\"\",\"#\")","v":"#"},{"$f":"+CONCATENATE(\"      username \",'Extension Table'!F15,\" password \",'Extension Table'!G15)","v":"      username 114 password 114"}]
[266,{"$f":"+IF(Data!$C$6>ROW(Generic!B267)-ROW(Generic!$B$253),\"\",\"#\")","v":"#"},{"$f":"+CONCATENATE(\"      username \",'Extension Table'!F16,\" password \",'Extension Table'!G16)","v":"      username 115 password 115"}]
[267,{"$f":"+IF(Data!$C$6>ROW(Generic!B268)-ROW(Generic!$B$253),\"\",\"#\")","v":"#"},{"$f":"+CONCATENATE(\"      username \",'Extension Table'!F17,\" password \",'Extension Table'!G17)","v":"      username 116 password 116"}]
[268,{"$f":"+IF(Data!$C$6>ROW(Generic!B269)-ROW(Generic!$B$253),\"\",\"#\")","v":"#"},{"$f":"+CONCATENATE(\"      username \",'Extension Table'!F18,\" password \",'Extension Table'!G18)","v":"      username 117 password 117"}]
[269,{"$f":"+IF(Data!$C$6>ROW(Generic!B270)-ROW(Generic!$B$253),\"\",\"#\")","v":"#"},{"$f":"+CONCATENATE(\"      username \",'Extension Table'!F19,\" password \",'Extension Table'!G19)","v":"      username 118 password 118"}]
[270,{"$f":"+IF(Data!$C$6>ROW(Generic!B271)-ROW(Generic!$B$253),\"\",\"#\")","v":"#"},{"$f":"+CONCATENATE(\"      username \",'Extension Table'!F20,\" password \",'Extension Table'!G20)","v":"      username 119 password 119"}]
[271,{"$f":"+IF(Data!$C$6>ROW(Generic!B272)-ROW(Generic!$B$253),\"\",\"#\")","v":"#"},{"$f":"+CONCATENATE(\"      username \",'Extension Table'!F21,\" password \",'Extension Table'!G21)","v":"      username 120 password 120"}]
[272,{"$f":"+IF(Data!$C$6>ROW(Generic!B273)-ROW(Generic!$B$253),\"\",\"#\")","v":"#"},{"$f":"+CONCATENATE(\"      username \",'Extension Table'!F22,\" password \",'Extension Table'!G22)","v":"      username 121 password 121"}]
[273,{"$f":"+IF(Data!$C$6>ROW(Generic!B274)-ROW(Generic!$B$253),\"\",\"#\")","v":"#"},{"$f":"+CONCATENATE(\"      username \",'Extension Table'!F23,\" password \",'Extension Table'!G23)","v":"      username 122 password 122"}]
[274,{"$f":"+IF(Data!$C$6>ROW(Generic!B275)-ROW(Generic!$B$253),\"\",\"#\")","v":"#"},{"$f":"+CONCATENATE(\"      username \",'Extension Table'!F24,\" password \",'Extension Table'!G24)","v":"      username 123 password 123"}]
[275,{"$f":"+IF(Data!$C$6>ROW(Generic!B276)-ROW(Generic!$B$253),\"\",\"#\")","v":"#"},{"$f":"+CONCATENATE(\"      username \",'Extension Table'!F25,\" password \",'Extension Table'!G25)","v":"      username 124 password 124"}]
[276,{"$f":"+IF(Data!$C$6>ROW(Generic!B277)-ROW(Generic!$B$253),\"\",\"#\")","v":"#"},{"$f":"+CONCATENATE(\"      username \",'Extension Table'!F26,\" password \",'Extension Table'!G26)","v":"      username 125 password 125"}]
[277,{"$f":"+IF(Data!$C$6>ROW(Generic!B278)-ROW(Generic!$B$253),\"\",\"#\")","v":"#"},{"$f":"+CONCATENATE(\"      username \",'Extension Table'!F27,\" password \",'Extension Table'!G27)","v":"      username 126 password 126"}]
[278,{"$f":"+IF(Data!$C$6>ROW(Generic!B279)-ROW(Generic!$B$253),\"\",\"#\")","v":"#"},{"$f":"+CONCATENATE(\"      username \",'Extension Table'!F28,\" password \",'Extension Table'!G28)","v":"      username 127 password 127"}]
[279,{"$f":"+IF(Data!$C$6>ROW(Generic!B280)-ROW(Generic!$B$253),\"\",\"#\")","v":"#"},{"$f":"+CONCATENATE(\"      username \",'Extension Table'!F29,\" password \",'Extension Table'!G29)","v":"      username 128 password 128"}]
[280,{"$f":"+IF(Data!$C$6>ROW(Generic!B281)-ROW(Generic!$B$253),\"\",\"#\")","v":"#"},{"$f":"+CONCATENATE(\"      username \",'Extension Table'!F30,\" password \",'Extension Table'!G30)","v":"      username 129 password 129"}]
[281,{"$f":"+IF(Data!$C$6>ROW(Generic!B282)-ROW(Generic!$B$253),\"\",\"#\")","v":"#"},{"$f":"+CONCATENATE(\"      username \",'Extension Table'!F31,\" password \",'Extension Table'!G31)","v":"      username 130 password 130"}]
[282,{"$f":"+IF(Data!$C$6>ROW(Generic!B283)-ROW(Generic!$B$253),\"\",\"#\")","v":"#"},{"$f":"+CONCATENATE(\"      username \",'Extension Table'!F32,\" password \",'Extension Table'!G32)","v":"      username 131 password 131"}]
[283,{"$f":"+IF(Data!$C$6>ROW(Generic!B284)-ROW(Generic!$B$253),\"\",\"#\")","v":"#"},{"$f":"+CONCATENATE(\"      username \",'Extension Table'!F33,\" password \",'Extension Table'!G33)","v":"      username 132 password 132"}]
[284,null,"  "]
[285,{"$f":"+IF(Data!$C$5>0,\" \",\"#\")","v":" "},"authentication-service AS_ALL_LINES"]
[286,{"$f":"+IF(Data!$C$5>0,\" \",\"#\")","v":" "},null,"Revisar si hace falta para 3CX"]
[287]
[288,{"$f":"+IF(Data!$C$5>ROW(Generic!B289)-ROW(Generic!$B$289),\"\",\"#\")","v":""},{"$f":"+CONCATENATE(\"      username \",'Line Table'!E2,\" password \",'Line Table'!F2)","v":"      username 10002 password 10002"}]
[289,{"$f":"+IF(Data!$C$5>ROW(Generic!B290)-ROW(Generic!$B$289),\"\",\"#\")","v":""},{"$f":"+CONCATENATE(\"      username \",'Line Table'!E3,\" password \",'Line Table'!F3)","v":"      username 10003 password 10003"}]
[290,{"$f":"+IF(Data!$C$5>ROW(Generic!B291)-ROW(Generic!$B$289),\"\",\"#\")","v":""},{"$f":"+CONCATENATE(\"      username \",'Line Table'!E4,\" password \",'Line Table'!F4)","v":"      username 10004 password 10004"}]
[291,{"$f":"+IF(Data!$C$5>ROW(Generic!B292)-ROW(Generic!$B$289),\"\",\"#\")","v":""},{"$f":"+CONCATENATE(\"      username \",'Line Table'!E5,\" password \",'Line Table'!F5)","v":"      username 10005 password 10005"}]
[292,{"$f":"+IF(Data!$C$5>ROW(Generic!B293)-ROW(Generic!$B$289),\"\",\"#\")","v":""},{"$f":"+CONCATENATE(\"      username \",'Line Table'!E6,\" password \",'Line Table'!F6)","v":"      username 10006 password 10006"}]
[293,{"$f":"+IF(Data!$C$5>ROW(Generic!B294)-ROW(Generic!$B$289),\"\",\"#\")","v":""},{"$f":"+CONCATENATE(\"      username \",'Line Table'!E7,\" password \",'Line Table'!F7)","v":"      username 10007 password 10007"}]
[294,{"$f":"+IF(Data!$C$5>ROW(Generic!B295)-ROW(Generic!$B$289),\"\",\"#\")","v":""},{"$f":"+CONCATENATE(\"      username \",'Line Table'!E8,\" password \",'Line Table'!F8)","v":"      username 10008 password 10008"}]
[295,{"$f":"+IF(Data!$C$5>ROW(Generic!B296)-ROW(Generic!$B$289),\"\",\"#\")","v":""},{"$f":"+CONCATENATE(\"      username \",'Line Table'!E9,\" password \",'Line Table'!F9)","v":"      username 10009 password 10009"}]
[296,{"$f":"+IF(Data!$C$5>ROW(Generic!B297)-ROW(Generic!$B$289),\"\",\"#\")","v":""},{"$f":"+CONCATENATE(\"      username \",'Line Table'!E10,\" password \",'Line Table'!F10)","v":"      username 10010 password 10010"}]
[297,{"$f":"+IF(Data!$C$5>ROW(Generic!B298)-ROW(Generic!$B$289),\"\",\"#\")","v":""},{"$f":"+CONCATENATE(\"      username \",'Line Table'!E11,\" password \",'Line Table'!F11)","v":"      username 10011 password 10011"}]
[298,{"$f":"+IF(Data!$C$5>ROW(Generic!B299)-ROW(Generic!$B$289),\"\",\"#\")","v":""},{"$f":"+CONCATENATE(\"      username \",'Line Table'!E12,\" password \",'Line Table'!F12)","v":"      username 10012 password 10012"}]
[299,{"$f":"+IF(Data!$C$5>ROW(Generic!B300)-ROW(Generic!$B$289),\"\",\"#\")","v":""},{"$f":"+CONCATENATE(\"      username \",'Line Table'!E13,\" password \",'Line Table'!F13)","v":"      username 10013 password 10013"}]
[300,{"$f":"+IF(Data!$C$5>ROW(Generic!B301)-ROW(Generic!$B$289),\"\",\"#\")","v":"#"},{"$f":"+CONCATENATE(\"      username \",'Line Table'!E14,\" password \",'Line Table'!F14)","v":"      username 10014 password 10014"}]
[301,{"$f":"+IF(Data!$C$5>ROW(Generic!B302)-ROW(Generic!$B$289),\"\",\"#\")","v":"#"},{"$f":"+CONCATENATE(\"      username \",'Line Table'!E15,\" password \",'Line Table'!F15)","v":"      username 10015 password 10015"}]
[302,{"$f":"+IF(Data!$C$5>ROW(Generic!B303)-ROW(Generic!$B$289),\"\",\"#\")","v":"#"},{"$f":"+CONCATENATE(\"      username \",'Line Table'!E16,\" password \",'Line Table'!F16)","v":"      username 10016 password 10016"}]
[303,{"$f":"+IF(Data!$C$5>ROW(Generic!B304)-ROW(Generic!$B$289),\"\",\"#\")","v":"#"},{"$f":"+CONCATENATE(\"      username \",'Line Table'!E17,\" password \",'Line Table'!F17)","v":"      username 10017 password 10017"}]
[304,{"$f":"+IF(Data!$C$5>ROW(Generic!B305)-ROW(Generic!$B$289),\"\",\"#\")","v":"#"},{"$f":"+CONCATENATE(\"      username \",'Line Table'!E18,\" password \",'Line Table'!F18)","v":"      username 10018 password 10018"}]
[305,{"$f":"+IF(Data!$C$5>ROW(Generic!B306)-ROW(Generic!$B$289),\"\",\"#\")","v":"#"},{"$f":"+CONCATENATE(\"      username \",'Line Table'!E19,\" password \",'Line Table'!F19)","v":"      username 10019 password 10019"}]
[306,{"$f":"+IF(Data!$C$5>ROW(Generic!B307)-ROW(Generic!$B$289),\"\",\"#\")","v":"#"},{"$f":"+CONCATENATE(\"      username \",'Line Table'!E20,\" password \",'Line Table'!F20)","v":"      username 10020 password 10020"}]
[307,{"$f":"+IF(Data!$C$5>ROW(Generic!B308)-ROW(Generic!$B$289),\"\",\"#\")","v":"#"},{"$f":"+CONCATENATE(\"      username \",'Line Table'!E21,\" password \",'Line Table'!F21)","v":"      username 10021 password 10021"}]
[308,{"$f":"+IF(Data!$C$5>ROW(Generic!B309)-ROW(Generic!$B$289),\"\",\"#\")","v":"#"},{"$f":"+CONCATENATE(\"      username \",'Line Table'!E22,\" password \",'Line Table'!F22)","v":"      username 10022 password 10022"}]
[309,{"$f":"+IF(Data!$C$5>ROW(Generic!B310)-ROW(Generic!$B$289),\"\",\"#\")","v":"#"},{"$f":"+CONCATENATE(\"      username \",'Line Table'!E23,\" password \",'Line Table'!F23)","v":"      username 10023 password 10023"}]
[310,{"$f":"+IF(Data!$C$5>ROW(Generic!B311)-ROW(Generic!$B$289),\"\",\"#\")","v":"#"},{"$f":"+CONCATENATE(\"      username \",'Line Table'!E24,\" password \",'Line Table'!F24)","v":"      username 10024 password 10024"}]
[311,{"$f":"+IF(Data!$C$5>ROW(Generic!B312)-ROW(Generic!$B$289),\"\",\"#\")","v":"#"},{"$f":"+CONCATENATE(\"      username \",'Line Table'!E25,\" password \",'Line Table'!F25)","v":"      username 10025 password 10025"}]
[312,{"$f":"+IF(Data!$C$5>ROW(Generic!B313)-ROW(Generic!$B$289),\"\",\"#\")","v":"#"},{"$f":"+CONCATENATE(\"      username \",'Line Table'!E26,\" password \",'Line Table'!F26)","v":"      username 10026 password 10026"}]
[313,{"$f":"+IF(Data!$C$5>ROW(Generic!B314)-ROW(Generic!$B$289),\"\",\"#\")","v":"#"},{"$f":"+CONCATENATE(\"      username \",'Line Table'!E27,\" password \",'Line Table'!F27)","v":"      username 10027 password 10027"}]
[314,{"$f":"+IF(Data!$C$5>ROW(Generic!B315)-ROW(Generic!$B$289),\"\",\"#\")","v":"#"},{"$f":"+CONCATENATE(\"      username \",'Line Table'!E28,\" password \",'Line Table'!F28)","v":"      username 10028 password 10028"}]
[315,{"$f":"+IF(Data!$C$5>ROW(Generic!B316)-ROW(Generic!$B$289),\"\",\"#\")","v":"#"},{"$f":"+CONCATENATE(\"      username \",'Line Table'!E29,\" password \",'Line Table'!F29)","v":"      username 10029 password 10029"}]
[316,{"$f":"+IF(Data!$C$5>ROW(Generic!B317)-ROW(Generic!$B$289),\"\",\"#\")","v":"#"},{"$f":"+CONCATENATE(\"      username \",'Line Table'!E30,\" password \",'Line Table'!F30)","v":"      username 10030 password 10030"}]
[317,{"$f":"+IF(Data!$C$5>ROW(Generic!B318)-ROW(Generic!$B$289),\"\",\"#\")","v":"#"},{"$f":"+CONCATENATE(\"      username \",'Line Table'!E31,\" password \",'Line Table'!F31)","v":"      username 10031 password 10031"}]
[318,{"$f":"+IF(Data!$C$5>ROW(Generic!B319)-ROW(Generic!$B$289),\"\",\"#\")","v":"#"},{"$f":"+CONCATENATE(\"      username \",'Line Table'!E32,\" password \",'Line Table'!F32)","v":"      username 10032 password 10032"}]
[319,{"$f":"+IF(Data!$C$5>ROW(Generic!B320)-ROW(Generic!$B$289),\"\",\"#\")","v":"#"},{"$f":"+CONCATENATE(\"      username \",'Line Table'!E33,\" password \",'Line Table'!F33)","v":"      username 10033 password 10033"}]
[320]
[321,{"$f":"+IF(Data!$C$6>0,\" \",\"#\")","v":"#"},"location-service LS_ALL_EXTENSIONS"]
[322,{"$f":"+IF(Data!$C$6>0,\" \",\"#\")","v":"#"},{"$f":"+CONCATENATE(\"     domain 1 \",Data!C24,\" \",Data!C25)","v":"     domain 1 10.10.50.23 5060"}]
[323,null,"     identity-group default"]
[324,{"$f":"+IF(Data!$C$6>ROW(Generic!B325)-ROW(Generic!$B$325),\"\",\"#\")","v":"#"},{"$f":"+CONCATENATE(\"     identity \",'Extension Table'!A2,CHAR(13),CHAR(10),,\"          authentication outbound\",CHAR(13),CHAR(10),,\"              authenticate 1 authentication-service AS_ALL_EXTENSIONS username \",'Extension Table'!F2,CHAR(13),CHAR(10),\"          registration outbound\",CHAR(13),CHAR(10),\"             registrar \",Data!$C$24,\" \",Data!$C$25,CHAR(13),CHAR(10),\"             lifetime 300\",CHAR(13),CHAR(10),\"             register auto\",CHAR(13),CHAR(10),\"             retry-timeout on-system-error 10\",CHAR(13),CHAR(10),\"             retry-timeout on-client-error 10\",CHAR(13),CHAR(10),\"             retry-timeout on-server-error 10\")","v":"     identity 101\r\n          authentication outbound\r\n              authenticate 1 authentication-service AS_ALL_EXTENSIONS username 101\r\n          registration outbound\r\n             registrar 10.10.50.23 5060\r\n             lifetime 300\r\n             register auto\r\n             retry-timeout on-system-error 10\r\n             retry-timeout on-client-error 10\r\n             retry-timeout on-server-error 10"}]
[325,{"$f":"+IF(Data!$C$6>ROW(Generic!B326)-ROW(Generic!$B$325),\"\",\"#\")","v":"#"},{"$f":"+CONCATENATE(\"     identity \",'Extension Table'!A3,CHAR(13),CHAR(10),,\"          authentication outbound\",CHAR(13),CHAR(10),,\"              authenticate 1 authentication-service AS_ALL_EXTENSIONS username \",'Extension Table'!F3,CHAR(13),CHAR(10),\"          registration outbound\",CHAR(13),CHAR(10),\"             registrar \",Data!$C$24,\" \",Data!$C$25,CHAR(13),CHAR(10),\"             lifetime 300\",CHAR(13),CHAR(10),\"             register auto\",CHAR(13),CHAR(10),\"             retry-timeout on-system-error 10\",CHAR(13),CHAR(10),\"             retry-timeout on-client-error 10\",CHAR(13),CHAR(10),\"             retry-timeout on-server-error 10\")","v":"     identity 102\r\n          authentication outbound\r\n              authenticate 1 authentication-service AS_ALL_EXTENSIONS username 102\r\n          registration outbound\r\n             registrar 10.10.50.23 5060\r\n             lifetime 300\r\n             register auto\r\n             retry-timeout on-system-error 10\r\n             retry-timeout on-client-error 10\r\n             retry-timeout on-server-error 10"}]
[326,{"$f":"+IF(Data!$C$6>ROW(Generic!B327)-ROW(Generic!$B$325),\"\",\"#\")","v":"#"},{"$f":"+CONCATENATE(\"     identity \",'Extension Table'!A4,CHAR(13),CHAR(10),,\"          authentication outbound\",CHAR(13),CHAR(10),,\"              authenticate 1 authentication-service AS_ALL_EXTENSIONS username \",'Extension Table'!F4,CHAR(13),CHAR(10),\"          registration outbound\",CHAR(13),CHAR(10),\"             registrar \",Data!$C$24,\" \",Data!$C$25,CHAR(13),CHAR(10),\"             lifetime 300\",CHAR(13),CHAR(10),\"             register auto\",CHAR(13),CHAR(10),\"             retry-timeout on-system-error 10\",CHAR(13),CHAR(10),\"             retry-timeout on-client-error 10\",CHAR(13),CHAR(10),\"             retry-timeout on-server-error 10\")","v":"     identity 103\r\n          authentication outbound\r\n              authenticate 1 authentication-service AS_ALL_EXTENSIONS username 103\r\n          registration outbound\r\n             registrar 10.10.50.23 5060\r\n             lifetime 300\r\n             register auto\r\n             retry-timeout on-system-error 10\r\n             retry-timeout on-client-error 10\r\n             retry-timeout on-server-error 10"}]
[327,{"$f":"+IF(Data!$C$6>ROW(Generic!B328)-ROW(Generic!$B$325),\"\",\"#\")","v":"#"},{"$f":"+CONCATENATE(\"     identity \",'Extension Table'!A5,CHAR(13),CHAR(10),,\"          authentication outbound\",CHAR(13),CHAR(10),,\"              authenticate 1 authentication-service AS_ALL_EXTENSIONS username \",'Extension Table'!F5,CHAR(13),CHAR(10),\"          registration outbound\",CHAR(13),CHAR(10),\"             registrar \",Data!$C$24,\" \",Data!$C$25,CHAR(13),CHAR(10),\"             lifetime 300\",CHAR(13),CHAR(10),\"             register auto\",CHAR(13),CHAR(10),\"             retry-timeout on-system-error 10\",CHAR(13),CHAR(10),\"             retry-timeout on-client-error 10\",CHAR(13),CHAR(10),\"             retry-timeout on-server-error 10\")","v":"     identity 104\r\n          authentication outbound\r\n              authenticate 1 authentication-service AS_ALL_EXTENSIONS username 104\r\n          registration outbound\r\n             registrar 10.10.50.23 5060\r\n             lifetime 300\r\n             register auto\r\n             retry-timeout on-system-error 10\r\n             retry-timeout on-client-error 10\r\n             retry-timeout on-server-error 10"}]
[328,{"$f":"+IF(Data!$C$6>ROW(Generic!B329)-ROW(Generic!$B$325),\"\",\"#\")","v":"#"},{"$f":"+CONCATENATE(\"     identity \",'Extension Table'!A6,CHAR(13),CHAR(10),,\"          authentication outbound\",CHAR(13),CHAR(10),,\"              authenticate 1 authentication-service AS_ALL_EXTENSIONS username \",'Extension Table'!F6,CHAR(13),CHAR(10),\"          registration outbound\",CHAR(13),CHAR(10),\"             registrar \",Data!$C$24,\" \",Data!$C$25,CHAR(13),CHAR(10),\"             lifetime 300\",CHAR(13),CHAR(10),\"             register auto\",CHAR(13),CHAR(10),\"             retry-timeout on-system-error 10\",CHAR(13),CHAR(10),\"             retry-timeout on-client-error 10\",CHAR(13),CHAR(10),\"             retry-timeout on-server-error 10\")","v":"     identity 105\r\n          authentication outbound\r\n              authenticate 1 authentication-service AS_ALL_EXTENSIONS username 105\r\n          registration outbound\r\n             registrar 10.10.50.23 5060\r\n             lifetime 300\r\n             register auto\r\n             retry-timeout on-system-error 10\r\n             retry-timeout on-client-error 10\r\n             retry-timeout on-server-error 10"}]
[329,{"$f":"+IF(Data!$C$6>ROW(Generic!B330)-ROW(Generic!$B$325),\"\",\"#\")","v":"#"},{"$f":"+CONCATENATE(\"     identity \",'Extension Table'!A7,CHAR(13),CHAR(10),,\"          authentication outbound\",CHAR(13),CHAR(10),,\"              authenticate 1 authentication-service AS_ALL_EXTENSIONS username \",'Extension Table'!F7,CHAR(13),CHAR(10),\"          registration outbound\",CHAR(13),CHAR(10),\"             registrar \",Data!$C$24,\" \",Data!$C$25,CHAR(13),CHAR(10),\"             lifetime 300\",CHAR(13),CHAR(10),\"             register auto\",CHAR(13),CHAR(10),\"             retry-timeout on-system-error 10\",CHAR(13),CHAR(10),\"             retry-timeout on-client-error 10\",CHAR(13),CHAR(10),\"             retry-timeout on-server-error 10\")","v":"     identity 106\r\n          authentication outbound\r\n              authenticate 1 authentication-service AS_ALL_EXTENSIONS username 106\r\n          registration outbound\r\n             registrar 10.10.50.23 5060\r\n             lifetime 300\r\n             register auto\r\n             retry-timeout on-system-error 10\r\n             retry-timeout on-client-error 10\r\n             retry-timeout on-server-error 10"}]
[330,{"$f":"+IF(Data!$C$6>ROW(Generic!B331)-ROW(Generic!$B$325),\"\",\"#\")","v":"#"},{"$f":"+CONCATENATE(\"     identity \",'Extension Table'!A8,CHAR(13),CHAR(10),,\"          authentication outbound\",CHAR(13),CHAR(10),,\"              authenticate 1 authentication-service AS_ALL_EXTENSIONS username \",'Extension Table'!F8,CHAR(13),CHAR(10),\"          registration outbound\",CHAR(13),CHAR(10),\"             registrar \",Data!$C$24,\" \",Data!$C$25,CHAR(13),CHAR(10),\"             lifetime 300\",CHAR(13),CHAR(10),\"             register auto\",CHAR(13),CHAR(10),\"             retry-timeout on-system-error 10\",CHAR(13),CHAR(10),\"             retry-timeout on-client-error 10\",CHAR(13),CHAR(10),\"             retry-timeout on-server-error 10\")","v":"     identity 107\r\n          authentication outbound\r\n              authenticate 1 authentication-service AS_ALL_EXTENSIONS username 107\r\n          registration outbound\r\n             registrar 10.10.50.23 5060\r\n             lifetime 300\r\n             register auto\r\n             retry-timeout on-system-error 10\r\n             retry-timeout on-client-error 10\r\n             retry-timeout on-server-error 10"}]
[331,{"$f":"+IF(Data!$C$6>ROW(Generic!B332)-ROW(Generic!$B$325),\"\",\"#\")","v":"#"},{"$f":"+CONCATENATE(\"     identity \",'Extension Table'!A9,CHAR(13),CHAR(10),,\"          authentication outbound\",CHAR(13),CHAR(10),,\"              authenticate 1 authentication-service AS_ALL_EXTENSIONS username \",'Extension Table'!F9,CHAR(13),CHAR(10),\"          registration outbound\",CHAR(13),CHAR(10),\"             registrar \",Data!$C$24,\" \",Data!$C$25,CHAR(13),CHAR(10),\"             lifetime 300\",CHAR(13),CHAR(10),\"             register auto\",CHAR(13),CHAR(10),\"             retry-timeout on-system-error 10\",CHAR(13),CHAR(10),\"             retry-timeout on-client-error 10\",CHAR(13),CHAR(10),\"             retry-timeout on-server-error 10\")","v":"     identity 108\r\n          authentication outbound\r\n              authenticate 1 authentication-service AS_ALL_EXTENSIONS username 108\r\n          registration outbound\r\n             registrar 10.10.50.23 5060\r\n             lifetime 300\r\n             register auto\r\n             retry-timeout on-system-error 10\r\n             retry-timeout on-client-error 10\r\n             retry-timeout on-server-error 10"}]
[332,{"$f":"+IF(Data!$C$6>ROW(Generic!B333)-ROW(Generic!$B$325),\"\",\"#\")","v":"#"},{"$f":"+CONCATENATE(\"     identity \",'Extension Table'!A10,CHAR(13),CHAR(10),,\"          authentication outbound\",CHAR(13),CHAR(10),,\"              authenticate 1 authentication-service AS_ALL_EXTENSIONS username \",'Extension Table'!F10,CHAR(13),CHAR(10),\"          registration outbound\",CHAR(13),CHAR(10),\"             registrar \",Data!$C$24,\" \",Data!$C$25,CHAR(13),CHAR(10),\"             lifetime 300\",CHAR(13),CHAR(10),\"             register auto\",CHAR(13),CHAR(10),\"             retry-timeout on-system-error 10\",CHAR(13),CHAR(10),\"             retry-timeout on-client-error 10\",CHAR(13),CHAR(10),\"             retry-timeout on-server-error 10\")","v":"     identity 109\r\n          authentication outbound\r\n              authenticate 1 authentication-service AS_ALL_EXTENSIONS username 109\r\n          registration outbound\r\n             registrar 10.10.50.23 5060\r\n             lifetime 300\r\n             register auto\r\n             retry-timeout on-system-error 10\r\n             retry-timeout on-client-error 10\r\n             retry-timeout on-server-error 10"}]
[333,{"$f":"+IF(Data!$C$6>ROW(Generic!B334)-ROW(Generic!$B$325),\"\",\"#\")","v":"#"},{"$f":"+CONCATENATE(\"     identity \",'Extension Table'!A11,CHAR(13),CHAR(10),,\"          authentication outbound\",CHAR(13),CHAR(10),,\"              authenticate 1 authentication-service AS_ALL_EXTENSIONS username \",'Extension Table'!F11,CHAR(13),CHAR(10),\"          registration outbound\",CHAR(13),CHAR(10),\"             registrar \",Data!$C$24,\" \",Data!$C$25,CHAR(13),CHAR(10),\"             lifetime 300\",CHAR(13),CHAR(10),\"             register auto\",CHAR(13),CHAR(10),\"             retry-timeout on-system-error 10\",CHAR(13),CHAR(10),\"             retry-timeout on-client-error 10\",CHAR(13),CHAR(10),\"             retry-timeout on-server-error 10\")","v":"     identity 110\r\n          authentication outbound\r\n              authenticate 1 authentication-service AS_ALL_EXTENSIONS username 110\r\n          registration outbound\r\n             registrar 10.10.50.23 5060\r\n             lifetime 300\r\n             register auto\r\n             retry-timeout on-system-error 10\r\n             retry-timeout on-client-error 10\r\n             retry-timeout on-server-error 10"}]
[334,{"$f":"+IF(Data!$C$6>ROW(Generic!B335)-ROW(Generic!$B$325),\"\",\"#\")","v":"#"},{"$f":"+CONCATENATE(\"     identity \",'Extension Table'!A12,CHAR(13),CHAR(10),,\"          authentication outbound\",CHAR(13),CHAR(10),,\"              authenticate 1 authentication-service AS_ALL_EXTENSIONS username \",'Extension Table'!F12,CHAR(13),CHAR(10),\"          registration outbound\",CHAR(13),CHAR(10),\"             registrar \",Data!$C$24,\" \",Data!$C$25,CHAR(13),CHAR(10),\"             lifetime 300\",CHAR(13),CHAR(10),\"             register auto\",CHAR(13),CHAR(10),\"             retry-timeout on-system-error 10\",CHAR(13),CHAR(10),\"             retry-timeout on-client-error 10\",CHAR(13),CHAR(10),\"             retry-timeout on-server-error 10\")","v":"     identity 111\r\n          authentication outbound\r\n              authenticate 1 authentication-service AS_ALL_EXTENSIONS username 111\r\n          registration outbound\r\n             registrar 10.10.50.23 5060\r\n             lifetime 300\r\n             register auto\r\n             retry-timeout on-system-error 10\r\n             retry-timeout on-client-error 10\r\n             retry-timeout on-server-error 10"}]
[335,{"$f":"+IF(Data!$C$6>ROW(Generic!B336)-ROW(Generic!$B$325),\"\",\"#\")","v":"#"},{"$f":"+CONCATENATE(\"     identity \",'Extension Table'!A13,CHAR(13),CHAR(10),,\"          authentication outbound\",CHAR(13),CHAR(10),,\"              authenticate 1 authentication-service AS_ALL_EXTENSIONS username \",'Extension Table'!F13,CHAR(13),CHAR(10),\"          registration outbound\",CHAR(13),CHAR(10),\"             registrar \",Data!$C$24,\" \",Data!$C$25,CHAR(13),CHAR(10),\"             lifetime 300\",CHAR(13),CHAR(10),\"             register auto\",CHAR(13),CHAR(10),\"             retry-timeout on-system-error 10\",CHAR(13),CHAR(10),\"             retry-timeout on-client-error 10\",CHAR(13),CHAR(10),\"             retry-timeout on-server-error 10\")","v":"     identity 112\r\n          authentication outbound\r\n              authenticate 1 authentication-service AS_ALL_EXTENSIONS username 112\r\n          registration outbound\r\n             registrar 10.10.50.23 5060\r\n             lifetime 300\r\n             register auto\r\n             retry-timeout on-system-error 10\r\n             retry-timeout on-client-error 10\r\n             retry-timeout on-server-error 10"}]
[336,{"$f":"+IF(Data!$C$6>ROW(Generic!B337)-ROW(Generic!$B$325),\"\",\"#\")","v":"#"},{"$f":"+CONCATENATE(\"     identity \",'Extension Table'!A14,CHAR(13),CHAR(10),,\"          authentication outbound\",CHAR(13),CHAR(10),,\"              authenticate 1 authentication-service AS_ALL_EXTENSIONS username \",'Extension Table'!F14,CHAR(13),CHAR(10),\"          registration outbound\",CHAR(13),CHAR(10),\"             registrar \",Data!$C$24,\" \",Data!$C$25,CHAR(13),CHAR(10),\"             lifetime 300\",CHAR(13),CHAR(10),\"             register auto\",CHAR(13),CHAR(10),\"             retry-timeout on-system-error 10\",CHAR(13),CHAR(10),\"             retry-timeout on-client-error 10\",CHAR(13),CHAR(10),\"             retry-timeout on-server-error 10\")","v":"     identity 113\r\n          authentication outbound\r\n              authenticate 1 authentication-service AS_ALL_EXTENSIONS username 113\r\n          registration outbound\r\n             registrar 10.10.50.23 5060\r\n             lifetime 300\r\n             register auto\r\n             retry-timeout on-system-error 10\r\n             retry-timeout on-client-error 10\r\n             retry-timeout on-server-error 10"}]
[337,{"$f":"+IF(Data!$C$6>ROW(Generic!B338)-ROW(Generic!$B$325),\"\",\"#\")","v":"#"},{"$f":"+CONCATENATE(\"     identity \",'Extension Table'!A15,CHAR(13),CHAR(10),,\"          authentication outbound\",CHAR(13),CHAR(10),,\"              authenticate 1 authentication-service AS_ALL_EXTENSIONS username \",'Extension Table'!F15,CHAR(13),CHAR(10),\"          registration outbound\",CHAR(13),CHAR(10),\"             registrar \",Data!$C$24,\" \",Data!$C$25,CHAR(13),CHAR(10),\"             lifetime 300\",CHAR(13),CHAR(10),\"             register auto\",CHAR(13),CHAR(10),\"             retry-timeout on-system-error 10\",CHAR(13),CHAR(10),\"             retry-timeout on-client-error 10\",CHAR(13),CHAR(10),\"             retry-timeout on-server-error 10\")","v":"     identity 114\r\n          authentication outbound\r\n              authenticate 1 authentication-service AS_ALL_EXTENSIONS username 114\r\n          registration outbound\r\n             registrar 10.10.50.23 5060\r\n             lifetime 300\r\n             register auto\r\n             retry-timeout on-system-error 10\r\n             retry-timeout on-client-error 10\r\n             retry-timeout on-server-error 10"}]
[338,{"$f":"+IF(Data!$C$6>ROW(Generic!B339)-ROW(Generic!$B$325),\"\",\"#\")","v":"#"},{"$f":"+CONCATENATE(\"     identity \",'Extension Table'!A16,CHAR(13),CHAR(10),,\"          authentication outbound\",CHAR(13),CHAR(10),,\"              authenticate 1 authentication-service AS_ALL_EXTENSIONS username \",'Extension Table'!F16,CHAR(13),CHAR(10),\"          registration outbound\",CHAR(13),CHAR(10),\"             registrar \",Data!$C$24,\" \",Data!$C$25,CHAR(13),CHAR(10),\"             lifetime 300\",CHAR(13),CHAR(10),\"             register auto\",CHAR(13),CHAR(10),\"             retry-timeout on-system-error 10\",CHAR(13),CHAR(10),\"             retry-timeout on-client-error 10\",CHAR(13),CHAR(10),\"             retry-timeout on-server-error 10\")","v":"     identity 115\r\n          authentication outbound\r\n              authenticate 1 authentication-service AS_ALL_EXTENSIONS username 115\r\n          registration outbound\r\n             registrar 10.10.50.23 5060\r\n             lifetime 300\r\n             register auto\r\n             retry-timeout on-system-error 10\r\n             retry-timeout on-client-error 10\r\n             retry-timeout on-server-error 10"}]
[339,{"$f":"+IF(Data!$C$6>ROW(Generic!B340)-ROW(Generic!$B$325),\"\",\"#\")","v":"#"},{"$f":"+CONCATENATE(\"     identity \",'Extension Table'!A17,CHAR(13),CHAR(10),,\"          authentication outbound\",CHAR(13),CHAR(10),,\"              authenticate 1 authentication-service AS_ALL_EXTENSIONS username \",'Extension Table'!F17,CHAR(13),CHAR(10),\"          registration outbound\",CHAR(13),CHAR(10),\"             registrar \",Data!$C$24,\" \",Data!$C$25,CHAR(13),CHAR(10),\"             lifetime 300\",CHAR(13),CHAR(10),\"             register auto\",CHAR(13),CHAR(10),\"             retry-timeout on-system-error 10\",CHAR(13),CHAR(10),\"             retry-timeout on-client-error 10\",CHAR(13),CHAR(10),\"             retry-timeout on-server-error 10\")","v":"     identity 116\r\n          authentication outbound\r\n              authenticate 1 authentication-service AS_ALL_EXTENSIONS username 116\r\n          registration outbound\r\n             registrar 10.10.50.23 5060\r\n             lifetime 300\r\n             register auto\r\n             retry-timeout on-system-error 10\r\n             retry-timeout on-client-error 10\r\n             retry-timeout on-server-error 10"}]
[340,{"$f":"+IF(Data!$C$6>ROW(Generic!B341)-ROW(Generic!$B$325),\"\",\"#\")","v":"#"},{"$f":"+CONCATENATE(\"     identity \",'Extension Table'!A18,CHAR(13),CHAR(10),,\"          authentication outbound\",CHAR(13),CHAR(10),,\"              authenticate 1 authentication-service AS_ALL_EXTENSIONS username \",'Extension Table'!F18,CHAR(13),CHAR(10),\"          registration outbound\",CHAR(13),CHAR(10),\"             registrar \",Data!$C$24,\" \",Data!$C$25,CHAR(13),CHAR(10),\"             lifetime 300\",CHAR(13),CHAR(10),\"             register auto\",CHAR(13),CHAR(10),\"             retry-timeout on-system-error 10\",CHAR(13),CHAR(10),\"             retry-timeout on-client-error 10\",CHAR(13),CHAR(10),\"             retry-timeout on-server-error 10\")","v":"     identity 117\r\n          authentication outbound\r\n              authenticate 1 authentication-service AS_ALL_EXTENSIONS username 117\r\n          registration outbound\r\n             registrar 10.10.50.23 5060\r\n             lifetime 300\r\n             register auto\r\n             retry-timeout on-system-error 10\r\n             retry-timeout on-client-error 10\r\n             retry-timeout on-server-error 10"}]
[341,{"$f":"+IF(Data!$C$6>ROW(Generic!B342)-ROW(Generic!$B$325),\"\",\"#\")","v":"#"},{"$f":"+CONCATENATE(\"     identity \",'Extension Table'!A19,CHAR(13),CHAR(10),,\"          authentication outbound\",CHAR(13),CHAR(10),,\"              authenticate 1 authentication-service AS_ALL_EXTENSIONS username \",'Extension Table'!F19,CHAR(13),CHAR(10),\"          registration outbound\",CHAR(13),CHAR(10),\"             registrar \",Data!$C$24,\" \",Data!$C$25,CHAR(13),CHAR(10),\"             lifetime 300\",CHAR(13),CHAR(10),\"             register auto\",CHAR(13),CHAR(10),\"             retry-timeout on-system-error 10\",CHAR(13),CHAR(10),\"             retry-timeout on-client-error 10\",CHAR(13),CHAR(10),\"             retry-timeout on-server-error 10\")","v":"     identity 118\r\n          authentication outbound\r\n              authenticate 1 authentication-service AS_ALL_EXTENSIONS username 118\r\n          registration outbound\r\n             registrar 10.10.50.23 5060\r\n             lifetime 300\r\n             register auto\r\n             retry-timeout on-system-error 10\r\n             retry-timeout on-client-error 10\r\n             retry-timeout on-server-error 10"}]
[342,{"$f":"+IF(Data!$C$6>ROW(Generic!B343)-ROW(Generic!$B$325),\"\",\"#\")","v":"#"},{"$f":"+CONCATENATE(\"     identity \",'Extension Table'!A20,CHAR(13),CHAR(10),,\"          authentication outbound\",CHAR(13),CHAR(10),,\"              authenticate 1 authentication-service AS_ALL_EXTENSIONS username \",'Extension Table'!F20,CHAR(13),CHAR(10),\"          registration outbound\",CHAR(13),CHAR(10),\"             registrar \",Data!$C$24,\" \",Data!$C$25,CHAR(13),CHAR(10),\"             lifetime 300\",CHAR(13),CHAR(10),\"             register auto\",CHAR(13),CHAR(10),\"             retry-timeout on-system-error 10\",CHAR(13),CHAR(10),\"             retry-timeout on-client-error 10\",CHAR(13),CHAR(10),\"             retry-timeout on-server-error 10\")","v":"     identity 119\r\n          authentication outbound\r\n              authenticate 1 authentication-service AS_ALL_EXTENSIONS username 119\r\n          registration outbound\r\n             registrar 10.10.50.23 5060\r\n             lifetime 300\r\n             register auto\r\n             retry-timeout on-system-error 10\r\n             retry-timeout on-client-error 10\r\n             retry-timeout on-server-error 10"}]
[343,{"$f":"+IF(Data!$C$6>ROW(Generic!B344)-ROW(Generic!$B$325),\"\",\"#\")","v":"#"},{"$f":"+CONCATENATE(\"     identity \",'Extension Table'!A21,CHAR(13),CHAR(10),,\"          authentication outbound\",CHAR(13),CHAR(10),,\"              authenticate 1 authentication-service AS_ALL_EXTENSIONS username \",'Extension Table'!F21,CHAR(13),CHAR(10),\"          registration outbound\",CHAR(13),CHAR(10),\"             registrar \",Data!$C$24,\" \",Data!$C$25,CHAR(13),CHAR(10),\"             lifetime 300\",CHAR(13),CHAR(10),\"             register auto\",CHAR(13),CHAR(10),\"             retry-timeout on-system-error 10\",CHAR(13),CHAR(10),\"             retry-timeout on-client-error 10\",CHAR(13),CHAR(10),\"             retry-timeout on-server-error 10\")","v":"     identity 120\r\n          authentication outbound\r\n              authenticate 1 authentication-service AS_ALL_EXTENSIONS username 120\r\n          registration outbound\r\n             registrar 10.10.50.23 5060\r\n             lifetime 300\r\n             register auto\r\n             retry-timeout on-system-error 10\r\n             retry-timeout on-client-error 10\r\n             retry-timeout on-server-error 10"}]
[344,{"$f":"+IF(Data!$C$6>ROW(Generic!B345)-ROW(Generic!$B$325),\"\",\"#\")","v":"#"},{"$f":"+CONCATENATE(\"     identity \",'Extension Table'!A22,CHAR(13),CHAR(10),,\"          authentication outbound\",CHAR(13),CHAR(10),,\"              authenticate 1 authentication-service AS_ALL_EXTENSIONS username \",'Extension Table'!F22,CHAR(13),CHAR(10),\"          registration outbound\",CHAR(13),CHAR(10),\"             registrar \",Data!$C$24,\" \",Data!$C$25,CHAR(13),CHAR(10),\"             lifetime 300\",CHAR(13),CHAR(10),\"             register auto\",CHAR(13),CHAR(10),\"             retry-timeout on-system-error 10\",CHAR(13),CHAR(10),\"             retry-timeout on-client-error 10\",CHAR(13),CHAR(10),\"             retry-timeout on-server-error 10\")","v":"     identity 121\r\n          authentication outbound\r\n              authenticate 1 authentication-service AS_ALL_EXTENSIONS username 121\r\n          registration outbound\r\n             registrar 10.10.50.23 5060\r\n             lifetime 300\r\n             register auto\r\n             retry-timeout on-system-error 10\r\n             retry-timeout on-client-error 10\r\n             retry-timeout on-server-error 10"}]
[345,{"$f":"+IF(Data!$C$6>ROW(Generic!B346)-ROW(Generic!$B$325),\"\",\"#\")","v":"#"},{"$f":"+CONCATENATE(\"     identity \",'Extension Table'!A23,CHAR(13),CHAR(10),,\"          authentication outbound\",CHAR(13),CHAR(10),,\"              authenticate 1 authentication-service AS_ALL_EXTENSIONS username \",'Extension Table'!F23,CHAR(13),CHAR(10),\"          registration outbound\",CHAR(13),CHAR(10),\"             registrar \",Data!$C$24,\" \",Data!$C$25,CHAR(13),CHAR(10),\"             lifetime 300\",CHAR(13),CHAR(10),\"             register auto\",CHAR(13),CHAR(10),\"             retry-timeout on-system-error 10\",CHAR(13),CHAR(10),\"             retry-timeout on-client-error 10\",CHAR(13),CHAR(10),\"             retry-timeout on-server-error 10\")","v":"     identity 122\r\n          authentication outbound\r\n              authenticate 1 authentication-service AS_ALL_EXTENSIONS username 122\r\n          registration outbound\r\n             registrar 10.10.50.23 5060\r\n             lifetime 300\r\n             register auto\r\n             retry-timeout on-system-error 10\r\n             retry-timeout on-client-error 10\r\n             retry-timeout on-server-error 10"}]
[346,{"$f":"+IF(Data!$C$6>ROW(Generic!B347)-ROW(Generic!$B$325),\"\",\"#\")","v":"#"},{"$f":"+CONCATENATE(\"     identity \",'Extension Table'!A24,CHAR(13),CHAR(10),,\"          authentication outbound\",CHAR(13),CHAR(10),,\"              authenticate 1 authentication-service AS_ALL_EXTENSIONS username \",'Extension Table'!F24,CHAR(13),CHAR(10),\"          registration outbound\",CHAR(13),CHAR(10),\"             registrar \",Data!$C$24,\" \",Data!$C$25,CHAR(13),CHAR(10),\"             lifetime 300\",CHAR(13),CHAR(10),\"             register auto\",CHAR(13),CHAR(10),\"             retry-timeout on-system-error 10\",CHAR(13),CHAR(10),\"             retry-timeout on-client-error 10\",CHAR(13),CHAR(10),\"             retry-timeout on-server-error 10\")","v":"     identity 123\r\n          authentication outbound\r\n              authenticate 1 authentication-service AS_ALL_EXTENSIONS username 123\r\n          registration outbound\r\n             registrar 10.10.50.23 5060\r\n             lifetime 300\r\n             register auto\r\n             retry-timeout on-system-error 10\r\n             retry-timeout on-client-error 10\r\n             retry-timeout on-server-error 10"}]
[347,{"$f":"+IF(Data!$C$6>ROW(Generic!B348)-ROW(Generic!$B$325),\"\",\"#\")","v":"#"},{"$f":"+CONCATENATE(\"     identity \",'Extension Table'!A25,CHAR(13),CHAR(10),,\"          authentication outbound\",CHAR(13),CHAR(10),,\"              authenticate 1 authentication-service AS_ALL_EXTENSIONS username \",'Extension Table'!F25,CHAR(13),CHAR(10),\"          registration outbound\",CHAR(13),CHAR(10),\"             registrar \",Data!$C$24,\" \",Data!$C$25,CHAR(13),CHAR(10),\"             lifetime 300\",CHAR(13),CHAR(10),\"             register auto\",CHAR(13),CHAR(10),\"             retry-timeout on-system-error 10\",CHAR(13),CHAR(10),\"             retry-timeout on-client-error 10\",CHAR(13),CHAR(10),\"             retry-timeout on-server-error 10\")","v":"     identity 124\r\n          authentication outbound\r\n              authenticate 1 authentication-service AS_ALL_EXTENSIONS username 124\r\n          registration outbound\r\n             registrar 10.10.50.23 5060\r\n             lifetime 300\r\n             register auto\r\n             retry-timeout on-system-error 10\r\n             retry-timeout on-client-error 10\r\n             retry-timeout on-server-error 10"}]
[348,{"$f":"+IF(Data!$C$6>ROW(Generic!B349)-ROW(Generic!$B$325),\"\",\"#\")","v":"#"},{"$f":"+CONCATENATE(\"     identity \",'Extension Table'!A26,CHAR(13),CHAR(10),,\"          authentication outbound\",CHAR(13),CHAR(10),,\"              authenticate 1 authentication-service AS_ALL_EXTENSIONS username \",'Extension Table'!F26,CHAR(13),CHAR(10),\"          registration outbound\",CHAR(13),CHAR(10),\"             registrar \",Data!$C$24,\" \",Data!$C$25,CHAR(13),CHAR(10),\"             lifetime 300\",CHAR(13),CHAR(10),\"             register auto\",CHAR(13),CHAR(10),\"             retry-timeout on-system-error 10\",CHAR(13),CHAR(10),\"             retry-timeout on-client-error 10\",CHAR(13),CHAR(10),\"             retry-timeout on-server-error 10\")","v":"     identity 125\r\n          authentication outbound\r\n              authenticate 1 authentication-service AS_ALL_EXTENSIONS username 125\r\n          registration outbound\r\n             registrar 10.10.50.23 5060\r\n             lifetime 300\r\n             register auto\r\n             retry-timeout on-system-error 10\r\n             retry-timeout on-client-error 10\r\n             retry-timeout on-server-error 10"}]
[349,{"$f":"+IF(Data!$C$6>ROW(Generic!B350)-ROW(Generic!$B$325),\"\",\"#\")","v":"#"},{"$f":"+CONCATENATE(\"     identity \",'Extension Table'!A27,CHAR(13),CHAR(10),,\"          authentication outbound\",CHAR(13),CHAR(10),,\"              authenticate 1 authentication-service AS_ALL_EXTENSIONS username \",'Extension Table'!F27,CHAR(13),CHAR(10),\"          registration outbound\",CHAR(13),CHAR(10),\"             registrar \",Data!$C$24,\" \",Data!$C$25,CHAR(13),CHAR(10),\"             lifetime 300\",CHAR(13),CHAR(10),\"             register auto\",CHAR(13),CHAR(10),\"             retry-timeout on-system-error 10\",CHAR(13),CHAR(10),\"             retry-timeout on-client-error 10\",CHAR(13),CHAR(10),\"             retry-timeout on-server-error 10\")","v":"     identity 126\r\n          authentication outbound\r\n              authenticate 1 authentication-service AS_ALL_EXTENSIONS username 126\r\n          registration outbound\r\n             registrar 10.10.50.23 5060\r\n             lifetime 300\r\n             register auto\r\n             retry-timeout on-system-error 10\r\n             retry-timeout on-client-error 10\r\n             retry-timeout on-server-error 10"}]
[350,{"$f":"+IF(Data!$C$6>ROW(Generic!B351)-ROW(Generic!$B$325),\"\",\"#\")","v":"#"},{"$f":"+CONCATENATE(\"     identity \",'Extension Table'!A28,CHAR(13),CHAR(10),,\"          authentication outbound\",CHAR(13),CHAR(10),,\"              authenticate 1 authentication-service AS_ALL_EXTENSIONS username \",'Extension Table'!F28,CHAR(13),CHAR(10),\"          registration outbound\",CHAR(13),CHAR(10),\"             registrar \",Data!$C$24,\" \",Data!$C$25,CHAR(13),CHAR(10),\"             lifetime 300\",CHAR(13),CHAR(10),\"             register auto\",CHAR(13),CHAR(10),\"             retry-timeout on-system-error 10\",CHAR(13),CHAR(10),\"             retry-timeout on-client-error 10\",CHAR(13),CHAR(10),\"             retry-timeout on-server-error 10\")","v":"     identity 127\r\n          authentication outbound\r\n              authenticate 1 authentication-service AS_ALL_EXTENSIONS username 127\r\n          registration outbound\r\n             registrar 10.10.50.23 5060\r\n             lifetime 300\r\n             register auto\r\n             retry-timeout on-system-error 10\r\n             retry-timeout on-client-error 10\r\n             retry-timeout on-server-error 10"}]
[351,{"$f":"+IF(Data!$C$6>ROW(Generic!B352)-ROW(Generic!$B$325),\"\",\"#\")","v":"#"},{"$f":"+CONCATENATE(\"     identity \",'Extension Table'!A29,CHAR(13),CHAR(10),,\"          authentication outbound\",CHAR(13),CHAR(10),,\"              authenticate 1 authentication-service AS_ALL_EXTENSIONS username \",'Extension Table'!F29,CHAR(13),CHAR(10),\"          registration outbound\",CHAR(13),CHAR(10),\"             registrar \",Data!$C$24,\" \",Data!$C$25,CHAR(13),CHAR(10),\"             lifetime 300\",CHAR(13),CHAR(10),\"             register auto\",CHAR(13),CHAR(10),\"             retry-timeout on-system-error 10\",CHAR(13),CHAR(10),\"             retry-timeout on-client-error 10\",CHAR(13),CHAR(10),\"             retry-timeout on-server-error 10\")","v":"     identity 128\r\n          authentication outbound\r\n              authenticate 1 authentication-service AS_ALL_EXTENSIONS username 128\r\n          registration outbound\r\n             registrar 10.10.50.23 5060\r\n             lifetime 300\r\n             register auto\r\n             retry-timeout on-system-error 10\r\n             retry-timeout on-client-error 10\r\n             retry-timeout on-server-error 10"}]
[352,{"$f":"+IF(Data!$C$6>ROW(Generic!B353)-ROW(Generic!$B$325),\"\",\"#\")","v":"#"},{"$f":"+CONCATENATE(\"     identity \",'Extension Table'!A30,CHAR(13),CHAR(10),,\"          authentication outbound\",CHAR(13),CHAR(10),,\"              authenticate 1 authentication-service AS_ALL_EXTENSIONS username \",'Extension Table'!F30,CHAR(13),CHAR(10),\"          registration outbound\",CHAR(13),CHAR(10),\"             registrar \",Data!$C$24,\" \",Data!$C$25,CHAR(13),CHAR(10),\"             lifetime 300\",CHAR(13),CHAR(10),\"             register auto\",CHAR(13),CHAR(10),\"             retry-timeout on-system-error 10\",CHAR(13),CHAR(10),\"             retry-timeout on-client-error 10\",CHAR(13),CHAR(10),\"             retry-timeout on-server-error 10\")","v":"     identity 129\r\n          authentication outbound\r\n              authenticate 1 authentication-service AS_ALL_EXTENSIONS username 129\r\n          registration outbound\r\n             registrar 10.10.50.23 5060\r\n             lifetime 300\r\n             register auto\r\n             retry-timeout on-system-error 10\r\n             retry-timeout on-client-error 10\r\n             retry-timeout on-server-error 10"}]
[353,{"$f":"+IF(Data!$C$6>ROW(Generic!B354)-ROW(Generic!$B$325),\"\",\"#\")","v":"#"},{"$f":"+CONCATENATE(\"     identity \",'Extension Table'!A31,CHAR(13),CHAR(10),,\"          authentication outbound\",CHAR(13),CHAR(10),,\"              authenticate 1 authentication-service AS_ALL_EXTENSIONS username \",'Extension Table'!F31,CHAR(13),CHAR(10),\"          registration outbound\",CHAR(13),CHAR(10),\"             registrar \",Data!$C$24,\" \",Data!$C$25,CHAR(13),CHAR(10),\"             lifetime 300\",CHAR(13),CHAR(10),\"             register auto\",CHAR(13),CHAR(10),\"             retry-timeout on-system-error 10\",CHAR(13),CHAR(10),\"             retry-timeout on-client-error 10\",CHAR(13),CHAR(10),\"             retry-timeout on-server-error 10\")","v":"     identity 130\r\n          authentication outbound\r\n              authenticate 1 authentication-service AS_ALL_EXTENSIONS username 130\r\n          registration outbound\r\n             registrar 10.10.50.23 5060\r\n             lifetime 300\r\n             register auto\r\n             retry-timeout on-system-error 10\r\n             retry-timeout on-client-error 10\r\n             retry-timeout on-server-error 10"}]
[354,{"$f":"+IF(Data!$C$6>ROW(Generic!B355)-ROW(Generic!$B$325),\"\",\"#\")","v":"#"},{"$f":"+CONCATENATE(\"     identity \",'Extension Table'!A32,CHAR(13),CHAR(10),,\"          authentication outbound\",CHAR(13),CHAR(10),,\"              authenticate 1 authentication-service AS_ALL_EXTENSIONS username \",'Extension Table'!F32,CHAR(13),CHAR(10),\"          registration outbound\",CHAR(13),CHAR(10),\"             registrar \",Data!$C$24,\" \",Data!$C$25,CHAR(13),CHAR(10),\"             lifetime 300\",CHAR(13),CHAR(10),\"             register auto\",CHAR(13),CHAR(10),\"             retry-timeout on-system-error 10\",CHAR(13),CHAR(10),\"             retry-timeout on-client-error 10\",CHAR(13),CHAR(10),\"             retry-timeout on-server-error 10\")","v":"     identity 131\r\n          authentication outbound\r\n              authenticate 1 authentication-service AS_ALL_EXTENSIONS username 131\r\n          registration outbound\r\n             registrar 10.10.50.23 5060\r\n             lifetime 300\r\n             register auto\r\n             retry-timeout on-system-error 10\r\n             retry-timeout on-client-error 10\r\n             retry-timeout on-server-error 10"}]
[355,{"$f":"+IF(Data!$C$6>ROW(Generic!B356)-ROW(Generic!$B$325),\"\",\"#\")","v":"#"},{"$f":"+CONCATENATE(\"     identity \",'Extension Table'!A33,CHAR(13),CHAR(10),,\"          authentication outbound\",CHAR(13),CHAR(10),,\"              authenticate 1 authentication-service AS_ALL_EXTENSIONS username \",'Extension Table'!F33,CHAR(13),CHAR(10),\"          registration outbound\",CHAR(13),CHAR(10),\"             registrar \",Data!$C$24,\" \",Data!$C$25,CHAR(13),CHAR(10),\"             lifetime 300\",CHAR(13),CHAR(10),\"             register auto\",CHAR(13),CHAR(10),\"             retry-timeout on-system-error 10\",CHAR(13),CHAR(10),\"             retry-timeout on-client-error 10\",CHAR(13),CHAR(10),\"             retry-timeout on-server-error 10\")","v":"     identity 132\r\n          authentication outbound\r\n              authenticate 1 authentication-service AS_ALL_EXTENSIONS username 132\r\n          registration outbound\r\n             registrar 10.10.50.23 5060\r\n             lifetime 300\r\n             register auto\r\n             retry-timeout on-system-error 10\r\n             retry-timeout on-client-error 10\r\n             retry-timeout on-server-error 10"}]
[356]
[357,{"$f":"+IF(Data!$C$5>ROW(Generic!B358)-ROW(Generic!$B$358),\"\",\"#\")","v":""},{"$f":"+CONCATENATE(\"location-service LS_\",'Line Table'!A2,CHAR(13),CHAR(10),\"     domain 1 \",Data!$C$24,\" \",Data!$C$25,CHAR(13),CHAR(10),\"        identity-group default\",CHAR(13),CHAR(10),\"        authentication outbound\",CHAR(13),CHAR(10),\"        authenticate 1 authentication-service AS_ALL_LINES username \",'Line Table'!E2,CHAR(13),CHAR(10),\"     identity \",'Line Table'!B2,CHAR(13),CHAR(10),\"        authentication outbound\",CHAR(13),CHAR(10),\"         authenticate 1 authentication-service AS_ALL_LINES username \",'Line Table'!E2,CHAR(13),CHAR(10),\"        registration outbound\",CHAR(13),CHAR(10),\"        registrar \",Data!$C$24,\" \",Data!$C$25,CHAR(13),CHAR(10),\"        lifetime 300\",CHAR(13),CHAR(10),\"         register auto\")","v":"location-service LS_1\r\n     domain 1 10.10.50.23 5060\r\n        identity-group default\r\n        authentication outbound\r\n        authenticate 1 authentication-service AS_ALL_LINES username 10002\r\n     identity 10002\r\n        authentication outbound\r\n         authenticate 1 authentication-service AS_ALL_LINES username 10002\r\n        registration outbound\r\n        registrar 10.10.50.23 5060\r\n        lifetime 300\r\n         register auto"}]
[358,{"$f":"+IF(Data!$C$5>ROW(Generic!B359)-ROW(Generic!$B$358),\"\",\"#\")","v":""},{"$f":"+CONCATENATE(\"location-service LS_\",'Line Table'!A3,CHAR(13),CHAR(10),\"     domain 1 \",Data!$C$24,\" \",Data!$C$25,CHAR(13),CHAR(10),\"        identity-group default\",CHAR(13),CHAR(10),\"        authentication outbound\",CHAR(13),CHAR(10),\"        authenticate 1 authentication-service AS_ALL_LINES username \",'Line Table'!E3,CHAR(13),CHAR(10),\"     identity \",'Line Table'!B3,CHAR(13),CHAR(10),\"        authentication outbound\",CHAR(13),CHAR(10),\"         authenticate 1 authentication-service AS_ALL_LINES username \",'Line Table'!E3,CHAR(13),CHAR(10),\"        registration outbound\",CHAR(13),CHAR(10),\"        registrar \",Data!$C$24,\" \",Data!$C$25,CHAR(13),CHAR(10),\"        lifetime 300\",CHAR(13),CHAR(10),\"         register auto\")","v":"location-service LS_2\r\n     domain 1 10.10.50.23 5060\r\n        identity-group default\r\n        authentication outbound\r\n        authenticate 1 authentication-service AS_ALL_LINES username 10003\r\n     identity 10003\r\n        authentication outbound\r\n         authenticate 1 authentication-service AS_ALL_LINES username 10003\r\n        registration outbound\r\n        registrar 10.10.50.23 5060\r\n        lifetime 300\r\n         register auto"}]
[359,{"$f":"+IF(Data!$C$5>ROW(Generic!B360)-ROW(Generic!$B$358),\"\",\"#\")","v":""},{"$f":"+CONCATENATE(\"location-service LS_\",'Line Table'!A4,CHAR(13),CHAR(10),\"     domain 1 \",Data!$C$24,\" \",Data!$C$25,CHAR(13),CHAR(10),\"        identity-group default\",CHAR(13),CHAR(10),\"        authentication outbound\",CHAR(13),CHAR(10),\"        authenticate 1 authentication-service AS_ALL_LINES username \",'Line Table'!E4,CHAR(13),CHAR(10),\"     identity \",'Line Table'!B4,CHAR(13),CHAR(10),\"        authentication outbound\",CHAR(13),CHAR(10),\"         authenticate 1 authentication-service AS_ALL_LINES username \",'Line Table'!E4,CHAR(13),CHAR(10),\"        registration outbound\",CHAR(13),CHAR(10),\"        registrar \",Data!$C$24,\" \",Data!$C$25,CHAR(13),CHAR(10),\"        lifetime 300\",CHAR(13),CHAR(10),\"         register auto\")","v":"location-service LS_3\r\n     domain 1 10.10.50.23 5060\r\n        identity-group default\r\n        authentication outbound\r\n        authenticate 1 authentication-service AS_ALL_LINES username 10004\r\n     identity 10004\r\n        authentication outbound\r\n         authenticate 1 authentication-service AS_ALL_LINES username 10004\r\n        registration outbound\r\n        registrar 10.10.50.23 5060\r\n        lifetime 300\r\n         register auto"}]
[360,{"$f":"+IF(Data!$C$5>ROW(Generic!B361)-ROW(Generic!$B$358),\"\",\"#\")","v":""},{"$f":"+CONCATENATE(\"location-service LS_\",'Line Table'!A5,CHAR(13),CHAR(10),\"     domain 1 \",Data!$C$24,\" \",Data!$C$25,CHAR(13),CHAR(10),\"        identity-group default\",CHAR(13),CHAR(10),\"        authentication outbound\",CHAR(13),CHAR(10),\"        authenticate 1 authentication-service AS_ALL_LINES username \",'Line Table'!E5,CHAR(13),CHAR(10),\"     identity \",'Line Table'!B5,CHAR(13),CHAR(10),\"        authentication outbound\",CHAR(13),CHAR(10),\"         authenticate 1 authentication-service AS_ALL_LINES username \",'Line Table'!E5,CHAR(13),CHAR(10),\"        registration outbound\",CHAR(13),CHAR(10),\"        registrar \",Data!$C$24,\" \",Data!$C$25,CHAR(13),CHAR(10),\"        lifetime 300\",CHAR(13),CHAR(10),\"         register auto\")","v":"location-service LS_4\r\n     domain 1 10.10.50.23 5060\r\n        identity-group default\r\n        authentication outbound\r\n        authenticate 1 authentication-service AS_ALL_LINES username 10005\r\n     identity 10005\r\n        authentication outbound\r\n         authenticate 1 authentication-service AS_ALL_LINES username 10005\r\n        registration outbound\r\n        registrar 10.10.50.23 5060\r\n        lifetime 300\r\n         register auto"}]
[361,{"$f":"+IF(Data!$C$5>ROW(Generic!B362)-ROW(Generic!$B$358),\"\",\"#\")","v":""},{"$f":"+CONCATENATE(\"location-service LS_\",'Line Table'!A6,CHAR(13),CHAR(10),\"     domain 1 \",Data!$C$24,\" \",Data!$C$25,CHAR(13),CHAR(10),\"        identity-group default\",CHAR(13),CHAR(10),\"        authentication outbound\",CHAR(13),CHAR(10),\"        authenticate 1 authentication-service AS_ALL_LINES username \",'Line Table'!E6,CHAR(13),CHAR(10),\"     identity \",'Line Table'!B6,CHAR(13),CHAR(10),\"        authentication outbound\",CHAR(13),CHAR(10),\"         authenticate 1 authentication-service AS_ALL_LINES username \",'Line Table'!E6,CHAR(13),CHAR(10),\"        registration outbound\",CHAR(13),CHAR(10),\"        registrar \",Data!$C$24,\" \",Data!$C$25,CHAR(13),CHAR(10),\"        lifetime 300\",CHAR(13),CHAR(10),\"         register auto\")","v":"location-service LS_5\r\n     domain 1 10.10.50.23 5060\r\n        identity-group default\r\n        authentication outbound\r\n        authenticate 1 authentication-service AS_ALL_LINES username 10006\r\n     identity 10006\r\n        authentication outbound\r\n         authenticate 1 authentication-service AS_ALL_LINES username 10006\r\n        registration outbound\r\n        registrar 10.10.50.23 5060\r\n        lifetime 300\r\n         register auto"}]
[362,{"$f":"+IF(Data!$C$5>ROW(Generic!B363)-ROW(Generic!$B$358),\"\",\"#\")","v":""},{"$f":"+CONCATENATE(\"location-service LS_\",'Line Table'!A7,CHAR(13),CHAR(10),\"     domain 1 \",Data!$C$24,\" \",Data!$C$25,CHAR(13),CHAR(10),\"        identity-group default\",CHAR(13),CHAR(10),\"        authentication outbound\",CHAR(13),CHAR(10),\"        authenticate 1 authentication-service AS_ALL_LINES username \",'Line Table'!E7,CHAR(13),CHAR(10),\"     identity \",'Line Table'!B7,CHAR(13),CHAR(10),\"        authentication outbound\",CHAR(13),CHAR(10),\"         authenticate 1 authentication-service AS_ALL_LINES username \",'Line Table'!E7,CHAR(13),CHAR(10),\"        registration outbound\",CHAR(13),CHAR(10),\"        registrar \",Data!$C$24,\" \",Data!$C$25,CHAR(13),CHAR(10),\"        lifetime 300\",CHAR(13),CHAR(10),\"         register auto\")","v":"location-service LS_6\r\n     domain 1 10.10.50.23 5060\r\n        identity-group default\r\n        authentication outbound\r\n        authenticate 1 authentication-service AS_ALL_LINES username 10007\r\n     identity 10007\r\n        authentication outbound\r\n         authenticate 1 authentication-service AS_ALL_LINES username 10007\r\n        registration outbound\r\n        registrar 10.10.50.23 5060\r\n        lifetime 300\r\n         register auto"}]
[363,{"$f":"+IF(Data!$C$5>ROW(Generic!B364)-ROW(Generic!$B$358),\"\",\"#\")","v":""},{"$f":"+CONCATENATE(\"location-service LS_\",'Line Table'!A8,CHAR(13),CHAR(10),\"     domain 1 \",Data!$C$24,\" \",Data!$C$25,CHAR(13),CHAR(10),\"        identity-group default\",CHAR(13),CHAR(10),\"        authentication outbound\",CHAR(13),CHAR(10),\"        authenticate 1 authentication-service AS_ALL_LINES username \",'Line Table'!E8,CHAR(13),CHAR(10),\"     identity \",'Line Table'!B8,CHAR(13),CHAR(10),\"        authentication outbound\",CHAR(13),CHAR(10),\"         authenticate 1 authentication-service AS_ALL_LINES username \",'Line Table'!E8,CHAR(13),CHAR(10),\"        registration outbound\",CHAR(13),CHAR(10),\"        registrar \",Data!$C$24,\" \",Data!$C$25,CHAR(13),CHAR(10),\"        lifetime 300\",CHAR(13),CHAR(10),\"         register auto\")","v":"location-service LS_7\r\n     domain 1 10.10.50.23 5060\r\n        identity-group default\r\n        authentication outbound\r\n        authenticate 1 authentication-service AS_ALL_LINES username 10008\r\n     identity 10008\r\n        authentication outbound\r\n         authenticate 1 authentication-service AS_ALL_LINES username 10008\r\n        registration outbound\r\n        registrar 10.10.50.23 5060\r\n        lifetime 300\r\n         register auto"}]
[364,{"$f":"+IF(Data!$C$5>ROW(Generic!B365)-ROW(Generic!$B$358),\"\",\"#\")","v":""},{"$f":"+CONCATENATE(\"location-service LS_\",'Line Table'!A9,CHAR(13),CHAR(10),\"     domain 1 \",Data!$C$24,\" \",Data!$C$25,CHAR(13),CHAR(10),\"        identity-group default\",CHAR(13),CHAR(10),\"        authentication outbound\",CHAR(13),CHAR(10),\"        authenticate 1 authentication-service AS_ALL_LINES username \",'Line Table'!E9,CHAR(13),CHAR(10),\"     identity \",'Line Table'!B9,CHAR(13),CHAR(10),\"        authentication outbound\",CHAR(13),CHAR(10),\"         authenticate 1 authentication-service AS_ALL_LINES username \",'Line Table'!E9,CHAR(13),CHAR(10),\"        registration outbound\",CHAR(13),CHAR(10),\"        registrar \",Data!$C$24,\" \",Data!$C$25,CHAR(13),CHAR(10),\"        lifetime 300\",CHAR(13),CHAR(10),\"         register auto\")","v":"location-service LS_8\r\n     domain 1 10.10.50.23 5060\r\n        identity-group default\r\n        authentication outbound\r\n        authenticate 1 authentication-service AS_ALL_LINES username 10009\r\n     identity 10009\r\n        authentication outbound\r\n         authenticate 1 authentication-service AS_ALL_LINES username 10009\r\n        registration outbound\r\n        registrar 10.10.50.23 5060\r\n        lifetime 300\r\n         register auto"}]
[365,{"$f":"+IF(Data!$C$5>ROW(Generic!B366)-ROW(Generic!$B$358),\"\",\"#\")","v":""},{"$f":"+CONCATENATE(\"location-service LS_\",'Line Table'!A10,CHAR(13),CHAR(10),\"     domain 1 \",Data!$C$24,\" \",Data!$C$25,CHAR(13),CHAR(10),\"        identity-group default\",CHAR(13),CHAR(10),\"        authentication outbound\",CHAR(13),CHAR(10),\"        authenticate 1 authentication-service AS_ALL_LINES username \",'Line Table'!E10,CHAR(13),CHAR(10),\"     identity \",'Line Table'!B10,CHAR(13),CHAR(10),\"        authentication outbound\",CHAR(13),CHAR(10),\"         authenticate 1 authentication-service AS_ALL_LINES username \",'Line Table'!E10,CHAR(13),CHAR(10),\"        registration outbound\",CHAR(13),CHAR(10),\"        registrar \",Data!$C$24,\" \",Data!$C$25,CHAR(13),CHAR(10),\"        lifetime 300\",CHAR(13),CHAR(10),\"         register auto\")","v":"location-service LS_9\r\n     domain 1 10.10.50.23 5060\r\n        identity-group default\r\n        authentication outbound\r\n        authenticate 1 authentication-service AS_ALL_LINES username 10010\r\n     identity 10010\r\n        authentication outbound\r\n         authenticate 1 authentication-service AS_ALL_LINES username 10010\r\n        registration outbound\r\n        registrar 10.10.50.23 5060\r\n        lifetime 300\r\n         register auto"}]
[366,{"$f":"+IF(Data!$C$5>ROW(Generic!B367)-ROW(Generic!$B$358),\"\",\"#\")","v":""},{"$f":"+CONCATENATE(\"location-service LS_\",'Line Table'!A11,CHAR(13),CHAR(10),\"     domain 1 \",Data!$C$24,\" \",Data!$C$25,CHAR(13),CHAR(10),\"        identity-group default\",CHAR(13),CHAR(10),\"        authentication outbound\",CHAR(13),CHAR(10),\"        authenticate 1 authentication-service AS_ALL_LINES username \",'Line Table'!E11,CHAR(13),CHAR(10),\"     identity \",'Line Table'!B11,CHAR(13),CHAR(10),\"        authentication outbound\",CHAR(13),CHAR(10),\"         authenticate 1 authentication-service AS_ALL_LINES username \",'Line Table'!E11,CHAR(13),CHAR(10),\"        registration outbound\",CHAR(13),CHAR(10),\"        registrar \",Data!$C$24,\" \",Data!$C$25,CHAR(13),CHAR(10),\"        lifetime 300\",CHAR(13),CHAR(10),\"         register auto\")","v":"location-service LS_10\r\n     domain 1 10.10.50.23 5060\r\n        identity-group default\r\n        authentication outbound\r\n        authenticate 1 authentication-service AS_ALL_LINES username 10011\r\n     identity 10011\r\n        authentication outbound\r\n         authenticate 1 authentication-service AS_ALL_LINES username 10011\r\n        registration outbound\r\n        registrar 10.10.50.23 5060\r\n        lifetime 300\r\n         register auto"}]
[367,{"$f":"+IF(Data!$C$5>ROW(Generic!B368)-ROW(Generic!$B$358),\"\",\"#\")","v":""},{"$f":"+CONCATENATE(\"location-service LS_\",'Line Table'!A12,CHAR(13),CHAR(10),\"     domain 1 \",Data!$C$24,\" \",Data!$C$25,CHAR(13),CHAR(10),\"        identity-group default\",CHAR(13),CHAR(10),\"        authentication outbound\",CHAR(13),CHAR(10),\"        authenticate 1 authentication-service AS_ALL_LINES username \",'Line Table'!E12,CHAR(13),CHAR(10),\"     identity \",'Line Table'!B12,CHAR(13),CHAR(10),\"        authentication outbound\",CHAR(13),CHAR(10),\"         authenticate 1 authentication-service AS_ALL_LINES username \",'Line Table'!E12,CHAR(13),CHAR(10),\"        registration outbound\",CHAR(13),CHAR(10),\"        registrar \",Data!$C$24,\" \",Data!$C$25,CHAR(13),CHAR(10),\"        lifetime 300\",CHAR(13),CHAR(10),\"         register auto\")","v":"location-service LS_11\r\n     domain 1 10.10.50.23 5060\r\n        identity-group default\r\n        authentication outbound\r\n        authenticate 1 authentication-service AS_ALL_LINES username 10012\r\n     identity 10012\r\n        authentication outbound\r\n         authenticate 1 authentication-service AS_ALL_LINES username 10012\r\n        registration outbound\r\n        registrar 10.10.50.23 5060\r\n        lifetime 300\r\n         register auto"}]
[368,{"$f":"+IF(Data!$C$5>ROW(Generic!B369)-ROW(Generic!$B$358),\"\",\"#\")","v":""},{"$f":"+CONCATENATE(\"location-service LS_\",'Line Table'!A13,CHAR(13),CHAR(10),\"     domain 1 \",Data!$C$24,\" \",Data!$C$25,CHAR(13),CHAR(10),\"        identity-group default\",CHAR(13),CHAR(10),\"        authentication outbound\",CHAR(13),CHAR(10),\"        authenticate 1 authentication-service AS_ALL_LINES username \",'Line Table'!E13,CHAR(13),CHAR(10),\"     identity \",'Line Table'!B13,CHAR(13),CHAR(10),\"        authentication outbound\",CHAR(13),CHAR(10),\"         authenticate 1 authentication-service AS_ALL_LINES username \",'Line Table'!E13,CHAR(13),CHAR(10),\"        registration outbound\",CHAR(13),CHAR(10),\"        registrar \",Data!$C$24,\" \",Data!$C$25,CHAR(13),CHAR(10),\"        lifetime 300\",CHAR(13),CHAR(10),\"         register auto\")","v":"location-service LS_12\r\n     domain 1 10.10.50.23 5060\r\n        identity-group default\r\n        authentication outbound\r\n        authenticate 1 authentication-service AS_ALL_LINES username 10013\r\n     identity 10013\r\n        authentication outbound\r\n         authenticate 1 authentication-service AS_ALL_LINES username 10013\r\n        registration outbound\r\n        registrar 10.10.50.23 5060\r\n        lifetime 300\r\n         register auto"}]
[369,{"$f":"+IF(Data!$C$5>ROW(Generic!B370)-ROW(Generic!$B$358),\"\",\"#\")","v":"#"},{"$f":"+CONCATENATE(\"location-service LS_\",'Line Table'!A14,CHAR(13),CHAR(10),\"     domain 1 \",Data!$C$24,\" \",Data!$C$25,CHAR(13),CHAR(10),\"        identity-group default\",CHAR(13),CHAR(10),\"        authentication outbound\",CHAR(13),CHAR(10),\"        authenticate 1 authentication-service AS_ALL_LINES username \",'Line Table'!E14,CHAR(13),CHAR(10),\"     identity \",'Line Table'!B14,CHAR(13),CHAR(10),\"        authentication outbound\",CHAR(13),CHAR(10),\"         authenticate 1 authentication-service AS_ALL_LINES username \",'Line Table'!E14,CHAR(13),CHAR(10),\"        registration outbound\",CHAR(13),CHAR(10),\"        registrar \",Data!$C$24,\" \",Data!$C$25,CHAR(13),CHAR(10),\"        lifetime 300\",CHAR(13),CHAR(10),\"         register auto\")","v":"location-service LS_13\r\n     domain 1 10.10.50.23 5060\r\n        identity-group default\r\n        authentication outbound\r\n        authenticate 1 authentication-service AS_ALL_LINES username 10014\r\n     identity 10014\r\n        authentication outbound\r\n         authenticate 1 authentication-service AS_ALL_LINES username 10014\r\n        registration outbound\r\n        registrar 10.10.50.23 5060\r\n        lifetime 300\r\n         register auto"}]
[370,{"$f":"+IF(Data!$C$5>ROW(Generic!B371)-ROW(Generic!$B$358),\"\",\"#\")","v":"#"},{"$f":"+CONCATENATE(\"location-service LS_\",'Line Table'!A15,CHAR(13),CHAR(10),\"     domain 1 \",Data!$C$24,\" \",Data!$C$25,CHAR(13),CHAR(10),\"        identity-group default\",CHAR(13),CHAR(10),\"        authentication outbound\",CHAR(13),CHAR(10),\"        authenticate 1 authentication-service AS_ALL_LINES username \",'Line Table'!E15,CHAR(13),CHAR(10),\"     identity \",'Line Table'!B15,CHAR(13),CHAR(10),\"        authentication outbound\",CHAR(13),CHAR(10),\"         authenticate 1 authentication-service AS_ALL_LINES username \",'Line Table'!E15,CHAR(13),CHAR(10),\"        registration outbound\",CHAR(13),CHAR(10),\"        registrar \",Data!$C$24,\" \",Data!$C$25,CHAR(13),CHAR(10),\"        lifetime 300\",CHAR(13),CHAR(10),\"         register auto\")","v":"location-service LS_14\r\n     domain 1 10.10.50.23 5060\r\n        identity-group default\r\n        authentication outbound\r\n        authenticate 1 authentication-service AS_ALL_LINES username 10015\r\n     identity 10015\r\n        authentication outbound\r\n         authenticate 1 authentication-service AS_ALL_LINES username 10015\r\n        registration outbound\r\n        registrar 10.10.50.23 5060\r\n        lifetime 300\r\n         register auto"}]
[371,{"$f":"+IF(Data!$C$5>ROW(Generic!B372)-ROW(Generic!$B$358),\"\",\"#\")","v":"#"},{"$f":"+CONCATENATE(\"location-service LS_\",'Line Table'!A16,CHAR(13),CHAR(10),\"     domain 1 \",Data!$C$24,\" \",Data!$C$25,CHAR(13),CHAR(10),\"        identity-group default\",CHAR(13),CHAR(10),\"        authentication outbound\",CHAR(13),CHAR(10),\"        authenticate 1 authentication-service AS_ALL_LINES username \",'Line Table'!E16,CHAR(13),CHAR(10),\"     identity \",'Line Table'!B16,CHAR(13),CHAR(10),\"        authentication outbound\",CHAR(13),CHAR(10),\"         authenticate 1 authentication-service AS_ALL_LINES username \",'Line Table'!E16,CHAR(13),CHAR(10),\"        registration outbound\",CHAR(13),CHAR(10),\"        registrar \",Data!$C$24,\" \",Data!$C$25,CHAR(13),CHAR(10),\"        lifetime 300\",CHAR(13),CHAR(10),\"         register auto\")","v":"location-service LS_15\r\n     domain 1 10.10.50.23 5060\r\n        identity-group default\r\n        authentication outbound\r\n        authenticate 1 authentication-service AS_ALL_LINES username 10016\r\n     identity 10016\r\n        authentication outbound\r\n         authenticate 1 authentication-service AS_ALL_LINES username 10016\r\n        registration outbound\r\n        registrar 10.10.50.23 5060\r\n        lifetime 300\r\n         register auto"}]
[372,{"$f":"+IF(Data!$C$5>ROW(Generic!B373)-ROW(Generic!$B$358),\"\",\"#\")","v":"#"},{"$f":"+CONCATENATE(\"location-service LS_\",'Line Table'!A17,CHAR(13),CHAR(10),\"     domain 1 \",Data!$C$24,\" \",Data!$C$25,CHAR(13),CHAR(10),\"        identity-group default\",CHAR(13),CHAR(10),\"        authentication outbound\",CHAR(13),CHAR(10),\"        authenticate 1 authentication-service AS_ALL_LINES username \",'Line Table'!E17,CHAR(13),CHAR(10),\"     identity \",'Line Table'!B17,CHAR(13),CHAR(10),\"        authentication outbound\",CHAR(13),CHAR(10),\"         authenticate 1 authentication-service AS_ALL_LINES username \",'Line Table'!E17,CHAR(13),CHAR(10),\"        registration outbound\",CHAR(13),CHAR(10),\"        registrar \",Data!$C$24,\" \",Data!$C$25,CHAR(13),CHAR(10),\"        lifetime 300\",CHAR(13),CHAR(10),\"         register auto\")","v":"location-service LS_16\r\n     domain 1 10.10.50.23 5060\r\n        identity-group default\r\n        authentication outbound\r\n        authenticate 1 authentication-service AS_ALL_LINES username 10017\r\n     identity 10017\r\n        authentication outbound\r\n         authenticate 1 authentication-service AS_ALL_LINES username 10017\r\n        registration outbound\r\n        registrar 10.10.50.23 5060\r\n        lifetime 300\r\n         register auto"}]
[373,{"$f":"+IF(Data!$C$5>ROW(Generic!B374)-ROW(Generic!$B$358),\"\",\"#\")","v":"#"},{"$f":"+CONCATENATE(\"location-service LS_\",'Line Table'!A18,CHAR(13),CHAR(10),\"     domain 1 \",Data!$C$24,\" \",Data!$C$25,CHAR(13),CHAR(10),\"        identity-group default\",CHAR(13),CHAR(10),\"        authentication outbound\",CHAR(13),CHAR(10),\"        authenticate 1 authentication-service AS_ALL_LINES username \",'Line Table'!E18,CHAR(13),CHAR(10),\"     identity \",'Line Table'!B18,CHAR(13),CHAR(10),\"        authentication outbound\",CHAR(13),CHAR(10),\"         authenticate 1 authentication-service AS_ALL_LINES username \",'Line Table'!E18,CHAR(13),CHAR(10),\"        registration outbound\",CHAR(13),CHAR(10),\"        registrar \",Data!$C$24,\" \",Data!$C$25,CHAR(13),CHAR(10),\"        lifetime 300\",CHAR(13),CHAR(10),\"         register auto\")","v":"location-service LS_17\r\n     domain 1 10.10.50.23 5060\r\n        identity-group default\r\n        authentication outbound\r\n        authenticate 1 authentication-service AS_ALL_LINES username 10018\r\n     identity 10018\r\n        authentication outbound\r\n         authenticate 1 authentication-service AS_ALL_LINES username 10018\r\n        registration outbound\r\n        registrar 10.10.50.23 5060\r\n        lifetime 300\r\n         register auto"}]
[374,{"$f":"+IF(Data!$C$5>ROW(Generic!B375)-ROW(Generic!$B$358),\"\",\"#\")","v":"#"},{"$f":"+CONCATENATE(\"location-service LS_\",'Line Table'!A19,CHAR(13),CHAR(10),\"     domain 1 \",Data!$C$24,\" \",Data!$C$25,CHAR(13),CHAR(10),\"        identity-group default\",CHAR(13),CHAR(10),\"        authentication outbound\",CHAR(13),CHAR(10),\"        authenticate 1 authentication-service AS_ALL_LINES username \",'Line Table'!E19,CHAR(13),CHAR(10),\"     identity \",'Line Table'!B19,CHAR(13),CHAR(10),\"        authentication outbound\",CHAR(13),CHAR(10),\"         authenticate 1 authentication-service AS_ALL_LINES username \",'Line Table'!E19,CHAR(13),CHAR(10),\"        registration outbound\",CHAR(13),CHAR(10),\"        registrar \",Data!$C$24,\" \",Data!$C$25,CHAR(13),CHAR(10),\"        lifetime 300\",CHAR(13),CHAR(10),\"         register auto\")","v":"location-service LS_18\r\n     domain 1 10.10.50.23 5060\r\n        identity-group default\r\n        authentication outbound\r\n        authenticate 1 authentication-service AS_ALL_LINES username 10019\r\n     identity 10019\r\n        authentication outbound\r\n         authenticate 1 authentication-service AS_ALL_LINES username 10019\r\n        registration outbound\r\n        registrar 10.10.50.23 5060\r\n        lifetime 300\r\n         register auto"}]
[375,{"$f":"+IF(Data!$C$5>ROW(Generic!B376)-ROW(Generic!$B$358),\"\",\"#\")","v":"#"},{"$f":"+CONCATENATE(\"location-service LS_\",'Line Table'!A20,CHAR(13),CHAR(10),\"     domain 1 \",Data!$C$24,\" \",Data!$C$25,CHAR(13),CHAR(10),\"        identity-group default\",CHAR(13),CHAR(10),\"        authentication outbound\",CHAR(13),CHAR(10),\"        authenticate 1 authentication-service AS_ALL_LINES username \",'Line Table'!E20,CHAR(13),CHAR(10),\"     identity \",'Line Table'!B20,CHAR(13),CHAR(10),\"        authentication outbound\",CHAR(13),CHAR(10),\"         authenticate 1 authentication-service AS_ALL_LINES username \",'Line Table'!E20,CHAR(13),CHAR(10),\"        registration outbound\",CHAR(13),CHAR(10),\"        registrar \",Data!$C$24,\" \",Data!$C$25,CHAR(13),CHAR(10),\"        lifetime 300\",CHAR(13),CHAR(10),\"         register auto\")","v":"location-service LS_19\r\n     domain 1 10.10.50.23 5060\r\n        identity-group default\r\n        authentication outbound\r\n        authenticate 1 authentication-service AS_ALL_LINES username 10020\r\n     identity 10020\r\n        authentication outbound\r\n         authenticate 1 authentication-service AS_ALL_LINES username 10020\r\n        registration outbound\r\n        registrar 10.10.50.23 5060\r\n        lifetime 300\r\n         register auto"}]
[376,{"$f":"+IF(Data!$C$5>ROW(Generic!B377)-ROW(Generic!$B$358),\"\",\"#\")","v":"#"},{"$f":"+CONCATENATE(\"location-service LS_\",'Line Table'!A21,CHAR(13),CHAR(10),\"     domain 1 \",Data!$C$24,\" \",Data!$C$25,CHAR(13),CHAR(10),\"        identity-group default\",CHAR(13),CHAR(10),\"        authentication outbound\",CHAR(13),CHAR(10),\"        authenticate 1 authentication-service AS_ALL_LINES username \",'Line Table'!E21,CHAR(13),CHAR(10),\"     identity \",'Line Table'!B21,CHAR(13),CHAR(10),\"        authentication outbound\",CHAR(13),CHAR(10),\"         authenticate 1 authentication-service AS_ALL_LINES username \",'Line Table'!E21,CHAR(13),CHAR(10),\"        registration outbound\",CHAR(13),CHAR(10),\"        registrar \",Data!$C$24,\" \",Data!$C$25,CHAR(13),CHAR(10),\"        lifetime 300\",CHAR(13),CHAR(10),\"         register auto\")","v":"location-service LS_20\r\n     domain 1 10.10.50.23 5060\r\n        identity-group default\r\n        authentication outbound\r\n        authenticate 1 authentication-service AS_ALL_LINES username 10021\r\n     identity 10021\r\n        authentication outbound\r\n         authenticate 1 authentication-service AS_ALL_LINES username 10021\r\n        registration outbound\r\n        registrar 10.10.50.23 5060\r\n        lifetime 300\r\n         register auto"}]
[377,{"$f":"+IF(Data!$C$5>ROW(Generic!B378)-ROW(Generic!$B$358),\"\",\"#\")","v":"#"},{"$f":"+CONCATENATE(\"location-service LS_\",'Line Table'!A22,CHAR(13),CHAR(10),\"     domain 1 \",Data!$C$24,\" \",Data!$C$25,CHAR(13),CHAR(10),\"        identity-group default\",CHAR(13),CHAR(10),\"        authentication outbound\",CHAR(13),CHAR(10),\"        authenticate 1 authentication-service AS_ALL_LINES username \",'Line Table'!E22,CHAR(13),CHAR(10),\"     identity \",'Line Table'!B22,CHAR(13),CHAR(10),\"        authentication outbound\",CHAR(13),CHAR(10),\"         authenticate 1 authentication-service AS_ALL_LINES username \",'Line Table'!E22,CHAR(13),CHAR(10),\"        registration outbound\",CHAR(13),CHAR(10),\"        registrar \",Data!$C$24,\" \",Data!$C$25,CHAR(13),CHAR(10),\"        lifetime 300\",CHAR(13),CHAR(10),\"         register auto\")","v":"location-service LS_21\r\n     domain 1 10.10.50.23 5060\r\n        identity-group default\r\n        authentication outbound\r\n        authenticate 1 authentication-service AS_ALL_LINES username 10022\r\n     identity 10022\r\n        authentication outbound\r\n         authenticate 1 authentication-service AS_ALL_LINES username 10022\r\n        registration outbound\r\n        registrar 10.10.50.23 5060\r\n        lifetime 300\r\n         register auto"}]
[378,{"$f":"+IF(Data!$C$5>ROW(Generic!B379)-ROW(Generic!$B$358),\"\",\"#\")","v":"#"},{"$f":"+CONCATENATE(\"location-service LS_\",'Line Table'!A23,CHAR(13),CHAR(10),\"     domain 1 \",Data!$C$24,\" \",Data!$C$25,CHAR(13),CHAR(10),\"        identity-group default\",CHAR(13),CHAR(10),\"        authentication outbound\",CHAR(13),CHAR(10),\"        authenticate 1 authentication-service AS_ALL_LINES username \",'Line Table'!E23,CHAR(13),CHAR(10),\"     identity \",'Line Table'!B23,CHAR(13),CHAR(10),\"        authentication outbound\",CHAR(13),CHAR(10),\"         authenticate 1 authentication-service AS_ALL_LINES username \",'Line Table'!E23,CHAR(13),CHAR(10),\"        registration outbound\",CHAR(13),CHAR(10),\"        registrar \",Data!$C$24,\" \",Data!$C$25,CHAR(13),CHAR(10),\"        lifetime 300\",CHAR(13),CHAR(10),\"         register auto\")","v":"location-service LS_22\r\n     domain 1 10.10.50.23 5060\r\n        identity-group default\r\n        authentication outbound\r\n        authenticate 1 authentication-service AS_ALL_LINES username 10023\r\n     identity 10023\r\n        authentication outbound\r\n         authenticate 1 authentication-service AS_ALL_LINES username 10023\r\n        registration outbound\r\n        registrar 10.10.50.23 5060\r\n        lifetime 300\r\n         register auto"}]
[379,{"$f":"+IF(Data!$C$5>ROW(Generic!B380)-ROW(Generic!$B$358),\"\",\"#\")","v":"#"},{"$f":"+CONCATENATE(\"location-service LS_\",'Line Table'!A24,CHAR(13),CHAR(10),\"     domain 1 \",Data!$C$24,\" \",Data!$C$25,CHAR(13),CHAR(10),\"        identity-group default\",CHAR(13),CHAR(10),\"        authentication outbound\",CHAR(13),CHAR(10),\"        authenticate 1 authentication-service AS_ALL_LINES username \",'Line Table'!E24,CHAR(13),CHAR(10),\"     identity \",'Line Table'!B24,CHAR(13),CHAR(10),\"        authentication outbound\",CHAR(13),CHAR(10),\"         authenticate 1 authentication-service AS_ALL_LINES username \",'Line Table'!E24,CHAR(13),CHAR(10),\"        registration outbound\",CHAR(13),CHAR(10),\"        registrar \",Data!$C$24,\" \",Data!$C$25,CHAR(13),CHAR(10),\"        lifetime 300\",CHAR(13),CHAR(10),\"         register auto\")","v":"location-service LS_23\r\n     domain 1 10.10.50.23 5060\r\n        identity-group default\r\n        authentication outbound\r\n        authenticate 1 authentication-service AS_ALL_LINES username 10024\r\n     identity 10024\r\n        authentication outbound\r\n         authenticate 1 authentication-service AS_ALL_LINES username 10024\r\n        registration outbound\r\n        registrar 10.10.50.23 5060\r\n        lifetime 300\r\n         register auto"}]
[380,{"$f":"+IF(Data!$C$5>ROW(Generic!B381)-ROW(Generic!$B$358),\"\",\"#\")","v":"#"},{"$f":"+CONCATENATE(\"location-service LS_\",'Line Table'!A25,CHAR(13),CHAR(10),\"     domain 1 \",Data!$C$24,\" \",Data!$C$25,CHAR(13),CHAR(10),\"        identity-group default\",CHAR(13),CHAR(10),\"        authentication outbound\",CHAR(13),CHAR(10),\"        authenticate 1 authentication-service AS_ALL_LINES username \",'Line Table'!E25,CHAR(13),CHAR(10),\"     identity \",'Line Table'!B25,CHAR(13),CHAR(10),\"        authentication outbound\",CHAR(13),CHAR(10),\"         authenticate 1 authentication-service AS_ALL_LINES username \",'Line Table'!E25,CHAR(13),CHAR(10),\"        registration outbound\",CHAR(13),CHAR(10),\"        registrar \",Data!$C$24,\" \",Data!$C$25,CHAR(13),CHAR(10),\"        lifetime 300\",CHAR(13),CHAR(10),\"         register auto\")","v":"location-service LS_24\r\n     domain 1 10.10.50.23 5060\r\n        identity-group default\r\n        authentication outbound\r\n        authenticate 1 authentication-service AS_ALL_LINES username 10025\r\n     identity 10025\r\n        authentication outbound\r\n         authenticate 1 authentication-service AS_ALL_LINES username 10025\r\n        registration outbound\r\n        registrar 10.10.50.23 5060\r\n        lifetime 300\r\n         register auto"}]
[381,{"$f":"+IF(Data!$C$5>ROW(Generic!B382)-ROW(Generic!$B$358),\"\",\"#\")","v":"#"},{"$f":"+CONCATENATE(\"location-service LS_\",'Line Table'!A26,CHAR(13),CHAR(10),\"     domain 1 \",Data!$C$24,\" \",Data!$C$25,CHAR(13),CHAR(10),\"        identity-group default\",CHAR(13),CHAR(10),\"        authentication outbound\",CHAR(13),CHAR(10),\"        authenticate 1 authentication-service AS_ALL_LINES username \",'Line Table'!E26,CHAR(13),CHAR(10),\"     identity \",'Line Table'!B26,CHAR(13),CHAR(10),\"        authentication outbound\",CHAR(13),CHAR(10),\"         authenticate 1 authentication-service AS_ALL_LINES username \",'Line Table'!E26,CHAR(13),CHAR(10),\"        registration outbound\",CHAR(13),CHAR(10),\"        registrar \",Data!$C$24,\" \",Data!$C$25,CHAR(13),CHAR(10),\"        lifetime 300\",CHAR(13),CHAR(10),\"         register auto\")","v":"location-service LS_25\r\n     domain 1 10.10.50.23 5060\r\n        identity-group default\r\n        authentication outbound\r\n        authenticate 1 authentication-service AS_ALL_LINES username 10026\r\n     identity 10026\r\n        authentication outbound\r\n         authenticate 1 authentication-service AS_ALL_LINES username 10026\r\n        registration outbound\r\n        registrar 10.10.50.23 5060\r\n        lifetime 300\r\n         register auto"}]
[382,{"$f":"+IF(Data!$C$5>ROW(Generic!B383)-ROW(Generic!$B$358),\"\",\"#\")","v":"#"},{"$f":"+CONCATENATE(\"location-service LS_\",'Line Table'!A27,CHAR(13),CHAR(10),\"     domain 1 \",Data!$C$24,\" \",Data!$C$25,CHAR(13),CHAR(10),\"        identity-group default\",CHAR(13),CHAR(10),\"        authentication outbound\",CHAR(13),CHAR(10),\"        authenticate 1 authentication-service AS_ALL_LINES username \",'Line Table'!E27,CHAR(13),CHAR(10),\"     identity \",'Line Table'!B27,CHAR(13),CHAR(10),\"        authentication outbound\",CHAR(13),CHAR(10),\"         authenticate 1 authentication-service AS_ALL_LINES username \",'Line Table'!E27,CHAR(13),CHAR(10),\"        registration outbound\",CHAR(13),CHAR(10),\"        registrar \",Data!$C$24,\" \",Data!$C$25,CHAR(13),CHAR(10),\"        lifetime 300\",CHAR(13),CHAR(10),\"         register auto\")","v":"location-service LS_26\r\n     domain 1 10.10.50.23 5060\r\n        identity-group default\r\n        authentication outbound\r\n        authenticate 1 authentication-service AS_ALL_LINES username 10027\r\n     identity 10027\r\n        authentication outbound\r\n         authenticate 1 authentication-service AS_ALL_LINES username 10027\r\n        registration outbound\r\n        registrar 10.10.50.23 5060\r\n        lifetime 300\r\n         register auto"}]
[383,{"$f":"+IF(Data!$C$5>ROW(Generic!B384)-ROW(Generic!$B$358),\"\",\"#\")","v":"#"},{"$f":"+CONCATENATE(\"location-service LS_\",'Line Table'!A28,CHAR(13),CHAR(10),\"     domain 1 \",Data!$C$24,\" \",Data!$C$25,CHAR(13),CHAR(10),\"        identity-group default\",CHAR(13),CHAR(10),\"        authentication outbound\",CHAR(13),CHAR(10),\"        authenticate 1 authentication-service AS_ALL_LINES username \",'Line Table'!E28,CHAR(13),CHAR(10),\"     identity \",'Line Table'!B28,CHAR(13),CHAR(10),\"        authentication outbound\",CHAR(13),CHAR(10),\"         authenticate 1 authentication-service AS_ALL_LINES username \",'Line Table'!E28,CHAR(13),CHAR(10),\"        registration outbound\",CHAR(13),CHAR(10),\"        registrar \",Data!$C$24,\" \",Data!$C$25,CHAR(13),CHAR(10),\"        lifetime 300\",CHAR(13),CHAR(10),\"         register auto\")","v":"location-service LS_27\r\n     domain 1 10.10.50.23 5060\r\n        identity-group default\r\n        authentication outbound\r\n        authenticate 1 authentication-service AS_ALL_LINES username 10028\r\n     identity 10028\r\n        authentication outbound\r\n         authenticate 1 authentication-service AS_ALL_LINES username 10028\r\n        registration outbound\r\n        registrar 10.10.50.23 5060\r\n        lifetime 300\r\n         register auto"}]
[384,{"$f":"+IF(Data!$C$5>ROW(Generic!B385)-ROW(Generic!$B$358),\"\",\"#\")","v":"#"},{"$f":"+CONCATENATE(\"location-service LS_\",'Line Table'!A29,CHAR(13),CHAR(10),\"     domain 1 \",Data!$C$24,\" \",Data!$C$25,CHAR(13),CHAR(10),\"        identity-group default\",CHAR(13),CHAR(10),\"        authentication outbound\",CHAR(13),CHAR(10),\"        authenticate 1 authentication-service AS_ALL_LINES username \",'Line Table'!E29,CHAR(13),CHAR(10),\"     identity \",'Line Table'!B29,CHAR(13),CHAR(10),\"        authentication outbound\",CHAR(13),CHAR(10),\"         authenticate 1 authentication-service AS_ALL_LINES username \",'Line Table'!E29,CHAR(13),CHAR(10),\"        registration outbound\",CHAR(13),CHAR(10),\"        registrar \",Data!$C$24,\" \",Data!$C$25,CHAR(13),CHAR(10),\"        lifetime 300\",CHAR(13),CHAR(10),\"         register auto\")","v":"location-service LS_28\r\n     domain 1 10.10.50.23 5060\r\n        identity-group default\r\n        authentication outbound\r\n        authenticate 1 authentication-service AS_ALL_LINES username 10029\r\n     identity 10029\r\n        authentication outbound\r\n         authenticate 1 authentication-service AS_ALL_LINES username 10029\r\n        registration outbound\r\n        registrar 10.10.50.23 5060\r\n        lifetime 300\r\n         register auto"}]
[385,{"$f":"+IF(Data!$C$5>ROW(Generic!B386)-ROW(Generic!$B$358),\"\",\"#\")","v":"#"},{"$f":"+CONCATENATE(\"location-service LS_\",'Line Table'!A30,CHAR(13),CHAR(10),\"     domain 1 \",Data!$C$24,\" \",Data!$C$25,CHAR(13),CHAR(10),\"        identity-group default\",CHAR(13),CHAR(10),\"        authentication outbound\",CHAR(13),CHAR(10),\"        authenticate 1 authentication-service AS_ALL_LINES username \",'Line Table'!E30,CHAR(13),CHAR(10),\"     identity \",'Line Table'!B30,CHAR(13),CHAR(10),\"        authentication outbound\",CHAR(13),CHAR(10),\"         authenticate 1 authentication-service AS_ALL_LINES username \",'Line Table'!E30,CHAR(13),CHAR(10),\"        registration outbound\",CHAR(13),CHAR(10),\"        registrar \",Data!$C$24,\" \",Data!$C$25,CHAR(13),CHAR(10),\"        lifetime 300\",CHAR(13),CHAR(10),\"         register auto\")","v":"location-service LS_29\r\n     domain 1 10.10.50.23 5060\r\n        identity-group default\r\n        authentication outbound\r\n        authenticate 1 authentication-service AS_ALL_LINES username 10030\r\n     identity 10030\r\n        authentication outbound\r\n         authenticate 1 authentication-service AS_ALL_LINES username 10030\r\n        registration outbound\r\n        registrar 10.10.50.23 5060\r\n        lifetime 300\r\n         register auto"}]
[386,{"$f":"+IF(Data!$C$5>ROW(Generic!B387)-ROW(Generic!$B$358),\"\",\"#\")","v":"#"},{"$f":"+CONCATENATE(\"location-service LS_\",'Line Table'!A31,CHAR(13),CHAR(10),\"     domain 1 \",Data!$C$24,\" \",Data!$C$25,CHAR(13),CHAR(10),\"        identity-group default\",CHAR(13),CHAR(10),\"        authentication outbound\",CHAR(13),CHAR(10),\"        authenticate 1 authentication-service AS_ALL_LINES username \",'Line Table'!E31,CHAR(13),CHAR(10),\"     identity \",'Line Table'!B31,CHAR(13),CHAR(10),\"        authentication outbound\",CHAR(13),CHAR(10),\"         authenticate 1 authentication-service AS_ALL_LINES username \",'Line Table'!E31,CHAR(13),CHAR(10),\"        registration outbound\",CHAR(13),CHAR(10),\"        registrar \",Data!$C$24,\" \",Data!$C$25,CHAR(13),CHAR(10),\"        lifetime 300\",CHAR(13),CHAR(10),\"         register auto\")","v":"location-service LS_30\r\n     domain 1 10.10.50.23 5060\r\n        identity-group default\r\n        authentication outbound\r\n        authenticate 1 authentication-service AS_ALL_LINES username 10031\r\n     identity 10031\r\n        authentication outbound\r\n         authenticate 1 authentication-service AS_ALL_LINES username 10031\r\n        registration outbound\r\n        registrar 10.10.50.23 5060\r\n        lifetime 300\r\n         register auto"}]
[387,{"$f":"+IF(Data!$C$5>ROW(Generic!B388)-ROW(Generic!$B$358),\"\",\"#\")","v":"#"},{"$f":"+CONCATENATE(\"location-service LS_\",'Line Table'!A32,CHAR(13),CHAR(10),\"     domain 1 \",Data!$C$24,\" \",Data!$C$25,CHAR(13),CHAR(10),\"        identity-group default\",CHAR(13),CHAR(10),\"        authentication outbound\",CHAR(13),CHAR(10),\"        authenticate 1 authentication-service AS_ALL_LINES username \",'Line Table'!E32,CHAR(13),CHAR(10),\"     identity \",'Line Table'!B32,CHAR(13),CHAR(10),\"        authentication outbound\",CHAR(13),CHAR(10),\"         authenticate 1 authentication-service AS_ALL_LINES username \",'Line Table'!E32,CHAR(13),CHAR(10),\"        registration outbound\",CHAR(13),CHAR(10),\"        registrar \",Data!$C$24,\" \",Data!$C$25,CHAR(13),CHAR(10),\"        lifetime 300\",CHAR(13),CHAR(10),\"         register auto\")","v":"location-service LS_31\r\n     domain 1 10.10.50.23 5060\r\n        identity-group default\r\n        authentication outbound\r\n        authenticate 1 authentication-service AS_ALL_LINES username 10032\r\n     identity 10032\r\n        authentication outbound\r\n         authenticate 1 authentication-service AS_ALL_LINES username 10032\r\n        registration outbound\r\n        registrar 10.10.50.23 5060\r\n        lifetime 300\r\n         register auto"}]
[388,{"$f":"+IF(Data!$C$5>ROW(Generic!B389)-ROW(Generic!$B$358),\"\",\"#\")","v":"#"},{"$f":"+CONCATENATE(\"location-service LS_\",'Line Table'!A33,CHAR(13),CHAR(10),\"     domain 1 \",Data!$C$24,\" \",Data!$C$25,CHAR(13),CHAR(10),\"        identity-group default\",CHAR(13),CHAR(10),\"        authentication outbound\",CHAR(13),CHAR(10),\"        authenticate 1 authentication-service AS_ALL_LINES username \",'Line Table'!E33,CHAR(13),CHAR(10),\"     identity \",'Line Table'!B33,CHAR(13),CHAR(10),\"        authentication outbound\",CHAR(13),CHAR(10),\"         authenticate 1 authentication-service AS_ALL_LINES username \",'Line Table'!E33,CHAR(13),CHAR(10),\"        registration outbound\",CHAR(13),CHAR(10),\"        registrar \",Data!$C$24,\" \",Data!$C$25,CHAR(13),CHAR(10),\"        lifetime 300\",CHAR(13),CHAR(10),\"         register auto\")","v":"location-service LS_32\r\n     domain 1 10.10.50.23 5060\r\n        identity-group default\r\n        authentication outbound\r\n        authenticate 1 authentication-service AS_ALL_LINES username 10033\r\n     identity 10033\r\n        authentication outbound\r\n         authenticate 1 authentication-service AS_ALL_LINES username 10033\r\n        registration outbound\r\n        registrar 10.10.50.23 5060\r\n        lifetime 300\r\n         register auto"}]
[389,null,"          "]
[390,{"$f":"+IF(Data!$C$5>ROW(Generic!B391)-ROW(Generic!$B$391),\"\",\"#\")","v":""},{"$f":"+CONCATENATE(\"context sip-gateway GW_SIP_\",'Line Table'!A2,CHAR(13),CHAR(10),\" interface \",Data!$C$8,CHAR(13),CHAR(10),\" bind interface IF_IP_\",Data!$C$8,\" context router port \",'Line Table'!G2,CHAR(13),CHAR(10),\" context sip-gateway GW_SIP_\",'Line Table'!A2,CHAR(13),CHAR(10),\" bind location-service LS_\",'Line Table'!A2,CHAR(13),CHAR(10),\" no shutdown\")","v":"context sip-gateway GW_SIP_1\r\n interface LAN\r\n bind interface IF_IP_LAN context router port 5060\r\n context sip-gateway GW_SIP_1\r\n bind location-service LS_1\r\n no shutdown"}]
[391,{"$f":"+IF(Data!$C$5>ROW(Generic!B392)-ROW(Generic!$B$391),\"\",\"#\")","v":""},{"$f":"+CONCATENATE(\"context sip-gateway GW_SIP_\",'Line Table'!A3,CHAR(13),CHAR(10),\" interface \",Data!$C$8,CHAR(13),CHAR(10),\" bind interface IF_IP_\",Data!$C$8,\" context router port \",'Line Table'!G3,CHAR(13),CHAR(10),\" context sip-gateway GW_SIP_\",'Line Table'!A3,CHAR(13),CHAR(10),\" bind location-service LS_\",'Line Table'!A3,CHAR(13),CHAR(10),\" no shutdown\")","v":"context sip-gateway GW_SIP_2\r\n interface LAN\r\n bind interface IF_IP_LAN context router port 5062\r\n context sip-gateway GW_SIP_2\r\n bind location-service LS_2\r\n no shutdown"}]
[392,{"$f":"+IF(Data!$C$5>ROW(Generic!B393)-ROW(Generic!$B$391),\"\",\"#\")","v":""},{"$f":"+CONCATENATE(\"context sip-gateway GW_SIP_\",'Line Table'!A4,CHAR(13),CHAR(10),\" interface \",Data!$C$8,CHAR(13),CHAR(10),\" bind interface IF_IP_\",Data!$C$8,\" context router port \",'Line Table'!G4,CHAR(13),CHAR(10),\" context sip-gateway GW_SIP_\",'Line Table'!A4,CHAR(13),CHAR(10),\" bind location-service LS_\",'Line Table'!A4,CHAR(13),CHAR(10),\" no shutdown\")","v":"context sip-gateway GW_SIP_3\r\n interface LAN\r\n bind interface IF_IP_LAN context router port 5064\r\n context sip-gateway GW_SIP_3\r\n bind location-service LS_3\r\n no shutdown"}]
[393,{"$f":"+IF(Data!$C$5>ROW(Generic!B394)-ROW(Generic!$B$391),\"\",\"#\")","v":""},{"$f":"+CONCATENATE(\"context sip-gateway GW_SIP_\",'Line Table'!A5,CHAR(13),CHAR(10),\" interface \",Data!$C$8,CHAR(13),CHAR(10),\" bind interface IF_IP_\",Data!$C$8,\" context router port \",'Line Table'!G5,CHAR(13),CHAR(10),\" context sip-gateway GW_SIP_\",'Line Table'!A5,CHAR(13),CHAR(10),\" bind location-service LS_\",'Line Table'!A5,CHAR(13),CHAR(10),\" no shutdown\")","v":"context sip-gateway GW_SIP_4\r\n interface LAN\r\n bind interface IF_IP_LAN context router port 5066\r\n context sip-gateway GW_SIP_4\r\n bind location-service LS_4\r\n no shutdown"}]
[394,{"$f":"+IF(Data!$C$5>ROW(Generic!B395)-ROW(Generic!$B$391),\"\",\"#\")","v":""},{"$f":"+CONCATENATE(\"context sip-gateway GW_SIP_\",'Line Table'!A6,CHAR(13),CHAR(10),\" interface \",Data!$C$8,CHAR(13),CHAR(10),\" bind interface IF_IP_\",Data!$C$8,\" context router port \",'Line Table'!G6,CHAR(13),CHAR(10),\" context sip-gateway GW_SIP_\",'Line Table'!A6,CHAR(13),CHAR(10),\" bind location-service LS_\",'Line Table'!A6,CHAR(13),CHAR(10),\" no shutdown\")","v":"context sip-gateway GW_SIP_5\r\n interface LAN\r\n bind interface IF_IP_LAN context router port 5068\r\n context sip-gateway GW_SIP_5\r\n bind location-service LS_5\r\n no shutdown"}]
[395,{"$f":"+IF(Data!$C$5>ROW(Generic!B396)-ROW(Generic!$B$391),\"\",\"#\")","v":""},{"$f":"+CONCATENATE(\"context sip-gateway GW_SIP_\",'Line Table'!A7,CHAR(13),CHAR(10),\" interface \",Data!$C$8,CHAR(13),CHAR(10),\" bind interface IF_IP_\",Data!$C$8,\" context router port \",'Line Table'!G7,CHAR(13),CHAR(10),\" context sip-gateway GW_SIP_\",'Line Table'!A7,CHAR(13),CHAR(10),\" bind location-service LS_\",'Line Table'!A7,CHAR(13),CHAR(10),\" no shutdown\")","v":"context sip-gateway GW_SIP_6\r\n interface LAN\r\n bind interface IF_IP_LAN context router port 5070\r\n context sip-gateway GW_SIP_6\r\n bind location-service LS_6\r\n no shutdown"}]
[396,{"$f":"+IF(Data!$C$5>ROW(Generic!B397)-ROW(Generic!$B$391),\"\",\"#\")","v":""},{"$f":"+CONCATENATE(\"context sip-gateway GW_SIP_\",'Line Table'!A8,CHAR(13),CHAR(10),\" interface \",Data!$C$8,CHAR(13),CHAR(10),\" bind interface IF_IP_\",Data!$C$8,\" context router port \",'Line Table'!G8,CHAR(13),CHAR(10),\" context sip-gateway GW_SIP_\",'Line Table'!A8,CHAR(13),CHAR(10),\" bind location-service LS_\",'Line Table'!A8,CHAR(13),CHAR(10),\" no shutdown\")","v":"context sip-gateway GW_SIP_7\r\n interface LAN\r\n bind interface IF_IP_LAN context router port 5072\r\n context sip-gateway GW_SIP_7\r\n bind location-service LS_7\r\n no shutdown"}]
[397,{"$f":"+IF(Data!$C$5>ROW(Generic!B398)-ROW(Generic!$B$391),\"\",\"#\")","v":""},{"$f":"+CONCATENATE(\"context sip-gateway GW_SIP_\",'Line Table'!A9,CHAR(13),CHAR(10),\" interface \",Data!$C$8,CHAR(13),CHAR(10),\" bind interface IF_IP_\",Data!$C$8,\" context router port \",'Line Table'!G9,CHAR(13),CHAR(10),\" context sip-gateway GW_SIP_\",'Line Table'!A9,CHAR(13),CHAR(10),\" bind location-service LS_\",'Line Table'!A9,CHAR(13),CHAR(10),\" no shutdown\")","v":"context sip-gateway GW_SIP_8\r\n interface LAN\r\n bind interface IF_IP_LAN context router port 5074\r\n context sip-gateway GW_SIP_8\r\n bind location-service LS_8\r\n no shutdown"}]
[398,{"$f":"+IF(Data!$C$5>ROW(Generic!B399)-ROW(Generic!$B$391),\"\",\"#\")","v":""},{"$f":"+CONCATENATE(\"context sip-gateway GW_SIP_\",'Line Table'!A10,CHAR(13),CHAR(10),\" interface \",Data!$C$8,CHAR(13),CHAR(10),\" bind interface IF_IP_\",Data!$C$8,\" context router port \",'Line Table'!G10,CHAR(13),CHAR(10),\" context sip-gateway GW_SIP_\",'Line Table'!A10,CHAR(13),CHAR(10),\" bind location-service LS_\",'Line Table'!A10,CHAR(13),CHAR(10),\" no shutdown\")","v":"context sip-gateway GW_SIP_9\r\n interface LAN\r\n bind interface IF_IP_LAN context router port 5076\r\n context sip-gateway GW_SIP_9\r\n bind location-service LS_9\r\n no shutdown"}]
[399,{"$f":"+IF(Data!$C$5>ROW(Generic!B400)-ROW(Generic!$B$391),\"\",\"#\")","v":""},{"$f":"+CONCATENATE(\"context sip-gateway GW_SIP_\",'Line Table'!A11,CHAR(13),CHAR(10),\" interface \",Data!$C$8,CHAR(13),CHAR(10),\" bind interface IF_IP_\",Data!$C$8,\" context router port \",'Line Table'!G11,CHAR(13),CHAR(10),\" context sip-gateway GW_SIP_\",'Line Table'!A11,CHAR(13),CHAR(10),\" bind location-service LS_\",'Line Table'!A11,CHAR(13),CHAR(10),\" no shutdown\")","v":"context sip-gateway GW_SIP_10\r\n interface LAN\r\n bind interface IF_IP_LAN context router port 5078\r\n context sip-gateway GW_SIP_10\r\n bind location-service LS_10\r\n no shutdown"}]
[400,{"$f":"+IF(Data!$C$5>ROW(Generic!B401)-ROW(Generic!$B$391),\"\",\"#\")","v":""},{"$f":"+CONCATENATE(\"context sip-gateway GW_SIP_\",'Line Table'!A12,CHAR(13),CHAR(10),\" interface \",Data!$C$8,CHAR(13),CHAR(10),\" bind interface IF_IP_\",Data!$C$8,\" context router port \",'Line Table'!G12,CHAR(13),CHAR(10),\" context sip-gateway GW_SIP_\",'Line Table'!A12,CHAR(13),CHAR(10),\" bind location-service LS_\",'Line Table'!A12,CHAR(13),CHAR(10),\" no shutdown\")","v":"context sip-gateway GW_SIP_11\r\n interface LAN\r\n bind interface IF_IP_LAN context router port 5080\r\n context sip-gateway GW_SIP_11\r\n bind location-service LS_11\r\n no shutdown"}]
[401,{"$f":"+IF(Data!$C$5>ROW(Generic!B402)-ROW(Generic!$B$391),\"\",\"#\")","v":""},{"$f":"+CONCATENATE(\"context sip-gateway GW_SIP_\",'Line Table'!A13,CHAR(13),CHAR(10),\" interface \",Data!$C$8,CHAR(13),CHAR(10),\" bind interface IF_IP_\",Data!$C$8,\" context router port \",'Line Table'!G13,CHAR(13),CHAR(10),\" context sip-gateway GW_SIP_\",'Line Table'!A13,CHAR(13),CHAR(10),\" bind location-service LS_\",'Line Table'!A13,CHAR(13),CHAR(10),\" no shutdown\")","v":"context sip-gateway GW_SIP_12\r\n interface LAN\r\n bind interface IF_IP_LAN context router port 5082\r\n context sip-gateway GW_SIP_12\r\n bind location-service LS_12\r\n no shutdown"}]
[402,{"$f":"+IF(Data!$C$5>ROW(Generic!B403)-ROW(Generic!$B$391),\"\",\"#\")","v":"#"},{"$f":"+CONCATENATE(\"context sip-gateway GW_SIP_\",'Line Table'!A14,CHAR(13),CHAR(10),\" interface \",Data!$C$8,CHAR(13),CHAR(10),\" bind interface IF_IP_\",Data!$C$8,\" context router port \",'Line Table'!G14,CHAR(13),CHAR(10),\" context sip-gateway GW_SIP_\",'Line Table'!A14,CHAR(13),CHAR(10),\" bind location-service LS_\",'Line Table'!A14,CHAR(13),CHAR(10),\" no shutdown\")","v":"context sip-gateway GW_SIP_13\r\n interface LAN\r\n bind interface IF_IP_LAN context router port 5084\r\n context sip-gateway GW_SIP_13\r\n bind location-service LS_13\r\n no shutdown"}]
[403,{"$f":"+IF(Data!$C$5>ROW(Generic!B404)-ROW(Generic!$B$391),\"\",\"#\")","v":"#"},{"$f":"+CONCATENATE(\"context sip-gateway GW_SIP_\",'Line Table'!A15,CHAR(13),CHAR(10),\" interface \",Data!$C$8,CHAR(13),CHAR(10),\" bind interface IF_IP_\",Data!$C$8,\" context router port \",'Line Table'!G15,CHAR(13),CHAR(10),\" context sip-gateway GW_SIP_\",'Line Table'!A15,CHAR(13),CHAR(10),\" bind location-service LS_\",'Line Table'!A15,CHAR(13),CHAR(10),\" no shutdown\")","v":"context sip-gateway GW_SIP_14\r\n interface LAN\r\n bind interface IF_IP_LAN context router port 5086\r\n context sip-gateway GW_SIP_14\r\n bind location-service LS_14\r\n no shutdown"}]
[404,{"$f":"+IF(Data!$C$5>ROW(Generic!B405)-ROW(Generic!$B$391),\"\",\"#\")","v":"#"},{"$f":"+CONCATENATE(\"context sip-gateway GW_SIP_\",'Line Table'!A16,CHAR(13),CHAR(10),\" interface \",Data!$C$8,CHAR(13),CHAR(10),\" bind interface IF_IP_\",Data!$C$8,\" context router port \",'Line Table'!G16,CHAR(13),CHAR(10),\" context sip-gateway GW_SIP_\",'Line Table'!A16,CHAR(13),CHAR(10),\" bind location-service LS_\",'Line Table'!A16,CHAR(13),CHAR(10),\" no shutdown\")","v":"context sip-gateway GW_SIP_15\r\n interface LAN\r\n bind interface IF_IP_LAN context router port 5088\r\n context sip-gateway GW_SIP_15\r\n bind location-service LS_15\r\n no shutdown"}]
[405,{"$f":"+IF(Data!$C$5>ROW(Generic!B406)-ROW(Generic!$B$391),\"\",\"#\")","v":"#"},{"$f":"+CONCATENATE(\"context sip-gateway GW_SIP_\",'Line Table'!A17,CHAR(13),CHAR(10),\" interface \",Data!$C$8,CHAR(13),CHAR(10),\" bind interface IF_IP_\",Data!$C$8,\" context router port \",'Line Table'!G17,CHAR(13),CHAR(10),\" context sip-gateway GW_SIP_\",'Line Table'!A17,CHAR(13),CHAR(10),\" bind location-service LS_\",'Line Table'!A17,CHAR(13),CHAR(10),\" no shutdown\")","v":"context sip-gateway GW_SIP_16\r\n interface LAN\r\n bind interface IF_IP_LAN context router port 5090\r\n context sip-gateway GW_SIP_16\r\n bind location-service LS_16\r\n no shutdown"}]
[406,{"$f":"+IF(Data!$C$5>ROW(Generic!B407)-ROW(Generic!$B$391),\"\",\"#\")","v":"#"},{"$f":"+CONCATENATE(\"context sip-gateway GW_SIP_\",'Line Table'!A18,CHAR(13),CHAR(10),\" interface \",Data!$C$8,CHAR(13),CHAR(10),\" bind interface IF_IP_\",Data!$C$8,\" context router port \",'Line Table'!G18,CHAR(13),CHAR(10),\" context sip-gateway GW_SIP_\",'Line Table'!A18,CHAR(13),CHAR(10),\" bind location-service LS_\",'Line Table'!A18,CHAR(13),CHAR(10),\" no shutdown\")","v":"context sip-gateway GW_SIP_17\r\n interface LAN\r\n bind interface IF_IP_LAN context router port 5092\r\n context sip-gateway GW_SIP_17\r\n bind location-service LS_17\r\n no shutdown"}]
[407,{"$f":"+IF(Data!$C$5>ROW(Generic!B408)-ROW(Generic!$B$391),\"\",\"#\")","v":"#"},{"$f":"+CONCATENATE(\"context sip-gateway GW_SIP_\",'Line Table'!A19,CHAR(13),CHAR(10),\" interface \",Data!$C$8,CHAR(13),CHAR(10),\" bind interface IF_IP_\",Data!$C$8,\" context router port \",'Line Table'!G19,CHAR(13),CHAR(10),\" context sip-gateway GW_SIP_\",'Line Table'!A19,CHAR(13),CHAR(10),\" bind location-service LS_\",'Line Table'!A19,CHAR(13),CHAR(10),\" no shutdown\")","v":"context sip-gateway GW_SIP_18\r\n interface LAN\r\n bind interface IF_IP_LAN context router port 5094\r\n context sip-gateway GW_SIP_18\r\n bind location-service LS_18\r\n no shutdown"}]
[408,{"$f":"+IF(Data!$C$5>ROW(Generic!B409)-ROW(Generic!$B$391),\"\",\"#\")","v":"#"},{"$f":"+CONCATENATE(\"context sip-gateway GW_SIP_\",'Line Table'!A20,CHAR(13),CHAR(10),\" interface \",Data!$C$8,CHAR(13),CHAR(10),\" bind interface IF_IP_\",Data!$C$8,\" context router port \",'Line Table'!G20,CHAR(13),CHAR(10),\" context sip-gateway GW_SIP_\",'Line Table'!A20,CHAR(13),CHAR(10),\" bind location-service LS_\",'Line Table'!A20,CHAR(13),CHAR(10),\" no shutdown\")","v":"context sip-gateway GW_SIP_19\r\n interface LAN\r\n bind interface IF_IP_LAN context router port 5096\r\n context sip-gateway GW_SIP_19\r\n bind location-service LS_19\r\n no shutdown"}]
[409,{"$f":"+IF(Data!$C$5>ROW(Generic!B410)-ROW(Generic!$B$391),\"\",\"#\")","v":"#"},{"$f":"+CONCATENATE(\"context sip-gateway GW_SIP_\",'Line Table'!A21,CHAR(13),CHAR(10),\" interface \",Data!$C$8,CHAR(13),CHAR(10),\" bind interface IF_IP_\",Data!$C$8,\" context router port \",'Line Table'!G21,CHAR(13),CHAR(10),\" context sip-gateway GW_SIP_\",'Line Table'!A21,CHAR(13),CHAR(10),\" bind location-service LS_\",'Line Table'!A21,CHAR(13),CHAR(10),\" no shutdown\")","v":"context sip-gateway GW_SIP_20\r\n interface LAN\r\n bind interface IF_IP_LAN context router port 5098\r\n context sip-gateway GW_SIP_20\r\n bind location-service LS_20\r\n no shutdown"}]
[410,{"$f":"+IF(Data!$C$5>ROW(Generic!B411)-ROW(Generic!$B$391),\"\",\"#\")","v":"#"},{"$f":"+CONCATENATE(\"context sip-gateway GW_SIP_\",'Line Table'!A22,CHAR(13),CHAR(10),\" interface \",Data!$C$8,CHAR(13),CHAR(10),\" bind interface IF_IP_\",Data!$C$8,\" context router port \",'Line Table'!G22,CHAR(13),CHAR(10),\" context sip-gateway GW_SIP_\",'Line Table'!A22,CHAR(13),CHAR(10),\" bind location-service LS_\",'Line Table'!A22,CHAR(13),CHAR(10),\" no shutdown\")","v":"context sip-gateway GW_SIP_21\r\n interface LAN\r\n bind interface IF_IP_LAN context router port 5100\r\n context sip-gateway GW_SIP_21\r\n bind location-service LS_21\r\n no shutdown"}]
[411,{"$f":"+IF(Data!$C$5>ROW(Generic!B412)-ROW(Generic!$B$391),\"\",\"#\")","v":"#"},{"$f":"+CONCATENATE(\"context sip-gateway GW_SIP_\",'Line Table'!A23,CHAR(13),CHAR(10),\" interface \",Data!$C$8,CHAR(13),CHAR(10),\" bind interface IF_IP_\",Data!$C$8,\" context router port \",'Line Table'!G23,CHAR(13),CHAR(10),\" context sip-gateway GW_SIP_\",'Line Table'!A23,CHAR(13),CHAR(10),\" bind location-service LS_\",'Line Table'!A23,CHAR(13),CHAR(10),\" no shutdown\")","v":"context sip-gateway GW_SIP_22\r\n interface LAN\r\n bind interface IF_IP_LAN context router port 5102\r\n context sip-gateway GW_SIP_22\r\n bind location-service LS_22\r\n no shutdown"}]
[412,{"$f":"+IF(Data!$C$5>ROW(Generic!B413)-ROW(Generic!$B$391),\"\",\"#\")","v":"#"},{"$f":"+CONCATENATE(\"context sip-gateway GW_SIP_\",'Line Table'!A24,CHAR(13),CHAR(10),\" interface \",Data!$C$8,CHAR(13),CHAR(10),\" bind interface IF_IP_\",Data!$C$8,\" context router port \",'Line Table'!G24,CHAR(13),CHAR(10),\" context sip-gateway GW_SIP_\",'Line Table'!A24,CHAR(13),CHAR(10),\" bind location-service LS_\",'Line Table'!A24,CHAR(13),CHAR(10),\" no shutdown\")","v":"context sip-gateway GW_SIP_23\r\n interface LAN\r\n bind interface IF_IP_LAN context router port 5104\r\n context sip-gateway GW_SIP_23\r\n bind location-service LS_23\r\n no shutdown"}]
[413,{"$f":"+IF(Data!$C$5>ROW(Generic!B414)-ROW(Generic!$B$391),\"\",\"#\")","v":"#"},{"$f":"+CONCATENATE(\"context sip-gateway GW_SIP_\",'Line Table'!A25,CHAR(13),CHAR(10),\" interface \",Data!$C$8,CHAR(13),CHAR(10),\" bind interface IF_IP_\",Data!$C$8,\" context router port \",'Line Table'!G25,CHAR(13),CHAR(10),\" context sip-gateway GW_SIP_\",'Line Table'!A25,CHAR(13),CHAR(10),\" bind location-service LS_\",'Line Table'!A25,CHAR(13),CHAR(10),\" no shutdown\")","v":"context sip-gateway GW_SIP_24\r\n interface LAN\r\n bind interface IF_IP_LAN context router port 5106\r\n context sip-gateway GW_SIP_24\r\n bind location-service LS_24\r\n no shutdown"}]
[414,{"$f":"+IF(Data!$C$5>ROW(Generic!B415)-ROW(Generic!$B$391),\"\",\"#\")","v":"#"},{"$f":"+CONCATENATE(\"context sip-gateway GW_SIP_\",'Line Table'!A26,CHAR(13),CHAR(10),\" interface \",Data!$C$8,CHAR(13),CHAR(10),\" bind interface IF_IP_\",Data!$C$8,\" context router port \",'Line Table'!G26,CHAR(13),CHAR(10),\" context sip-gateway GW_SIP_\",'Line Table'!A26,CHAR(13),CHAR(10),\" bind location-service LS_\",'Line Table'!A26,CHAR(13),CHAR(10),\" no shutdown\")","v":"context sip-gateway GW_SIP_25\r\n interface LAN\r\n bind interface IF_IP_LAN context router port 5108\r\n context sip-gateway GW_SIP_25\r\n bind location-service LS_25\r\n no shutdown"}]
[415,{"$f":"+IF(Data!$C$5>ROW(Generic!B416)-ROW(Generic!$B$391),\"\",\"#\")","v":"#"},{"$f":"+CONCATENATE(\"context sip-gateway GW_SIP_\",'Line Table'!A27,CHAR(13),CHAR(10),\" interface \",Data!$C$8,CHAR(13),CHAR(10),\" bind interface IF_IP_\",Data!$C$8,\" context router port \",'Line Table'!G27,CHAR(13),CHAR(10),\" context sip-gateway GW_SIP_\",'Line Table'!A27,CHAR(13),CHAR(10),\" bind location-service LS_\",'Line Table'!A27,CHAR(13),CHAR(10),\" no shutdown\")","v":"context sip-gateway GW_SIP_26\r\n interface LAN\r\n bind interface IF_IP_LAN context router port 5110\r\n context sip-gateway GW_SIP_26\r\n bind location-service LS_26\r\n no shutdown"}]
[416,{"$f":"+IF(Data!$C$5>ROW(Generic!B417)-ROW(Generic!$B$391),\"\",\"#\")","v":"#"},{"$f":"+CONCATENATE(\"context sip-gateway GW_SIP_\",'Line Table'!A28,CHAR(13),CHAR(10),\" interface \",Data!$C$8,CHAR(13),CHAR(10),\" bind interface IF_IP_\",Data!$C$8,\" context router port \",'Line Table'!G28,CHAR(13),CHAR(10),\" context sip-gateway GW_SIP_\",'Line Table'!A28,CHAR(13),CHAR(10),\" bind location-service LS_\",'Line Table'!A28,CHAR(13),CHAR(10),\" no shutdown\")","v":"context sip-gateway GW_SIP_27\r\n interface LAN\r\n bind interface IF_IP_LAN context router port 5112\r\n context sip-gateway GW_SIP_27\r\n bind location-service LS_27\r\n no shutdown"}]
[417,{"$f":"+IF(Data!$C$5>ROW(Generic!B418)-ROW(Generic!$B$391),\"\",\"#\")","v":"#"},{"$f":"+CONCATENATE(\"context sip-gateway GW_SIP_\",'Line Table'!A29,CHAR(13),CHAR(10),\" interface \",Data!$C$8,CHAR(13),CHAR(10),\" bind interface IF_IP_\",Data!$C$8,\" context router port \",'Line Table'!G29,CHAR(13),CHAR(10),\" context sip-gateway GW_SIP_\",'Line Table'!A29,CHAR(13),CHAR(10),\" bind location-service LS_\",'Line Table'!A29,CHAR(13),CHAR(10),\" no shutdown\")","v":"context sip-gateway GW_SIP_28\r\n interface LAN\r\n bind interface IF_IP_LAN context router port 5114\r\n context sip-gateway GW_SIP_28\r\n bind location-service LS_28\r\n no shutdown"}]
[418,{"$f":"+IF(Data!$C$5>ROW(Generic!B419)-ROW(Generic!$B$391),\"\",\"#\")","v":"#"},{"$f":"+CONCATENATE(\"context sip-gateway GW_SIP_\",'Line Table'!A30,CHAR(13),CHAR(10),\" interface \",Data!$C$8,CHAR(13),CHAR(10),\" bind interface IF_IP_\",Data!$C$8,\" context router port \",'Line Table'!G30,CHAR(13),CHAR(10),\" context sip-gateway GW_SIP_\",'Line Table'!A30,CHAR(13),CHAR(10),\" bind location-service LS_\",'Line Table'!A30,CHAR(13),CHAR(10),\" no shutdown\")","v":"context sip-gateway GW_SIP_29\r\n interface LAN\r\n bind interface IF_IP_LAN context router port 5116\r\n context sip-gateway GW_SIP_29\r\n bind location-service LS_29\r\n no shutdown"}]
[419,{"$f":"+IF(Data!$C$5>ROW(Generic!B420)-ROW(Generic!$B$391),\"\",\"#\")","v":"#"},{"$f":"+CONCATENATE(\"context sip-gateway GW_SIP_\",'Line Table'!A31,CHAR(13),CHAR(10),\" interface \",Data!$C$8,CHAR(13),CHAR(10),\" bind interface IF_IP_\",Data!$C$8,\" context router port \",'Line Table'!G31,CHAR(13),CHAR(10),\" context sip-gateway GW_SIP_\",'Line Table'!A31,CHAR(13),CHAR(10),\" bind location-service LS_\",'Line Table'!A31,CHAR(13),CHAR(10),\" no shutdown\")","v":"context sip-gateway GW_SIP_30\r\n interface LAN\r\n bind interface IF_IP_LAN context router port 5118\r\n context sip-gateway GW_SIP_30\r\n bind location-service LS_30\r\n no shutdown"}]
[420,{"$f":"+IF(Data!$C$5>ROW(Generic!B421)-ROW(Generic!$B$391),\"\",\"#\")","v":"#"},{"$f":"+CONCATENATE(\"context sip-gateway GW_SIP_\",'Line Table'!A32,CHAR(13),CHAR(10),\" interface \",Data!$C$8,CHAR(13),CHAR(10),\" bind interface IF_IP_\",Data!$C$8,\" context router port \",'Line Table'!G32,CHAR(13),CHAR(10),\" context sip-gateway GW_SIP_\",'Line Table'!A32,CHAR(13),CHAR(10),\" bind location-service LS_\",'Line Table'!A32,CHAR(13),CHAR(10),\" no shutdown\")","v":"context sip-gateway GW_SIP_31\r\n interface LAN\r\n bind interface IF_IP_LAN context router port 5120\r\n context sip-gateway GW_SIP_31\r\n bind location-service LS_31\r\n no shutdown"}]
[421,{"$f":"+IF(Data!$C$5>ROW(Generic!B422)-ROW(Generic!$B$391),\"\",\"#\")","v":"#"},{"$f":"+CONCATENATE(\"context sip-gateway GW_SIP_\",'Line Table'!A33,CHAR(13),CHAR(10),\" interface \",Data!$C$8,CHAR(13),CHAR(10),\" bind interface IF_IP_\",Data!$C$8,\" context router port \",'Line Table'!G33,CHAR(13),CHAR(10),\" context sip-gateway GW_SIP_\",'Line Table'!A33,CHAR(13),CHAR(10),\" bind location-service LS_\",'Line Table'!A33,CHAR(13),CHAR(10),\" no shutdown\")","v":"context sip-gateway GW_SIP_32\r\n interface LAN\r\n bind interface IF_IP_LAN context router port 5122\r\n context sip-gateway GW_SIP_32\r\n bind location-service LS_32\r\n no shutdown"}]
[422,null,"        "]
[423,{"$f":"+IF(Data!$C$5>ROW(Generic!B424)-ROW(Generic!$B$424),\"\",\"#\")","v":""},{"$f":"+CONCATENATE(\"  port fxo 0 \",ROW()-ROW($C$424),CHAR(13),CHAR(10),\"      \",Data!$C$31,CHAR(13),CHAR(10),\"     encapsulation cc-fxo\",CHAR(13),CHAR(10),\"      bind interface IF_FXO_\",'Line Table'!A2,\" switch\",CHAR(13),CHAR(10),\"      no shutdown\")","v":"  port fxo 0 0\r\n      use profile fxo us\r\n     encapsulation cc-fxo\r\n      bind interface IF_FXO_1 switch\r\n      no shutdown"}]
[424,{"$f":"+IF(Data!$C$5>ROW(Generic!B425)-ROW(Generic!$B$424),\"\",\"#\")","v":""},{"$f":"+CONCATENATE(\"  port fxo 0 \",ROW()-ROW($C$424),CHAR(13),CHAR(10),\"      \",Data!$C$31,CHAR(13),CHAR(10),\"     encapsulation cc-fxo\",CHAR(13),CHAR(10),\"      bind interface IF_FXO_\",'Line Table'!A3,\" switch\",CHAR(13),CHAR(10),\"      no shutdown\")","v":"  port fxo 0 1\r\n      use profile fxo us\r\n     encapsulation cc-fxo\r\n      bind interface IF_FXO_2 switch\r\n      no shutdown"}]
[425,{"$f":"+IF(Data!$C$5>ROW(Generic!B426)-ROW(Generic!$B$424),\"\",\"#\")","v":""},{"$f":"+CONCATENATE(\"  port fxo 0 \",ROW()-ROW($C$424),CHAR(13),CHAR(10),\"      \",Data!$C$31,CHAR(13),CHAR(10),\"     encapsulation cc-fxo\",CHAR(13),CHAR(10),\"      bind interface IF_FXO_\",'Line Table'!A4,\" switch\",CHAR(13),CHAR(10),\"      no shutdown\")","v":"  port fxo 0 2\r\n      use profile fxo us\r\n     encapsulation cc-fxo\r\n      bind interface IF_FXO_3 switch\r\n      no shutdown"}]
[426,{"$f":"+IF(Data!$C$5>ROW(Generic!B427)-ROW(Generic!$B$424),\"\",\"#\")","v":""},{"$f":"+CONCATENATE(\"  port fxo 0 \",ROW()-ROW($C$424),CHAR(13),CHAR(10),\"      \",Data!$C$31,CHAR(13),CHAR(10),\"     encapsulation cc-fxo\",CHAR(13),CHAR(10),\"      bind interface IF_FXO_\",'Line Table'!A5,\" switch\",CHAR(13),CHAR(10),\"      no shutdown\")","v":"  port fxo 0 3\r\n      use profile fxo us\r\n     encapsulation cc-fxo\r\n      bind interface IF_FXO_4 switch\r\n      no shutdown"}]
[427,{"$f":"+IF(Data!$C$5>ROW(Generic!B428)-ROW(Generic!$B$424),\"\",\"#\")","v":""},{"$f":"+CONCATENATE(\"  port fxo 0 \",ROW()-ROW($C$424),CHAR(13),CHAR(10),\"      \",Data!$C$31,CHAR(13),CHAR(10),\"     encapsulation cc-fxo\",CHAR(13),CHAR(10),\"      bind interface IF_FXO_\",'Line Table'!A6,\" switch\",CHAR(13),CHAR(10),\"      no shutdown\")","v":"  port fxo 0 4\r\n      use profile fxo us\r\n     encapsulation cc-fxo\r\n      bind interface IF_FXO_5 switch\r\n      no shutdown"}]
[428,{"$f":"+IF(Data!$C$5>ROW(Generic!B429)-ROW(Generic!$B$424),\"\",\"#\")","v":""},{"$f":"+CONCATENATE(\"  port fxo 0 \",ROW()-ROW($C$424),CHAR(13),CHAR(10),\"      \",Data!$C$31,CHAR(13),CHAR(10),\"     encapsulation cc-fxo\",CHAR(13),CHAR(10),\"      bind interface IF_FXO_\",'Line Table'!A7,\" switch\",CHAR(13),CHAR(10),\"      no shutdown\")","v":"  port fxo 0 5\r\n      use profile fxo us\r\n     encapsulation cc-fxo\r\n      bind interface IF_FXO_6 switch\r\n      no shutdown"}]
[429,{"$f":"+IF(Data!$C$5>ROW(Generic!B430)-ROW(Generic!$B$424),\"\",\"#\")","v":""},{"$f":"+CONCATENATE(\"  port fxo 0 \",ROW()-ROW($C$424),CHAR(13),CHAR(10),\"      \",Data!$C$31,CHAR(13),CHAR(10),\"     encapsulation cc-fxo\",CHAR(13),CHAR(10),\"      bind interface IF_FXO_\",'Line Table'!A8,\" switch\",CHAR(13),CHAR(10),\"      no shutdown\")","v":"  port fxo 0 6\r\n      use profile fxo us\r\n     encapsulation cc-fxo\r\n      bind interface IF_FXO_7 switch\r\n      no shutdown"}]
[430,{"$f":"+IF(Data!$C$5>ROW(Generic!B431)-ROW(Generic!$B$424),\"\",\"#\")","v":""},{"$f":"+CONCATENATE(\"  port fxo 0 \",ROW()-ROW($C$424),CHAR(13),CHAR(10),\"      \",Data!$C$31,CHAR(13),CHAR(10),\"     encapsulation cc-fxo\",CHAR(13),CHAR(10),\"      bind interface IF_FXO_\",'Line Table'!A9,\" switch\",CHAR(13),CHAR(10),\"      no shutdown\")","v":"  port fxo 0 7\r\n      use profile fxo us\r\n     encapsulation cc-fxo\r\n      bind interface IF_FXO_8 switch\r\n      no shutdown"}]
[431,{"$f":"+IF(Data!$C$5>ROW(Generic!B432)-ROW(Generic!$B$424),\"\",\"#\")","v":""},{"$f":"+CONCATENATE(\"  port fxo 0 \",ROW()-ROW($C$424),CHAR(13),CHAR(10),\"      \",Data!$C$31,CHAR(13),CHAR(10),\"     encapsulation cc-fxo\",CHAR(13),CHAR(10),\"      bind interface IF_FXO_\",'Line Table'!A10,\" switch\",CHAR(13),CHAR(10),\"      no shutdown\")","v":"  port fxo 0 8\r\n      use profile fxo us\r\n     encapsulation cc-fxo\r\n      bind interface IF_FXO_9 switch\r\n      no shutdown"}]
[432,{"$f":"+IF(Data!$C$5>ROW(Generic!B433)-ROW(Generic!$B$424),\"\",\"#\")","v":""},{"$f":"+CONCATENATE(\"  port fxo 0 \",ROW()-ROW($C$424),CHAR(13),CHAR(10),\"      \",Data!$C$31,CHAR(13),CHAR(10),\"     encapsulation cc-fxo\",CHAR(13),CHAR(10),\"      bind interface IF_FXO_\",'Line Table'!A11,\" switch\",CHAR(13),CHAR(10),\"      no shutdown\")","v":"  port fxo 0 9\r\n      use profile fxo us\r\n     encapsulation cc-fxo\r\n      bind interface IF_FXO_10 switch\r\n      no shutdown"}]
[433,{"$f":"+IF(Data!$C$5>ROW(Generic!B434)-ROW(Generic!$B$424),\"\",\"#\")","v":""},{"$f":"+CONCATENATE(\"  port fxo 0 \",ROW()-ROW($C$424),CHAR(13),CHAR(10),\"      \",Data!$C$31,CHAR(13),CHAR(10),\"     encapsulation cc-fxo\",CHAR(13),CHAR(10),\"      bind interface IF_FXO_\",'Line Table'!A12,\" switch\",CHAR(13),CHAR(10),\"      no shutdown\")","v":"  port fxo 0 10\r\n      use profile fxo us\r\n     encapsulation cc-fxo\r\n      bind interface IF_FXO_11 switch\r\n      no shutdown"}]
[434,{"$f":"+IF(Data!$C$5>ROW(Generic!B435)-ROW(Generic!$B$424),\"\",\"#\")","v":""},{"$f":"+CONCATENATE(\"  port fxo 0 \",ROW()-ROW($C$424),CHAR(13),CHAR(10),\"      \",Data!$C$31,CHAR(13),CHAR(10),\"     encapsulation cc-fxo\",CHAR(13),CHAR(10),\"      bind interface IF_FXO_\",'Line Table'!A13,\" switch\",CHAR(13),CHAR(10),\"      no shutdown\")","v":"  port fxo 0 11\r\n      use profile fxo us\r\n     encapsulation cc-fxo\r\n      bind interface IF_FXO_12 switch\r\n      no shutdown"}]
[435,{"$f":"+IF(Data!$C$5>ROW(Generic!B436)-ROW(Generic!$B$424),\"\",\"#\")","v":"#"},{"$f":"+CONCATENATE(\"  port fxo 0 \",ROW()-ROW($C$424),CHAR(13),CHAR(10),\"      \",Data!$C$31,CHAR(13),CHAR(10),\"     encapsulation cc-fxo\",CHAR(13),CHAR(10),\"      bind interface IF_FXO_\",'Line Table'!A14,\" switch\",CHAR(13),CHAR(10),\"      no shutdown\")","v":"  port fxo 0 12\r\n      use profile fxo us\r\n     encapsulation cc-fxo\r\n      bind interface IF_FXO_13 switch\r\n      no shutdown"}]
[436,{"$f":"+IF(Data!$C$5>ROW(Generic!B437)-ROW(Generic!$B$424),\"\",\"#\")","v":"#"},{"$f":"+CONCATENATE(\"  port fxo 0 \",ROW()-ROW($C$424),CHAR(13),CHAR(10),\"      \",Data!$C$31,CHAR(13),CHAR(10),\"     encapsulation cc-fxo\",CHAR(13),CHAR(10),\"      bind interface IF_FXO_\",'Line Table'!A15,\" switch\",CHAR(13),CHAR(10),\"      no shutdown\")","v":"  port fxo 0 13\r\n      use profile fxo us\r\n     encapsulation cc-fxo\r\n      bind interface IF_FXO_14 switch\r\n      no shutdown"}]
[437,{"$f":"+IF(Data!$C$5>ROW(Generic!B438)-ROW(Generic!$B$424),\"\",\"#\")","v":"#"},{"$f":"+CONCATENATE(\"  port fxo 0 \",ROW()-ROW($C$424),CHAR(13),CHAR(10),\"      \",Data!$C$31,CHAR(13),CHAR(10),\"     encapsulation cc-fxo\",CHAR(13),CHAR(10),\"      bind interface IF_FXO_\",'Line Table'!A16,\" switch\",CHAR(13),CHAR(10),\"      no shutdown\")","v":"  port fxo 0 14\r\n      use profile fxo us\r\n     encapsulation cc-fxo\r\n      bind interface IF_FXO_15 switch\r\n      no shutdown"}]
[438,{"$f":"+IF(Data!$C$5>ROW(Generic!B439)-ROW(Generic!$B$424),\"\",\"#\")","v":"#"},{"$f":"+CONCATENATE(\"  port fxo 0 \",ROW()-ROW($C$424),CHAR(13),CHAR(10),\"      \",Data!$C$31,CHAR(13),CHAR(10),\"     encapsulation cc-fxo\",CHAR(13),CHAR(10),\"      bind interface IF_FXO_\",'Line Table'!A17,\" switch\",CHAR(13),CHAR(10),\"      no shutdown\")","v":"  port fxo 0 15\r\n      use profile fxo us\r\n     encapsulation cc-fxo\r\n      bind interface IF_FXO_16 switch\r\n      no shutdown"}]
[439,{"$f":"+IF(Data!$C$5>ROW(Generic!B440)-ROW(Generic!$B$424),\"\",\"#\")","v":"#"},{"$f":"+CONCATENATE(\"  port fxo 0 \",ROW()-ROW($C$424),CHAR(13),CHAR(10),\"      \",Data!$C$31,CHAR(13),CHAR(10),\"     encapsulation cc-fxo\",CHAR(13),CHAR(10),\"      bind interface IF_FXO_\",'Line Table'!A18,\" switch\",CHAR(13),CHAR(10),\"      no shutdown\")","v":"  port fxo 0 16\r\n      use profile fxo us\r\n     encapsulation cc-fxo\r\n      bind interface IF_FXO_17 switch\r\n      no shutdown"}]
[440,{"$f":"+IF(Data!$C$5>ROW(Generic!B441)-ROW(Generic!$B$424),\"\",\"#\")","v":"#"},{"$f":"+CONCATENATE(\"  port fxo 0 \",ROW()-ROW($C$424),CHAR(13),CHAR(10),\"      \",Data!$C$31,CHAR(13),CHAR(10),\"     encapsulation cc-fxo\",CHAR(13),CHAR(10),\"      bind interface IF_FXO_\",'Line Table'!A19,\" switch\",CHAR(13),CHAR(10),\"      no shutdown\")","v":"  port fxo 0 17\r\n      use profile fxo us\r\n     encapsulation cc-fxo\r\n      bind interface IF_FXO_18 switch\r\n      no shutdown"}]
[441,{"$f":"+IF(Data!$C$5>ROW(Generic!B442)-ROW(Generic!$B$424),\"\",\"#\")","v":"#"},{"$f":"+CONCATENATE(\"  port fxo 0 \",ROW()-ROW($C$424),CHAR(13),CHAR(10),\"      \",Data!$C$31,CHAR(13),CHAR(10),\"     encapsulation cc-fxo\",CHAR(13),CHAR(10),\"      bind interface IF_FXO_\",'Line Table'!A20,\" switch\",CHAR(13),CHAR(10),\"      no shutdown\")","v":"  port fxo 0 18\r\n      use profile fxo us\r\n     encapsulation cc-fxo\r\n      bind interface IF_FXO_19 switch\r\n      no shutdown"}]
[442,{"$f":"+IF(Data!$C$5>ROW(Generic!B443)-ROW(Generic!$B$424),\"\",\"#\")","v":"#"},{"$f":"+CONCATENATE(\"  port fxo 0 \",ROW()-ROW($C$424),CHAR(13),CHAR(10),\"      \",Data!$C$31,CHAR(13),CHAR(10),\"     encapsulation cc-fxo\",CHAR(13),CHAR(10),\"      bind interface IF_FXO_\",'Line Table'!A21,\" switch\",CHAR(13),CHAR(10),\"      no shutdown\")","v":"  port fxo 0 19\r\n      use profile fxo us\r\n     encapsulation cc-fxo\r\n      bind interface IF_FXO_20 switch\r\n      no shutdown"}]
[443,{"$f":"+IF(Data!$C$5>ROW(Generic!B444)-ROW(Generic!$B$424),\"\",\"#\")","v":"#"},{"$f":"+CONCATENATE(\"  port fxo 0 \",ROW()-ROW($C$424),CHAR(13),CHAR(10),\"      \",Data!$C$31,CHAR(13),CHAR(10),\"     encapsulation cc-fxo\",CHAR(13),CHAR(10),\"      bind interface IF_FXO_\",'Line Table'!A22,\" switch\",CHAR(13),CHAR(10),\"      no shutdown\")","v":"  port fxo 0 20\r\n      use profile fxo us\r\n     encapsulation cc-fxo\r\n      bind interface IF_FXO_21 switch\r\n      no shutdown"}]
[444,{"$f":"+IF(Data!$C$5>ROW(Generic!B445)-ROW(Generic!$B$424),\"\",\"#\")","v":"#"},{"$f":"+CONCATENATE(\"  port fxo 0 \",ROW()-ROW($C$424),CHAR(13),CHAR(10),\"      \",Data!$C$31,CHAR(13),CHAR(10),\"     encapsulation cc-fxo\",CHAR(13),CHAR(10),\"      bind interface IF_FXO_\",'Line Table'!A23,\" switch\",CHAR(13),CHAR(10),\"      no shutdown\")","v":"  port fxo 0 21\r\n      use profile fxo us\r\n     encapsulation cc-fxo\r\n      bind interface IF_FXO_22 switch\r\n      no shutdown"}]
[445,{"$f":"+IF(Data!$C$5>ROW(Generic!B446)-ROW(Generic!$B$424),\"\",\"#\")","v":"#"},{"$f":"+CONCATENATE(\"  port fxo 0 \",ROW()-ROW($C$424),CHAR(13),CHAR(10),\"      \",Data!$C$31,CHAR(13),CHAR(10),\"     encapsulation cc-fxo\",CHAR(13),CHAR(10),\"      bind interface IF_FXO_\",'Line Table'!A24,\" switch\",CHAR(13),CHAR(10),\"      no shutdown\")","v":"  port fxo 0 22\r\n      use profile fxo us\r\n     encapsulation cc-fxo\r\n      bind interface IF_FXO_23 switch\r\n      no shutdown"}]
[446,{"$f":"+IF(Data!$C$5>ROW(Generic!B447)-ROW(Generic!$B$424),\"\",\"#\")","v":"#"},{"$f":"+CONCATENATE(\"  port fxo 0 \",ROW()-ROW($C$424),CHAR(13),CHAR(10),\"      \",Data!$C$31,CHAR(13),CHAR(10),\"     encapsulation cc-fxo\",CHAR(13),CHAR(10),\"      bind interface IF_FXO_\",'Line Table'!A25,\" switch\",CHAR(13),CHAR(10),\"      no shutdown\")","v":"  port fxo 0 23\r\n      use profile fxo us\r\n     encapsulation cc-fxo\r\n      bind interface IF_FXO_24 switch\r\n      no shutdown"}]
[447,{"$f":"+IF(Data!$C$5>ROW(Generic!B448)-ROW(Generic!$B$424),\"\",\"#\")","v":"#"},{"$f":"+CONCATENATE(\"  port fxo 0 \",ROW()-ROW($C$424),CHAR(13),CHAR(10),\"      \",Data!$C$31,CHAR(13),CHAR(10),\"     encapsulation cc-fxo\",CHAR(13),CHAR(10),\"      bind interface IF_FXO_\",'Line Table'!A26,\" switch\",CHAR(13),CHAR(10),\"      no shutdown\")","v":"  port fxo 0 24\r\n      use profile fxo us\r\n     encapsulation cc-fxo\r\n      bind interface IF_FXO_25 switch\r\n      no shutdown"}]
[448,{"$f":"+IF(Data!$C$5>ROW(Generic!B449)-ROW(Generic!$B$424),\"\",\"#\")","v":"#"},{"$f":"+CONCATENATE(\"  port fxo 0 \",ROW()-ROW($C$424),CHAR(13),CHAR(10),\"      \",Data!$C$31,CHAR(13),CHAR(10),\"     encapsulation cc-fxo\",CHAR(13),CHAR(10),\"      bind interface IF_FXO_\",'Line Table'!A27,\" switch\",CHAR(13),CHAR(10),\"      no shutdown\")","v":"  port fxo 0 25\r\n      use profile fxo us\r\n     encapsulation cc-fxo\r\n      bind interface IF_FXO_26 switch\r\n      no shutdown"}]
[449,{"$f":"+IF(Data!$C$5>ROW(Generic!B450)-ROW(Generic!$B$424),\"\",\"#\")","v":"#"},{"$f":"+CONCATENATE(\"  port fxo 0 \",ROW()-ROW($C$424),CHAR(13),CHAR(10),\"      \",Data!$C$31,CHAR(13),CHAR(10),\"     encapsulation cc-fxo\",CHAR(13),CHAR(10),\"      bind interface IF_FXO_\",'Line Table'!A28,\" switch\",CHAR(13),CHAR(10),\"      no shutdown\")","v":"  port fxo 0 26\r\n      use profile fxo us\r\n     encapsulation cc-fxo\r\n      bind interface IF_FXO_27 switch\r\n      no shutdown"}]
[450,{"$f":"+IF(Data!$C$5>ROW(Generic!B451)-ROW(Generic!$B$424),\"\",\"#\")","v":"#"},{"$f":"+CONCATENATE(\"  port fxo 0 \",ROW()-ROW($C$424),CHAR(13),CHAR(10),\"      \",Data!$C$31,CHAR(13),CHAR(10),\"     encapsulation cc-fxo\",CHAR(13),CHAR(10),\"      bind interface IF_FXO_\",'Line Table'!A29,\" switch\",CHAR(13),CHAR(10),\"      no shutdown\")","v":"  port fxo 0 27\r\n      use profile fxo us\r\n     encapsulation cc-fxo\r\n      bind interface IF_FXO_28 switch\r\n      no shutdown"}]
[451,{"$f":"+IF(Data!$C$5>ROW(Generic!B452)-ROW(Generic!$B$424),\"\",\"#\")","v":"#"},{"$f":"+CONCATENATE(\"  port fxo 0 \",ROW()-ROW($C$424),CHAR(13),CHAR(10),\"      \",Data!$C$31,CHAR(13),CHAR(10),\"     encapsulation cc-fxo\",CHAR(13),CHAR(10),\"      bind interface IF_FXO_\",'Line Table'!A30,\" switch\",CHAR(13),CHAR(10),\"      no shutdown\")","v":"  port fxo 0 28\r\n      use profile fxo us\r\n     encapsulation cc-fxo\r\n      bind interface IF_FXO_29 switch\r\n      no shutdown"}]
[452,{"$f":"+IF(Data!$C$5>ROW(Generic!B453)-ROW(Generic!$B$424),\"\",\"#\")","v":"#"},{"$f":"+CONCATENATE(\"  port fxo 0 \",ROW()-ROW($C$424),CHAR(13),CHAR(10),\"      \",Data!$C$31,CHAR(13),CHAR(10),\"     encapsulation cc-fxo\",CHAR(13),CHAR(10),\"      bind interface IF_FXO_\",'Line Table'!A31,\" switch\",CHAR(13),CHAR(10),\"      no shutdown\")","v":"  port fxo 0 29\r\n      use profile fxo us\r\n     encapsulation cc-fxo\r\n      bind interface IF_FXO_30 switch\r\n      no shutdown"}]
[453,{"$f":"+IF(Data!$C$5>ROW(Generic!B454)-ROW(Generic!$B$424),\"\",\"#\")","v":"#"},{"$f":"+CONCATENATE(\"  port fxo 0 \",ROW()-ROW($C$424),CHAR(13),CHAR(10),\"      \",Data!$C$31,CHAR(13),CHAR(10),\"     encapsulation cc-fxo\",CHAR(13),CHAR(10),\"      bind interface IF_FXO_\",'Line Table'!A32,\" switch\",CHAR(13),CHAR(10),\"      no shutdown\")","v":"  port fxo 0 30\r\n      use profile fxo us\r\n     encapsulation cc-fxo\r\n      bind interface IF_FXO_31 switch\r\n      no shutdown"}]
[454,{"$f":"+IF(Data!$C$5>ROW(Generic!B455)-ROW(Generic!$B$424),\"\",\"#\")","v":"#"},{"$f":"+CONCATENATE(\"  port fxo 0 \",ROW()-ROW($C$424),CHAR(13),CHAR(10),\"      \",Data!$C$31,CHAR(13),CHAR(10),\"     encapsulation cc-fxo\",CHAR(13),CHAR(10),\"      bind interface IF_FXO_\",'Line Table'!A33,\" switch\",CHAR(13),CHAR(10),\"      no shutdown\")","v":"  port fxo 0 31\r\n      use profile fxo us\r\n     encapsulation cc-fxo\r\n      bind interface IF_FXO_32 switch\r\n      no shutdown"}]
[455]
[456,{"$f":"+IF(Data!$C$6>0,\" \",\"#\")","v":"#"},"context sip-gateway GW_SIP_ALL_EXTENSIONS"]
[457,{"$f":"+IF(Data!$C$6>0,\" \",\"#\")","v":"#"},{"$f":"+CONCATENATE(\"      interface \",Data!C8)","v":"      interface LAN"}]
[458,{"$f":"+IF(Data!$C$6>0,\" \",\"#\")","v":"#"},{"$f":"+CONCATENATE(\"        bind interface IF_IP_\",Data!C8,\" context router port \",Data!C36)","v":"        bind interface IF_IP_LAN context router port 5060"}]
[459]
[460,{"$f":"+IF(Data!$C$6>0,\" \",\"#\")","v":"#"},"context sip-gateway GW_SIP_ALL_EXTENSIONS"]
[461,{"$f":"+IF(Data!$C$6>0,\" \",\"#\")","v":"#"},"        bind location-service LS_ALL_EXTENSIONS"]
[462,{"$f":"+IF(Data!$C$6>0,\" \",\"#\")","v":"#"},"        no shutdown"]
[463]
[464,null,"port ethernet 0 0"]
[465,null,"  medium auto"]
[466,null,"  encapsulation ip"]
[467,null,"  bind interface IF_IP_LAN router"]
[468,null,"  no shutdown"]
[469]
[470,{"$f":"+IF(Data!$C$7=\"N\",\"#\",\"\")","v":"#"},"port ethernet 0 1"]
[471,{"$f":"+IF(Data!$C$7=\"N\",\"#\",\"\")","v":"#"},"  medium auto"]
[472,{"$f":"+IF(Data!$C$7=\"N\",\"#\",\"\")","v":"#"},"  encapsulation ip"]
[473,{"$f":"+IF(Data!$C$7=\"N\",\"#\",\"\")","v":"#"},"  bind interface IF_IP_WAN router"]
[474,{"$f":"+IF(Data!$C$7=\"N\",\"#\",\"\")","v":"#"},"  no shutdown"]
[475]
[476,{"$f":"+IF(Data!$C$6>ROW(Generic!B477)-ROW(Generic!$B$477),\"\",\"#\")","v":"#"},{"$f":"+CONCATENATE(\"  port fxs 0 \",ROW()-ROW($E$477),CHAR(13),CHAR(10),\"        caller-id format \", Data!$C$41,CHAR(13),CHAR(10),\"         \",Data!$C$32,CHAR(13),CHAR(10),\"      encapsulation cc-fxs\",CHAR(13),CHAR(10),\"       bind interface IF_FXS_\",'Extension Table'!C2,\" switch \",CHAR(13),CHAR(10),\"     no shutdown\")","v":"  port fxs 0 0\r\n        caller-id format etsi\r\n         use profile fxs us\r\n      encapsulation cc-fxs\r\n       bind interface IF_FXS_1 switch \r\n     no shutdown"}]
[477,{"$f":"+IF(Data!$C$6>ROW(Generic!B478)-ROW(Generic!$B$477),\"\",\"#\")","v":"#"},{"$f":"+CONCATENATE(\"  port fxs 0 \",ROW()-ROW($E$477),CHAR(13),CHAR(10),\"        caller-id format \", Data!$C$41,CHAR(13),CHAR(10),\"         \",Data!$C$32,CHAR(13),CHAR(10),\"      encapsulation cc-fxs\",CHAR(13),CHAR(10),\"       bind interface IF_FXS_\",'Extension Table'!C3,\" switch \",CHAR(13),CHAR(10),\"     no shutdown\")","v":"  port fxs 0 1\r\n        caller-id format etsi\r\n         use profile fxs us\r\n      encapsulation cc-fxs\r\n       bind interface IF_FXS_2 switch \r\n     no shutdown"}]
[478,{"$f":"+IF(Data!$C$6>ROW(Generic!B479)-ROW(Generic!$B$477),\"\",\"#\")","v":"#"},{"$f":"+CONCATENATE(\"  port fxs 0 \",ROW()-ROW($E$477),CHAR(13),CHAR(10),\"        caller-id format \", Data!$C$41,CHAR(13),CHAR(10),\"         \",Data!$C$32,CHAR(13),CHAR(10),\"      encapsulation cc-fxs\",CHAR(13),CHAR(10),\"       bind interface IF_FXS_\",'Extension Table'!C4,\" switch \",CHAR(13),CHAR(10),\"     no shutdown\")","v":"  port fxs 0 2\r\n        caller-id format etsi\r\n         use profile fxs us\r\n      encapsulation cc-fxs\r\n       bind interface IF_FXS_3 switch \r\n     no shutdown"}]
[479,{"$f":"+IF(Data!$C$6>ROW(Generic!B480)-ROW(Generic!$B$477),\"\",\"#\")","v":"#"},{"$f":"+CONCATENATE(\"  port fxs 0 \",ROW()-ROW($E$477),CHAR(13),CHAR(10),\"        caller-id format \", Data!$C$41,CHAR(13),CHAR(10),\"         \",Data!$C$32,CHAR(13),CHAR(10),\"      encapsulation cc-fxs\",CHAR(13),CHAR(10),\"       bind interface IF_FXS_\",'Extension Table'!C5,\" switch \",CHAR(13),CHAR(10),\"     no shutdown\")","v":"  port fxs 0 3\r\n        caller-id format etsi\r\n         use profile fxs us\r\n      encapsulation cc-fxs\r\n       bind interface IF_FXS_4 switch \r\n     no shutdown"}]
[480,{"$f":"+IF(Data!$C$6>ROW(Generic!B481)-ROW(Generic!$B$477),\"\",\"#\")","v":"#"},{"$f":"+CONCATENATE(\"  port fxs 0 \",ROW()-ROW($E$477),CHAR(13),CHAR(10),\"        caller-id format \", Data!$C$41,CHAR(13),CHAR(10),\"         \",Data!$C$32,CHAR(13),CHAR(10),\"      encapsulation cc-fxs\",CHAR(13),CHAR(10),\"       bind interface IF_FXS_\",'Extension Table'!C6,\" switch \",CHAR(13),CHAR(10),\"     no shutdown\")","v":"  port fxs 0 4\r\n        caller-id format etsi\r\n         use profile fxs us\r\n      encapsulation cc-fxs\r\n       bind interface IF_FXS_5 switch \r\n     no shutdown"}]
[481,{"$f":"+IF(Data!$C$6>ROW(Generic!B482)-ROW(Generic!$B$477),\"\",\"#\")","v":"#"},{"$f":"+CONCATENATE(\"  port fxs 0 \",ROW()-ROW($E$477),CHAR(13),CHAR(10),\"        caller-id format \", Data!$C$41,CHAR(13),CHAR(10),\"         \",Data!$C$32,CHAR(13),CHAR(10),\"      encapsulation cc-fxs\",CHAR(13),CHAR(10),\"       bind interface IF_FXS_\",'Extension Table'!C7,\" switch \",CHAR(13),CHAR(10),\"     no shutdown\")","v":"  port fxs 0 5\r\n        caller-id format etsi\r\n         use profile fxs us\r\n      encapsulation cc-fxs\r\n       bind interface IF_FXS_6 switch \r\n     no shutdown"}]
[482,{"$f":"+IF(Data!$C$6>ROW(Generic!B483)-ROW(Generic!$B$477),\"\",\"#\")","v":"#"},{"$f":"+CONCATENATE(\"  port fxs 0 \",ROW()-ROW($E$477),CHAR(13),CHAR(10),\"        caller-id format \", Data!$C$41,CHAR(13),CHAR(10),\"         \",Data!$C$32,CHAR(13),CHAR(10),\"      encapsulation cc-fxs\",CHAR(13),CHAR(10),\"       bind interface IF_FXS_\",'Extension Table'!C8,\" switch \",CHAR(13),CHAR(10),\"     no shutdown\")","v":"  port fxs 0 6\r\n        caller-id format etsi\r\n         use profile fxs us\r\n      encapsulation cc-fxs\r\n       bind interface IF_FXS_7 switch \r\n     no shutdown"}]
[483,{"$f":"+IF(Data!$C$6>ROW(Generic!B484)-ROW(Generic!$B$477),\"\",\"#\")","v":"#"},{"$f":"+CONCATENATE(\"  port fxs 0 \",ROW()-ROW($E$477),CHAR(13),CHAR(10),\"        caller-id format \", Data!$C$41,CHAR(13),CHAR(10),\"         \",Data!$C$32,CHAR(13),CHAR(10),\"      encapsulation cc-fxs\",CHAR(13),CHAR(10),\"       bind interface IF_FXS_\",'Extension Table'!C9,\" switch \",CHAR(13),CHAR(10),\"     no shutdown\")","v":"  port fxs 0 7\r\n        caller-id format etsi\r\n         use profile fxs us\r\n      encapsulation cc-fxs\r\n       bind interface IF_FXS_8 switch \r\n     no shutdown"}]
[484,{"$f":"+IF(Data!$C$6>ROW(Generic!B485)-ROW(Generic!$B$477),\"\",\"#\")","v":"#"},{"$f":"+CONCATENATE(\"  port fxs 0 \",ROW()-ROW($E$477),CHAR(13),CHAR(10),\"        caller-id format \", Data!$C$41,CHAR(13),CHAR(10),\"         \",Data!$C$32,CHAR(13),CHAR(10),\"      encapsulation cc-fxs\",CHAR(13),CHAR(10),\"       bind interface IF_FXS_\",'Extension Table'!C10,\" switch \",CHAR(13),CHAR(10),\"     no shutdown\")","v":"  port fxs 0 8\r\n        caller-id format etsi\r\n         use profile fxs us\r\n      encapsulation cc-fxs\r\n       bind interface IF_FXS_9 switch \r\n     no shutdown"}]
[485,{"$f":"+IF(Data!$C$6>ROW(Generic!B486)-ROW(Generic!$B$477),\"\",\"#\")","v":"#"},{"$f":"+CONCATENATE(\"  port fxs 0 \",ROW()-ROW($E$477),CHAR(13),CHAR(10),\"        caller-id format \", Data!$C$41,CHAR(13),CHAR(10),\"         \",Data!$C$32,CHAR(13),CHAR(10),\"      encapsulation cc-fxs\",CHAR(13),CHAR(10),\"       bind interface IF_FXS_\",'Extension Table'!C11,\" switch \",CHAR(13),CHAR(10),\"     no shutdown\")","v":"  port fxs 0 9\r\n        caller-id format etsi\r\n         use profile fxs us\r\n      encapsulation cc-fxs\r\n       bind interface IF_FXS_10 switch \r\n     no shutdown"}]
[486,{"$f":"+IF(Data!$C$6>ROW(Generic!B487)-ROW(Generic!$B$477),\"\",\"#\")","v":"#"},{"$f":"+CONCATENATE(\"  port fxs 0 \",ROW()-ROW($E$477),CHAR(13),CHAR(10),\"        caller-id format \", Data!$C$41,CHAR(13),CHAR(10),\"         \",Data!$C$32,CHAR(13),CHAR(10),\"      encapsulation cc-fxs\",CHAR(13),CHAR(10),\"       bind interface IF_FXS_\",'Extension Table'!C12,\" switch \",CHAR(13),CHAR(10),\"     no shutdown\")","v":"  port fxs 0 10\r\n        caller-id format etsi\r\n         use profile fxs us\r\n      encapsulation cc-fxs\r\n       bind interface IF_FXS_11 switch \r\n     no shutdown"}]
[487,{"$f":"+IF(Data!$C$6>ROW(Generic!B488)-ROW(Generic!$B$477),\"\",\"#\")","v":"#"},{"$f":"+CONCATENATE(\"  port fxs 0 \",ROW()-ROW($E$477),CHAR(13),CHAR(10),\"        caller-id format \", Data!$C$41,CHAR(13),CHAR(10),\"         \",Data!$C$32,CHAR(13),CHAR(10),\"      encapsulation cc-fxs\",CHAR(13),CHAR(10),\"       bind interface IF_FXS_\",'Extension Table'!C13,\" switch \",CHAR(13),CHAR(10),\"     no shutdown\")","v":"  port fxs 0 11\r\n        caller-id format etsi\r\n         use profile fxs us\r\n      encapsulation cc-fxs\r\n       bind interface IF_FXS_12 switch \r\n     no shutdown"}]
[488,{"$f":"+IF(Data!$C$6>ROW(Generic!B489)-ROW(Generic!$B$477),\"\",\"#\")","v":"#"},{"$f":"+CONCATENATE(\"  port fxs 0 \",ROW()-ROW($E$477),CHAR(13),CHAR(10),\"        caller-id format \", Data!$C$41,CHAR(13),CHAR(10),\"         \",Data!$C$32,CHAR(13),CHAR(10),\"      encapsulation cc-fxs\",CHAR(13),CHAR(10),\"       bind interface IF_FXS_\",'Extension Table'!C14,\" switch \",CHAR(13),CHAR(10),\"     no shutdown\")","v":"  port fxs 0 12\r\n        caller-id format etsi\r\n         use profile fxs us\r\n      encapsulation cc-fxs\r\n       bind interface IF_FXS_13 switch \r\n     no shutdown"}]
[489,{"$f":"+IF(Data!$C$6>ROW(Generic!B490)-ROW(Generic!$B$477),\"\",\"#\")","v":"#"},{"$f":"+CONCATENATE(\"  port fxs 0 \",ROW()-ROW($E$477),CHAR(13),CHAR(10),\"        caller-id format \", Data!$C$41,CHAR(13),CHAR(10),\"         \",Data!$C$32,CHAR(13),CHAR(10),\"      encapsulation cc-fxs\",CHAR(13),CHAR(10),\"       bind interface IF_FXS_\",'Extension Table'!C15,\" switch \",CHAR(13),CHAR(10),\"     no shutdown\")","v":"  port fxs 0 13\r\n        caller-id format etsi\r\n         use profile fxs us\r\n      encapsulation cc-fxs\r\n       bind interface IF_FXS_14 switch \r\n     no shutdown"}]
[490,{"$f":"+IF(Data!$C$6>ROW(Generic!B491)-ROW(Generic!$B$477),\"\",\"#\")","v":"#"},{"$f":"+CONCATENATE(\"  port fxs 0 \",ROW()-ROW($E$477),CHAR(13),CHAR(10),\"        caller-id format \", Data!$C$41,CHAR(13),CHAR(10),\"         \",Data!$C$32,CHAR(13),CHAR(10),\"      encapsulation cc-fxs\",CHAR(13),CHAR(10),\"       bind interface IF_FXS_\",'Extension Table'!C16,\" switch \",CHAR(13),CHAR(10),\"     no shutdown\")","v":"  port fxs 0 14\r\n        caller-id format etsi\r\n         use profile fxs us\r\n      encapsulation cc-fxs\r\n       bind interface IF_FXS_15 switch \r\n     no shutdown"}]
[491,{"$f":"+IF(Data!$C$6>ROW(Generic!B492)-ROW(Generic!$B$477),\"\",\"#\")","v":"#"},{"$f":"+CONCATENATE(\"  port fxs 0 \",ROW()-ROW($E$477),CHAR(13),CHAR(10),\"        caller-id format \", Data!$C$41,CHAR(13),CHAR(10),\"         \",Data!$C$32,CHAR(13),CHAR(10),\"      encapsulation cc-fxs\",CHAR(13),CHAR(10),\"       bind interface IF_FXS_\",'Extension Table'!C17,\" switch \",CHAR(13),CHAR(10),\"     no shutdown\")","v":"  port fxs 0 15\r\n        caller-id format etsi\r\n         use profile fxs us\r\n      encapsulation cc-fxs\r\n       bind interface IF_FXS_16 switch \r\n     no shutdown"}]
[492,{"$f":"+IF(Data!$C$6>ROW(Generic!B493)-ROW(Generic!$B$477),\"\",\"#\")","v":"#"},{"$f":"+CONCATENATE(\"  port fxs 0 \",ROW()-ROW($E$477),CHAR(13),CHAR(10),\"        caller-id format \", Data!$C$41,CHAR(13),CHAR(10),\"         \",Data!$C$32,CHAR(13),CHAR(10),\"      encapsulation cc-fxs\",CHAR(13),CHAR(10),\"       bind interface IF_FXS_\",'Extension Table'!C18,\" switch \",CHAR(13),CHAR(10),\"     no shutdown\")","v":"  port fxs 0 16\r\n        caller-id format etsi\r\n         use profile fxs us\r\n      encapsulation cc-fxs\r\n       bind interface IF_FXS_17 switch \r\n     no shutdown"}]
[493,{"$f":"+IF(Data!$C$6>ROW(Generic!B494)-ROW(Generic!$B$477),\"\",\"#\")","v":"#"},{"$f":"+CONCATENATE(\"  port fxs 0 \",ROW()-ROW($E$477),CHAR(13),CHAR(10),\"        caller-id format \", Data!$C$41,CHAR(13),CHAR(10),\"         \",Data!$C$32,CHAR(13),CHAR(10),\"      encapsulation cc-fxs\",CHAR(13),CHAR(10),\"       bind interface IF_FXS_\",'Extension Table'!C19,\" switch \",CHAR(13),CHAR(10),\"     no shutdown\")","v":"  port fxs 0 17\r\n        caller-id format etsi\r\n         use profile fxs us\r\n      encapsulation cc-fxs\r\n       bind interface IF_FXS_18 switch \r\n     no shutdown"}]
[494,{"$f":"+IF(Data!$C$6>ROW(Generic!B495)-ROW(Generic!$B$477),\"\",\"#\")","v":"#"},{"$f":"+CONCATENATE(\"  port fxs 0 \",ROW()-ROW($E$477),CHAR(13),CHAR(10),\"        caller-id format \", Data!$C$41,CHAR(13),CHAR(10),\"         \",Data!$C$32,CHAR(13),CHAR(10),\"      encapsulation cc-fxs\",CHAR(13),CHAR(10),\"       bind interface IF_FXS_\",'Extension Table'!C20,\" switch \",CHAR(13),CHAR(10),\"     no shutdown\")","v":"  port fxs 0 18\r\n        caller-id format etsi\r\n         use profile fxs us\r\n      encapsulation cc-fxs\r\n       bind interface IF_FXS_19 switch \r\n     no shutdown"}]
[495,{"$f":"+IF(Data!$C$6>ROW(Generic!B496)-ROW(Generic!$B$477),\"\",\"#\")","v":"#"},{"$f":"+CONCATENATE(\"  port fxs 0 \",ROW()-ROW($E$477),CHAR(13),CHAR(10),\"        caller-id format \", Data!$C$41,CHAR(13),CHAR(10),\"         \",Data!$C$32,CHAR(13),CHAR(10),\"      encapsulation cc-fxs\",CHAR(13),CHAR(10),\"       bind interface IF_FXS_\",'Extension Table'!C21,\" switch \",CHAR(13),CHAR(10),\"     no shutdown\")","v":"  port fxs 0 19\r\n        caller-id format etsi\r\n         use profile fxs us\r\n      encapsulation cc-fxs\r\n       bind interface IF_FXS_20 switch \r\n     no shutdown"}]
[496,{"$f":"+IF(Data!$C$6>ROW(Generic!B497)-ROW(Generic!$B$477),\"\",\"#\")","v":"#"},{"$f":"+CONCATENATE(\"  port fxs 0 \",ROW()-ROW($E$477),CHAR(13),CHAR(10),\"        caller-id format \", Data!$C$41,CHAR(13),CHAR(10),\"         \",Data!$C$32,CHAR(13),CHAR(10),\"      encapsulation cc-fxs\",CHAR(13),CHAR(10),\"       bind interface IF_FXS_\",'Extension Table'!C22,\" switch \",CHAR(13),CHAR(10),\"     no shutdown\")","v":"  port fxs 0 20\r\n        caller-id format etsi\r\n         use profile fxs us\r\n      encapsulation cc-fxs\r\n       bind interface IF_FXS_21 switch \r\n     no shutdown"}]
[497,{"$f":"+IF(Data!$C$6>ROW(Generic!B498)-ROW(Generic!$B$477),\"\",\"#\")","v":"#"},{"$f":"+CONCATENATE(\"  port fxs 0 \",ROW()-ROW($E$477),CHAR(13),CHAR(10),\"        caller-id format \", Data!$C$41,CHAR(13),CHAR(10),\"         \",Data!$C$32,CHAR(13),CHAR(10),\"      encapsulation cc-fxs\",CHAR(13),CHAR(10),\"       bind interface IF_FXS_\",'Extension Table'!C23,\" switch \",CHAR(13),CHAR(10),\"     no shutdown\")","v":"  port fxs 0 21\r\n        caller-id format etsi\r\n         use profile fxs us\r\n      encapsulation cc-fxs\r\n       bind interface IF_FXS_22 switch \r\n     no shutdown"}]
[498,{"$f":"+IF(Data!$C$6>ROW(Generic!B499)-ROW(Generic!$B$477),\"\",\"#\")","v":"#"},{"$f":"+CONCATENATE(\"  port fxs 0 \",ROW()-ROW($E$477),CHAR(13),CHAR(10),\"        caller-id format \", Data!$C$41,CHAR(13),CHAR(10),\"         \",Data!$C$32,CHAR(13),CHAR(10),\"      encapsulation cc-fxs\",CHAR(13),CHAR(10),\"       bind interface IF_FXS_\",'Extension Table'!C24,\" switch \",CHAR(13),CHAR(10),\"     no shutdown\")","v":"  port fxs 0 22\r\n        caller-id format etsi\r\n         use profile fxs us\r\n      encapsulation cc-fxs\r\n       bind interface IF_FXS_23 switch \r\n     no shutdown"}]
[499,{"$f":"+IF(Data!$C$6>ROW(Generic!B500)-ROW(Generic!$B$477),\"\",\"#\")","v":"#"},{"$f":"+CONCATENATE(\"  port fxs 0 \",ROW()-ROW($E$477),CHAR(13),CHAR(10),\"        caller-id format \", Data!$C$41,CHAR(13),CHAR(10),\"         \",Data!$C$32,CHAR(13),CHAR(10),\"      encapsulation cc-fxs\",CHAR(13),CHAR(10),\"       bind interface IF_FXS_\",'Extension Table'!C25,\" switch \",CHAR(13),CHAR(10),\"     no shutdown\")","v":"  port fxs 0 23\r\n        caller-id format etsi\r\n         use profile fxs us\r\n      encapsulation cc-fxs\r\n       bind interface IF_FXS_24 switch \r\n     no shutdown"}]
[500,{"$f":"+IF(Data!$C$6>ROW(Generic!B501)-ROW(Generic!$B$477),\"\",\"#\")","v":"#"},{"$f":"+CONCATENATE(\"  port fxs 0 \",ROW()-ROW($E$477),CHAR(13),CHAR(10),\"        caller-id format \", Data!$C$41,CHAR(13),CHAR(10),\"         \",Data!$C$32,CHAR(13),CHAR(10),\"      encapsulation cc-fxs\",CHAR(13),CHAR(10),\"       bind interface IF_FXS_\",'Extension Table'!C26,\" switch \",CHAR(13),CHAR(10),\"     no shutdown\")","v":"  port fxs 0 24\r\n        caller-id format etsi\r\n         use profile fxs us\r\n      encapsulation cc-fxs\r\n       bind interface IF_FXS_25 switch \r\n     no shutdown"}]
[501,{"$f":"+IF(Data!$C$6>ROW(Generic!B502)-ROW(Generic!$B$477),\"\",\"#\")","v":"#"},{"$f":"+CONCATENATE(\"  port fxs 0 \",ROW()-ROW($E$477),CHAR(13),CHAR(10),\"        caller-id format \", Data!$C$41,CHAR(13),CHAR(10),\"         \",Data!$C$32,CHAR(13),CHAR(10),\"      encapsulation cc-fxs\",CHAR(13),CHAR(10),\"       bind interface IF_FXS_\",'Extension Table'!C27,\" switch \",CHAR(13),CHAR(10),\"     no shutdown\")","v":"  port fxs 0 25\r\n        caller-id format etsi\r\n         use profile fxs us\r\n      encapsulation cc-fxs\r\n       bind interface IF_FXS_26 switch \r\n     no shutdown"}]
[502,{"$f":"+IF(Data!$C$6>ROW(Generic!B503)-ROW(Generic!$B$477),\"\",\"#\")","v":"#"},{"$f":"+CONCATENATE(\"  port fxs 0 \",ROW()-ROW($E$477),CHAR(13),CHAR(10),\"        caller-id format \", Data!$C$41,CHAR(13),CHAR(10),\"         \",Data!$C$32,CHAR(13),CHAR(10),\"      encapsulation cc-fxs\",CHAR(13),CHAR(10),\"       bind interface IF_FXS_\",'Extension Table'!C28,\" switch \",CHAR(13),CHAR(10),\"     no shutdown\")","v":"  port fxs 0 26\r\n        caller-id format etsi\r\n         use profile fxs us\r\n      encapsulation cc-fxs\r\n       bind interface IF_FXS_27 switch \r\n     no shutdown"}]
[503,{"$f":"+IF(Data!$C$6>ROW(Generic!B504)-ROW(Generic!$B$477),\"\",\"#\")","v":"#"},{"$f":"+CONCATENATE(\"  port fxs 0 \",ROW()-ROW($E$477),CHAR(13),CHAR(10),\"        caller-id format \", Data!$C$41,CHAR(13),CHAR(10),\"         \",Data!$C$32,CHAR(13),CHAR(10),\"      encapsulation cc-fxs\",CHAR(13),CHAR(10),\"       bind interface IF_FXS_\",'Extension Table'!C29,\" switch \",CHAR(13),CHAR(10),\"     no shutdown\")","v":"  port fxs 0 27\r\n        caller-id format etsi\r\n         use profile fxs us\r\n      encapsulation cc-fxs\r\n       bind interface IF_FXS_28 switch \r\n     no shutdown"}]
[504,{"$f":"+IF(Data!$C$6>ROW(Generic!B505)-ROW(Generic!$B$477),\"\",\"#\")","v":"#"},{"$f":"+CONCATENATE(\"  port fxs 0 \",ROW()-ROW($E$477),CHAR(13),CHAR(10),\"        caller-id format \", Data!$C$41,CHAR(13),CHAR(10),\"         \",Data!$C$32,CHAR(13),CHAR(10),\"      encapsulation cc-fxs\",CHAR(13),CHAR(10),\"       bind interface IF_FXS_\",'Extension Table'!C30,\" switch \",CHAR(13),CHAR(10),\"     no shutdown\")","v":"  port fxs 0 28\r\n        caller-id format etsi\r\n         use profile fxs us\r\n      encapsulation cc-fxs\r\n       bind interface IF_FXS_29 switch \r\n     no shutdown"}]
[505,{"$f":"+IF(Data!$C$6>ROW(Generic!B506)-ROW(Generic!$B$477),\"\",\"#\")","v":"#"},{"$f":"+CONCATENATE(\"  port fxs 0 \",ROW()-ROW($E$477),CHAR(13),CHAR(10),\"        caller-id format \", Data!$C$41,CHAR(13),CHAR(10),\"         \",Data!$C$32,CHAR(13),CHAR(10),\"      encapsulation cc-fxs\",CHAR(13),CHAR(10),\"       bind interface IF_FXS_\",'Extension Table'!C31,\" switch \",CHAR(13),CHAR(10),\"     no shutdown\")","v":"  port fxs 0 29\r\n        caller-id format etsi\r\n         use profile fxs us\r\n      encapsulation cc-fxs\r\n       bind interface IF_FXS_30 switch \r\n     no shutdown"}]
[506,{"$f":"+IF(Data!$C$6>ROW(Generic!B507)-ROW(Generic!$B$477),\"\",\"#\")","v":"#"},{"$f":"+CONCATENATE(\"  port fxs 0 \",ROW()-ROW($E$477),CHAR(13),CHAR(10),\"        caller-id format \", Data!$C$41,CHAR(13),CHAR(10),\"         \",Data!$C$32,CHAR(13),CHAR(10),\"      encapsulation cc-fxs\",CHAR(13),CHAR(10),\"       bind interface IF_FXS_\",'Extension Table'!C32,\" switch \",CHAR(13),CHAR(10),\"     no shutdown\")","v":"  port fxs 0 30\r\n        caller-id format etsi\r\n         use profile fxs us\r\n      encapsulation cc-fxs\r\n       bind interface IF_FXS_31 switch \r\n     no shutdown"}]
[507,{"$f":"+IF(Data!$C$6>ROW(Generic!B508)-ROW(Generic!$B$477),\"\",\"#\")","v":"#"},{"$f":"+CONCATENATE(\"  port fxs 0 \",ROW()-ROW($E$477),CHAR(13),CHAR(10),\"        caller-id format \", Data!$C$41,CHAR(13),CHAR(10),\"         \",Data!$C$32,CHAR(13),CHAR(10),\"      encapsulation cc-fxs\",CHAR(13),CHAR(10),\"       bind interface IF_FXS_\",'Extension Table'!C33,\" switch \",CHAR(13),CHAR(10),\"     no shutdown\")","v":"  port fxs 0 31\r\n        caller-id format etsi\r\n         use profile fxs us\r\n      encapsulation cc-fxs\r\n       bind interface IF_FXS_32 switch \r\n     no shutdown"}]
[508,null,"################################################# END ##################################################"]

{"sheet":"Brekeke","index":7,"n_rows":509,"n_cols":4,"rows_kept":509,"cut":false,"hidden":true,"merged":[]}
["LINE #","DISCARD (#)","COMMAND","Column1"]
[1,null,"####################################################################################"]
[2,null,{"$f":"+CONCATENATE(\"# Configuration file for SmartNode with: \",Data!C5,\" FXO and \", Data!C6,\" FXS\")","v":"# Configuration file for SmartNode with: 12 FXO and 0 FXS"}]
[3,null,{"$f":"+IF(Data!C7=\"Y\",\"# With 2 ethernet ports\",\"# With one ethernet port\")","v":"# With one ethernet port"}]
[4,null,{"$f":"+CONCATENATE(\"# Configuration file name is \",Data!C11)","v":"# Configuration file name is PattonSample"}]
[5,null,"# Brekeke IPPBX"]
[6,null,"####################################################################################"]
[7,null,{"$f":"+CONCATENATE(\"# \",Data!B14,\" \",Data!C14)","v":"# LAN Interface Data "}]
[8,null,{"$f":"+CONCATENATE(\"# \",Data!B15,\" \",Data!C15)","v":"# IP Address 10.10.1.10"}]
[9,null,{"$f":"+CONCATENATE(\"# \",Data!B16,\" \",Data!C16)","v":"# IP Mask 255.255.255.0"}]
[10,null,"####################################################################################"]
[11,null,{"$f":"+CONCATENATE(\"# \",Data!B18,\" \",Data!C18)","v":"# WAN Interface Data "}]
[12,null,{"$f":"+CONCATENATE(\"# \",Data!B19,\" \",Data!C19)","v":"# IP Address dhcp"}]
[13,null,{"$f":"+CONCATENATE(\"# \",Data!B20,\" \",Data!C20)","v":"# IP Mask "}]
[14,null,"####################################################################################"]
[15,null,{"$f":"+CONCATENATE(\"# \",Data!B22,\" \",Data!C22)","v":"# Default Gateway "}]
[16,null,"####################################################################################"]
[17,null,{"$f":"+CONCATENATE(\"# \",Data!B23,\" \",Data!C23)","v":"# IP-PBX/SIP PROXY DATA "}]
[18,null,{"$f":"+CONCATENATE(\"# \",Data!B24,\" \",Data!C24)","v":"# IP-PBX Ip Address /  Name / Domain 10.10.50.23"}]
[19,null,{"$f":"+CONCATENATE(\"# \",Data!B25,\" \",Data!C25)","v":"# IP-PBX SIP Port 5060"}]
[20,null,"####################################################################################"]
[21,null,{"$f":"+CONCATENATE(\"# \",Data!B27,\" \",Data!C27)","v":"# LOCALIZATION DATA "}]
[22,null,{"$f":"+CONCATENATE(\"# \",Data!B28,\" \",Data!C28)","v":"# Country United States"}]
[23,null,"####################################################################################"]
[24,null,"# Supported firmware versions R5.x"]
[25,null,{"$f":"+CONCATENATE(\"# Tool version \",Data!$C$4)","v":"# Tool version V2_1 06222011"}]
[26,null,"# Adapted: Ernesto Casas "]
[27,null,"# for comments, feedback or suggestions please send an email to: ecasas@patton.com"]
[28,null,"####################################################################################"]
[29]
[30,null,"webserver port 80 language en"]
[31,null,{"$f":"+CONCATENATE(\"sntp-client server \",Data!C9)","v":"sntp-client server 1.1.1.1"}]
[32,{"$f":"+IF(Data!C10=\"\",\"#\",\"\")","v":""},{"$f":"+CONCATENATE(\"dns-client server \",Data!C10)","v":"dns-client server 8.8.8.8"}]
[33]
[34,null,"system"]
[35,null,"ic voice 0"]
[36,null,"low-bitrate-codec g729"]
[37,null,"profile ppp default"]
[38]
[39,{"$f":"+IF(Data!$C$5>ROW(Brekeke!B40)-ROW(Brekeke!$B$477),\"\",\"#\")","v":""},{"$f":"+CONCATENATE(\"# Call Progress tones based on country selection. Your selected country is: \",Data!$C$28)","v":"# Call Progress tones based on country selection. Your selected country is: United States"}]
[40]
[41,null,{"$f":"+Data!$C$30","v":"profile call-progress-tone defaultDialtone\r\nflush-play-list \r\nplay 1 1000 350 -13 440 -13 \r\nprofile call-progress-tone defaultAlertingtone \r\nflush-play-list \r\nplay 1 1000 440 -19 480 -19 \r\npause 2 3000 \r\nprofile call-progress-tone defaultBusytone \r\nflush-play-list \r\nplay 1 500 480 -24 620 -24 \r\npause 2 500 \r\nprofile call-progress-tone defaultReleasetone \r\nflush-play-list \r\nplay 1 250 480 -24 620 -24 \r\npause 2 250 \r\nprofile call-progress-tone defaultCongestiontone \r\nflush-play-list \r\nplay 1 250 480 -24 620 -24 \r\npause 2 250\r\n"}]
[42,{"$f":"+IF(Data!$C$5>ROW(Brekeke!B43)-ROW(Brekeke!$B$477),\"\",\"#\")","v":""}]
[43,null,"profile tone-set default"]
[44,null,"profile voip default"]
[45,null,"  codec 1 g711alaw64k rx-length 20 tx-length 20"]
[46,null,"  codec 2 g711ulaw64k rx-length 20 tx-length 20"]
[47,null,"  fax transmission 1 relay t38-udp"]
[48,null,"  fax transmission 2 bypass g711alaw64k"]
[49,null,"profile pstn default"]
[50,null,"profile sip default"]
[51,null,"profile aaa default"]
[52,null,"  method 1 local"]
[53,null,"  method 2 none"]
[54]
[55,null,"context ip router"]
[56,null,"interface IF_IP_LAN"]
[57,null,{"$f":"+CONCATENATE(\"     ipaddress \",Data!C15,\" \",Data!C16)","v":"     ipaddress 10.10.1.10 255.255.255.0"}]
[58,null,"    tcp adjust-mss rx mtu"]
[59,null,"    tcp adjust-mss tx mtu"]
[60]
[61,null,"interface IF_IP_WAN"]
[62,null,{"$f":"+CONCATENATE(\"     ipaddress \",Data!C19,\" \",Data!C20)","v":"     ipaddress dhcp "}]
[63,null,"    tcp adjust-mss rx mtu"]
[64,null,"    tcp adjust-mss tx mtu"]
[65]
[66,null,"context ip router"]
[67,null,{"$f":"+CONCATENATE(\"     route 0.0.0.0 0.0.0.0  \",Data!C22)","v":"     route 0.0.0.0 0.0.0.0  "}]
[68,null,"context cs switch"]
[69,null,{"$f":"+IF(Data!C38=\"\",\"     no digit-collection timeout\",+CONCATENATE(\"     digit-collection timeout \",Data!C38))","v":"     digit-collection timeout 2"}]
[70]
[71,{"$f":"+IF(Data!$C$6>0,\" \",\"#\")","v":"#"},"routing-table called-e164 RT_DIGITCOLLECTION"]
[72,{"$f":"+IF(Data!$C$6>0,\" \",\"#\")","v":"#"},"      route .T dest-interface IF_SIP_PBX MT_EXT_TO_NAME"]
[73]
[74,{"$f":"+IF(Data!$C$6>0,\" \",\"#\")","v":"#"},"routing-table called-e164 RT_TO_FXS"]
[75,{"$f":"+IF(Data!$C$6>ROW(Brekeke!B76)-ROW(Brekeke!$B$76),\"\",\"#\")","v":"#"},{"$f":"+CONCATENATE(\"        route \",'Extension Table'!A2,\" dest-interface IF_FXS_\",'Extension Table'!C2)","v":"        route 101 dest-interface IF_FXS_1"}]
[76,{"$f":"+IF(Data!$C$6>ROW(Brekeke!B77)-ROW(Brekeke!$B$76),\"\",\"#\")","v":"#"},{"$f":"+CONCATENATE(\"        route \",'Extension Table'!A3,\" dest-interface IF_FXS_\",'Extension Table'!C3)","v":"        route 102 dest-interface IF_FXS_2"}]
[77,{"$f":"+IF(Data!$C$6>ROW(Brekeke!B78)-ROW(Brekeke!$B$76),\"\",\"#\")","v":"#"},{"$f":"+CONCATENATE(\"        route \",'Extension Table'!A4,\" dest-interface IF_FXS_\",'Extension Table'!C4)","v":"        route 103 dest-interface IF_FXS_3"}]
[78,{"$f":"+IF(Data!$C$6>ROW(Brekeke!B79)-ROW(Brekeke!$B$76),\"\",\"#\")","v":"#"},{"$f":"+CONCATENATE(\"        route \",'Extension Table'!A5,\" dest-interface IF_FXS_\",'Extension Table'!C5)","v":"        route 104 dest-interface IF_FXS_4"}]
[79,{"$f":"+IF(Data!$C$6>ROW(Brekeke!B80)-ROW(Brekeke!$B$76),\"\",\"#\")","v":"#"},{"$f":"+CONCATENATE(\"        route \",'Extension Table'!A6,\" dest-interface IF_FXS_\",'Extension Table'!C6)","v":"        route 105 dest-interface IF_FXS_5"}]
[80,{"$f":"+IF(Data!$C$6>ROW(Brekeke!B81)-ROW(Brekeke!$B$76),\"\",\"#\")","v":"#"},{"$f":"+CONCATENATE(\"        route \",'Extension Table'!A7,\" dest-interface IF_FXS_\",'Extension Table'!C7)","v":"        route 106 dest-interface IF_FXS_6"}]
[81,{"$f":"+IF(Data!$C$6>ROW(Brekeke!B82)-ROW(Brekeke!$B$76),\"\",\"#\")","v":"#"},{"$f":"+CONCATENATE(\"        route \",'Extension Table'!A8,\" dest-interface IF_FXS_\",'Extension Table'!C8)","v":"        route 107 dest-interface IF_FXS_7"}]
[82,{"$f":"+IF(Data!$C$6>ROW(Brekeke!B83)-ROW(Brekeke!$B$76),\"\",\"#\")","v":"#"},{"$f":"+CONCATENATE(\"        route \",'Extension Table'!A9,\" dest-interface IF_FXS_\",'Extension Table'!C9)","v":"        route 108 dest-interface IF_FXS_8"}]
[83,{"$f":"+IF(Data!$C$6>ROW(Brekeke!B84)-ROW(Brekeke!$B$76),\"\",\"#\")","v":"#"},{"$f":"+CONCATENATE(\"        route \",'Extension Table'!A10,\" dest-interface IF_FXS_\",'Extension Table'!C10)","v":"        route 109 dest-interface IF_FXS_9"}]
[84,{"$f":"+IF(Data!$C$6>ROW(Brekeke!B85)-ROW(Brekeke!$B$76),\"\",\"#\")","v":"#"},{"$f":"+CONCATENATE(\"        route \",'Extension Table'!A11,\" dest-interface IF_FXS_\",'Extension Table'!C11)","v":"        route 110 dest-interface IF_FXS_10"}]
[85,{"$f":"+IF(Data!$C$6>ROW(Brekeke!B86)-ROW(Brekeke!$B$76),\"\",\"#\")","v":"#"},{"$f":"+CONCATENATE(\"        route \",'Extension Table'!A12,\" dest-interface IF_FXS_\",'Extension Table'!C12)","v":"        route 111 dest-interface IF_FXS_11"}]
[86,{"$f":"+IF(Data!$C$6>ROW(Brekeke!B87)-ROW(Brekeke!$B$76),\"\",\"#\")","v":"#"},{"$f":"+CONCATENATE(\"        route \",'Extension Table'!A13,\" dest-interface IF_FXS_\",'Extension Table'!C13)","v":"        route 112 dest-interface IF_FXS_12"}]
[87,{"$f":"+IF(Data!$C$6>ROW(Brekeke!B88)-ROW(Brekeke!$B$76),\"\",\"#\")","v":"#"},{"$f":"+CONCATENATE(\"        route \",'Extension Table'!A14,\" dest-interface IF_FXS_\",'Extension Table'!C14)","v":"        route 113 dest-interface IF_FXS_13"}]
[88,{"$f":"+IF(Data!$C$6>ROW(Brekeke!B89)-ROW(Brekeke!$B$76),\"\",\"#\")","v":"#"},{"$f":"+CONCATENATE(\"        route \",'Extension Table'!A15,\" dest-interface IF_FXS_\",'Extension Table'!C15)","v":"        route 114 dest-interface IF_FXS_14"}]
[89,{"$f":"+IF(Data!$C$6>ROW(Brekeke!B90)-ROW(Brekeke!$B$76),\"\",\"#\")","v":"#"},{"$f":"+CONCATENATE(\"        route \",'Extension Table'!A16,\" dest-interface IF_FXS_\",'Extension Table'!C16)","v":"        route 115 dest-interface IF_FXS_15"}]
[90,{"$f":"+IF(Data!$C$6>ROW(Brekeke!B91)-ROW(Brekeke!$B$76),\"\",\"#\")","v":"#"},{"$f":"+CONCATENATE(\"        route \",'Extension Table'!A17,\" dest-interface IF_FXS_\",'Extension Table'!C17)","v":"        route 116 dest-interface IF_FXS_16"}]
[91,{"$f":"+IF(Data!$C$6>ROW(Brekeke!B92)-ROW(Brekeke!$B$76),\"\",\"#\")","v":"#"},{"$f":"+CONCATENATE(\"        route \",'Extension Table'!A18,\" dest-interface IF_FXS_\",'Extension Table'!C18)","v":"        route 117 dest-interface IF_FXS_17"}]
[92,{"$f":"+IF(Data!$C$6>ROW(Brekeke!B93)-ROW(Brekeke!$B$76),\"\",\"#\")","v":"#"},{"$f":"+CONCATENATE(\"        route \",'Extension Table'!A19,\" dest-interface IF_FXS_\",'Extension Table'!C19)","v":"        route 118 dest-interface IF_FXS_18"}]
[93,{"$f":"+IF(Data!$C$6>ROW(Brekeke!B94)-ROW(Brekeke!$B$76),\"\",\"#\")","v":"#"},{"$f":"+CONCATENATE(\"        route \",'Extension Table'!A20,\" dest-interface IF_FXS_\",'Extension Table'!C20)","v":"        route 119 dest-interface IF_FXS_19"}]
[94,{"$f":"+IF(Data!$C$6>ROW(Brekeke!B95)-ROW(Brekeke!$B$76),\"\",\"#\")","v":"#"},{"$f":"+CONCATENATE(\"        route \",'Extension Table'!A21,\" dest-interface IF_FXS_\",'Extension Table'!C21)","v":"        route 120 dest-interface IF_FXS_20"}]
[95,{"$f":"+IF(Data!$C$6>ROW(Brekeke!B96)-ROW(Brekeke!$B$76),\"\",\"#\")","v":"#"},{"$f":"+CONCATENATE(\"        route \",'Extension Table'!A22,\" dest-interface IF_FXS_\",'Extension Table'!C22)","v":"        route 121 dest-interface IF_FXS_21"}]
[96,{"$f":"+IF(Data!$C$6>ROW(Brekeke!B97)-ROW(Brekeke!$B$76),\"\",\"#\")","v":"#"},{"$f":"+CONCATENATE(\"        route \",'Extension Table'!A23,\" dest-interface IF_FXS_\",'Extension Table'!C23)","v":"        route 122 dest-interface IF_FXS_22"}]
[97,{"$f":"+IF(Data!$C$6>ROW(Brekeke!B98)-ROW(Brekeke!$B$76),\"\",\"#\")","v":"#"},{"$f":"+CONCATENATE(\"        route \",'Extension Table'!A24,\" dest-interface IF_FXS_\",'Extension Table'!C24)","v":"        route 123 dest-interface IF_FXS_23"}]
[98,{"$f":"+IF(Data!$C$6>ROW(Brekeke!B99)-ROW(Brekeke!$B$76),\"\",\"#\")","v":"#"},{"$f":"+CONCATENATE(\"        route \",'Extension Table'!A25,\" dest-interface IF_FXS_\",'Extension Table'!C25)","v":"        route 124 dest-interface IF_FXS_24"}]
[99,{"$f":"+IF(Data!$C$6>ROW(Brekeke!B100)-ROW(Brekeke!$B$76),\"\",\"#\")","v":"#"},{"$f":"+CONCATENATE(\"        route \",'Extension Table'!A26,\" dest-interface IF_FXS_\",'Extension Table'!C26)","v":"        route 125 dest-interface IF_FXS_25"}]
[100,{"$f":"+IF(Data!$C$6>ROW(Brekeke!B101)-ROW(Brekeke!$B$76),\"\",\"#\")","v":"#"},{"$f":"+CONCATENATE(\"        route \",'Extension Table'!A27,\" dest-interface IF_FXS_\",'Extension Table'!C27)","v":"        route 126 dest-interface IF_FXS_26"}]
[101,{"$f":"+IF(Data!$C$6>ROW(Brekeke!B102)-ROW(Brekeke!$B$76),\"\",\"#\")","v":"#"},{"$f":"+CONCATENATE(\"        route \",'Extension Table'!A28,\" dest-interface IF_FXS_\",'Extension Table'!C28)","v":"        route 127 dest-interface IF_FXS_27"}]
[102,{"$f":"+IF(Data!$C$6>ROW(Brekeke!B103)-ROW(Brekeke!$B$76),\"\",\"#\")","v":"#"},{"$f":"+CONCATENATE(\"        route \",'Extension Table'!A29,\" dest-interface IF_FXS_\",'Extension Table'!C29)","v":"        route 128 dest-interface IF_FXS_28"}]
[103,{"$f":"+IF(Data!$C$6>ROW(Brekeke!B104)-ROW(Brekeke!$B$76),\"\",\"#\")","v":"#"},{"$f":"+CONCATENATE(\"        route \",'Extension Table'!A30,\" dest-interface IF_FXS_\",'Extension Table'!C30)","v":"        route 129 dest-interface IF_FXS_29"}]
[104,{"$f":"+IF(Data!$C$6>ROW(Brekeke!B105)-ROW(Brekeke!$B$76),\"\",\"#\")","v":"#"},{"$f":"+CONCATENATE(\"        route \",'Extension Table'!A31,\" dest-interface IF_FXS_\",'Extension Table'!C31)","v":"        route 130 dest-interface IF_FXS_30"}]
[105,{"$f":"+IF(Data!$C$6>ROW(Brekeke!B106)-ROW(Brekeke!$B$76),\"\",\"#\")","v":"#"},{"$f":"+CONCATENATE(\"        route \",'Extension Table'!A32,\" dest-interface IF_FXS_\",'Extension Table'!C32)","v":"        route 131 dest-interface IF_FXS_31"}]
[106,{"$f":"+IF(Data!$C$6>ROW(Brekeke!B107)-ROW(Brekeke!$B$76),\"\",\"#\")","v":"#"},{"$f":"+CONCATENATE(\"        route \",'Extension Table'!A33,\" dest-interface IF_FXS_\",'Extension Table'!C33)","v":"        route 132 dest-interface IF_FXS_32"}]
[107,null," "]
[108,{"$f":"+IF(Data!$C$6>0,\" \",\"#\")","v":"#"},"mapping-table calling-e164 to calling-name MT_EXT_TO_NAME"]
[109,{"$f":"+IF(Data!$C$6>ROW(Brekeke!B110)-ROW(Brekeke!$B$110),\"\",\"#\")","v":"#"},{"$f":"+CONCATENATE(\"        map \",'Extension Table'!A2,\" to \"\"\",'Extension Table'!D2,\" \",'Extension Table'!E2,\"\"\"\")","v":"        map 101 to \"Fname user 1 Lname user 1\""}]
[110,{"$f":"+IF(Data!$C$6>ROW(Brekeke!B111)-ROW(Brekeke!$B$110),\"\",\"#\")","v":"#"},{"$f":"+CONCATENATE(\"        map \",'Extension Table'!A3,\" to \"\"\",'Extension Table'!D3,\" \",'Extension Table'!E3,\"\"\"\")","v":"        map 102 to \"Fname user 2 Lname user 2\""}]
[111,{"$f":"+IF(Data!$C$6>ROW(Brekeke!B112)-ROW(Brekeke!$B$110),\"\",\"#\")","v":"#"},{"$f":"+CONCATENATE(\"        map \",'Extension Table'!A4,\" to \"\"\",'Extension Table'!D4,\" \",'Extension Table'!E4,\"\"\"\")","v":"        map 103 to \" \""}]
[112,{"$f":"+IF(Data!$C$6>ROW(Brekeke!B113)-ROW(Brekeke!$B$110),\"\",\"#\")","v":"#"},{"$f":"+CONCATENATE(\"        map \",'Extension Table'!A5,\" to \"\"\",'Extension Table'!D5,\" \",'Extension Table'!E5,\"\"\"\")","v":"        map 104 to \" \""}]
[113,{"$f":"+IF(Data!$C$6>ROW(Brekeke!B114)-ROW(Brekeke!$B$110),\"\",\"#\")","v":"#"},{"$f":"+CONCATENATE(\"        map \",'Extension Table'!A6,\" to \"\"\",'Extension Table'!D6,\" \",'Extension Table'!E6,\"\"\"\")","v":"        map 105 to \" \""}]
[114,{"$f":"+IF(Data!$C$6>ROW(Brekeke!B115)-ROW(Brekeke!$B$110),\"\",\"#\")","v":"#"},{"$f":"+CONCATENATE(\"        map \",'Extension Table'!A7,\" to \"\"\",'Extension Table'!D7,\" \",'Extension Table'!E7,\"\"\"\")","v":"        map 106 to \" \""}]
[115,{"$f":"+IF(Data!$C$6>ROW(Brekeke!B116)-ROW(Brekeke!$B$110),\"\",\"#\")","v":"#"},{"$f":"+CONCATENATE(\"        map \",'Extension Table'!A8,\" to \"\"\",'Extension Table'!D8,\" \",'Extension Table'!E8,\"\"\"\")","v":"        map 107 to \" \""}]
[116,{"$f":"+IF(Data!$C$6>ROW(Brekeke!B117)-ROW(Brekeke!$B$110),\"\",\"#\")","v":"#"},{"$f":"+CONCATENATE(\"        map \",'Extension Table'!A9,\" to \"\"\",'Extension Table'!D9,\" \",'Extension Table'!E9,\"\"\"\")","v":"        map 108 to \" \""}]
[117,{"$f":"+IF(Data!$C$6>ROW(Brekeke!B118)-ROW(Brekeke!$B$110),\"\",\"#\")","v":"#"},{"$f":"+CONCATENATE(\"        map \",'Extension Table'!A10,\" to \"\"\",'Extension Table'!D10,\" \",'Extension Table'!E10,\"\"\"\")","v":"        map 109 to \" \""}]
[118,{"$f":"+IF(Data!$C$6>ROW(Brekeke!B119)-ROW(Brekeke!$B$110),\"\",\"#\")","v":"#"},{"$f":"+CONCATENATE(\"        map \",'Extension Table'!A11,\" to \"\"\",'Extension Table'!D11,\" \",'Extension Table'!E11,\"\"\"\")","v":"        map 110 to \" \""}]
[119,{"$f":"+IF(Data!$C$6>ROW(Brekeke!B120)-ROW(Brekeke!$B$110),\"\",\"#\")","v":"#"},{"$f":"+CONCATENATE(\"        map \",'Extension Table'!A12,\" to \"\"\",'Extension Table'!D12,\" \",'Extension Table'!E12,\"\"\"\")","v":"        map 111 to \" \""}]
[120,{"$f":"+IF(Data!$C$6>ROW(Brekeke!B121)-ROW(Brekeke!$B$110),\"\",\"#\")","v":"#"},{"$f":"+CONCATENATE(\"        map \",'Extension Table'!A13,\" to \"\"\",'Extension Table'!D13,\" \",'Extension Table'!E13,\"\"\"\")","v":"        map 112 to \" \""}]
[121,{"$f":"+IF(Data!$C$6>ROW(Brekeke!B122)-ROW(Brekeke!$B$110),\"\",\"#\")","v":"#"},{"$f":"+CONCATENATE(\"        map \",'Extension Table'!A14,\" to \"\"\",'Extension Table'!D14,\" \",'Extension Table'!E14,\"\"\"\")","v":"        map 113 to \" \""}]
[122,{"$f":"+IF(Data!$C$6>ROW(Brekeke!B123)-ROW(Brekeke!$B$110),\"\",\"#\")","v":"#"},{"$f":"+CONCATENATE(\"        map \",'Extension Table'!A15,\" to \"\"\",'Extension Table'!D15,\" \",'Extension Table'!E15,\"\"\"\")","v":"        map 114 to \" \""}]
[123,{"$f":"+IF(Data!$C$6>ROW(Brekeke!B124)-ROW(Brekeke!$B$110),\"\",\"#\")","v":"#"},{"$f":"+CONCATENATE(\"        map \",'Extension Table'!A16,\" to \"\"\",'Extension Table'!D16,\" \",'Extension Table'!E16,\"\"\"\")","v":"        map 115 to \" \""}]
[124,{"$f":"+IF(Data!$C$6>ROW(Brekeke!B125)-ROW(Brekeke!$B$110),\"\",\"#\")","v":"#"},{"$f":"+CONCATENATE(\"        map \",'Extension Table'!A17,\" to \"\"\",'Extension Table'!D17,\" \",'Extension Table'!E17,\"\"\"\")","v":"        map 116 to \" \""}]
[125,{"$f":"+IF(Data!$C$6>ROW(Brekeke!B126)-ROW(Brekeke!$B$110),\"\",\"#\")","v":"#"},{"$f":"+CONCATENATE(\"        map \",'Extension Table'!A18,\" to \"\"\",'Extension Table'!D18,\" \",'Extension Table'!E18,\"\"\"\")","v":"        map 117 to \" \""}]
[126,{"$f":"+IF(Data!$C$6>ROW(Brekeke!B127)-ROW(Brekeke!$B$110),\"\",\"#\")","v":"#"},{"$f":"+CONCATENATE(\"        map \",'Extension Table'!A19,\" to \"\"\",'Extension Table'!D19,\" \",'Extension Table'!E19,\"\"\"\")","v":"        map 118 to \" \""}]
[127,{"$f":"+IF(Data!$C$6>ROW(Brekeke!B128)-ROW(Brekeke!$B$110),\"\",\"#\")","v":"#"},{"$f":"+CONCATENATE(\"        map \",'Extension Table'!A20,\" to \"\"\",'Extension Table'!D20,\" \",'Extension Table'!E20,\"\"\"\")","v":"        map 119 to \" \""}]
[128,{"$f":"+IF(Data!$C$6>ROW(Brekeke!B129)-ROW(Brekeke!$B$110),\"\",\"#\")","v":"#"},{"$f":"+CONCATENATE(\"        map \",'Extension Table'!A21,\" to \"\"\",'Extension Table'!D21,\" \",'Extension Table'!E21,\"\"\"\")","v":"        map 120 to \" \""}]
[129,{"$f":"+IF(Data!$C$6>ROW(Brekeke!B130)-ROW(Brekeke!$B$110),\"\",\"#\")","v":"#"},{"$f":"+CONCATENATE(\"        map \",'Extension Table'!A22,\" to \"\"\",'Extension Table'!D22,\" \",'Extension Table'!E22,\"\"\"\")","v":"        map 121 to \" \""}]
[130,{"$f":"+IF(Data!$C$6>ROW(Brekeke!B131)-ROW(Brekeke!$B$110),\"\",\"#\")","v":"#"},{"$f":"+CONCATENATE(\"        map \",'Extension Table'!A23,\" to \"\"\",'Extension Table'!D23,\" \",'Extension Table'!E23,\"\"\"\")","v":"        map 122 to \" \""}]
[131,{"$f":"+IF(Data!$C$6>ROW(Brekeke!B132)-ROW(Brekeke!$B$110),\"\",\"#\")","v":"#"},{"$f":"+CONCATENATE(\"        map \",'Extension Table'!A24,\" to \"\"\",'Extension Table'!D24,\" \",'Extension Table'!E24,\"\"\"\")","v":"        map 123 to \" \""}]
[132,{"$f":"+IF(Data!$C$6>ROW(Brekeke!B133)-ROW(Brekeke!$B$110),\"\",\"#\")","v":"#"},{"$f":"+CONCATENATE(\"        map \",'Extension Table'!A25,\" to \"\"\",'Extension Table'!D25,\" \",'Extension Table'!E25,\"\"\"\")","v":"        map 124 to \" \""}]
[133,{"$f":"+IF(Data!$C$6>ROW(Brekeke!B134)-ROW(Brekeke!$B$110),\"\",\"#\")","v":"#"},{"$f":"+CONCATENATE(\"        map \",'Extension Table'!A26,\" to \"\"\",'Extension Table'!D26,\" \",'Extension Table'!E26,\"\"\"\")","v":"        map 125 to \" \""}]
[134,{"$f":"+IF(Data!$C$6>ROW(Brekeke!B135)-ROW(Brekeke!$B$110),\"\",\"#\")","v":"#"},{"$f":"+CONCATENATE(\"        map \",'Extension Table'!A27,\" to \"\"\",'Extension Table'!D27,\" \",'Extension Table'!E27,\"\"\"\")","v":"        map 126 to \" \""}]
[135,{"$f":"+IF(Data!$C$6>ROW(Brekeke!B136)-ROW(Brekeke!$B$110),\"\",\"#\")","v":"#"},{"$f":"+CONCATENATE(\"        map \",'Extension Table'!A28,\" to \"\"\",'Extension Table'!D28,\" \",'Extension Table'!E28,\"\"\"\")","v":"        map 127 to \" \""}]
[136,{"$f":"+IF(Data!$C$6>ROW(Brekeke!B137)-ROW(Brekeke!$B$110),\"\",\"#\")","v":"#"},{"$f":"+CONCATENATE(\"        map \",'Extension Table'!A29,\" to \"\"\",'Extension Table'!D29,\" \",'Extension Table'!E29,\"\"\"\")","v":"        map 128 to \" \""}]
[137,{"$f":"+IF(Data!$C$6>ROW(Brekeke!B138)-ROW(Brekeke!$B$110),\"\",\"#\")","v":"#"},{"$f":"+CONCATENATE(\"        map \",'Extension Table'!A30,\" to \"\"\",'Extension Table'!D30,\" \",'Extension Table'!E30,\"\"\"\")","v":"        map 129 to \" \""}]
[138,{"$f":"+IF(Data!$C$6>ROW(Brekeke!B139)-ROW(Brekeke!$B$110),\"\",\"#\")","v":"#"},{"$f":"+CONCATENATE(\"        map \",'Extension Table'!A31,\" to \"\"\",'Extension Table'!D31,\" \",'Extension Table'!E31,\"\"\"\")","v":"        map 130 to \" \""}]
[139,{"$f":"+IF(Data!$C$6>ROW(Brekeke!B140)-ROW(Brekeke!$B$110),\"\",\"#\")","v":"#"},{"$f":"+CONCATENATE(\"        map \",'Extension Table'!A32,\" to \"\"\",'Extension Table'!D32,\" \",'Extension Table'!E32,\"\"\"\")","v":"        map 131 to \" \""}]
[140,{"$f":"+IF(Data!$C$6>ROW(Brekeke!B141)-ROW(Brekeke!$B$110),\"\",\"#\")","v":"#"},{"$f":"+CONCATENATE(\"        map \",'Extension Table'!A33,\" to \"\"\",'Extension Table'!D33,\" \",'Extension Table'!E33,\"\"\"\")","v":"        map 132 to \" \""}]
[141]
[142,{"$f":"+IF(Data!$C$5>ROW(Brekeke!B143)-ROW(Brekeke!$B$143),\"\",\"#\")","v":""},{"$f":"+CONCATENATE(\"  interface sip IF_SIP_\",'Line Table'!A2,CHAR(13),CHAR(10),,\"        bind context sip-gateway GW_SIP_\",'Line Table'!A2,CHAR(13),CHAR(10),,\"        \",+'Line Table'!C2,CHAR(13),CHAR(10),,\"        early-disconnect\",CHAR(13),CHAR(10),,\"        route call dest-interface IF_FXO_\",'Line Table'!A2,CHAR(13),CHAR(10),,\"        remote \",Data!$C$24,\" \",Data!$C$25,CHAR(13),CHAR(10),,\"        address-translation outgoing-call request-uri user-part fix \",'Line Table'!B2,\" host-part to-header target-param none\",CHAR(13),CHAR(10),,\"        address-translation incoming-call called-e164 request-uri\",CHAR(13),CHAR(10),,CHAR(13),CHAR(10),)","v":"  interface sip IF_SIP_1\r\n        bind context sip-gateway GW_SIP_1\r\n        early-connect \r\n        early-disconnect\r\n        route call dest-interface IF_FXO_1\r\n        remote 10.10.50.23 5060\r\n        address-translation outgoing-call request-uri user-part fix 10002 host-part to-header target-param none\r\n        address-translation incoming-call called-e164 request-uri\r\n\r\n"}]
[143,{"$f":"+IF(Data!$C$5>ROW(Brekeke!B144)-ROW(Brekeke!$B$143),\"\",\"#\")","v":""},{"$f":"+CONCATENATE(\"  interface sip IF_SIP_\",'Line Table'!A3,CHAR(13),CHAR(10),,\"        bind context sip-gateway GW_SIP_\",'Line Table'!A3,CHAR(13),CHAR(10),,\"        \",+'Line Table'!C3,CHAR(13),CHAR(10),,\"        early-disconnect\",CHAR(13),CHAR(10),,\"        route call dest-interface IF_FXO_\",'Line Table'!A3,CHAR(13),CHAR(10),,\"        remote \",Data!$C$24,\" \",Data!$C$25,CHAR(13),CHAR(10),,\"        address-translation outgoing-call request-uri user-part fix \",'Line Table'!B3,\" host-part to-header target-param none\",CHAR(13),CHAR(10),,\"        address-translation incoming-call called-e164 request-uri\",CHAR(13),CHAR(10),,CHAR(13),CHAR(10),)","v":"  interface sip IF_SIP_2\r\n        bind context sip-gateway GW_SIP_2\r\n        early-connect \r\n        early-disconnect\r\n        route call dest-interface IF_FXO_2\r\n        remote 10.10.50.23 5060\r\n        address-translation outgoing-call request-uri user-part fix 10003 host-part to-header target-param none\r\n        address-translation incoming-call called-e164 request-uri\r\n\r\n"}]
[144,{"$f":"+IF(Data!$C$5>ROW(Brekeke!B145)-ROW(Brekeke!$B$143),\"\",\"#\")","v":""},{"$f":"+CONCATENATE(\"  interface sip IF_SIP_\",'Line Table'!A4,CHAR(13),CHAR(10),,\"        bind context sip-gateway GW_SIP_\",'Line Table'!A4,CHAR(13),CHAR(10),,\"        \",+'Line Table'!C4,CHAR(13),CHAR(10),,\"        early-disconnect\",CHAR(13),CHAR(10),,\"        route call dest-interface IF_FXO_\",'Line Table'!A4,CHAR(13),CHAR(10),,\"        remote \",Data!$C$24,\" \",Data!$C$25,CHAR(13),CHAR(10),,\"        address-translation outgoing-call request-uri user-part fix \",'Line Table'!B4,\" host-part to-header target-param none\",CHAR(13),CHAR(10),,\"        address-translation incoming-call called-e164 request-uri\",CHAR(13),CHAR(10),,CHAR(13),CHAR(10),)","v":"  interface sip IF_SIP_3\r\n        bind context sip-gateway GW_SIP_3\r\n        early-connect \r\n        early-disconnect\r\n        route call dest-interface IF_FXO_3\r\n        remote 10.10.50.23 5060\r\n        address-translation outgoing-call request-uri user-part fix 10004 host-part to-header target-param none\r\n        address-translation incoming-call called-e164 request-uri\r\n\r\n"}]
[145,{"$f":"+IF(Data!$C$5>ROW(Brekeke!B146)-ROW(Brekeke!$B$143),\"\",\"#\")","v":""},{"$f":"+CONCATENATE(\"  interface sip IF_SIP_\",'Line Table'!A5,CHAR(13),CHAR(10),,\"        bind context sip-gateway GW_SIP_\",'Line Table'!A5,CHAR(13),CHAR(10),,\"        \",+'Line Table'!C5,CHAR(13),CHAR(10),,\"        early-disconnect\",CHAR(13),CHAR(10),,\"        route call dest-interface IF_FXO_\",'Line Table'!A5,CHAR(13),CHAR(10),,\"        remote \",Data!$C$24,\" \",Data!$C$25,CHAR(13),CHAR(10),,\"        address-translation outgoing-call request-uri user-part fix \",'Line Table'!B5,\" host-part to-header target-param none\",CHAR(13),CHAR(10),,\"        address-translation incoming-call called-e164 request-uri\",CHAR(13),CHAR(10),,CHAR(13),CHAR(10),)","v":"  interface sip IF_SIP_4\r\n        bind context sip-gateway GW_SIP_4\r\n        early-connect \r\n        early-disconnect\r\n        route call dest-interface IF_FXO_4\r\n        remote 10.10.50.23 5060\r\n        address-translation outgoing-call request-uri user-part fix 10005 host-part to-header target-param none\r\n        address-translation incoming-call called-e164 request-uri\r\n\r\n"}]
[146,{"$f":"+IF(Data!$C$5>ROW(Brekeke!B147)-ROW(Brekeke!$B$143),\"\",\"#\")","v":""},{"$f":"+CONCATENATE(\"  interface sip IF_SIP_\",'Line Table'!A6,CHAR(13),CHAR(10),,\"        bind context sip-gateway GW_SIP_\",'Line Table'!A6,CHAR(13),CHAR(10),,\"        \",+'Line Table'!C6,CHAR(13),CHAR(10),,\"        early-disconnect\",CHAR(13),CHAR(10),,\"        route call dest-interface IF_FXO_\",'Line Table'!A6,CHAR(13),CHAR(10),,\"        remote \",Data!$C$24,\" \",Data!$C$25,CHAR(13),CHAR(10),,\"        address-translation outgoing-call request-uri user-part fix \",'Line Table'!B6,\" host-part to-header target-param none\",CHAR(13),CHAR(10),,\"        address-translation incoming-call called-e164 request-uri\",CHAR(13),CHAR(10),,CHAR(13),CHAR(10),)","v":"  interface sip IF_SIP_5\r\n        bind context sip-gateway GW_SIP_5\r\n        early-connect \r\n        early-disconnect\r\n        route call dest-interface IF_FXO_5\r\n        remote 10.10.50.23 5060\r\n        address-translation outgoing-call request-uri user-part fix 10006 host-part to-header target-param none\r\n        address-translation incoming-call called-e164 request-uri\r\n\r\n"}]
[147,{"$f":"+IF(Data!$C$5>ROW(Brekeke!B148)-ROW(Brekeke!$B$143),\"\",\"#\")","v":""},{"$f":"+CONCATENATE(\"  interface sip IF_SIP_\",'Line Table'!A7,CHAR(13),CHAR(10),,\"        bind context sip-gateway GW_SIP_\",'Line Table'!A7,CHAR(13),CHAR(10),,\"        \",+'Line Table'!C7,CHAR(13),CHAR(10),,\"        early-disconnect\",CHAR(13),CHAR(10),,\"        route call dest-interface IF_FXO_\",'Line Table'!A7,CHAR(13),CHAR(10),,\"        remote \",Data!$C$24,\" \",Data!$C$25,CHAR(13),CHAR(10),,\"        address-translation outgoing-call request-uri user-part fix \",'Line Table'!B7,\" host-part to-header target-param none\",CHAR(13),CHAR(10),,\"        address-translation incoming-call called-e164 request-uri\",CHAR(13),CHAR(10),,CHAR(13),CHAR(10),)","v":"  interface sip IF_SIP_6\r\n        bind context sip-gateway GW_SIP_6\r\n        early-connect \r\n        early-disconnect\r\n        route call dest-interface IF_FXO_6\r\n        remote 10.10.50.23 5060\r\n        address-translation outgoing-call request-uri user-part fix 10007 host-part to-header target-param none\r\n        address-translation incoming-call called-e164 request-uri\r\n\r\n"}]
[148,{"$f":"+IF(Data!$C$5>ROW(Brekeke!B149)-ROW(Brekeke!$B$143),\"\",\"#\")","v":""},{"$f":"+CONCATENATE(\"  interface sip IF_SIP_\",'Line Table'!A8,CHAR(13),CHAR(10),,\"        bind context sip-gateway GW_SIP_\",'Line Table'!A8,CHAR(13),CHAR(10),,\"        \",+'Line Table'!C8,CHAR(13),CHAR(10),,\"        early-disconnect\",CHAR(13),CHAR(10),,\"        route call dest-interface IF_FXO_\",'Line Table'!A8,CHAR(13),CHAR(10),,\"        remote \",Data!$C$24,\" \",Data!$C$25,CHAR(13),CHAR(10),,\"        address-translation outgoing-call request-uri user-part fix \",'Line Table'!B8,\" host-part to-header target-param none\",CHAR(13),CHAR(10),,\"        address-translation incoming-call called-e164 request-uri\",CHAR(13),CHAR(10),,CHAR(13),CHAR(10),)","v":"  interface sip IF_SIP_7\r\n        bind context sip-gateway GW_SIP_7\r\n        early-connect \r\n        early-disconnect\r\n        route call dest-interface IF_FXO_7\r\n        remote 10.10.50.23 5060\r\n        address-translation outgoing-call request-uri user-part fix 10008 host-part to-header target-param none\r\n        address-translation incoming-call called-e164 request-uri\r\n\r\n"}]
[149,{"$f":"+IF(Data!$C$5>ROW(Brekeke!B150)-ROW(Brekeke!$B$143),\"\",\"#\")","v":""},{"$f":"+CONCATENATE(\"  interface sip IF_SIP_\",'Line Table'!A9,CHAR(13),CHAR(10),,\"        bind context sip-gateway GW_SIP_\",'Line Table'!A9,CHAR(13),CHAR(10),,\"        \",+'Line Table'!C9,CHAR(13),CHAR(10),,\"        early-disconnect\",CHAR(13),CHAR(10),,\"        route call dest-interface IF_FXO_\",'Line Table'!A9,CHAR(13),CHAR(10),,\"        remote \",Data!$C$24,\" \",Data!$C$25,CHAR(13),CHAR(10),,\"        address-translation outgoing-call request-uri user-part fix \",'Line Table'!B9,\" host-part to-header target-param none\",CHAR(13),CHAR(10),,\"        address-translation incoming-call called-e164 request-uri\",CHAR(13),CHAR(10),,CHAR(13),CHAR(10),)","v":"  interface sip IF_SIP_8\r\n        bind context sip-gateway GW_SIP_8\r\n        early-connect \r\n        early-disconnect\r\n        route call dest-interface IF_FXO_8\r\n        remote 10.10.50.23 5060\r\n        address-translation outgoing-call request-uri user-part fix 10009 host-part to-header target-param none\r\n        address-translation incoming-call called-e164 request-uri\r\n\r\n"}]
[150,{"$f":"+IF(Data!$C$5>ROW(Brekeke!B151)-ROW(Brekeke!$B$143),\"\",\"#\")","v":""},{"$f":"+CONCATENATE(\"  interface sip IF_SIP_\",'Line Table'!A10,CHAR(13),CHAR(10),,\"        bind context sip-gateway GW_SIP_\",'Line Table'!A10,CHAR(13),CHAR(10),,\"        \",+'Line Table'!C10,CHAR(13),CHAR(10),,\"        early-disconnect\",CHAR(13),CHAR(10),,\"        route call dest-interface IF_FXO_\",'Line Table'!A10,CHAR(13),CHAR(10),,\"        remote \",Data!$C$24,\" \",Data!$C$25,CHAR(13),CHAR(10),,\"        address-translation outgoing-call request-uri user-part fix \",'Line Table'!B10,\" host-part to-header target-param none\",CHAR(13),CHAR(10),,\"        address-translation incoming-call called-e164 request-uri\",CHAR(13),CHAR(10),,CHAR(13),CHAR(10),)","v":"  interface sip IF_SIP_9\r\n        bind context sip-gateway GW_SIP_9\r\n        early-connect \r\n        early-disconnect\r\n        route call dest-interface IF_FXO_9\r\n        remote 10.10.50.23 5060\r\n        address-translation outgoing-call request-uri user-part fix 10010 host-part to-header target-param none\r\n        address-translation incoming-call called-e164 request-uri\r\n\r\n"}]
[151,{"$f":"+IF(Data!$C$5>ROW(Brekeke!B152)-ROW(Brekeke!$B$143),\"\",\"#\")","v":""},{"$f":"+CONCATENATE(\"  interface sip IF_SIP_\",'Line Table'!A11,CHAR(13),CHAR(10),,\"        bind context sip-gateway GW_SIP_\",'Line Table'!A11,CHAR(13),CHAR(10),,\"        \",+'Line Table'!C11,CHAR(13),CHAR(10),,\"        early-disconnect\",CHAR(13),CHAR(10),,\"        route call dest-interface IF_FXO_\",'Line Table'!A11,CHAR(13),CHAR(10),,\"        remote \",Data!$C$24,\" \",Data!$C$25,CHAR(13),CHAR(10),,\"        address-translation outgoing-call request-uri user-part fix \",'Line Table'!B11,\" host-part to-header target-param none\",CHAR(13),CHAR(10),,\"        address-translation incoming-call called-e164 request-uri\",CHAR(13),CHAR(10),,CHAR(13),CHAR(10),)","v":"  interface sip IF_SIP_10\r\n        bind context sip-gateway GW_SIP_10\r\n        early-connect \r\n        early-disconnect\r\n        route call dest-interface IF_FXO_10\r\n        remote 10.10.50.23 5060\r\n        address-translation outgoing-call request-uri user-part fix 10011 host-part to-header target-param none\r\n        address-translation incoming-call called-e164 request-uri\r\n\r\n"}]
[152,{"$f":"+IF(Data!$C$5>ROW(Brekeke!B153)-ROW(Brekeke!$B$143),\"\",\"#\")","v":""},{"$f":"+CONCATENATE(\"  interface sip IF_SIP_\",'Line Table'!A12,CHAR(13),CHAR(10),,\"        bind context sip-gateway GW_SIP_\",'Line Table'!A12,CHAR(13),CHAR(10),,\"        \",+'Line Table'!C12,CHAR(13),CHAR(10),,\"        early-disconnect\",CHAR(13),CHAR(10),,\"        route call dest-interface IF_FXO_\",'Line Table'!A12,CHAR(13),CHAR(10),,\"        remote \",Data!$C$24,\" \",Data!$C$25,CHAR(13),CHAR(10),,\"        address-translation outgoing-call request-uri user-part fix \",'Line Table'!B12,\" host-part to-header target-param none\",CHAR(13),CHAR(10),,\"        address-translation incoming-call called-e164 request-uri\",CHAR(13),CHAR(10),,CHAR(13),CHAR(10),)","v":"  interface sip IF_SIP_11\r\n        bind context sip-gateway GW_SIP_11\r\n        early-connect \r\n        early-disconnect\r\n        route call dest-interface IF_FXO_11\r\n        remote 10.10.50.23 5060\r\n        address-translation outgoing-call request-uri user-part fix 10012 host-part to-header target-param none\r\n        address-translation incoming-call called-e164 request-uri\r\n\r\n"}]
[153,{"$f":"+IF(Data!$C$5>ROW(Brekeke!B154)-ROW(Brekeke!$B$143),\"\",\"#\")","v":""},{"$f":"+CONCATENATE(\"  interface sip IF_SIP_\",'Line Table'!A13,CHAR(13),CHAR(10),,\"        bind context sip-gateway GW_SIP_\",'Line Table'!A13,CHAR(13),CHAR(10),,\"        \",+'Line Table'!C13,CHAR(13),CHAR(10),,\"        early-disconnect\",CHAR(13),CHAR(10),,\"        route call dest-interface IF_FXO_\",'Line Table'!A13,CHAR(13),CHAR(10),,\"        remote \",Data!$C$24,\" \",Data!$C$25,CHAR(13),CHAR(10),,\"        address-translation outgoing-call request-uri user-part fix \",'Line Table'!B13,\" host-part to-header target-param none\",CHAR(13),CHAR(10),,\"        address-translation incoming-call called-e164 request-uri\",CHAR(13),CHAR(10),,CHAR(13),CHAR(10),)","v":"  interface sip IF_SIP_12\r\n        bind context sip-gateway GW_SIP_12\r\n        early-connect \r\n        early-disconnect\r\n        route call dest-interface IF_FXO_12\r\n        remote 10.10.50.23 5060\r\n        address-translation outgoing-call request-uri user-part fix 10013 host-part to-header target-param none\r\n        address-translation incoming-call called-e164 request-uri\r\n\r\n"}]
[154,{"$f":"+IF(Data!$C$5>ROW(Brekeke!B155)-ROW(Brekeke!$B$143),\"\",\"#\")","v":"#"},{"$f":"+CONCATENATE(\"  interface sip IF_SIP_\",'Line Table'!A14,CHAR(13),CHAR(10),,\"        bind context sip-gateway GW_SIP_\",'Line Table'!A14,CHAR(13),CHAR(10),,\"        \",+'Line Table'!C14,CHAR(13),CHAR(10),,\"        early-disconnect\",CHAR(13),CHAR(10),,\"        route call dest-interface IF_FXO_\",'Line Table'!A14,CHAR(13),CHAR(10),,\"        remote \",Data!$C$24,\" \",Data!$C$25,CHAR(13),CHAR(10),,\"        address-translation outgoing-call request-uri user-part fix \",'Line Table'!B14,\" host-part to-header target-param none\",CHAR(13),CHAR(10),,\"        address-translation incoming-call called-e164 request-uri\",CHAR(13),CHAR(10),,CHAR(13),CHAR(10),)","v":"  interface sip IF_SIP_13\r\n        bind context sip-gateway GW_SIP_13\r\n        early-connect \r\n        early-disconnect\r\n        route call dest-interface IF_FXO_13\r\n        remote 10.10.50.23 5060\r\n        address-translation outgoing-call request-uri user-part fix 10014 host-part to-header target-param none\r\n        address-translation incoming-call called-e164 request-uri\r\n\r\n"}]
[155,{"$f":"+IF(Data!$C$5>ROW(Brekeke!B156)-ROW(Brekeke!$B$143),\"\",\"#\")","v":"#"},{"$f":"+CONCATENATE(\"  interface sip IF_SIP_\",'Line Table'!A15,CHAR(13),CHAR(10),,\"        bind context sip-gateway GW_SIP_\",'Line Table'!A15,CHAR(13),CHAR(10),,\"        \",+'Line Table'!C15,CHAR(13),CHAR(10),,\"        early-disconnect\",CHAR(13),CHAR(10),,\"        route call dest-interface IF_FXO_\",'Line Table'!A15,CHAR(13),CHAR(10),,\"        remote \",Data!$C$24,\" \",Data!$C$25,CHAR(13),CHAR(10),,\"        address-translation outgoing-call request-uri user-part fix \",'Line Table'!B15,\" host-part to-header target-param none\",CHAR(13),CHAR(10),,\"        address-translation incoming-call called-e164 request-uri\",CHAR(13),CHAR(10),,CHAR(13),CHAR(10),)","v":"  interface sip IF_SIP_14\r\n        bind context sip-gateway GW_SIP_14\r\n        early-connect \r\n        early-disconnect\r\n        route call dest-interface IF_FXO_14\r\n        remote 10.10.50.23 5060\r\n        address-translation outgoing-call request-uri user-part fix 10015 host-part to-header target-param none\r\n        address-translation incoming-call called-e164 request-uri\r\n\r\n"}]
[156,{"$f":"+IF(Data!$C$5>ROW(Brekeke!B157)-ROW(Brekeke!$B$143),\"\",\"#\")","v":"#"},{"$f":"+CONCATENATE(\"  interface sip IF_SIP_\",'Line Table'!A16,CHAR(13),CHAR(10),,\"        bind context sip-gateway GW_SIP_\",'Line Table'!A16,CHAR(13),CHAR(10),,\"        \",+'Line Table'!C16,CHAR(13),CHAR(10),,\"        early-disconnect\",CHAR(13),CHAR(10),,\"        route call dest-interface IF_FXO_\",'Line Table'!A16,CHAR(13),CHAR(10),,\"        remote \",Data!$C$24,\" \",Data!$C$25,CHAR(13),CHAR(10),,\"        address-translation outgoing-call request-uri user-part fix \",'Line Table'!B16,\" host-part to-header target-param none\",CHAR(13),CHAR(10),,\"        address-translation incoming-call called-e164 request-uri\",CHAR(13),CHAR(10),,CHAR(13),CHAR(10),)","v":"  interface sip IF_SIP_15\r\n        bind context sip-gateway GW_SIP_15\r\n        early-connect \r\n        early-disconnect\r\n        route call dest-interface IF_FXO_15\r\n        remote 10.10.50.23 5060\r\n        address-translation outgoing-call request-uri user-part fix 10016 host-part to-header target-param none\r\n        address-translation incoming-call called-e164 request-uri\r\n\r\n"}]
[157,{"$f":"+IF(Data!$C$5>ROW(Brekeke!B158)-ROW(Brekeke!$B$143),\"\",\"#\")","v":"#"},{"$f":"+CONCATENATE(\"  interface sip IF_SIP_\",'Line Table'!A17,CHAR(13),CHAR(10),,\"        bind context sip-gateway GW_SIP_\",'Line Table'!A17,CHAR(13),CHAR(10),,\"        \",+'Line Table'!C17,CHAR(13),CHAR(10),,\"        early-disconnect\",CHAR(13),CHAR(10),,\"        route call dest-interface IF_FXO_\",'Line Table'!A17,CHAR(13),CHAR(10),,\"        remote \",Data!$C$24,\" \",Data!$C$25,CHAR(13),CHAR(10),,\"        address-translation outgoing-call request-uri user-part fix \",'Line Table'!B17,\" host-part to-header target-param none\",CHAR(13),CHAR(10),,\"        address-translation incoming-call called-e164 request-uri\",CHAR(13),CHAR(10),,CHAR(13),CHAR(10),)","v":"  interface sip IF_SIP_16\r\n        bind context sip-gateway GW_SIP_16\r\n        early-connect \r\n        early-disconnect\r\n        route call dest-interface IF_FXO_16\r\n        remote 10.10.50.23 5060\r\n        address-translation outgoing-call request-uri user-part fix 10017 host-part to-header target-param none\r\n        address-translation incoming-call called-e164 request-uri\r\n\r\n"}]
[158,{"$f":"+IF(Data!$C$5>ROW(Brekeke!B159)-ROW(Brekeke!$B$143),\"\",\"#\")","v":"#"},{"$f":"+CONCATENATE(\"  interface sip IF_SIP_\",'Line Table'!A18,CHAR(13),CHAR(10),,\"        bind context sip-gateway GW_SIP_\",'Line Table'!A18,CHAR(13),CHAR(10),,\"        \",+'Line Table'!C18,CHAR(13),CHAR(10),,\"        early-disconnect\",CHAR(13),CHAR(10),,\"        route call dest-interface IF_FXO_\",'Line Table'!A18,CHAR(13),CHAR(10),,\"        remote \",Data!$C$24,\" \",Data!$C$25,CHAR(13),CHAR(10),,\"        address-translation outgoing-call request-uri user-part fix \",'Line Table'!B18,\" host-part to-header target-param none\",CHAR(13),CHAR(10),,\"        address-translation incoming-call called-e164 request-uri\",CHAR(13),CHAR(10),,CHAR(13),CHAR(10),)","v":"  interface sip IF_SIP_17\r\n        bind context sip-gateway GW_SIP_17\r\n        early-connect \r\n        early-disconnect\r\n        route call dest-interface IF_FXO_17\r\n        remote 10.10.50.23 5060\r\n        address-translation outgoing-call request-uri user-part fix 10018 host-part to-header target-param none\r\n        address-translation incoming-call called-e164 request-uri\r\n\r\n"}]
[159,{"$f":"+IF(Data!$C$5>ROW(Brekeke!B160)-ROW(Brekeke!$B$143),\"\",\"#\")","v":"#"},{"$f":"+CONCATENATE(\"  interface sip IF_SIP_\",'Line Table'!A19,CHAR(13),CHAR(10),,\"        bind context sip-gateway GW_SIP_\",'Line Table'!A19,CHAR(13),CHAR(10),,\"        \",+'Line Table'!C19,CHAR(13),CHAR(10),,\"        early-disconnect\",CHAR(13),CHAR(10),,\"        route call dest-interface IF_FXO_\",'Line Table'!A19,CHAR(13),CHAR(10),,\"        remote \",Data!$C$24,\" \",Data!$C$25,CHAR(13),CHAR(10),,\"        address-translation outgoing-call request-uri user-part fix \",'Line Table'!B19,\" host-part to-header target-param none\",CHAR(13),CHAR(10),,\"        address-translation incoming-call called-e164 request-uri\",CHAR(13),CHAR(10),,CHAR(13),CHAR(10),)","v":"  interface sip IF_SIP_18\r\n        bind context sip-gateway GW_SIP_18\r\n        early-connect \r\n        early-disconnect\r\n        route call dest-interface IF_FXO_18\r\n        remote 10.10.50.23 5060\r\n        address-translation outgoing-call request-uri user-part fix 10019 host-part to-header target-param none\r\n        address-translation incoming-call called-e164 request-uri\r\n\r\n"}]
[160,{"$f":"+IF(Data!$C$5>ROW(Brekeke!B161)-ROW(Brekeke!$B$143),\"\",\"#\")","v":"#"},{"$f":"+CONCATENATE(\"  interface sip IF_SIP_\",'Line Table'!A20,CHAR(13),CHAR(10),,\"        bind context sip-gateway GW_SIP_\",'Line Table'!A20,CHAR(13),CHAR(10),,\"        \",+'Line Table'!C20,CHAR(13),CHAR(10),,\"        early-disconnect\",CHAR(13),CHAR(10),,\"        route call dest-interface IF_FXO_\",'Line Table'!A20,CHAR(13),CHAR(10),,\"        remote \",Data!$C$24,\" \",Data!$C$25,CHAR(13),CHAR(10),,\"        address-translation outgoing-call request-uri user-part fix \",'Line Table'!B20,\" host-part to-header target-param none\",CHAR(13),CHAR(10),,\"        address-translation incoming-call called-e164 request-uri\",CHAR(13),CHAR(10),,CHAR(13),CHAR(10),)","v":"  interface sip IF_SIP_19\r\n        bind context sip-gateway GW_SIP_19\r\n        early-connect \r\n        early-disconnect\r\n        route call dest-interface IF_FXO_19\r\n        remote 10.10.50.23 5060\r\n        address-translation outgoing-call request-uri user-part fix 10020 host-part to-header target-param none\r\n        address-translation incoming-call called-e164 request-uri\r\n\r\n"}]
[161,{"$f":"+IF(Data!$C$5>ROW(Brekeke!B162)-ROW(Brekeke!$B$143),\"\",\"#\")","v":"#"},{"$f":"+CONCATENATE(\"  interface sip IF_SIP_\",'Line Table'!A21,CHAR(13),CHAR(10),,\"        bind context sip-gateway GW_SIP_\",'Line Table'!A21,CHAR(13),CHAR(10),,\"        \",+'Line Table'!C21,CHAR(13),CHAR(10),,\"        early-disconnect\",CHAR(13),CHAR(10),,\"        route call dest-interface IF_FXO_\",'Line Table'!A21,CHAR(13),CHAR(10),,\"        remote \",Data!$C$24,\" \",Data!$C$25,CHAR(13),CHAR(10),,\"        address-translation outgoing-call request-uri user-part fix \",'Line Table'!B21,\" host-part to-header target-param none\",CHAR(13),CHAR(10),,\"        address-translation incoming-call called-e164 request-uri\",CHAR(13),CHAR(10),,CHAR(13),CHAR(10),)","v":"  interface sip IF_SIP_20\r\n        bind context sip-gateway GW_SIP_20\r\n        early-connect \r\n        early-disconnect\r\n        route call dest-interface IF_FXO_20\r\n        remote 10.10.50.23 5060\r\n        address-translation outgoing-call request-uri user-part fix 10021 host-part to-header target-param none\r\n        address-translation incoming-call called-e164 request-uri\r\n\r\n"}]
[162,{"$f":"+IF(Data!$C$5>ROW(Brekeke!B163)-ROW(Brekeke!$B$143),\"\",\"#\")","v":"#"},{"$f":"+CONCATENATE(\"  interface sip IF_SIP_\",'Line Table'!A22,CHAR(13),CHAR(10),,\"        bind context sip-gateway GW_SIP_\",'Line Table'!A22,CHAR(13),CHAR(10),,\"        \",+'Line Table'!C22,CHAR(13),CHAR(10),,\"        early-disconnect\",CHAR(13),CHAR(10),,\"        route call dest-interface IF_FXO_\",'Line Table'!A22,CHAR(13),CHAR(10),,\"        remote \",Data!$C$24,\" \",Data!$C$25,CHAR(13),CHAR(10),,\"        address-translation outgoing-call request-uri user-part fix \",'Line Table'!B22,\" host-part to-header target-param none\",CHAR(13),CHAR(10),,\"        address-translation incoming-call called-e164 request-uri\",CHAR(13),CHAR(10),,CHAR(13),CHAR(10),)","v":"  interface sip IF_SIP_21\r\n        bind context sip-gateway GW_SIP_21\r\n        early-connect \r\n        early-disconnect\r\n        route call dest-interface IF_FXO_21\r\n        remote 10.10.50.23 5060\r\n        address-translation outgoing-call request-uri user-part fix 10022 host-part to-header target-param none\r\n        address-translation incoming-call called-e164 request-uri\r\n\r\n"}]
[163,{"$f":"+IF(Data!$C$5>ROW(Brekeke!B164)-ROW(Brekeke!$B$143),\"\",\"#\")","v":"#"},{"$f":"+CONCATENATE(\"  interface sip IF_SIP_\",'Line Table'!A23,CHAR(13),CHAR(10),,\"        bind context sip-gateway GW_SIP_\",'Line Table'!A23,CHAR(13),CHAR(10),,\"        \",+'Line Table'!C23,CHAR(13),CHAR(10),,\"        early-disconnect\",CHAR(13),CHAR(10),,\"        route call dest-interface IF_FXO_\",'Line Table'!A23,CHAR(13),CHAR(10),,\"        remote \",Data!$C$24,\" \",Data!$C$25,CHAR(13),CHAR(10),,\"        address-translation outgoing-call request-uri user-part fix \",'Line Table'!B23,\" host-part to-header target-param none\",CHAR(13),CHAR(10),,\"        address-translation incoming-call called-e164 request-uri\",CHAR(13),CHAR(10),,CHAR(13),CHAR(10),)","v":"  interface sip IF_SIP_22\r\n        bind context sip-gateway GW_SIP_22\r\n        early-connect \r\n        early-disconnect\r\n        route call dest-interface IF_FXO_22\r\n        remote 10.10.50.23 5060\r\n        address-translation outgoing-call request-uri user-part fix 10023 host-part to-header target-param none\r\n        address-translation incoming-call called-e164 request-uri\r\n\r\n"}]
[164,{"$f":"+IF(Data!$C$5>ROW(Brekeke!B165)-ROW(Brekeke!$B$143),\"\",\"#\")","v":"#"},{"$f":"+CONCATENATE(\"  interface sip IF_SIP_\",'Line Table'!A24,CHAR(13),CHAR(10),,\"        bind context sip-gateway GW_SIP_\",'Line Table'!A24,CHAR(13),CHAR(10),,\"        \",+'Line Table'!C24,CHAR(13),CHAR(10),,\"        early-disconnect\",CHAR(13),CHAR(10),,\"        route call dest-interface IF_FXO_\",'Line Table'!A24,CHAR(13),CHAR(10),,\"        remote \",Data!$C$24,\" \",Data!$C$25,CHAR(13),CHAR(10),,\"        address-translation outgoing-call request-uri user-part fix \",'Line Table'!B24,\" host-part to-header target-param none\",CHAR(13),CHAR(10),,\"        address-translation incoming-call called-e164 request-uri\",CHAR(13),CHAR(10),,CHAR(13),CHAR(10),)","v":"  interface sip IF_SIP_23\r\n        bind context sip-gateway GW_SIP_23\r\n        early-connect \r\n        early-disconnect\r\n        route call dest-interface IF_FXO_23\r\n        remote 10.10.50.23 5060\r\n        address-translation outgoing-call request-uri user-part fix 10024 host-part to-header target-param none\r\n        address-translation incoming-call called-e164 request-uri\r\n\r\n"}]
[165,{"$f":"+IF(Data!$C$5>ROW(Brekeke!B166)-ROW(Brekeke!$B$143),\"\",\"#\")","v":"#"},{"$f":"+CONCATENATE(\"  interface sip IF_SIP_\",'Line Table'!A25,CHAR(13),CHAR(10),,\"        bind context sip-gateway GW_SIP_\",'Line Table'!A25,CHAR(13),CHAR(10),,\"        \",+'Line Table'!C25,CHAR(13),CHAR(10),,\"        early-disconnect\",CHAR(13),CHAR(10),,\"        route call dest-interface IF_FXO_\",'Line Table'!A25,CHAR(13),CHAR(10),,\"        remote \",Data!$C$24,\" \",Data!$C$25,CHAR(13),CHAR(10),,\"        address-translation outgoing-call request-uri user-part fix \",'Line Table'!B25,\" host-part to-header target-param none\",CHAR(13),CHAR(10),,\"        address-translation incoming-call called-e164 request-uri\",CHAR(13),CHAR(10),,CHAR(13),CHAR(10),)","v":"  interface sip IF_SIP_24\r\n        bind context sip-gateway GW_SIP_24\r\n        early-connect \r\n        early-disconnect\r\n        route call dest-interface IF_FXO_24\r\n        remote 10.10.50.23 5060\r\n        address-translation outgoing-call request-uri user-part fix 10025 host-part to-header target-param none\r\n        address-translation incoming-call called-e164 request-uri\r\n\r\n"}]
[166,{"$f":"+IF(Data!$C$5>ROW(Brekeke!B167)-ROW(Brekeke!$B$143),\"\",\"#\")","v":"#"},{"$f":"+CONCATENATE(\"  interface sip IF_SIP_\",'Line Table'!A26,CHAR(13),CHAR(10),,\"        bind context sip-gateway GW_SIP_\",'Line Table'!A26,CHAR(13),CHAR(10),,\"        \",+'Line Table'!C26,CHAR(13),CHAR(10),,\"        early-disconnect\",CHAR(13),CHAR(10),,\"        route call dest-interface IF_FXO_\",'Line Table'!A26,CHAR(13),CHAR(10),,\"        remote \",Data!$C$24,\" \",Data!$C$25,CHAR(13),CHAR(10),,\"        address-translation outgoing-call request-uri user-part fix \",'Line Table'!B26,\" host-part to-header target-param none\",CHAR(13),CHAR(10),,\"        address-translation incoming-call called-e164 request-uri\",CHAR(13),CHAR(10),,CHAR(13),CHAR(10),)","v":"  interface sip IF_SIP_25\r\n        bind context sip-gateway GW_SIP_25\r\n        early-connect \r\n        early-disconnect\r\n        route call dest-interface IF_FXO_25\r\n        remote 10.10.50.23 5060\r\n        address-translation outgoing-call request-uri user-part fix 10026 host-part to-header target-param none\r\n        address-translation incoming-call called-e164 request-uri\r\n\r\n"}]
[167,{"$f":"+IF(Data!$C$5>ROW(Brekeke!B168)-ROW(Brekeke!$B$143),\"\",\"#\")","v":"#"},{"$f":"+CONCATENATE(\"  interface sip IF_SIP_\",'Line Table'!A27,CHAR(13),CHAR(10),,\"        bind context sip-gateway GW_SIP_\",'Line Table'!A27,CHAR(13),CHAR(10),,\"        \",+'Line Table'!C27,CHAR(13),CHAR(10),,\"        early-disconnect\",CHAR(13),CHAR(10),,\"        route call dest-interface IF_FXO_\",'Line Table'!A27,CHAR(13),CHAR(10),,\"        remote \",Data!$C$24,\" \",Data!$C$25,CHAR(13),CHAR(10),,\"        address-translation outgoing-call request-uri user-part fix \",'Line Table'!B27,\" host-part to-header target-param none\",CHAR(13),CHAR(10),,\"        address-translation incoming-call called-e164 request-uri\",CHAR(13),CHAR(10),,CHAR(13),CHAR(10),)","v":"  interface sip IF_SIP_26\r\n        bind context sip-gateway GW_SIP_26\r\n        early-connect \r\n        early-disconnect\r\n        route call dest-interface IF_FXO_26\r\n        remote 10.10.50.23 5060\r\n        address-translation outgoing-call request-uri user-part fix 10027 host-part to-header target-param none\r\n        address-translation incoming-call called-e164 request-uri\r\n\r\n"}]
[168,{"$f":"+IF(Data!$C$5>ROW(Brekeke!B169)-ROW(Brekeke!$B$143),\"\",\"#\")","v":"#"},{"$f":"+CONCATENATE(\"  interface sip IF_SIP_\",'Line Table'!A28,CHAR(13),CHAR(10),,\"        bind context sip-gateway GW_SIP_\",'Line Table'!A28,CHAR(13),CHAR(10),,\"        \",+'Line Table'!C28,CHAR(13),CHAR(10),,\"        early-disconnect\",CHAR(13),CHAR(10),,\"        route call dest-interface IF_FXO_\",'Line Table'!A28,CHAR(13),CHAR(10),,\"        remote \",Data!$C$24,\" \",Data!$C$25,CHAR(13),CHAR(10),,\"        address-translation outgoing-call request-uri user-part fix \",'Line Table'!B28,\" host-part to-header target-param none\",CHAR(13),CHAR(10),,\"        address-translation incoming-call called-e164 request-uri\",CHAR(13),CHAR(10),,CHAR(13),CHAR(10),)","v":"  interface sip IF_SIP_27\r\n        bind context sip-gateway GW_SIP_27\r\n        early-connect \r\n        early-disconnect\r\n        route call dest-interface IF_FXO_27\r\n        remote 10.10.50.23 5060\r\n        address-translation outgoing-call request-uri user-part fix 10028 host-part to-header target-param none\r\n        address-translation incoming-call called-e164 request-uri\r\n\r\n"}]
[169,{"$f":"+IF(Data!$C$5>ROW(Brekeke!B170)-ROW(Brekeke!$B$143),\"\",\"#\")","v":"#"},{"$f":"+CONCATENATE(\"  interface sip IF_SIP_\",'Line Table'!A29,CHAR(13),CHAR(10),,\"        bind context sip-gateway GW_SIP_\",'Line Table'!A29,CHAR(13),CHAR(10),,\"        \",+'Line Table'!C29,CHAR(13),CHAR(10),,\"        early-disconnect\",CHAR(13),CHAR(10),,\"        route call dest-interface IF_FXO_\",'Line Table'!A29,CHAR(13),CHAR(10),,\"        remote \",Data!$C$24,\" \",Data!$C$25,CHAR(13),CHAR(10),,\"        address-translation outgoing-call request-uri user-part fix \",'Line Table'!B29,\" host-part to-header target-param none\",CHAR(13),CHAR(10),,\"        address-translation incoming-call called-e164 request-uri\",CHAR(13),CHAR(10),,CHAR(13),CHAR(10),)","v":"  interface sip IF_SIP_28\r\n        bind context sip-gateway GW_SIP_28\r\n        early-connect \r\n        early-disconnect\r\n        route call dest-interface IF_FXO_28\r\n        remote 10.10.50.23 5060\r\n        address-translation outgoing-call request-uri user-part fix 10029 host-part to-header target-param none\r\n        address-translation incoming-call called-e164 request-uri\r\n\r\n"}]
[170,{"$f":"+IF(Data!$C$5>ROW(Brekeke!B171)-ROW(Brekeke!$B$143),\"\",\"#\")","v":"#"},{"$f":"+CONCATENATE(\"  interface sip IF_SIP_\",'Line Table'!A30,CHAR(13),CHAR(10),,\"        bind context sip-gateway GW_SIP_\",'Line Table'!A30,CHAR(13),CHAR(10),,\"        \",+'Line Table'!C30,CHAR(13),CHAR(10),,\"        early-disconnect\",CHAR(13),CHAR(10),,\"        route call dest-interface IF_FXO_\",'Line Table'!A30,CHAR(13),CHAR(10),,\"        remote \",Data!$C$24,\" \",Data!$C$25,CHAR(13),CHAR(10),,\"        address-translation outgoing-call request-uri user-part fix \",'Line Table'!B30,\" host-part to-header target-param none\",CHAR(13),CHAR(10),,\"        address-translation incoming-call called-e164 request-uri\",CHAR(13),CHAR(10),,CHAR(13),CHAR(10),)","v":"  interface sip IF_SIP_29\r\n        bind context sip-gateway GW_SIP_29\r\n        early-connect \r\n        early-disconnect\r\n        route call dest-interface IF_FXO_29\r\n        remote 10.10.50.23 5060\r\n        address-translation outgoing-call request-uri user-part fix 10030 host-part to-header target-param none\r\n        address-translation incoming-call called-e164 request-uri\r\n\r\n"}]
[171,{"$f":"+IF(Data!$C$5>ROW(Brekeke!B172)-ROW(Brekeke!$B$143),\"\",\"#\")","v":"#"},{"$f":"+CONCATENATE(\"  interface sip IF_SIP_\",'Line Table'!A31,CHAR(13),CHAR(10),,\"        bind context sip-gateway GW_SIP_\",'Line Table'!A31,CHAR(13),CHAR(10),,\"        \",+'Line Table'!C31,CHAR(13),CHAR(10),,\"        early-disconnect\",CHAR(13),CHAR(10),,\"        route call dest-interface IF_FXO_\",'Line Table'!A31,CHAR(13),CHAR(10),,\"        remote \",Data!$C$24,\" \",Data!$C$25,CHAR(13),CHAR(10),,\"        address-translation outgoing-call request-uri user-part fix \",'Line Table'!B31,\" host-part to-header target-param none\",CHAR(13),CHAR(10),,\"        address-translation incoming-call called-e164 request-uri\",CHAR(13),CHAR(10),,CHAR(13),CHAR(10),)","v":"  interface sip IF_SIP_30\r\n        bind context sip-gateway GW_SIP_30\r\n        early-connect \r\n        early-disconnect\r\n        route call dest-interface IF_FXO_30\r\n        remote 10.10.50.23 5060\r\n        address-translation outgoing-call request-uri user-part fix 10031 host-part to-header target-param none\r\n        address-translation incoming-call called-e164 request-uri\r\n\r\n"}]
[172,{"$f":"+IF(Data!$C$5>ROW(Brekeke!B173)-ROW(Brekeke!$B$143),\"\",\"#\")","v":"#"},{"$f":"+CONCATENATE(\"  interface sip IF_SIP_\",'Line Table'!A32,CHAR(13),CHAR(10),,\"        bind context sip-gateway GW_SIP_\",'Line Table'!A32,CHAR(13),CHAR(10),,\"        \",+'Line Table'!C32,CHAR(13),CHAR(10),,\"        early-disconnect\",CHAR(13),CHAR(10),,\"        route call dest-interface IF_FXO_\",'Line Table'!A32,CHAR(13),CHAR(10),,\"        remote \",Data!$C$24,\" \",Data!$C$25,CHAR(13),CHAR(10),,\"        address-translation outgoing-call request-uri user-part fix \",'Line Table'!B32,\" host-part to-header target-param none\",CHAR(13),CHAR(10),,\"        address-translation incoming-call called-e164 request-uri\",CHAR(13),CHAR(10),,CHAR(13),CHAR(10),)","v":"  interface sip IF_SIP_31\r\n        bind context sip-gateway GW_SIP_31\r\n        early-connect \r\n        early-disconnect\r\n        route call dest-interface IF_FXO_31\r\n        remote 10.10.50.23 5060\r\n        address-translation outgoing-call request-uri user-part fix 10032 host-part to-header target-param none\r\n        address-translation incoming-call called-e164 request-uri\r\n\r\n"}]
[173,{"$f":"+IF(Data!$C$5>ROW(Brekeke!B174)-ROW(Brekeke!$B$143),\"\",\"#\")","v":"#"},{"$f":"+CONCATENATE(\"  interface sip IF_SIP_\",'Line Table'!A33,CHAR(13),CHAR(10),,\"        bind context sip-gateway GW_SIP_\",'Line Table'!A33,CHAR(13),CHAR(10),,\"        \",+'Line Table'!C33,CHAR(13),CHAR(10),,\"        early-disconnect\",CHAR(13),CHAR(10),,\"        route call dest-interface IF_FXO_\",'Line Table'!A33,CHAR(13),CHAR(10),,\"        remote \",Data!$C$24,\" \",Data!$C$25,CHAR(13),CHAR(10),,\"        address-translation outgoing-call request-uri user-part fix \",'Line Table'!B33,\" host-part to-header target-param none\",CHAR(13),CHAR(10),,\"        address-translation incoming-call called-e164 request-uri\",CHAR(13),CHAR(10),,CHAR(13),CHAR(10),)","v":"  interface sip IF_SIP_32\r\n        bind context sip-gateway GW_SIP_32\r\n        early-connect \r\n        early-disconnect\r\n        route call dest-interface IF_FXO_32\r\n        remote 10.10.50.23 5060\r\n        address-translation outgoing-call request-uri user-part fix 10033 host-part to-header target-param none\r\n        address-translation incoming-call called-e164 request-uri\r\n\r\n"}]
[174]
[175,{"$f":"+IF(Data!$C$5>ROW(Brekeke!B176)-ROW(Brekeke!$B$176),\"\",\"#\")","v":""},{"$f":"+CONCATENATE(\" interface fxo IF_FXO_\",'Line Table'!A2,CHAR(13),CHAR(10),\"          route call dest-interface IF_SIP_\",'Line Table'!A2,CHAR(13),CHAR(10),\"         loop-break-duration min 200 max 1000\",CHAR(13),CHAR(10),\"          \",'Line Table'!D2,CHAR(13),CHAR(10),\"         mute-dialing\",CHAR(13),CHAR(10),\"           disconnect-signal loop-break\",CHAR(13),CHAR(10),\"         disconnect-signal busy-tone\",CHAR(13),CHAR(10),\"         dial-after timeout 1\")","v":" interface fxo IF_FXO_1\r\n          route call dest-interface IF_SIP_1\r\n         loop-break-duration min 200 max 1000\r\n          ring-number on-caller-id \r\n         mute-dialing\r\n           disconnect-signal loop-break\r\n         disconnect-signal busy-tone\r\n         dial-after timeout 1"}]
[176,{"$f":"+IF(Data!$C$5>ROW(Brekeke!B177)-ROW(Brekeke!$B$176),\"\",\"#\")","v":""},{"$f":"+CONCATENATE(\" interface fxo IF_FXO_\",'Line Table'!A3,CHAR(13),CHAR(10),\"          route call dest-interface IF_SIP_\",'Line Table'!A3,CHAR(13),CHAR(10),\"         loop-break-duration min 200 max 1000\",CHAR(13),CHAR(10),\"          \",'Line Table'!D3,CHAR(13),CHAR(10),\"         mute-dialing\",CHAR(13),CHAR(10),\"           disconnect-signal loop-break\",CHAR(13),CHAR(10),\"         disconnect-signal busy-tone\",CHAR(13),CHAR(10),\"         dial-after timeout 1\")","v":" interface fxo IF_FXO_2\r\n          route call dest-interface IF_SIP_2\r\n         loop-break-duration min 200 max 1000\r\n          ring-number on-caller-id \r\n         mute-dialing\r\n           disconnect-signal loop-break\r\n         disconnect-signal busy-tone\r\n         dial-after timeout 1"}]
[177,{"$f":"+IF(Data!$C$5>ROW(Brekeke!B178)-ROW(Brekeke!$B$176),\"\",\"#\")","v":""},{"$f":"+CONCATENATE(\" interface fxo IF_FXO_\",'Line Table'!A4,CHAR(13),CHAR(10),\"          route call dest-interface IF_SIP_\",'Line Table'!A4,CHAR(13),CHAR(10),\"         loop-break-duration min 200 max 1000\",CHAR(13),CHAR(10),\"          \",'Line Table'!D4,CHAR(13),CHAR(10),\"         mute-dialing\",CHAR(13),CHAR(10),\"           disconnect-signal loop-break\",CHAR(13),CHAR(10),\"         disconnect-signal busy-tone\",CHAR(13),CHAR(10),\"         dial-after timeout 1\")","v":" interface fxo IF_FXO_3\r\n          route call dest-interface IF_SIP_3\r\n         loop-break-duration min 200 max 1000\r\n          ring-number on-caller-id \r\n         mute-dialing\r\n           disconnect-signal loop-break\r\n         disconnect-signal busy-tone\r\n         dial-after timeout 1"}]
[178,{"$f":"+IF(Data!$C$5>ROW(Brekeke!B179)-ROW(Brekeke!$B$176),\"\",\"#\")","v":""},{"$f":"+CONCATENATE(\" interface fxo IF_FXO_\",'Line Table'!A5,CHAR(13),CHAR(10),\"          route call dest-interface IF_SIP_\",'Line Table'!A5,CHAR(13),CHAR(10),\"         loop-break-duration min 200 max 1000\",CHAR(13),CHAR(10),\"          \",'Line Table'!D5,CHAR(13),CHAR(10),\"         mute-dialing\",CHAR(13),CHAR(10),\"           disconnect-signal loop-break\",CHAR(13),CHAR(10),\"         disconnect-signal busy-tone\",CHAR(13),CHAR(10),\"         dial-after timeout 1\")","v":" interface fxo IF_FXO_4\r\n          route call dest-interface IF_SIP_4\r\n         loop-break-duration min 200 max 1000\r\n          ring-number on-caller-id \r\n         mute-dialing\r\n           disconnect-signal loop-break\r\n         disconnect-signal busy-tone\r\n         dial-after timeout 1"}]
[179,{"$f":"+IF(Data!$C$5>ROW(Brekeke!B180)-ROW(Brekeke!$B$176),\"\",\"#\")","v":""},{"$f":"+CONCATENATE(\" interface fxo IF_FXO_\",'Line Table'!A6,CHAR(13),CHAR(10),\"          route call dest-interface IF_SIP_\",'Line Table'!A6,CHAR(13),CHAR(10),\"         loop-break-duration min 200 max 1000\",CHAR(13),CHAR(10),\"          \",'Line Table'!D6,CHAR(13),CHAR(10),\"         mute-dialing\",CHAR(13),CHAR(10),\"           disconnect-signal loop-break\",CHAR(13),CHAR(10),\"         disconnect-signal busy-tone\",CHAR(13),CHAR(10),\"         dial-after timeout 1\")","v":" interface fxo IF_FXO_5\r\n          route call dest-interface IF_SIP_5\r\n         loop-break-duration min 200 max 1000\r\n          ring-number on-caller-id \r\n         mute-dialing\r\n           disconnect-signal loop-break\r\n         disconnect-signal busy-tone\r\n         dial-after timeout 1"}]
[180,{"$f":"+IF(Data!$C$5>ROW(Brekeke!B181)-ROW(Brekeke!$B$176),\"\",\"#\")","v":""},{"$f":"+CONCATENATE(\" interface fxo IF_FXO_\",'Line Table'!A7,CHAR(13),CHAR(10),\"          route call dest-interface IF_SIP_\",'Line Table'!A7,CHAR(13),CHAR(10),\"         loop-break-duration min 200 max 1000\",CHAR(13),CHAR(10),\"          \",'Line Table'!D7,CHAR(13),CHAR(10),\"         mute-dialing\",CHAR(13),CHAR(10),\"           disconnect-signal loop-break\",CHAR(13),CHAR(10),\"         disconnect-signal busy-tone\",CHAR(13),CHAR(10),\"         dial-after timeout 1\")","v":" interface fxo IF_FXO_6\r\n          route call dest-interface IF_SIP_6\r\n         loop-break-duration min 200 max 1000\r\n          ring-number on-caller-id \r\n         mute-dialing\r\n           disconnect-signal loop-break\r\n         disconnect-signal busy-tone\r\n         dial-after timeout 1"}]
[181,{"$f":"+IF(Data!$C$5>ROW(Brekeke!B182)-ROW(Brekeke!$B$176),\"\",\"#\")","v":""},{"$f":"+CONCATENATE(\" interface fxo IF_FXO_\",'Line Table'!A8,CHAR(13),CHAR(10),\"          route call dest-interface IF_SIP_\",'Line Table'!A8,CHAR(13),CHAR(10),\"         loop-break-duration min 200 max 1000\",CHAR(13),CHAR(10),\"          \",'Line Table'!D8,CHAR(13),CHAR(10),\"         mute-dialing\",CHAR(13),CHAR(10),\"           disconnect-signal loop-break\",CHAR(13),CHAR(10),\"         disconnect-signal busy-tone\",CHAR(13),CHAR(10),\"         dial-after timeout 1\")","v":" interface fxo IF_FXO_7\r\n          route call dest-interface IF_SIP_7\r\n         loop-break-duration min 200 max 1000\r\n          ring-number on-caller-id \r\n         mute-dialing\r\n           disconnect-signal loop-break\r\n         disconnect-signal busy-tone\r\n         dial-after timeout 1"}]
[182,{"$f":"+IF(Data!$C$5>ROW(Brekeke!B183)-ROW(Brekeke!$B$176),\"\",\"#\")","v":""},{"$f":"+CONCATENATE(\" interface fxo IF_FXO_\",'Line Table'!A9,CHAR(13),CHAR(10),\"          route call dest-interface IF_SIP_\",'Line Table'!A9,CHAR(13),CHAR(10),\"         loop-break-duration min 200 max 1000\",CHAR(13),CHAR(10),\"          \",'Line Table'!D9,CHAR(13),CHAR(10),\"         mute-dialing\",CHAR(13),CHAR(10),\"           disconnect-signal loop-break\",CHAR(13),CHAR(10),\"         disconnect-signal busy-tone\",CHAR(13),CHAR(10),\"         dial-after timeout 1\")","v":" interface fxo IF_FXO_8\r\n          route call dest-interface IF_SIP_8\r\n         loop-break-duration min 200 max 1000\r\n          ring-number on-caller-id \r\n         mute-dialing\r\n           disconnect-signal loop-break\r\n         disconnect-signal busy-tone\r\n         dial-after timeout 1"}]
[183,{"$f":"+IF(Data!$C$5>ROW(Brekeke!B184)-ROW(Brekeke!$B$176),\"\",\"#\")","v":""},{"$f":"+CONCATENATE(\" interface fxo IF_FXO_\",'Line Table'!A10,CHAR(13),CHAR(10),\"          route call dest-interface IF_SIP_\",'Line Table'!A10,CHAR(13),CHAR(10),\"         loop-break-duration min 200 max 1000\",CHAR(13),CHAR(10),\"          \",'Line Table'!D10,CHAR(13),CHAR(10),\"         mute-dialing\",CHAR(13),CHAR(10),\"           disconnect-signal loop-break\",CHAR(13),CHAR(10),\"         disconnect-signal busy-tone\",CHAR(13),CHAR(10),\"         dial-after timeout 1\")","v":" interface fxo IF_FXO_9\r\n          route call dest-interface IF_SIP_9\r\n         loop-break-duration min 200 max 1000\r\n          ring-number on-caller-id \r\n         mute-dialing\r\n           disconnect-signal loop-break\r\n         disconnect-signal busy-tone\r\n         dial-after timeout 1"}]
[184,{"$f":"+IF(Data!$C$5>ROW(Brekeke!B185)-ROW(Brekeke!$B$176),\"\",\"#\")","v":""},{"$f":"+CONCATENATE(\" interface fxo IF_FXO_\",'Line Table'!A11,CHAR(13),CHAR(10),\"          route call dest-interface IF_SIP_\",'Line Table'!A11,CHAR(13),CHAR(10),\"         loop-break-duration min 200 max 1000\",CHAR(13),CHAR(10),\"          \",'Line Table'!D11,CHAR(13),CHAR(10),\"         mute-dialing\",CHAR(13),CHAR(10),\"           disconnect-signal loop-break\",CHAR(13),CHAR(10),\"         disconnect-signal busy-tone\",CHAR(13),CHAR(10),\"         dial-after timeout 1\")","v":" interface fxo IF_FXO_10\r\n          route call dest-interface IF_SIP_10\r\n         loop-break-duration min 200 max 1000\r\n          ring-number on-caller-id \r\n         mute-dialing\r\n           disconnect-signal loop-break\r\n         disconnect-signal busy-tone\r\n         dial-after timeout 1"}]
[185,{"$f":"+IF(Data!$C$5>ROW(Brekeke!B186)-ROW(Brekeke!$B$176),\"\",\"#\")","v":""},{"$f":"+CONCATENATE(\" interface fxo IF_FXO_\",'Line Table'!A12,CHAR(13),CHAR(10),\"          route call dest-interface IF_SIP_\",'Line Table'!A12,CHAR(13),CHAR(10),\"         loop-break-duration min 200 max 1000\",CHAR(13),CHAR(10),\"          \",'Line Table'!D12,CHAR(13),CHAR(10),\"         mute-dialing\",CHAR(13),CHAR(10),\"           disconnect-signal loop-break\",CHAR(13),CHAR(10),\"         disconnect-signal busy-tone\",CHAR(13),CHAR(10),\"         dial-after timeout 1\")","v":" interface fxo IF_FXO_11\r\n          route call dest-interface IF_SIP_11\r\n         loop-break-duration min 200 max 1000\r\n          ring-number on-caller-id \r\n         mute-dialing\r\n           disconnect-signal loop-break\r\n         disconnect-signal busy-tone\r\n         dial-after timeout 1"}]
[186,{"$f":"+IF(Data!$C$5>ROW(Brekeke!B187)-ROW(Brekeke!$B$176),\"\",\"#\")","v":""},{"$f":"+CONCATENATE(\" interface fxo IF_FXO_\",'Line Table'!A13,CHAR(13),CHAR(10),\"          route call dest-interface IF_SIP_\",'Line Table'!A13,CHAR(13),CHAR(10),\"         loop-break-duration min 200 max 1000\",CHAR(13),CHAR(10),\"          \",'Line Table'!D13,CHAR(13),CHAR(10),\"         mute-dialing\",CHAR(13),CHAR(10),\"           disconnect-signal loop-break\",CHAR(13),CHAR(10),\"         disconnect-signal busy-tone\",CHAR(13),CHAR(10),\"         dial-after timeout 1\")","v":" interface fxo IF_FXO_12\r\n          route call dest-interface IF_SIP_12\r\n         loop-break-duration min 200 max 1000\r\n          ring-number on-caller-id \r\n         mute-dialing\r\n           disconnect-signal loop-break\r\n         disconnect-signal busy-tone\r\n         dial-after timeout 1"}]
[187,{"$f":"+IF(Data!$C$5>ROW(Brekeke!B188)-ROW(Brekeke!$B$176),\"\",\"#\")","v":"#"},{"$f":"+CONCATENATE(\" interface fxo IF_FXO_\",'Line Table'!A14,CHAR(13),CHAR(10),\"          route call dest-interface IF_SIP_\",'Line Table'!A14,CHAR(13),CHAR(10),\"         loop-break-duration min 200 max 1000\",CHAR(13),CHAR(10),\"          \",'Line Table'!D14,CHAR(13),CHAR(10),\"         mute-dialing\",CHAR(13),CHAR(10),\"           disconnect-signal loop-break\",CHAR(13),CHAR(10),\"         disconnect-signal busy-tone\",CHAR(13),CHAR(10),\"         dial-after timeout 1\")","v":" interface fxo IF_FXO_13\r\n          route call dest-interface IF_SIP_13\r\n         loop-break-duration min 200 max 1000\r\n          ring-number on-caller-id \r\n         mute-dialing\r\n           disconnect-signal loop-break\r\n         disconnect-signal busy-tone\r\n         dial-after timeout 1"}]
[188,{"$f":"+IF(Data!$C$5>ROW(Brekeke!B189)-ROW(Brekeke!$B$176),\"\",\"#\")","v":"#"},{"$f":"+CONCATENATE(\" interface fxo IF_FXO_\",'Line Table'!A15,CHAR(13),CHAR(10),\"          route call dest-interface IF_SIP_\",'Line Table'!A15,CHAR(13),CHAR(10),\"         loop-break-duration min 200 max 1000\",CHAR(13),CHAR(10),\"          \",'Line Table'!D15,CHAR(13),CHAR(10),\"         mute-dialing\",CHAR(13),CHAR(10),\"           disconnect-signal loop-break\",CHAR(13),CHAR(10),\"         disconnect-signal busy-tone\",CHAR(13),CHAR(10),\"         dial-after timeout 1\")","v":" interface fxo IF_FXO_14\r\n          route call dest-interface IF_SIP_14\r\n         loop-break-duration min 200 max 1000\r\n          ring-number on-caller-id \r\n         mute-dialing\r\n           disconnect-signal loop-break\r\n         disconnect-signal busy-tone\r\n         dial-after timeout 1"}]
[189,{"$f":"+IF(Data!$C$5>ROW(Brekeke!B190)-ROW(Brekeke!$B$176),\"\",\"#\")","v":"#"},{"$f":"+CONCATENATE(\" interface fxo IF_FXO_\",'Line Table'!A16,CHAR(13),CHAR(10),\"          route call dest-interface IF_SIP_\",'Line Table'!A16,CHAR(13),CHAR(10),\"         loop-break-duration min 200 max 1000\",CHAR(13),CHAR(10),\"          \",'Line Table'!D16,CHAR(13),CHAR(10),\"         mute-dialing\",CHAR(13),CHAR(10),\"           disconnect-signal loop-break\",CHAR(13),CHAR(10),\"         disconnect-signal busy-tone\",CHAR(13),CHAR(10),\"         dial-after timeout 1\")","v":" interface fxo IF_FXO_15\r\n          route call dest-interface IF_SIP_15\r\n         loop-break-duration min 200 max 1000\r\n          ring-number on-caller-id \r\n         mute-dialing\r\n           disconnect-signal loop-break\r\n         disconnect-signal busy-tone\r\n         dial-after timeout 1"}]
[190,{"$f":"+IF(Data!$C$5>ROW(Brekeke!B191)-ROW(Brekeke!$B$176),\"\",\"#\")","v":"#"},{"$f":"+CONCATENATE(\" interface fxo IF_FXO_\",'Line Table'!A17,CHAR(13),CHAR(10),\"          route call dest-interface IF_SIP_\",'Line Table'!A17,CHAR(13),CHAR(10),\"         loop-break-duration min 200 max 1000\",CHAR(13),CHAR(10),\"          \",'Line Table'!D17,CHAR(13),CHAR(10),\"         mute-dialing\",CHAR(13),CHAR(10),\"           disconnect-signal loop-break\",CHAR(13),CHAR(10),\"         disconnect-signal busy-tone\",CHAR(13),CHAR(10),\"         dial-after timeout 1\")","v":" interface fxo IF_FXO_16\r\n          route call dest-interface IF_SIP_16\r\n         loop-break-duration min 200 max 1000\r\n          ring-number on-caller-id \r\n         mute-dialing\r\n           disconnect-signal loop-break\r\n         disconnect-signal busy-tone\r\n         dial-after timeout 1"}]
[191,{"$f":"+IF(Data!$C$5>ROW(Brekeke!B192)-ROW(Brekeke!$B$176),\"\",\"#\")","v":"#"},{"$f":"+CONCATENATE(\" interface fxo IF_FXO_\",'Line Table'!A18,CHAR(13),CHAR(10),\"          route call dest-interface IF_SIP_\",'Line Table'!A18,CHAR(13),CHAR(10),\"         loop-break-duration min 200 max 1000\",CHAR(13),CHAR(10),\"          \",'Line Table'!D18,CHAR(13),CHAR(10),\"         mute-dialing\",CHAR(13),CHAR(10),\"           disconnect-signal loop-break\",CHAR(13),CHAR(10),\"         disconnect-signal busy-tone\",CHAR(13),CHAR(10),\"         dial-after timeout 1\")","v":" interface fxo IF_FXO_17\r\n          route call dest-interface IF_SIP_17\r\n         loop-break-duration min 200 max 1000\r\n          ring-number on-caller-id \r\n         mute-dialing\r\n           disconnect-signal loop-break\r\n         disconnect-signal busy-tone\r\n         dial-after timeout 1"}]
[192,{"$f":"+IF(Data!$C$5>ROW(Brekeke!B193)-ROW(Brekeke!$B$176),\"\",\"#\")","v":"#"},{"$f":"+CONCATENATE(\" interface fxo IF_FXO_\",'Line Table'!A19,CHAR(13),CHAR(10),\"          route call dest-interface IF_SIP_\",'Line Table'!A19,CHAR(13),CHAR(10),\"         loop-break-duration min 200 max 1000\",CHAR(13),CHAR(10),\"          \",'Line Table'!D19,CHAR(13),CHAR(10),\"         mute-dialing\",CHAR(13),CHAR(10),\"           disconnect-signal loop-break\",CHAR(13),CHAR(10),\"         disconnect-signal busy-tone\",CHAR(13),CHAR(10),\"         dial-after timeout 1\")","v":" interface fxo IF_FXO_18\r\n          route call dest-interface IF_SIP_18\r\n         loop-break-duration min 200 max 1000\r\n          ring-number on-caller-id \r\n         mute-dialing\r\n           disconnect-signal loop-break\r\n         disconnect-signal busy-tone\r\n         dial-after timeout 1"}]
[193,{"$f":"+IF(Data!$C$5>ROW(Brekeke!B194)-ROW(Brekeke!$B$176),\"\",\"#\")","v":"#"},{"$f":"+CONCATENATE(\" interface fxo IF_FXO_\",'Line Table'!A20,CHAR(13),CHAR(10),\"          route call dest-interface IF_SIP_\",'Line Table'!A20,CHAR(13),CHAR(10),\"         loop-break-duration min 200 max 1000\",CHAR(13),CHAR(10),\"          \",'Line Table'!D20,CHAR(13),CHAR(10),\"         mute-dialing\",CHAR(13),CHAR(10),\"           disconnect-signal loop-break\",CHAR(13),CHAR(10),\"         disconnect-signal busy-tone\",CHAR(13),CHAR(10),\"         dial-after timeout 1\")","v":" interface fxo IF_FXO_19\r\n          route call dest-interface IF_SIP_19\r\n         loop-break-duration min 200 max 1000\r\n          ring-number on-caller-id \r\n         mute-dialing\r\n           disconnect-signal loop-break\r\n         disconnect-signal busy-tone\r\n         dial-after timeout 1"}]
[194,{"$f":"+IF(Data!$C$5>ROW(Brekeke!B195)-ROW(Brekeke!$B$176),\"\",\"#\")","v":"#"},{"$f":"+CONCATENATE(\" interface fxo IF_FXO_\",'Line Table'!A21,CHAR(13),CHAR(10),\"          route call dest-interface IF_SIP_\",'Line Table'!A21,CHAR(13),CHAR(10),\"         loop-break-duration min 200 max 1000\",CHAR(13),CHAR(10),\"          \",'Line Table'!D21,CHAR(13),CHAR(10),\"         mute-dialing\",CHAR(13),CHAR(10),\"           disconnect-signal loop-break\",CHAR(13),CHAR(10),\"         disconnect-signal busy-tone\",CHAR(13),CHAR(10),\"         dial-after timeout 1\")","v":" interface fxo IF_FXO_20\r\n          route call dest-interface IF_SIP_20\r\n         loop-break-duration min 200 max 1000\r\n          ring-number on-caller-id \r\n         mute-dialing\r\n           disconnect-signal loop-break\r\n         disconnect-signal busy-tone\r\n         dial-after timeout 1"}]
[195,{"$f":"+IF(Data!$C$5>ROW(Brekeke!B196)-ROW(Brekeke!$B$176),\"\",\"#\")","v":"#"},{"$f":"+CONCATENATE(\" interface fxo IF_FXO_\",'Line Table'!A22,CHAR(13),CHAR(10),\"          route call dest-interface IF_SIP_\",'Line Table'!A22,CHAR(13),CHAR(10),\"         loop-break-duration min 200 max 1000\",CHAR(13),CHAR(10),\"          \",'Line Table'!D22,CHAR(13),CHAR(10),\"         mute-dialing\",CHAR(13),CHAR(10),\"           disconnect-signal loop-break\",CHAR(13),CHAR(10),\"         disconnect-signal busy-tone\",CHAR(13),CHAR(10),\"         dial-after timeout 1\")","v":" interface fxo IF_FXO_21\r\n          route call dest-interface IF_SIP_21\r\n         loop-break-duration min 200 max 1000\r\n          ring-number on-caller-id \r\n         mute-dialing\r\n           disconnect-signal loop-break\r\n         disconnect-signal busy-tone\r\n         dial-after timeout 1"}]
[196,{"$f":"+IF(Data!$C$5>ROW(Brekeke!B197)-ROW(Brekeke!$B$176),\"\",\"#\")","v":"#"},{"$f":"+CONCATENATE(\" interface fxo IF_FXO_\",'Line Table'!A23,CHAR(13),CHAR(10),\"          route call dest-interface IF_SIP_\",'Line Table'!A23,CHAR(13),CHAR(10),\"         loop-break-duration min 200 max 1000\",CHAR(13),CHAR(10),\"          \",'Line Table'!D23,CHAR(13),CHAR(10),\"         mute-dialing\",CHAR(13),CHAR(10),\"           disconnect-signal loop-break\",CHAR(13),CHAR(10),\"         disconnect-signal busy-tone\",CHAR(13),CHAR(10),\"         dial-after timeout 1\")","v":" interface fxo IF_FXO_22\r\n          route call dest-interface IF_SIP_22\r\n         loop-break-duration min 200 max 1000\r\n          ring-number on-caller-id \r\n         mute-dialing\r\n           disconnect-signal loop-break\r\n         disconnect-signal busy-tone\r\n         dial-after timeout 1"}]
[197,{"$f":"+IF(Data!$C$5>ROW(Brekeke!B198)-ROW(Brekeke!$B$176),\"\",\"#\")","v":"#"},{"$f":"+CONCATENATE(\" interface fxo IF_FXO_\",'Line Table'!A24,CHAR(13),CHAR(10),\"          route call dest-interface IF_SIP_\",'Line Table'!A24,CHAR(13),CHAR(10),\"         loop-break-duration min 200 max 1000\",CHAR(13),CHAR(10),\"          \",'Line Table'!D24,CHAR(13),CHAR(10),\"         mute-dialing\",CHAR(13),CHAR(10),\"           disconnect-signal loop-break\",CHAR(13),CHAR(10),\"         disconnect-signal busy-tone\",CHAR(13),CHAR(10),\"         dial-after timeout 1\")","v":" interface fxo IF_FXO_23\r\n          route call dest-interface IF_SIP_23\r\n         loop-break-duration min 200 max 1000\r\n          ring-number on-caller-id \r\n         mute-dialing\r\n           disconnect-signal loop-break\r\n         disconnect-signal busy-tone\r\n         dial-after timeout 1"}]
[198,{"$f":"+IF(Data!$C$5>ROW(Brekeke!B199)-ROW(Brekeke!$B$176),\"\",\"#\")","v":"#"},{"$f":"+CONCATENATE(\" interface fxo IF_FXO_\",'Line Table'!A25,CHAR(13),CHAR(10),\"          route call dest-interface IF_SIP_\",'Line Table'!A25,CHAR(13),CHAR(10),\"         loop-break-duration min 200 max 1000\",CHAR(13),CHAR(10),\"          \",'Line Table'!D25,CHAR(13),CHAR(10),\"         mute-dialing\",CHAR(13),CHAR(10),\"           disconnect-signal loop-break\",CHAR(13),CHAR(10),\"         disconnect-signal busy-tone\",CHAR(13),CHAR(10),\"         dial-after timeout 1\")","v":" interface fxo IF_FXO_24\r\n          route call dest-interface IF_SIP_24\r\n         loop-break-duration min 200 max 1000\r\n          ring-number on-caller-id \r\n         mute-dialing\r\n           disconnect-signal loop-break\r\n         disconnect-signal busy-tone\r\n         dial-after timeout 1"}]
[199,{"$f":"+IF(Data!$C$5>ROW(Brekeke!B200)-ROW(Brekeke!$B$176),\"\",\"#\")","v":"#"},{"$f":"+CONCATENATE(\" interface fxo IF_FXO_\",'Line Table'!A26,CHAR(13),CHAR(10),\"          route call dest-interface IF_SIP_\",'Line Table'!A26,CHAR(13),CHAR(10),\"         loop-break-duration min 200 max 1000\",CHAR(13),CHAR(10),\"          \",'Line Table'!D26,CHAR(13),CHAR(10),\"         mute-dialing\",CHAR(13),CHAR(10),\"           disconnect-signal loop-break\",CHAR(13),CHAR(10),\"         disconnect-signal busy-tone\",CHAR(13),CHAR(10),\"         dial-after timeout 1\")","v":" interface fxo IF_FXO_25\r\n          route call dest-interface IF_SIP_25\r\n         loop-break-duration min 200 max 1000\r\n          ring-number on-caller-id \r\n         mute-dialing\r\n           disconnect-signal loop-break\r\n         disconnect-signal busy-tone\r\n         dial-after timeout 1"}]
[200,{"$f":"+IF(Data!$C$5>ROW(Brekeke!B201)-ROW(Brekeke!$B$176),\"\",\"#\")","v":"#"},{"$f":"+CONCATENATE(\" interface fxo IF_FXO_\",'Line Table'!A27,CHAR(13),CHAR(10),\"          route call dest-interface IF_SIP_\",'Line Table'!A27,CHAR(13),CHAR(10),\"         loop-break-duration min 200 max 1000\",CHAR(13),CHAR(10),\"          \",'Line Table'!D27,CHAR(13),CHAR(10),\"         mute-dialing\",CHAR(13),CHAR(10),\"           disconnect-signal loop-break\",CHAR(13),CHAR(10),\"         disconnect-signal busy-tone\",CHAR(13),CHAR(10),\"         dial-after timeout 1\")","v":" interface fxo IF_FXO_26\r\n          route call dest-interface IF_SIP_26\r\n         loop-break-duration min 200 max 1000\r\n          ring-number on-caller-id \r\n         mute-dialing\r\n           disconnect-signal loop-break\r\n         disconnect-signal busy-tone\r\n         dial-after timeout 1"}]
[201,{"$f":"+IF(Data!$C$5>ROW(Brekeke!B202)-ROW(Brekeke!$B$176),\"\",\"#\")","v":"#"},{"$f":"+CONCATENATE(\" interface fxo IF_FXO_\",'Line Table'!A28,CHAR(13),CHAR(10),\"          route call dest-interface IF_SIP_\",'Line Table'!A28,CHAR(13),CHAR(10),\"         loop-break-duration min 200 max 1000\",CHAR(13),CHAR(10),\"          \",'Line Table'!D28,CHAR(13),CHAR(10),\"         mute-dialing\",CHAR(13),CHAR(10),\"           disconnect-signal loop-break\",CHAR(13),CHAR(10),\"         disconnect-signal busy-tone\",CHAR(13),CHAR(10),\"         dial-after timeout 1\")","v":" interface fxo IF_FXO_27\r\n          route call dest-interface IF_SIP_27\r\n         loop-break-duration min 200 max 1000\r\n          ring-number on-caller-id \r\n         mute-dialing\r\n           disconnect-signal loop-break\r\n         disconnect-signal busy-tone\r\n         dial-after timeout 1"}]
[202,{"$f":"+IF(Data!$C$5>ROW(Brekeke!B203)-ROW(Brekeke!$B$176),\"\",\"#\")","v":"#"},{"$f":"+CONCATENATE(\" interface fxo IF_FXO_\",'Line Table'!A29,CHAR(13),CHAR(10),\"          route call dest-interface IF_SIP_\",'Line Table'!A29,CHAR(13),CHAR(10),\"         loop-break-duration min 200 max 1000\",CHAR(13),CHAR(10),\"          \",'Line Table'!D29,CHAR(13),CHAR(10),\"         mute-dialing\",CHAR(13),CHAR(10),\"           disconnect-signal loop-break\",CHAR(13),CHAR(10),\"         disconnect-signal busy-tone\",CHAR(13),CHAR(10),\"         dial-after timeout 1\")","v":" interface fxo IF_FXO_28\r\n          route call dest-interface IF_SIP_28\r\n         loop-break-duration min 200 max 1000\r\n          ring-number on-caller-id \r\n         mute-dialing\r\n           disconnect-signal loop-break\r\n         disconnect-signal busy-tone\r\n         dial-after timeout 1"}]
[203,{"$f":"+IF(Data!$C$5>ROW(Brekeke!B204)-ROW(Brekeke!$B$176),\"\",\"#\")","v":"#"},{"$f":"+CONCATENATE(\" interface fxo IF_FXO_\",'Line Table'!A30,CHAR(13),CHAR(10),\"          route call dest-interface IF_SIP_\",'Line Table'!A30,CHAR(13),CHAR(10),\"         loop-break-duration min 200 max 1000\",CHAR(13),CHAR(10),\"          \",'Line Table'!D30,CHAR(13),CHAR(10),\"         mute-dialing\",CHAR(13),CHAR(10),\"           disconnect-signal loop-break\",CHAR(13),CHAR(10),\"         disconnect-signal busy-tone\",CHAR(13),CHAR(10),\"         dial-after timeout 1\")","v":" interface fxo IF_FXO_29\r\n          route call dest-interface IF_SIP_29\r\n         loop-break-duration min 200 max 1000\r\n          ring-number on-caller-id \r\n         mute-dialing\r\n           disconnect-signal loop-break\r\n         disconnect-signal busy-tone\r\n         dial-after timeout 1"}]
[204,{"$f":"+IF(Data!$C$5>ROW(Brekeke!B205)-ROW(Brekeke!$B$176),\"\",\"#\")","v":"#"},{"$f":"+CONCATENATE(\" interface fxo IF_FXO_\",'Line Table'!A31,CHAR(13),CHAR(10),\"          route call dest-interface IF_SIP_\",'Line Table'!A31,CHAR(13),CHAR(10),\"         loop-break-duration min 200 max 1000\",CHAR(13),CHAR(10),\"          \",'Line Table'!D31,CHAR(13),CHAR(10),\"         mute-dialing\",CHAR(13),CHAR(10),\"           disconnect-signal loop-break\",CHAR(13),CHAR(10),\"         disconnect-signal busy-tone\",CHAR(13),CHAR(10),\"         dial-after timeout 1\")","v":" interface fxo IF_FXO_30\r\n          route call dest-interface IF_SIP_30\r\n         loop-break-duration min 200 max 1000\r\n          ring-number on-caller-id \r\n         mute-dialing\r\n           disconnect-signal loop-break\r\n         disconnect-signal busy-tone\r\n         dial-after timeout 1"}]
[205,{"$f":"+IF(Data!$C$5>ROW(Brekeke!B206)-ROW(Brekeke!$B$176),\"\",\"#\")","v":"#"},{"$f":"+CONCATENATE(\" interface fxo IF_FXO_\",'Line Table'!A32,CHAR(13),CHAR(10),\"          route call dest-interface IF_SIP_\",'Line Table'!A32,CHAR(13),CHAR(10),\"         loop-break-duration min 200 max 1000\",CHAR(13),CHAR(10),\"          \",'Line Table'!D32,CHAR(13),CHAR(10),\"         mute-dialing\",CHAR(13),CHAR(10),\"           disconnect-signal loop-break\",CHAR(13),CHAR(10),\"         disconnect-signal busy-tone\",CHAR(13),CHAR(10),\"         dial-after timeout 1\")","v":" interface fxo IF_FXO_31\r\n          route call dest-interface IF_SIP_31\r\n         loop-break-duration min 200 max 1000\r\n          ring-number on-caller-id \r\n         mute-dialing\r\n           disconnect-signal loop-break\r\n         disconnect-signal busy-tone\r\n         dial-after timeout 1"}]
[206,{"$f":"+IF(Data!$C$5>ROW(Brekeke!B207)-ROW(Brekeke!$B$176),\"\",\"#\")","v":"#"},{"$f":"+CONCATENATE(\" interface fxo IF_FXO_\",'Line Table'!A33,CHAR(13),CHAR(10),\"          route call dest-interface IF_SIP_\",'Line Table'!A33,CHAR(13),CHAR(10),\"         loop-break-duration min 200 max 1000\",CHAR(13),CHAR(10),\"          \",'Line Table'!D33,CHAR(13),CHAR(10),\"         mute-dialing\",CHAR(13),CHAR(10),\"           disconnect-signal loop-break\",CHAR(13),CHAR(10),\"         disconnect-signal busy-tone\",CHAR(13),CHAR(10),\"         dial-after timeout 1\")","v":" interface fxo IF_FXO_32\r\n          route call dest-interface IF_SIP_32\r\n         loop-break-duration min 200 max 1000\r\n          ring-number on-caller-id \r\n         mute-dialing\r\n           disconnect-signal loop-break\r\n         disconnect-signal busy-tone\r\n         dial-after timeout 1"}]
[207]
[208,{"$f":"+IF(Data!$C$6>0,\" \",\"#\")","v":"#"},"interface sip IF_SIP_PBX"]
[209,{"$f":"+IF(Data!$C$6>0,\" \",\"#\")","v":"#"},"        bind context sip-gateway GW_SIP_ALL_EXTENSIONS"]
[210,{"$f":"+IF(Data!$C$6>0,\" \",\"#\")","v":"#"},"        route call dest-table RT_TO_FXS"]
[211,{"$f":"+IF(Data!$C$6>0,\" \",\"#\")","v":"#"},{"$f":"+CONCATENATE(\"              remote \",Data!C24,\" \",Data!C25)","v":"              remote 10.10.50.23 5060"}]
[212,{"$f":"+IF(Data!$C$6>0,\" \",\"#\")","v":"#"},{"$f":"+IF(OR(AND(UPPER(Data!C15)=\"DHCP\",Data!$C$8=\"LAN\"),AND(UPPER(Data!C19)=\"DHCP\",Data!$C$8=\"WAN\")),\" \",+CONCATENATE(\"              local \",Data!C15))","v":"              local 10.10.1.10"},"Agregar Early connect / Disconnect"]
[213]
[214,{"$f":"+IF(Data!$C$6>ROW(Brekeke!B215)-ROW(Brekeke!$B$215),\"\",\"#\")","v":"#"},{"$f":"+CONCATENATE(\"    interface fxs IF_FXS_\",'Extension Table'!C2,CHAR(13),CHAR(10),IF(Data!$C$42=\"(none)\",\"\",CONCATENATE(\"        caller-id-presentation \",Data!$C$42)),CHAR(13),CHAR(10),\"             route call dest-table RT_DIGITCOLLECTION\",CHAR(13),CHAR(10),\"             message-waiting-indication stutter-dial-tone\",CHAR(13),CHAR(10),\"             message-waiting-indication frequency-shift-keying\",CHAR(13),CHAR(10),\"             call-transfer\",CHAR(13),CHAR(10),\"             subscriber-number \",'Extension Table'!A2)","v":"    interface fxs IF_FXS_1\r\n        caller-id-presentation pre-ring\r\n             route call dest-table RT_DIGITCOLLECTION\r\n             message-waiting-indication stutter-dial-tone\r\n             message-waiting-indication frequency-shift-keying\r\n             call-transfer\r\n             subscriber-number 101"}]
[215,{"$f":"+IF(Data!$C$6>ROW(Brekeke!B216)-ROW(Brekeke!$B$215),\"\",\"#\")","v":"#"},{"$f":"+CONCATENATE(\"    interface fxs IF_FXS_\",'Extension Table'!C3,CHAR(13),CHAR(10),IF(Data!$C$42=\"(none)\",\"\",CONCATENATE(\"        caller-id-presentation \",Data!$C$42)),CHAR(13),CHAR(10),\"             route call dest-table RT_DIGITCOLLECTION\",CHAR(13),CHAR(10),\"             message-waiting-indication stutter-dial-tone\",CHAR(13),CHAR(10),\"             message-waiting-indication frequency-shift-keying\",CHAR(13),CHAR(10),\"             call-transfer\",CHAR(13),CHAR(10),\"             subscriber-number \",'Extension Table'!A3)","v":"    interface fxs IF_FXS_2\r\n        caller-id-presentation pre-ring\r\n             route call dest-table RT_DIGITCOLLECTION\r\n             message-waiting-indication stutter-dial-tone\r\n             message-waiting-indication frequency-shift-keying\r\n             call-transfer\r\n             subscriber-number 102"}]
[216,{"$f":"+IF(Data!$C$6>ROW(Brekeke!B217)-ROW(Brekeke!$B$215),\"\",\"#\")","v":"#"},{"$f":"+CONCATENATE(\"    interface fxs IF_FXS_\",'Extension Table'!C4,CHAR(13),CHAR(10),IF(Data!$C$42=\"(none)\",\"\",CONCATENATE(\"        caller-id-presentation \",Data!$C$42)),CHAR(13),CHAR(10),\"             route call dest-table RT_DIGITCOLLECTION\",CHAR(13),CHAR(10),\"             message-waiting-indication stutter-dial-tone\",CHAR(13),CHAR(10),\"             message-waiting-indication frequency-shift-keying\",CHAR(13),CHAR(10),\"             call-transfer\",CHAR(13),CHAR(10),\"             subscriber-number \",'Extension Table'!A4)","v":"    interface fxs IF_FXS_3\r\n        caller-id-presentation pre-ring\r\n             route call dest-table RT_DIGITCOLLECTION\r\n             message-waiting-indication stutter-dial-tone\r\n             message-waiting-indication frequency-shift-keying\r\n             call-transfer\r\n             subscriber-number 103"}]
[217,{"$f":"+IF(Data!$C$6>ROW(Brekeke!B218)-ROW(Brekeke!$B$215),\"\",\"#\")","v":"#"},{"$f":"+CONCATENATE(\"    interface fxs IF_FXS_\",'Extension Table'!C5,CHAR(13),CHAR(10),IF(Data!$C$42=\"(none)\",\"\",CONCATENATE(\"        caller-id-presentation \",Data!$C$42)),CHAR(13),CHAR(10),\"             route call dest-table RT_DIGITCOLLECTION\",CHAR(13),CHAR(10),\"             message-waiting-indication stutter-dial-tone\",CHAR(13),CHAR(10),\"             message-waiting-indication frequency-shift-keying\",CHAR(13),CHAR(10),\"             call-transfer\",CHAR(13),CHAR(10),\"             subscriber-number \",'Extension Table'!A5)","v":"    interface fxs IF_FXS_4\r\n        caller-id-presentation pre-ring\r\n             route call dest-table RT_DIGITCOLLECTION\r\n             message-waiting-indication stutter-dial-tone\r\n             message-waiting-indication frequency-shift-keying\r\n             call-transfer\r\n             subscriber-number 104"}]
[218,{"$f":"+IF(Data!$C$6>ROW(Brekeke!B219)-ROW(Brekeke!$B$215),\"\",\"#\")","v":"#"},{"$f":"+CONCATENATE(\"    interface fxs IF_FXS_\",'Extension Table'!C6,CHAR(13),CHAR(10),IF(Data!$C$42=\"(none)\",\"\",CONCATENATE(\"        caller-id-presentation \",Data!$C$42)),CHAR(13),CHAR(10),\"             route call dest-table RT_DIGITCOLLECTION\",CHAR(13),CHAR(10),\"             message-waiting-indication stutter-dial-tone\",CHAR(13),CHAR(10),\"             message-waiting-indication frequency-shift-keying\",CHAR(13),CHAR(10),\"             call-transfer\",CHAR(13),CHAR(10),\"             subscriber-number \",'Extension Table'!A6)","v":"    interface fxs IF_FXS_5\r\n        caller-id-presentation pre-ring\r\n             route call dest-table RT_DIGITCOLLECTION\r\n             message-waiting-indication stutter-dial-tone\r\n             message-waiting-indication frequency-shift-keying\r\n             call-transfer\r\n             subscriber-number 105"}]
[219,{"$f":"+IF(Data!$C$6>ROW(Brekeke!B220)-ROW(Brekeke!$B$215),\"\",\"#\")","v":"#"},{"$f":"+CONCATENATE(\"    interface fxs IF_FXS_\",'Extension Table'!C7,CHAR(13),CHAR(10),IF(Data!$C$42=\"(none)\",\"\",CONCATENATE(\"        caller-id-presentation \",Data!$C$42)),CHAR(13),CHAR(10),\"             route call dest-table RT_DIGITCOLLECTION\",CHAR(13),CHAR(10),\"             message-waiting-indication stutter-dial-tone\",CHAR(13),CHAR(10),\"             message-waiting-indication frequency-shift-keying\",CHAR(13),CHAR(10),\"             call-transfer\",CHAR(13),CHAR(10),\"             subscriber-number \",'Extension Table'!A7)","v":"    interface fxs IF_FXS_6\r\n        caller-id-presentation pre-ring\r\n             route call dest-table RT_DIGITCOLLECTION\r\n             message-waiting-indication stutter-dial-tone\r\n             message-waiting-indication frequency-shift-keying\r\n             call-transfer\r\n             subscriber-number 106"}]
[220,{"$f":"+IF(Data!$C$6>ROW(Brekeke!B221)-ROW(Brekeke!$B$215),\"\",\"#\")","v":"#"},{"$f":"+CONCATENATE(\"    interface fxs IF_FXS_\",'Extension Table'!C8,CHAR(13),CHAR(10),IF(Data!$C$42=\"(none)\",\"\",CONCATENATE(\"        caller-id-presentation \",Data!$C$42)),CHAR(13),CHAR(10),\"             route call dest-table RT_DIGITCOLLECTION\",CHAR(13),CHAR(10),\"             message-waiting-indication stutter-dial-tone\",CHAR(13),CHAR(10),\"             message-waiting-indication frequency-shift-keying\",CHAR(13),CHAR(10),\"             call-transfer\",CHAR(13),CHAR(10),\"             subscriber-number \",'Extension Table'!A8)","v":"    interface fxs IF_FXS_7\r\n        caller-id-presentation pre-ring\r\n             route call dest-table RT_DIGITCOLLECTION\r\n             message-waiting-indication stutter-dial-tone\r\n             message-waiting-indication frequency-shift-keying\r\n             call-transfer\r\n             subscriber-number 107"}]
[221,{"$f":"+IF(Data!$C$6>ROW(Brekeke!B222)-ROW(Brekeke!$B$215),\"\",\"#\")","v":"#"},{"$f":"+CONCATENATE(\"    interface fxs IF_FXS_\",'Extension Table'!C9,CHAR(13),CHAR(10),IF(Data!$C$42=\"(none)\",\"\",CONCATENATE(\"        caller-id-presentation \",Data!$C$42)),CHAR(13),CHAR(10),\"             route call dest-table RT_DIGITCOLLECTION\",CHAR(13),CHAR(10),\"             message-waiting-indication stutter-dial-tone\",CHAR(13),CHAR(10),\"             message-waiting-indication frequency-shift-keying\",CHAR(13),CHAR(10),\"             call-transfer\",CHAR(13),CHAR(10),\"             subscriber-number \",'Extension Table'!A9)","v":"    interface fxs IF_FXS_8\r\n        caller-id-presentation pre-ring\r\n             route call dest-table RT_DIGITCOLLECTION\r\n             message-waiting-indication stutter-dial-tone\r\n             message-waiting-indication frequency-shift-keying\r\n             call-transfer\r\n             subscriber-number 108"}]
[222,{"$f":"+IF(Data!$C$6>ROW(Brekeke!B223)-ROW(Brekeke!$B$215),\"\",\"#\")","v":"#"},{"$f":"+CONCATENATE(\"    interface fxs IF_FXS_\",'Extension Table'!C10,CHAR(13),CHAR(10),IF(Data!$C$42=\"(none)\",\"\",CONCATENATE(\"        caller-id-presentation \",Data!$C$42)),CHAR(13),CHAR(10),\"             route call dest-table RT_DIGITCOLLECTION\",CHAR(13),CHAR(10),\"             message-waiting-indication stutter-dial-tone\",CHAR(13),CHAR(10),\"             message-waiting-indication frequency-shift-keying\",CHAR(13),CHAR(10),\"             call-transfer\",CHAR(13),CHAR(10),\"             subscriber-number \",'Extension Table'!A10)","v":"    interface fxs IF_FXS_9\r\n        caller-id-presentation pre-ring\r\n             route call dest-table RT_DIGITCOLLECTION\r\n             message-waiting-indication stutter-dial-tone\r\n             message-waiting-indication frequency-shift-keying\r\n             call-transfer\r\n             subscriber-number 109"}]
[223,{"$f":"+IF(Data!$C$6>ROW(Brekeke!B224)-ROW(Brekeke!$B$215),\"\",\"#\")","v":"#"},{"$f":"+CONCATENATE(\"    interface fxs IF_FXS_\",'Extension Table'!C11,CHAR(13),CHAR(10),IF(Data!$C$42=\"(none)\",\"\",CONCATENATE(\"        caller-id-presentation \",Data!$C$42)),CHAR(13),CHAR(10),\"             route call dest-table RT_DIGITCOLLECTION\",CHAR(13),CHAR(10),\"             message-waiting-indication stutter-dial-tone\",CHAR(13),CHAR(10),\"             message-waiting-indication frequency-shift-keying\",CHAR(13),CHAR(10),\"             call-transfer\",CHAR(13),CHAR(10),\"             subscriber-number \",'Extension Table'!A11)","v":"    interface fxs IF_FXS_10\r\n        caller-id-presentation pre-ring\r\n             route call dest-table RT_DIGITCOLLECTION\r\n             message-waiting-indication stutter-dial-tone\r\n             message-waiting-indication frequency-shift-keying\r\n             call-transfer\r\n             subscriber-number 110"}]
[224,{"$f":"+IF(Data!$C$6>ROW(Brekeke!B225)-ROW(Brekeke!$B$215),\"\",\"#\")","v":"#"},{"$f":"+CONCATENATE(\"    interface fxs IF_FXS_\",'Extension Table'!C12,CHAR(13),CHAR(10),IF(Data!$C$42=\"(none)\",\"\",CONCATENATE(\"        caller-id-presentation \",Data!$C$42)),CHAR(13),CHAR(10),\"             route call dest-table RT_DIGITCOLLECTION\",CHAR(13),CHAR(10),\"             message-waiting-indication stutter-dial-tone\",CHAR(13),CHAR(10),\"             message-waiting-indication frequency-shift-keying\",CHAR(13),CHAR(10),\"             call-transfer\",CHAR(13),CHAR(10),\"             subscriber-number \",'Extension Table'!A12)","v":"    interface fxs IF_FXS_11\r\n        caller-id-presentation pre-ring\r\n             route call dest-table RT_DIGITCOLLECTION\r\n             message-waiting-indication stutter-dial-tone\r\n             message-waiting-indication frequency-shift-keying\r\n             call-transfer\r\n             subscriber-number 111"}]
[225,{"$f":"+IF(Data!$C$6>ROW(Brekeke!B226)-ROW(Brekeke!$B$215),\"\",\"#\")","v":"#"},{"$f":"+CONCATENATE(\"    interface fxs IF_FXS_\",'Extension Table'!C13,CHAR(13),CHAR(10),IF(Data!$C$42=\"(none)\",\"\",CONCATENATE(\"        caller-id-presentation \",Data!$C$42)),CHAR(13),CHAR(10),\"             route call dest-table RT_DIGITCOLLECTION\",CHAR(13),CHAR(10),\"             message-waiting-indication stutter-dial-tone\",CHAR(13),CHAR(10),\"             message-waiting-indication frequency-shift-keying\",CHAR(13),CHAR(10),\"             call-transfer\",CHAR(13),CHAR(10),\"             subscriber-number \",'Extension Table'!A13)","v":"    interface fxs IF_FXS_12\r\n        caller-id-presentation pre-ring\r\n             route call dest-table RT_DIGITCOLLECTION\r\n             message-waiting-indication stutter-dial-tone\r\n             message-waiting-indication frequency-shift-keying\r\n             call-transfer\r\n             subscriber-number 112"}]
[226,{"$f":"+IF(Data!$C$6>ROW(Brekeke!B227)-ROW(Brekeke!$B$215),\"\",\"#\")","v":"#"},{"$f":"+CONCATENATE(\"    interface fxs IF_FXS_\",'Extension Table'!C14,CHAR(13),CHAR(10),IF(Data!$C$42=\"(none)\",\"\",CONCATENATE(\"        caller-id-presentation \",Data!$C$42)),CHAR(13),CHAR(10),\"             route call dest-table RT_DIGITCOLLECTION\",CHAR(13),CHAR(10),\"             message-waiting-indication stutter-dial-tone\",CHAR(13),CHAR(10),\"             message-waiting-indication frequency-shift-keying\",CHAR(13),CHAR(10),\"             call-transfer\",CHAR(13),CHAR(10),\"             subscriber-number \",'Extension Table'!A14)","v":"    interface fxs IF_FXS_13\r\n        caller-id-presentation pre-ring\r\n             route call dest-table RT_DIGITCOLLECTION\r\n             message-waiting-indication stutter-dial-tone\r\n             message-waiting-indication frequency-shift-keying\r\n             call-transfer\r\n             subscriber-number 113"}]
[227,{"$f":"+IF(Data!$C$6>ROW(Brekeke!B228)-ROW(Brekeke!$B$215),\"\",\"#\")","v":"#"},{"$f":"+CONCATENATE(\"    interface fxs IF_FXS_\",'Extension Table'!C15,CHAR(13),CHAR(10),IF(Data!$C$42=\"(none)\",\"\",CONCATENATE(\"        caller-id-presentation \",Data!$C$42)),CHAR(13),CHAR(10),\"             route call dest-table RT_DIGITCOLLECTION\",CHAR(13),CHAR(10),\"             message-waiting-indication stutter-dial-tone\",CHAR(13),CHAR(10),\"             message-waiting-indication frequency-shift-keying\",CHAR(13),CHAR(10),\"             call-transfer\",CHAR(13),CHAR(10),\"             subscriber-number \",'Extension Table'!A15)","v":"    interface fxs IF_FXS_14\r\n        caller-id-presentation pre-ring\r\n             route call dest-table RT_DIGITCOLLECTION\r\n             message-waiting-indication stutter-dial-tone\r\n             message-waiting-indication frequency-shift-keying\r\n             call-transfer\r\n             subscriber-number 114"}]
[228,{"$f":"+IF(Data!$C$6>ROW(Brekeke!B229)-ROW(Brekeke!$B$215),\"\",\"#\")","v":"#"},{"$f":"+CONCATENATE(\"    interface fxs IF_FXS_\",'Extension Table'!C16,CHAR(13),CHAR(10),IF(Data!$C$42=\"(none)\",\"\",CONCATENATE(\"        caller-id-presentation \",Data!$C$42)),CHAR(13),CHAR(10),\"             route call dest-table RT_DIGITCOLLECTION\",CHAR(13),CHAR(10),\"             message-waiting-indication stutter-dial-tone\",CHAR(13),CHAR(10),\"             message-waiting-indication frequency-shift-keying\",CHAR(13),CHAR(10),\"             call-transfer\",CHAR(13),CHAR(10),\"             subscriber-number \",'Extension Table'!A16)","v":"    interface fxs IF_FXS_15\r\n        caller-id-presentation pre-ring\r\n             route call dest-table RT_DIGITCOLLECTION\r\n             message-waiting-indication stutter-dial-tone\r\n             message-waiting-indication frequency-shift-keying\r\n             call-transfer\r\n             subscriber-number 115"}]
[229,{"$f":"+IF(Data!$C$6>ROW(Brekeke!B230)-ROW(Brekeke!$B$215),\"\",\"#\")","v":"#"},{"$f":"+CONCATENATE(\"    interface fxs IF_FXS_\",'Extension Table'!C17,CHAR(13),CHAR(10),IF(Data!$C$42=\"(none)\",\"\",CONCATENATE(\"        caller-id-presentation \",Data!$C$42)),CHAR(13),CHAR(10),\"             route call dest-table RT_DIGITCOLLECTION\",CHAR(13),CHAR(10),\"             message-waiting-indication stutter-dial-tone\",CHAR(13),CHAR(10),\"             message-waiting-indication frequency-shift-keying\",CHAR(13),CHAR(10),\"             call-transfer\",CHAR(13),CHAR(10),\"             subscriber-number \",'Extension Table'!A17)","v":"    interface fxs IF_FXS_16\r\n        caller-id-presentation pre-ring\r\n             route call dest-table RT_DIGITCOLLECTION\r\n             message-waiting-indication stutter-dial-tone\r\n             message-waiting-indication frequency-shift-keying\r\n             call-transfer\r\n             subscriber-number 116"}]
[230,{"$f":"+IF(Data!$C$6>ROW(Brekeke!B231)-ROW(Brekeke!$B$215),\"\",\"#\")","v":"#"},{"$f":"+CONCATENATE(\"    interface fxs IF_FXS_\",'Extension Table'!C18,CHAR(13),CHAR(10),IF(Data!$C$42=\"(none)\",\"\",CONCATENATE(\"        caller-id-presentation \",Data!$C$42)),CHAR(13),CHAR(10),\"             route call dest-table RT_DIGITCOLLECTION\",CHAR(13),CHAR(10),\"             message-waiting-indication stutter-dial-tone\",CHAR(13),CHAR(10),\"             message-waiting-indication frequency-shift-keying\",CHAR(13),CHAR(10),\"             call-transfer\",CHAR(13),CHAR(10),\"             subscriber-number \",'Extension Table'!A18)","v":"    interface fxs IF_FXS_17\r\n        caller-id-presentation pre-ring\r\n             route call dest-table RT_DIGITCOLLECTION\r\n             message-waiting-indication stutter-dial-tone\r\n             message-waiting-indication frequency-shift-keying\r\n             call-transfer\r\n             subscriber-number 117"}]
[231,{"$f":"+IF(Data!$C$6>ROW(Brekeke!B232)-ROW(Brekeke!$B$215),\"\",\"#\")","v":"#"},{"$f":"+CONCATENATE(\"    interface fxs IF_FXS_\",'Extension Table'!C19,CHAR(13),CHAR(10),IF(Data!$C$42=\"(none)\",\"\",CONCATENATE(\"        caller-id-presentation \",Data!$C$42)),CHAR(13),CHAR(10),\"             route call dest-table RT_DIGITCOLLECTION\",CHAR(13),CHAR(10),\"             message-waiting-indication stutter-dial-tone\",CHAR(13),CHAR(10),\"             message-waiting-indication frequency-shift-keying\",CHAR(13),CHAR(10),\"             call-transfer\",CHAR(13),CHAR(10),\"             subscriber-number \",'Extension Table'!A19)","v":"    interface fxs IF_FXS_18\r\n        caller-id-presentation pre-ring\r\n             route call dest-table RT_DIGITCOLLECTION\r\n             message-waiting-indication stutter-dial-tone\r\n             message-waiting-indication frequency-shift-keying\r\n             call-transfer\r\n             subscriber-number 118"}]
[232,{"$f":"+IF(Data!$C$6>ROW(Brekeke!B233)-ROW(Brekeke!$B$215),\"\",\"#\")","v":"#"},{"$f":"+CONCATENATE(\"    interface fxs IF_FXS_\",'Extension Table'!C20,CHAR(13),CHAR(10),IF(Data!$C$42=\"(none)\",\"\",CONCATENATE(\"        caller-id-presentation \",Data!$C$42)),CHAR(13),CHAR(10),\"             route call dest-table RT_DIGITCOLLECTION\",CHAR(13),CHAR(10),\"             message-waiting-indication stutter-dial-tone\",CHAR(13),CHAR(10),\"             message-waiting-indication frequency-shift-keying\",CHAR(13),CHAR(10),\"             call-transfer\",CHAR(13),CHAR(10),\"             subscriber-number \",'Extension Table'!A20)","v":"    interface fxs IF_FXS_19\r\n        caller-id-presentation pre-ring\r\n             route call dest-table RT_DIGITCOLLECTION\r\n             message-waiting-indication stutter-dial-tone\r\n             message-waiting-indication frequency-shift-keying\r\n             call-transfer\r\n             subscriber-number 119"}]
[233,{"$f":"+IF(Data!$C$6>ROW(Brekeke!B234)-ROW(Brekeke!$B$215),\"\",\"#\")","v":"#"},{"$f":"+CONCATENATE(\"    interface fxs IF_FXS_\",'Extension Table'!C21,CHAR(13),CHAR(10),IF(Data!$C$42=\"(none)\",\"\",CONCATENATE(\"        caller-id-presentation \",Data!$C$42)),CHAR(13),CHAR(10),\"             route call dest-table RT_DIGITCOLLECTION\",CHAR(13),CHAR(10),\"             message-waiting-indication stutter-dial-tone\",CHAR(13),CHAR(10),\"             message-waiting-indication frequency-shift-keying\",CHAR(13),CHAR(10),\"             call-transfer\",CHAR(13),CHAR(10),\"             subscriber-number \",'Extension Table'!A21)","v":"    interface fxs IF_FXS_20\r\n        caller-id-presentation pre-ring\r\n             route call dest-table RT_DIGITCOLLECTION\r\n             message-waiting-indication stutter-dial-tone\r\n             message-waiting-indication frequency-shift-keying\r\n             call-transfer\r\n             subscriber-number 120"}]
[234,{"$f":"+IF(Data!$C$6>ROW(Brekeke!B235)-ROW(Brekeke!$B$215),\"\",\"#\")","v":"#"},{"$f":"+CONCATENATE(\"    interface fxs IF_FXS_\",'Extension Table'!C22,CHAR(13),CHAR(10),IF(Data!$C$42=\"(none)\",\"\",CONCATENATE(\"        caller-id-presentation \",Data!$C$42)),CHAR(13),CHAR(10),\"             route call dest-table RT_DIGITCOLLECTION\",CHAR(13),CHAR(10),\"             message-waiting-indication stutter-dial-tone\",CHAR(13),CHAR(10),\"             message-waiting-indication frequency-shift-keying\",CHAR(13),CHAR(10),\"             call-transfer\",CHAR(13),CHAR(10),\"             subscriber-number \",'Extension Table'!A22)","v":"    interface fxs IF_FXS_21\r\n        caller-id-presentation pre-ring\r\n             route call dest-table RT_DIGITCOLLECTION\r\n             message-waiting-indication stutter-dial-tone\r\n             message-waiting-indication frequency-shift-keying\r\n             call-transfer\r\n             subscriber-number 121"}]
[235,{"$f":"+IF(Data!$C$6>ROW(Brekeke!B236)-ROW(Brekeke!$B$215),\"\",\"#\")","v":"#"},{"$f":"+CONCATENATE(\"    interface fxs IF_FXS_\",'Extension Table'!C23,CHAR(13),CHAR(10),IF(Data!$C$42=\"(none)\",\"\",CONCATENATE(\"        caller-id-presentation \",Data!$C$42)),CHAR(13),CHAR(10),\"             route call dest-table RT_DIGITCOLLECTION\",CHAR(13),CHAR(10),\"             message-waiting-indication stutter-dial-tone\",CHAR(13),CHAR(10),\"             message-waiting-indication frequency-shift-keying\",CHAR(13),CHAR(10),\"             call-transfer\",CHAR(13),CHAR(10),\"             subscriber-number \",'Extension Table'!A23)","v":"    interface fxs IF_FXS_22\r\n        caller-id-presentation pre-ring\r\n             route call dest-table RT_DIGITCOLLECTION\r\n             message-waiting-indication stutter-dial-tone\r\n             message-waiting-indication frequency-shift-keying\r\n             call-transfer\r\n             subscriber-number 122"}]
[236,{"$f":"+IF(Data!$C$6>ROW(Brekeke!B237)-ROW(Brekeke!$B$215),\"\",\"#\")","v":"#"},{"$f":"+CONCATENATE(\"    interface fxs IF_FXS_\",'Extension Table'!C24,CHAR(13),CHAR(10),IF(Data!$C$42=\"(none)\",\"\",CONCATENATE(\"        caller-id-presentation \",Data!$C$42)),CHAR(13),CHAR(10),\"             route call dest-table RT_DIGITCOLLECTION\",CHAR(13),CHAR(10),\"             message-waiting-indication stutter-dial-tone\",CHAR(13),CHAR(10),\"             message-waiting-indication frequency-shift-keying\",CHAR(13),CHAR(10),\"             call-transfer\",CHAR(13),CHAR(10),\"             subscriber-number \",'Extension Table'!A24)","v":"    interface fxs IF_FXS_23\r\n        caller-id-presentation pre-ring\r\n             route call dest-table RT_DIGITCOLLECTION\r\n             message-waiting-indication stutter-dial-tone\r\n             message-waiting-indication frequency-shift-keying\r\n             call-transfer\r\n             subscriber-number 123"}]
[237,{"$f":"+IF(Data!$C$6>ROW(Brekeke!B238)-ROW(Brekeke!$B$215),\"\",\"#\")","v":"#"},{"$f":"+CONCATENATE(\"    interface fxs IF_FXS_\",'Extension Table'!C25,CHAR(13),CHAR(10),IF(Data!$C$42=\"(none)\",\"\",CONCATENATE(\"        caller-id-presentation \",Data!$C$42)),CHAR(13),CHAR(10),\"             route call dest-table RT_DIGITCOLLECTION\",CHAR(13),CHAR(10),\"             message-waiting-indication stutter-dial-tone\",CHAR(13),CHAR(10),\"             message-waiting-indication frequency-shift-keying\",CHAR(13),CHAR(10),\"             call-transfer\",CHAR(13),CHAR(10),\"             subscriber-number \",'Extension Table'!A25)","v":"    interface fxs IF_FXS_24\r\n        caller-id-presentation pre-ring\r\n             route call dest-table RT_DIGITCOLLECTION\r\n             message-waiting-indication stutter-dial-tone\r\n             message-waiting-indication frequency-shift-keying\r\n             call-transfer\r\n             subscriber-number 124"}]
[238,{"$f":"+IF(Data!$C$6>ROW(Brekeke!B239)-ROW(Brekeke!$B$215),\"\",\"#\")","v":"#"},{"$f":"+CONCATENATE(\"    interface fxs IF_FXS_\",'Extension Table'!C26,CHAR(13),CHAR(10),IF(Data!$C$42=\"(none)\",\"\",CONCATENATE(\"        caller-id-presentation \",Data!$C$42)),CHAR(13),CHAR(10),\"             route call dest-table RT_DIGITCOLLECTION\",CHAR(13),CHAR(10),\"             message-waiting-indication stutter-dial-tone\",CHAR(13),CHAR(10),\"             message-waiting-indication frequency-shift-keying\",CHAR(13),CHAR(10),\"             call-transfer\",CHAR(13),CHAR(10),\"             subscriber-number \",'Extension Table'!A26)","v":"    interface fxs IF_FXS_25\r\n        caller-id-presentation pre-ring\r\n             route call dest-table RT_DIGITCOLLECTION\r\n             message-waiting-indication stutter-dial-tone\r\n             message-waiting-indication frequency-shift-keying\r\n             call-transfer\r\n             subscriber-number 125"}]
[239,{"$f":"+IF(Data!$C$6>ROW(Brekeke!B240)-ROW(Brekeke!$B$215),\"\",\"#\")","v":"#"},{"$f":"+CONCATENATE(\"    interface fxs IF_FXS_\",'Extension Table'!C27,CHAR(13),CHAR(10),IF(Data!$C$42=\"(none)\",\"\",CONCATENATE(\"        caller-id-presentation \",Data!$C$42)),CHAR(13),CHAR(10),\"             route call dest-table RT_DIGITCOLLECTION\",CHAR(13),CHAR(10),\"             message-waiting-indication stutter-dial-tone\",CHAR(13),CHAR(10),\"             message-waiting-indication frequency-shift-keying\",CHAR(13),CHAR(10),\"             call-transfer\",CHAR(13),CHAR(10),\"             subscriber-number \",'Extension Table'!A27)","v":"    interface fxs IF_FXS_26\r\n        caller-id-presentation pre-ring\r\n             route call dest-table RT_DIGITCOLLECTION\r\n             message-waiting-indication stutter-dial-tone\r\n             message-waiting-indication frequency-shift-keying\r\n             call-transfer\r\n             subscriber-number 126"}]
[240,{"$f":"+IF(Data!$C$6>ROW(Brekeke!B241)-ROW(Brekeke!$B$215),\"\",\"#\")","v":"#"},{"$f":"+CONCATENATE(\"    interface fxs IF_FXS_\",'Extension Table'!C28,CHAR(13),CHAR(10),IF(Data!$C$42=\"(none)\",\"\",CONCATENATE(\"        caller-id-presentation \",Data!$C$42)),CHAR(13),CHAR(10),\"             route call dest-table RT_DIGITCOLLECTION\",CHAR(13),CHAR(10),\"             message-waiting-indication stutter-dial-tone\",CHAR(13),CHAR(10),\"             message-waiting-indication frequency-shift-keying\",CHAR(13),CHAR(10),\"             call-transfer\",CHAR(13),CHAR(10),\"             subscriber-number \",'Extension Table'!A28)","v":"    interface fxs IF_FXS_27\r\n        caller-id-presentation pre-ring\r\n             route call dest-table RT_DIGITCOLLECTION\r\n             message-waiting-indication stutter-dial-tone\r\n             message-waiting-indication frequency-shift-keying\r\n             call-transfer\r\n             subscriber-number 127"}]
[241,{"$f":"+IF(Data!$C$6>ROW(Brekeke!B242)-ROW(Brekeke!$B$215),\"\",\"#\")","v":"#"},{"$f":"+CONCATENATE(\"    interface fxs IF_FXS_\",'Extension Table'!C29,CHAR(13),CHAR(10),IF(Data!$C$42=\"(none)\",\"\",CONCATENATE(\"        caller-id-presentation \",Data!$C$42)),CHAR(13),CHAR(10),\"             route call dest-table RT_DIGITCOLLECTION\",CHAR(13),CHAR(10),\"             message-waiting-indication stutter-dial-tone\",CHAR(13),CHAR(10),\"             message-waiting-indication frequency-shift-keying\",CHAR(13),CHAR(10),\"             call-transfer\",CHAR(13),CHAR(10),\"             subscriber-number \",'Extension Table'!A29)","v":"    interface fxs IF_FXS_28\r\n        caller-id-presentation pre-ring\r\n             route call dest-table RT_DIGITCOLLECTION\r\n             message-waiting-indication stutter-dial-tone\r\n             message-waiting-indication frequency-shift-keying\r\n             call-transfer\r\n             subscriber-number 128"}]
[242,{"$f":"+IF(Data!$C$6>ROW(Brekeke!B243)-ROW(Brekeke!$B$215),\"\",\"#\")","v":"#"},{"$f":"+CONCATENATE(\"    interface fxs IF_FXS_\",'Extension Table'!C30,CHAR(13),CHAR(10),IF(Data!$C$42=\"(none)\",\"\",CONCATENATE(\"        caller-id-presentation \",Data!$C$42)),CHAR(13),CHAR(10),\"             route call dest-table RT_DIGITCOLLECTION\",CHAR(13),CHAR(10),\"             message-waiting-indication stutter-dial-tone\",CHAR(13),CHAR(10),\"             message-waiting-indication frequency-shift-keying\",CHAR(13),CHAR(10),\"             call-transfer\",CHAR(13),CHAR(10),\"             subscriber-number \",'Extension Table'!A30)","v":"    interface fxs IF_FXS_29\r\n        caller-id-presentation pre-ring\r\n             route call dest-table RT_DIGITCOLLECTION\r\n             message-waiting-indication stutter-dial-tone\r\n             message-waiting-indication frequency-shift-keying\r\n             call-transfer\r\n             subscriber-number 129"}]
[243,{"$f":"+IF(Data!$C$6>ROW(Brekeke!B244)-ROW(Brekeke!$B$215),\"\",\"#\")","v":"#"},{"$f":"+CONCATENATE(\"    interface fxs IF_FXS_\",'Extension Table'!C31,CHAR(13),CHAR(10),IF(Data!$C$42=\"(none)\",\"\",CONCATENATE(\"        caller-id-presentation \",Data!$C$42)),CHAR(13),CHAR(10),\"             route call dest-table RT_DIGITCOLLECTION\",CHAR(13),CHAR(10),\"             message-waiting-indication stutter-dial-tone\",CHAR(13),CHAR(10),\"             message-waiting-indication frequency-shift-keying\",CHAR(13),CHAR(10),\"             call-transfer\",CHAR(13),CHAR(10),\"             subscriber-number \",'Extension Table'!A31)","v":"    interface fxs IF_FXS_30\r\n        caller-id-presentation pre-ring\r\n             route call dest-table RT_DIGITCOLLECTION\r\n             message-waiting-indication stutter-dial-tone\r\n             message-waiting-indication frequency-shift-keying\r\n             call-transfer\r\n             subscriber-number 130"}]
[244,{"$f":"+IF(Data!$C$6>ROW(Brekeke!B245)-ROW(Brekeke!$B$215),\"\",\"#\")","v":"#"},{"$f":"+CONCATENATE(\"    interface fxs IF_FXS_\",'Extension Table'!C32,CHAR(13),CHAR(10),IF(Data!$C$42=\"(none)\",\"\",CONCATENATE(\"        caller-id-presentation \",Data!$C$42)),CHAR(13),CHAR(10),\"             route call dest-table RT_DIGITCOLLECTION\",CHAR(13),CHAR(10),\"             message-waiting-indication stutter-dial-tone\",CHAR(13),CHAR(10),\"             message-waiting-indication frequency-shift-keying\",CHAR(13),CHAR(10),\"             call-transfer\",CHAR(13),CHAR(10),\"             subscriber-number \",'Extension Table'!A32)","v":"    interface fxs IF_FXS_31\r\n        caller-id-presentation pre-ring\r\n             route call dest-table RT_DIGITCOLLECTION\r\n             message-waiting-indication stutter-dial-tone\r\n             message-waiting-indication frequency-shift-keying\r\n             call-transfer\r\n             subscriber-number 131"}]
[245,{"$f":"+IF(Data!$C$6>ROW(Brekeke!B246)-ROW(Brekeke!$B$215),\"\",\"#\")","v":"#"},{"$f":"+CONCATENATE(\"    interface fxs IF_FXS_\",'Extension Table'!C33,CHAR(13),CHAR(10),IF(Data!$C$42=\"(none)\",\"\",CONCATENATE(\"        caller-id-presentation \",Data!$C$42)),CHAR(13),CHAR(10),\"             route call dest-table RT_DIGITCOLLECTION\",CHAR(13),CHAR(10),\"             message-waiting-indication stutter-dial-tone\",CHAR(13),CHAR(10),\"             message-waiting-indication frequency-shift-keying\",CHAR(13),CHAR(10),\"             call-transfer\",CHAR(13),CHAR(10),\"             subscriber-number \",'Extension Table'!A33)","v":"    interface fxs IF_FXS_32\r\n        caller-id-presentation pre-ring\r\n             route call dest-table RT_DIGITCOLLECTION\r\n             message-waiting-indication stutter-dial-tone\r\n             message-waiting-indication frequency-shift-keying\r\n             call-transfer\r\n             subscriber-number 132"}]
[246,null,"                "]
[247,null,"context cs switch"]
[248,null,"  no shutdown"]
[249]
[250,{"$f":"+IF(Data!$C$6>0,\" \",\"#\")","v":"#"},"authentication-service AS_ALL_EXTENSIONS"]
[251,{"$f":"+IF(Data!$C$6>0,\" \",\"#\")","v":"#"},null,"Revisar si hace falta para 3CX"]
[252,{"$f":"+IF(Data!$C$6>ROW(Brekeke!B253)-ROW(Brekeke!$B$253),\"\",\"#\")","v":"#"},{"$f":"+CONCATENATE(\"      username \",'Extension Table'!F2,\" password \",'Extension Table'!G2)","v":"      username 101 password 101"}]
[253,{"$f":"+IF(Data!$C$6>ROW(Brekeke!B254)-ROW(Brekeke!$B$253),\"\",\"#\")","v":"#"},{"$f":"+CONCATENATE(\"      username \",'Extension Table'!F3,\" password \",'Extension Table'!G3)","v":"      username 102 password 102"}]
[254,{"$f":"+IF(Data!$C$6>ROW(Brekeke!B255)-ROW(Brekeke!$B$253),\"\",\"#\")","v":"#"},{"$f":"+CONCATENATE(\"      username \",'Extension Table'!F4,\" password \",'Extension Table'!G4)","v":"      username 103 password 103"}]
[255,{"$f":"+IF(Data!$C$6>ROW(Brekeke!B256)-ROW(Brekeke!$B$253),\"\",\"#\")","v":"#"},{"$f":"+CONCATENATE(\"      username \",'Extension Table'!F5,\" password \",'Extension Table'!G5)","v":"      username 104 password 104"}]
[256,{"$f":"+IF(Data!$C$6>ROW(Brekeke!B257)-ROW(Brekeke!$B$253),\"\",\"#\")","v":"#"},{"$f":"+CONCATENATE(\"      username \",'Extension Table'!F6,\" password \",'Extension Table'!G6)","v":"      username 105 password 105"}]
[257,{"$f":"+IF(Data!$C$6>ROW(Brekeke!B258)-ROW(Brekeke!$B$253),\"\",\"#\")","v":"#"},{"$f":"+CONCATENATE(\"      username \",'Extension Table'!F7,\" password \",'Extension Table'!G7)","v":"      username 106 password 106"}]
[258,{"$f":"+IF(Data!$C$6>ROW(Brekeke!B259)-ROW(Brekeke!$B$253),\"\",\"#\")","v":"#"},{"$f":"+CONCATENATE(\"      username \",'Extension Table'!F8,\" password \",'Extension Table'!G8)","v":"      username 107 password 107"}]
[259,{"$f":"+IF(Data!$C$6>ROW(Brekeke!B260)-ROW(Brekeke!$B$253),\"\",\"#\")","v":"#"},{"$f":"+CONCATENATE(\"      username \",'Extension Table'!F9,\" password \",'Extension Table'!G9)","v":"      username 108 password 108"}]
[260,{"$f":"+IF(Data!$C$6>ROW(Brekeke!B261)-ROW(Brekeke!$B$253),\"\",\"#\")","v":"#"},{"$f":"+CONCATENATE(\"      username \",'Extension Table'!F10,\" password \",'Extension Table'!G10)","v":"      username 109 password 109"}]
[261,{"$f":"+IF(Data!$C$6>ROW(Brekeke!B262)-ROW(Brekeke!$B$253),\"\",\"#\")","v":"#"},{"$f":"+CONCATENATE(\"      username \",'Extension Table'!F11,\" password \",'Extension Table'!G11)","v":"      username 110 password 110"}]
[262,{"$f":"+IF(Data!$C$6>ROW(Brekeke!B263)-ROW(Brekeke!$B$253),\"\",\"#\")","v":"#"},{"$f":"+CONCATENATE(\"      username \",'Extension Table'!F12,\" password \",'Extension Table'!G12)","v":"      username 111 password 111"}]
[263,{"$f":"+IF(Data!$C$6>ROW(Brekeke!B264)-ROW(Brekeke!$B$253),\"\",\"#\")","v":"#"},{"$f":"+CONCATENATE(\"      username \",'Extension Table'!F13,\" password \",'Extension Table'!G13)","v":"      username 112 password 112"}]
[264,{"$f":"+IF(Data!$C$6>ROW(Brekeke!B265)-ROW(Brekeke!$B$253),\"\",\"#\")","v":"#"},{"$f":"+CONCATENATE(\"      username \",'Extension Table'!F14,\" password \",'Extension Table'!G14)","v":"      username 113 password 113"}]
[265,{"$f":"+IF(Data!$C$6>ROW(Brekeke!B266)-ROW(Brekeke!$B$253),\"\",\"#\")","v":"#"},{"$f":"+CONCATENATE(\"      username \",'Extension Table'!F15,\" password \",'Extension Table'!G15)","v":"      username 114 password 114"}]
[266,{"$f":"+IF(Data!$C$6>ROW(Brekeke!B267)-ROW(Brekeke!$B$253),\"\",\"#\")","v":"#"},{"$f":"+CONCATENATE(\"      username \",'Extension Table'!F16,\" password \",'Extension Table'!G16)","v":"      username 115 password 115"}]
[267,{"$f":"+IF(Data!$C$6>ROW(Brekeke!B268)-ROW(Brekeke!$B$253),\"\",\"#\")","v":"#"},{"$f":"+CONCATENATE(\"      username \",'Extension Table'!F17,\" password \",'Extension Table'!G17)","v":"      username 116 password 116"}]
[268,{"$f":"+IF(Data!$C$6>ROW(Brekeke!B269)-ROW(Brekeke!$B$253),\"\",\"#\")","v":"#"},{"$f":"+CONCATENATE(\"      username \",'Extension Table'!F18,\" password \",'Extension Table'!G18)","v":"      username 117 password 117"}]
[269,{"$f":"+IF(Data!$C$6>ROW(Brekeke!B270)-ROW(Brekeke!$B$253),\"\",\"#\")","v":"#"},{"$f":"+CONCATENATE(\"      username \",'Extension Table'!F19,\" password \",'Extension Table'!G19)","v":"      username 118 password 118"}]
[270,{"$f":"+IF(Data!$C$6>ROW(Brekeke!B271)-ROW(Brekeke!$B$253),\"\",\"#\")","v":"#"},{"$f":"+CONCATENATE(\"      username \",'Extension Table'!F20,\" password \",'Extension Table'!G20)","v":"      username 119 password 119"}]
[271,{"$f":"+IF(Data!$C$6>ROW(Brekeke!B272)-ROW(Brekeke!$B$253),\"\",\"#\")","v":"#"},{"$f":"+CONCATENATE(\"      username \",'Extension Table'!F21,\" password \",'Extension Table'!G21)","v":"      username 120 password 120"}]
[272,{"$f":"+IF(Data!$C$6>ROW(Brekeke!B273)-ROW(Brekeke!$B$253),\"\",\"#\")","v":"#"},{"$f":"+CONCATENATE(\"      username \",'Extension Table'!F22,\" password \",'Extension Table'!G22)","v":"      username 121 password 121"}]
[273,{"$f":"+IF(Data!$C$6>ROW(Brekeke!B274)-ROW(Brekeke!$B$253),\"\",\"#\")","v":"#"},{"$f":"+CONCATENATE(\"      username \",'Extension Table'!F23,\" password \",'Extension Table'!G23)","v":"      username 122 password 122"}]
[274,{"$f":"+IF(Data!$C$6>ROW(Brekeke!B275)-ROW(Brekeke!$B$253),\"\",\"#\")","v":"#"},{"$f":"+CONCATENATE(\"      username \",'Extension Table'!F24,\" password \",'Extension Table'!G24)","v":"      username 123 password 123"}]
[275,{"$f":"+IF(Data!$C$6>ROW(Brekeke!B276)-ROW(Brekeke!$B$253),\"\",\"#\")","v":"#"},{"$f":"+CONCATENATE(\"      username \",'Extension Table'!F25,\" password \",'Extension Table'!G25)","v":"      username 124 password 124"}]
[276,{"$f":"+IF(Data!$C$6>ROW(Brekeke!B277)-ROW(Brekeke!$B$253),\"\",\"#\")","v":"#"},{"$f":"+CONCATENATE(\"      username \",'Extension Table'!F26,\" password \",'Extension Table'!G26)","v":"      username 125 password 125"}]
[277,{"$f":"+IF(Data!$C$6>ROW(Brekeke!B278)-ROW(Brekeke!$B$253),\"\",\"#\")","v":"#"},{"$f":"+CONCATENATE(\"      username \",'Extension Table'!F27,\" password \",'Extension Table'!G27)","v":"      username 126 password 126"}]
[278,{"$f":"+IF(Data!$C$6>ROW(Brekeke!B279)-ROW(Brekeke!$B$253),\"\",\"#\")","v":"#"},{"$f":"+CONCATENATE(\"      username \",'Extension Table'!F28,\" password \",'Extension Table'!G28)","v":"      username 127 password 127"}]
[279,{"$f":"+IF(Data!$C$6>ROW(Brekeke!B280)-ROW(Brekeke!$B$253),\"\",\"#\")","v":"#"},{"$f":"+CONCATENATE(\"      username \",'Extension Table'!F29,\" password \",'Extension Table'!G29)","v":"      username 128 password 128"}]
[280,{"$f":"+IF(Data!$C$6>ROW(Brekeke!B281)-ROW(Brekeke!$B$253),\"\",\"#\")","v":"#"},{"$f":"+CONCATENATE(\"      username \",'Extension Table'!F30,\" password \",'Extension Table'!G30)","v":"      username 129 password 129"}]
[281,{"$f":"+IF(Data!$C$6>ROW(Brekeke!B282)-ROW(Brekeke!$B$253),\"\",\"#\")","v":"#"},{"$f":"+CONCATENATE(\"      username \",'Extension Table'!F31,\" password \",'Extension Table'!G31)","v":"      username 130 password 130"}]
[282,{"$f":"+IF(Data!$C$6>ROW(Brekeke!B283)-ROW(Brekeke!$B$253),\"\",\"#\")","v":"#"},{"$f":"+CONCATENATE(\"      username \",'Extension Table'!F32,\" password \",'Extension Table'!G32)","v":"      username 131 password 131"}]
[283,{"$f":"+IF(Data!$C$6>ROW(Brekeke!B284)-ROW(Brekeke!$B$253),\"\",\"#\")","v":"#"},{"$f":"+CONCATENATE(\"      username \",'Extension Table'!F33,\" password \",'Extension Table'!G33)","v":"      username 132 password 132"}]
[284,null,"  "]
[285,{"$f":"+IF(Data!$C$5>0,\" \",\"#\")","v":" "},"authentication-service AS_ALL_LINES"]
[286,{"$f":"+IF(Data!$C$5>0,\" \",\"#\")","v":" "},{"$f":"IF(Data!B80<>\"3CX\",\" \",+CONCATENATE(\"   realm 1 \",Data!C26))","v":" "},"Revisar si hace falta para 3CX"]
[287]
[288,{"$f":"+IF(Data!$C$5>ROW(Brekeke!B289)-ROW(Brekeke!$B$289),\"\",\"#\")","v":""},{"$f":"+CONCATENATE(\"      username \",'Line Table'!E2,\" password \",'Line Table'!F2)","v":"      username 10002 password 10002"}]
[289,{"$f":"+IF(Data!$C$5>ROW(Brekeke!B290)-ROW(Brekeke!$B$289),\"\",\"#\")","v":""},{"$f":"+CONCATENATE(\"      username \",'Line Table'!E3,\" password \",'Line Table'!F3)","v":"      username 10003 password 10003"}]
[290,{"$f":"+IF(Data!$C$5>ROW(Brekeke!B291)-ROW(Brekeke!$B$289),\"\",\"#\")","v":""},{"$f":"+CONCATENATE(\"      username \",'Line Table'!E4,\" password \",'Line Table'!F4)","v":"      username 10004 password 10004"}]
[291,{"$f":"+IF(Data!$C$5>ROW(Brekeke!B292)-ROW(Brekeke!$B$289),\"\",\"#\")","v":""},{"$f":"+CONCATENATE(\"      username \",'Line Table'!E5,\" password \",'Line Table'!F5)","v":"      username 10005 password 10005"}]
[292,{"$f":"+IF(Data!$C$5>ROW(Brekeke!B293)-ROW(Brekeke!$B$289),\"\",\"#\")","v":""},{"$f":"+CONCATENATE(\"      username \",'Line Table'!E6,\" password \",'Line Table'!F6)","v":"      username 10006 password 10006"}]
[293,{"$f":"+IF(Data!$C$5>ROW(Brekeke!B294)-ROW(Brekeke!$B$289),\"\",\"#\")","v":""},{"$f":"+CONCATENATE(\"      username \",'Line Table'!E7,\" password \",'Line Table'!F7)","v":"      username 10007 password 10007"}]
[294,{"$f":"+IF(Data!$C$5>ROW(Brekeke!B295)-ROW(Brekeke!$B$289),\"\",\"#\")","v":""},{"$f":"+CONCATENATE(\"      username \",'Line Table'!E8,\" password \",'Line Table'!F8)","v":"      username 10008 password 10008"}]
[295,{"$f":"+IF(Data!$C$5>ROW(Brekeke!B296)-ROW(Brekeke!$B$289),\"\",\"#\")","v":""},{"$f":"+CONCATENATE(\"      username \",'Line Table'!E9,\" password \",'Line Table'!F9)","v":"      username 10009 password 10009"}]
[296,{"$f":"+IF(Data!$C$5>ROW(Brekeke!B297)-ROW(Brekeke!$B$289),\"\",\"#\")","v":""},{"$f":"+CONCATENATE(\"      username \",'Line Table'!E10,\" password \",'Line Table'!F10)","v":"      username 10010 password 10010"}]
[297,{"$f":"+IF(Data!$C$5>ROW(Brekeke!B298)-ROW(Brekeke!$B$289),\"\",\"#\")","v":""},{"$f":"+CONCATENATE(\"      username \",'Line Table'!E11,\" password \",'Line Table'!F11)","v":"      username 10011 password 10011"}]
[298,{"$f":"+IF(Data!$C$5>ROW(Brekeke!B299)-ROW(Brekeke!$B$289),\"\",\"#\")","v":""},{"$f":"+CONCATENATE(\"      username \",'Line Table'!E12,\" password \",'Line Table'!F12)","v":"      username 10012 password 10012"}]
[299,{"$f":"+IF(Data!$C$5>ROW(Brekeke!B300)-ROW(Brekeke!$B$289),\"\",\"#\")","v":""},{"$f":"+CONCATENATE(\"      username \",'Line Table'!E13,\" password \",'Line Table'!F13)","v":"      username 10013 password 10013"}]
[300,{"$f":"+IF(Data!$C$5>ROW(Brekeke!B301)-ROW(Brekeke!$B$289),\"\",\"#\")","v":"#"},{"$f":"+CONCATENATE(\"      username \",'Line Table'!E14,\" password \",'Line Table'!F14)","v":"      username 10014 password 10014"}]
[301,{"$f":"+IF(Data!$C$5>ROW(Brekeke!B302)-ROW(Brekeke!$B$289),\"\",\"#\")","v":"#"},{"$f":"+CONCATENATE(\"      username \",'Line Table'!E15,\" password \",'Line Table'!F15)","v":"      username 10015 password 10015"}]
[302,{"$f":"+IF(Data!$C$5>ROW(Brekeke!B303)-ROW(Brekeke!$B$289),\"\",\"#\")","v":"#"},{"$f":"+CONCATENATE(\"      username \",'Line Table'!E16,\" password \",'Line Table'!F16)","v":"      username 10016 password 10016"}]
[303,{"$f":"+IF(Data!$C$5>ROW(Brekeke!B304)-ROW(Brekeke!$B$289),\"\",\"#\")","v":"#"},{"$f":"+CONCATENATE(\"      username \",'Line Table'!E17,\" password \",'Line Table'!F17)","v":"      username 10017 password 10017"}]
[304,{"$f":"+IF(Data!$C$5>ROW(Brekeke!B305)-ROW(Brekeke!$B$289),\"\",\"#\")","v":"#"},{"$f":"+CONCATENATE(\"      username \",'Line Table'!E18,\" password \",'Line Table'!F18)","v":"      username 10018 password 10018"}]
[305,{"$f":"+IF(Data!$C$5>ROW(Brekeke!B306)-ROW(Brekeke!$B$289),\"\",\"#\")","v":"#"},{"$f":"+CONCATENATE(\"      username \",'Line Table'!E19,\" password \",'Line Table'!F19)","v":"      username 10019 password 10019"}]
[306,{"$f":"+IF(Data!$C$5>ROW(Brekeke!B307)-ROW(Brekeke!$B$289),\"\",\"#\")","v":"#"},{"$f":"+CONCATENATE(\"      username \",'Line Table'!E20,\" password \",'Line Table'!F20)","v":"      username 10020 password 10020"}]
[307,{"$f":"+IF(Data!$C$5>ROW(Brekeke!B308)-ROW(Brekeke!$B$289),\"\",\"#\")","v":"#"},{"$f":"+CONCATENATE(\"      username \",'Line Table'!E21,\" password \",'Line Table'!F21)","v":"      username 10021 password 10021"}]
[308,{"$f":"+IF(Data!$C$5>ROW(Brekeke!B309)-ROW(Brekeke!$B$289),\"\",\"#\")","v":"#"},{"$f":"+CONCATENATE(\"      username \",'Line Table'!E22,\" password \",'Line Table'!F22)","v":"      username 10022 password 10022"}]
[309,{"$f":"+IF(Data!$C$5>ROW(Brekeke!B310)-ROW(Brekeke!$B$289),\"\",\"#\")","v":"#"},{"$f":"+CONCATENATE(\"      username \",'Line Table'!E23,\" password \",'Line Table'!F23)","v":"      username 10023 password 10023"}]
[310,{"$f":"+IF(Data!$C$5>ROW(Brekeke!B311)-ROW(Brekeke!$B$289),\"\",\"#\")","v":"#"},{"$f":"+CONCATENATE(\"      username \",'Line Table'!E24,\" password \",'Line Table'!F24)","v":"      username 10024 password 10024"}]
[311,{"$f":"+IF(Data!$C$5>ROW(Brekeke!B312)-ROW(Brekeke!$B$289),\"\",\"#\")","v":"#"},{"$f":"+CONCATENATE(\"      username \",'Line Table'!E25,\" password \",'Line Table'!F25)","v":"      username 10025 password 10025"}]
[312,{"$f":"+IF(Data!$C$5>ROW(Brekeke!B313)-ROW(Brekeke!$B$289),\"\",\"#\")","v":"#"},{"$f":"+CONCATENATE(\"      username \",'Line Table'!E26,\" password \",'Line Table'!F26)","v":"      username 10026 password 10026"}]
[313,{"$f":"+IF(Data!$C$5>ROW(Brekeke!B314)-ROW(Brekeke!$B$289),\"\",\"#\")","v":"#"},{"$f":"+CONCATENATE(\"      username \",'Line Table'!E27,\" password \",'Line Table'!F27)","v":"      username 10027 password 10027"}]
[314,{"$f":"+IF(Data!$C$5>ROW(Brekeke!B315)-ROW(Brekeke!$B$289),\"\",\"#\")","v":"#"},{"$f":"+CONCATENATE(\"      username \",'Line Table'!E28,\" password \",'Line Table'!F28)","v":"      username 10028 password 10028"}]
[315,{"$f":"+IF(Data!$C$5>ROW(Brekeke!B316)-ROW(Brekeke!$B$289),\"\",\"#\")","v":"#"},{"$f":"+CONCATENATE(\"      username \",'Line Table'!E29,\" password \",'Line Table'!F29)","v":"      username 10029 password 10029"}]
[316,{"$f":"+IF(Data!$C$5>ROW(Brekeke!B317)-ROW(Brekeke!$B$289),\"\",\"#\")","v":"#"},{"$f":"+CONCATENATE(\"      username \",'Line Table'!E30,\" password \",'Line Table'!F30)","v":"      username 10030 password 10030"}]
[317,{"$f":"+IF(Data!$C$5>ROW(Brekeke!B318)-ROW(Brekeke!$B$289),\"\",\"#\")","v":"#"},{"$f":"+CONCATENATE(\"      username \",'Line Table'!E31,\" password \",'Line Table'!F31)","v":"      username 10031 password 10031"}]
[318,{"$f":"+IF(Data!$C$5>ROW(Brekeke!B319)-ROW(Brekeke!$B$289),\"\",\"#\")","v":"#"},{"$f":"+CONCATENATE(\"      username \",'Line Table'!E32,\" password \",'Line Table'!F32)","v":"      username 10032 password 10032"}]
[319,{"$f":"+IF(Data!$C$5>ROW(Brekeke!B320)-ROW(Brekeke!$B$289),\"\",\"#\")","v":"#"},{"$f":"+CONCATENATE(\"      username \",'Line Table'!E33,\" password \",'Line Table'!F33)","v":"      username 10033 password 10033"}]
[320]
[321,{"$f":"+IF(Data!$C$6>0,\" \",\"#\")","v":"#"},"location-service LS_ALL_EXTENSIONS"]
[322,{"$f":"+IF(Data!$C$6>0,\" \",\"#\")","v":"#"},{"$f":"+CONCATENATE(\"     domain 1 \",Data!C24,\" \",Data!C25)","v":"     domain 1 10.10.50.23 5060"}]
[323,null,"     identity-group default"]
[324,{"$f":"+IF(Data!$C$6>ROW(Brekeke!B325)-ROW(Brekeke!$B$325),\"\",\"#\")","v":"#"},{"$f":"+CONCATENATE(\"     identity \",'Extension Table'!A2,CHAR(13),CHAR(10),,\"          authentication outbound\",CHAR(13),CHAR(10),,\"              authenticate 1 authentication-service AS_ALL_EXTENSIONS username \",'Extension Table'!F2,CHAR(13),CHAR(10),\"          registration outbound\",CHAR(13),CHAR(10),\"             registrar \",Data!$C$24,\" \",Data!$C$25,CHAR(13),CHAR(10),\"             lifetime 300\",CHAR(13),CHAR(10),\"             register auto\",CHAR(13),CHAR(10),\"             retry-timeout on-system-error 10\",CHAR(13),CHAR(10),\"             retry-timeout on-client-error 10\",CHAR(13),CHAR(10),\"             retry-timeout on-server-error 10\")","v":"     identity 101\r\n          authentication outbound\r\n              authenticate 1 authentication-service AS_ALL_EXTENSIONS username 101\r\n          registration outbound\r\n             registrar 10.10.50.23 5060\r\n             lifetime 300\r\n             register auto\r\n             retry-timeout on-system-error 10\r\n             retry-timeout on-client-error 10\r\n             retry-timeout on-server-error 10"}]
[325,{"$f":"+IF(Data!$C$6>ROW(Brekeke!B326)-ROW(Brekeke!$B$325),\"\",\"#\")","v":"#"},{"$f":"+CONCATENATE(\"     identity \",'Extension Table'!A3,CHAR(13),CHAR(10),,\"          authentication outbound\",CHAR(13),CHAR(10),,\"              authenticate 1 authentication-service AS_ALL_EXTENSIONS username \",'Extension Table'!F3,CHAR(13),CHAR(10),\"          registration outbound\",CHAR(13),CHAR(10),\"             registrar \",Data!$C$24,\" \",Data!$C$25,CHAR(13),CHAR(10),\"             lifetime 300\",CHAR(13),CHAR(10),\"             register auto\",CHAR(13),CHAR(10),\"             retry-timeout on-system-error 10\",CHAR(13),CHAR(10),\"             retry-timeout on-client-error 10\",CHAR(13),CHAR(10),\"             retry-timeout on-server-error 10\")","v":"     identity 102\r\n          authentication outbound\r\n              authenticate 1 authentication-service AS_ALL_EXTENSIONS username 102\r\n          registration outbound\r\n             registrar 10.10.50.23 5060\r\n             lifetime 300\r\n             register auto\r\n             retry-timeout on-system-error 10\r\n             retry-timeout on-client-error 10\r\n             retry-timeout on-server-error 10"}]
[326,{"$f":"+IF(Data!$C$6>ROW(Brekeke!B327)-ROW(Brekeke!$B$325),\"\",\"#\")","v":"#"},{"$f":"+CONCATENATE(\"     identity \",'Extension Table'!A4,CHAR(13),CHAR(10),,\"          authentication outbound\",CHAR(13),CHAR(10),,\"              authenticate 1 authentication-service AS_ALL_EXTENSIONS username \",'Extension Table'!F4,CHAR(13),CHAR(10),\"          registration outbound\",CHAR(13),CHAR(10),\"             registrar \",Data!$C$24,\" \",Data!$C$25,CHAR(13),CHAR(10),\"             lifetime 300\",CHAR(13),CHAR(10),\"             register auto\",CHAR(13),CHAR(10),\"             retry-timeout on-system-error 10\",CHAR(13),CHAR(10),\"             retry-timeout on-client-error 10\",CHAR(13),CHAR(10),\"             retry-timeout on-server-error 10\")","v":"     identity 103\r\n          authentication outbound\r\n              authenticate 1 authentication-service AS_ALL_EXTENSIONS username 103\r\n          registration outbound\r\n             registrar 10.10.50.23 5060\r\n             lifetime 300\r\n             register auto\r\n             retry-timeout on-system-error 10\r\n             retry-timeout on-client-error 10\r\n             retry-timeout on-server-error 10"}]
[327,{"$f":"+IF(Data!$C$6>ROW(Brekeke!B328)-ROW(Brekeke!$B$325),\"\",\"#\")","v":"#"},{"$f":"+CONCATENATE(\"     identity \",'Extension Table'!A5,CHAR(13),CHAR(10),,\"          authentication outbound\",CHAR(13),CHAR(10),,\"              authenticate 1 authentication-service AS_ALL_EXTENSIONS username \",'Extension Table'!F5,CHAR(13),CHAR(10),\"          registration outbound\",CHAR(13),CHAR(10),\"             registrar \",Data!$C$24,\" \",Data!$C$25,CHAR(13),CHAR(10),\"             lifetime 300\",CHAR(13),CHAR(10),\"             register auto\",CHAR(13),CHAR(10),\"             retry-timeout on-system-error 10\",CHAR(13),CHAR(10),\"             retry-timeout on-client-error 10\",CHAR(13),CHAR(10),\"             retry-timeout on-server-error 10\")","v":"     identity 104\r\n          authentication outbound\r\n              authenticate 1 authentication-service AS_ALL_EXTENSIONS username 104\r\n          registration outbound\r\n             registrar 10.10.50.23 5060\r\n             lifetime 300\r\n             register auto\r\n             retry-timeout on-system-error 10\r\n             retry-timeout on-client-error 10\r\n             retry-timeout on-server-error 10"}]
[328,{"$f":"+IF(Data!$C$6>ROW(Brekeke!B329)-ROW(Brekeke!$B$325),\"\",\"#\")","v":"#"},{"$f":"+CONCATENATE(\"     identity \",'Extension Table'!A6,CHAR(13),CHAR(10),,\"          authentication outbound\",CHAR(13),CHAR(10),,\"              authenticate 1 authentication-service AS_ALL_EXTENSIONS username \",'Extension Table'!F6,CHAR(13),CHAR(10),\"          registration outbound\",CHAR(13),CHAR(10),\"             registrar \",Data!$C$24,\" \",Data!$C$25,CHAR(13),CHAR(10),\"             lifetime 300\",CHAR(13),CHAR(10),\"             register auto\",CHAR(13),CHAR(10),\"             retry-timeout on-system-error 10\",CHAR(13),CHAR(10),\"             retry-timeout on-client-error 10\",CHAR(13),CHAR(10),\"             retry-timeout on-server-error 10\")","v":"     identity 105\r\n          authentication outbound\r\n              authenticate 1 authentication-service AS_ALL_EXTENSIONS username 105\r\n          registration outbound\r\n             registrar 10.10.50.23 5060\r\n             lifetime 300\r\n             register auto\r\n             retry-timeout on-system-error 10\r\n             retry-timeout on-client-error 10\r\n             retry-timeout on-server-error 10"}]
[329,{"$f":"+IF(Data!$C$6>ROW(Brekeke!B330)-ROW(Brekeke!$B$325),\"\",\"#\")","v":"#"},{"$f":"+CONCATENATE(\"     identity \",'Extension Table'!A7,CHAR(13),CHAR(10),,\"          authentication outbound\",CHAR(13),CHAR(10),,\"              authenticate 1 authentication-service AS_ALL_EXTENSIONS username \",'Extension Table'!F7,CHAR(13),CHAR(10),\"          registration outbound\",CHAR(13),CHAR(10),\"             registrar \",Data!$C$24,\" \",Data!$C$25,CHAR(13),CHAR(10),\"             lifetime 300\",CHAR(13),CHAR(10),\"             register auto\",CHAR(13),CHAR(10),\"             retry-timeout on-system-error 10\",CHAR(13),CHAR(10),\"             retry-timeout on-client-error 10\",CHAR(13),CHAR(10),\"             retry-timeout on-server-error 10\")","v":"     identity 106\r\n          authentication outbound\r\n              authenticate 1 authentication-service AS_ALL_EXTENSIONS username 106\r\n          registration outbound\r\n             registrar 10.10.50.23 5060\r\n             lifetime 300\r\n             register auto\r\n             retry-timeout on-system-error 10\r\n             retry-timeout on-client-error 10\r\n             retry-timeout on-server-error 10"}]
[330,{"$f":"+IF(Data!$C$6>ROW(Brekeke!B331)-ROW(Brekeke!$B$325),\"\",\"#\")","v":"#"},{"$f":"+CONCATENATE(\"     identity \",'Extension Table'!A8,CHAR(13),CHAR(10),,\"          authentication outbound\",CHAR(13),CHAR(10),,\"              authenticate 1 authentication-service AS_ALL_EXTENSIONS username \",'Extension Table'!F8,CHAR(13),CHAR(10),\"          registration outbound\",CHAR(13),CHAR(10),\"             registrar \",Data!$C$24,\" \",Data!$C$25,CHAR(13),CHAR(10),\"             lifetime 300\",CHAR(13),CHAR(10),\"             register auto\",CHAR(13),CHAR(10),\"             retry-timeout on-system-error 10\",CHAR(13),CHAR(10),\"             retry-timeout on-client-error 10\",CHAR(13),CHAR(10),\"             retry-timeout on-server-error 10\")","v":"     identity 107\r\n          authentication outbound\r\n              authenticate 1 authentication-service AS_ALL_EXTENSIONS username 107\r\n          registration outbound\r\n             registrar 10.10.50.23 5060\r\n             lifetime 300\r\n             register auto\r\n             retry-timeout on-system-error 10\r\n             retry-timeout on-client-error 10\r\n             retry-timeout on-server-error 10"}]
[331,{"$f":"+IF(Data!$C$6>ROW(Brekeke!B332)-ROW(Brekeke!$B$325),\"\",\"#\")","v":"#"},{"$f":"+CONCATENATE(\"     identity \",'Extension Table'!A9,CHAR(13),CHAR(10),,\"          authentication outbound\",CHAR(13),CHAR(10),,\"              authenticate 1 authentication-service AS_ALL_EXTENSIONS username \",'Extension Table'!F9,CHAR(13),CHAR(10),\"          registration outbound\",CHAR(13),CHAR(10),\"             registrar \",Data!$C$24,\" \",Data!$C$25,CHAR(13),CHAR(10),\"             lifetime 300\",CHAR(13),CHAR(10),\"             register auto\",CHAR(13),CHAR(10),\"             retry-timeout on-system-error 10\",CHAR(13),CHAR(10),\"             retry-timeout on-client-error 10\",CHAR(13),CHAR(10),\"             retry-timeout on-server-error 10\")","v":"     identity 108\r\n          authentication outbound\r\n              authenticate 1 authentication-service AS_ALL_EXTENSIONS username 108\r\n          registration outbound\r\n             registrar 10.10.50.23 5060\r\n             lifetime 300\r\n             register auto\r\n             retry-timeout on-system-error 10\r\n             retry-timeout on-client-error 10\r\n             retry-timeout on-server-error 10"}]
[332,{"$f":"+IF(Data!$C$6>ROW(Brekeke!B333)-ROW(Brekeke!$B$325),\"\",\"#\")","v":"#"},{"$f":"+CONCATENATE(\"     identity \",'Extension Table'!A10,CHAR(13),CHAR(10),,\"          authentication outbound\",CHAR(13),CHAR(10),,\"              authenticate 1 authentication-service AS_ALL_EXTENSIONS username \",'Extension Table'!F10,CHAR(13),CHAR(10),\"          registration outbound\",CHAR(13),CHAR(10),\"             registrar \",Data!$C$24,\" \",Data!$C$25,CHAR(13),CHAR(10),\"             lifetime 300\",CHAR(13),CHAR(10),\"             register auto\",CHAR(13),CHAR(10),\"             retry-timeout on-system-error 10\",CHAR(13),CHAR(10),\"             retry-timeout on-client-error 10\",CHAR(13),CHAR(10),\"             retry-timeout on-server-error 10\")","v":"     identity 109\r\n          authentication outbound\r\n              authenticate 1 authentication-service AS_ALL_EXTENSIONS username 109\r\n          registration outbound\r\n             registrar 10.10.50.23 5060\r\n             lifetime 300\r\n             register auto\r\n             retry-timeout on-system-error 10\r\n             retry-timeout on-client-error 10\r\n             retry-timeout on-server-error 10"}]
[333,{"$f":"+IF(Data!$C$6>ROW(Brekeke!B334)-ROW(Brekeke!$B$325),\"\",\"#\")","v":"#"},{"$f":"+CONCATENATE(\"     identity \",'Extension Table'!A11,CHAR(13),CHAR(10),,\"          authentication outbound\",CHAR(13),CHAR(10),,\"              authenticate 1 authentication-service AS_ALL_EXTENSIONS username \",'Extension Table'!F11,CHAR(13),CHAR(10),\"          registration outbound\",CHAR(13),CHAR(10),\"             registrar \",Data!$C$24,\" \",Data!$C$25,CHAR(13),CHAR(10),\"             lifetime 300\",CHAR(13),CHAR(10),\"             register auto\",CHAR(13),CHAR(10),\"             retry-timeout on-system-error 10\",CHAR(13),CHAR(10),\"             retry-timeout on-client-error 10\",CHAR(13),CHAR(10),\"             retry-timeout on-server-error 10\")","v":"     identity 110\r\n          authentication outbound\r\n              authenticate 1 authentication-service AS_ALL_EXTENSIONS username 110\r\n          registration outbound\r\n             registrar 10.10.50.23 5060\r\n             lifetime 300\r\n             register auto\r\n             retry-timeout on-system-error 10\r\n             retry-timeout on-client-error 10\r\n             retry-timeout on-server-error 10"}]
[334,{"$f":"+IF(Data!$C$6>ROW(Brekeke!B335)-ROW(Brekeke!$B$325),\"\",\"#\")","v":"#"},{"$f":"+CONCATENATE(\"     identity \",'Extension Table'!A12,CHAR(13),CHAR(10),,\"          authentication outbound\",CHAR(13),CHAR(10),,\"              authenticate 1 authentication-service AS_ALL_EXTENSIONS username \",'Extension Table'!F12,CHAR(13),CHAR(10),\"          registration outbound\",CHAR(13),CHAR(10),\"             registrar \",Data!$C$24,\" \",Data!$C$25,CHAR(13),CHAR(10),\"             lifetime 300\",CHAR(13),CHAR(10),\"             register auto\",CHAR(13),CHAR(10),\"             retry-timeout on-system-error 10\",CHAR(13),CHAR(10),\"             retry-timeout on-client-error 10\",CHAR(13),CHAR(10),\"             retry-timeout on-server-error 10\")","v":"     identity 111\r\n          authentication outbound\r\n              authenticate 1 authentication-service AS_ALL_EXTENSIONS username 111\r\n          registration outbound\r\n             registrar 10.10.50.23 5060\r\n             lifetime 300\r\n             register auto\r\n             retry-timeout on-system-error 10\r\n             retry-timeout on-client-error 10\r\n             retry-timeout on-server-error 10"}]
[335,{"$f":"+IF(Data!$C$6>ROW(Brekeke!B336)-ROW(Brekeke!$B$325),\"\",\"#\")","v":"#"},{"$f":"+CONCATENATE(\"     identity \",'Extension Table'!A13,CHAR(13),CHAR(10),,\"          authentication outbound\",CHAR(13),CHAR(10),,\"              authenticate 1 authentication-service AS_ALL_EXTENSIONS username \",'Extension Table'!F13,CHAR(13),CHAR(10),\"          registration outbound\",CHAR(13),CHAR(10),\"             registrar \",Data!$C$24,\" \",Data!$C$25,CHAR(13),CHAR(10),\"             lifetime 300\",CHAR(13),CHAR(10),\"             register auto\",CHAR(13),CHAR(10),\"             retry-timeout on-system-error 10\",CHAR(13),CHAR(10),\"             retry-timeout on-client-error 10\",CHAR(13),CHAR(10),\"             retry-timeout on-server-error 10\")","v":"     identity 112\r\n          authentication outbound\r\n              authenticate 1 authentication-service AS_ALL_EXTENSIONS username 112\r\n          registration outbound\r\n             registrar 10.10.50.23 5060\r\n             lifetime 300\r\n             register auto\r\n             retry-timeout on-system-error 10\r\n             retry-timeout on-client-error 10\r\n             retry-timeout on-server-error 10"}]
[336,{"$f":"+IF(Data!$C$6>ROW(Brekeke!B337)-ROW(Brekeke!$B$325),\"\",\"#\")","v":"#"},{"$f":"+CONCATENATE(\"     identity \",'Extension Table'!A14,CHAR(13),CHAR(10),,\"          authentication outbound\",CHAR(13),CHAR(10),,\"              authenticate 1 authentication-service AS_ALL_EXTENSIONS username \",'Extension Table'!F14,CHAR(13),CHAR(10),\"          registration outbound\",CHAR(13),CHAR(10),\"             registrar \",Data!$C$24,\" \",Data!$C$25,CHAR(13),CHAR(10),\"             lifetime 300\",CHAR(13),CHAR(10),\"             register auto\",CHAR(13),CHAR(10),\"             retry-timeout on-system-error 10\",CHAR(13),CHAR(10),\"             retry-timeout on-client-error 10\",CHAR(13),CHAR(10),\"             retry-timeout on-server-error 10\")","v":"     identity 113\r\n          authentication outbound\r\n              authenticate 1 authentication-service AS_ALL_EXTENSIONS username 113\r\n          registration outbound\r\n             registrar 10.10.50.23 5060\r\n             lifetime 300\r\n             register auto\r\n             retry-timeout on-system-error 10\r\n             retry-timeout on-client-error 10\r\n             retry-timeout on-server-error 10"}]
[337,{"$f":"+IF(Data!$C$6>ROW(Brekeke!B338)-ROW(Brekeke!$B$325),\"\",\"#\")","v":"#"},{"$f":"+CONCATENATE(\"     identity \",'Extension Table'!A15,CHAR(13),CHAR(10),,\"          authentication outbound\",CHAR(13),CHAR(10),,\"              authenticate 1 authentication-service AS_ALL_EXTENSIONS username \",'Extension Table'!F15,CHAR(13),CHAR(10),\"          registration outbound\",CHAR(13),CHAR(10),\"             registrar \",Data!$C$24,\" \",Data!$C$25,CHAR(13),CHAR(10),\"             lifetime 300\",CHAR(13),CHAR(10),\"             register auto\",CHAR(13),CHAR(10),\"             retry-timeout on-system-error 10\",CHAR(13),CHAR(10),\"             retry-timeout on-client-error 10\",CHAR(13),CHAR(10),\"             retry-timeout on-server-error 10\")","v":"     identity 114\r\n          authentication outbound\r\n              authenticate 1 authentication-service AS_ALL_EXTENSIONS username 114\r\n          registration outbound\r\n             registrar 10.10.50.23 5060\r\n             lifetime 300\r\n             register auto\r\n             retry-timeout on-system-error 10\r\n             retry-timeout on-client-error 10\r\n             retry-timeout on-server-error 10"}]
[338,{"$f":"+IF(Data!$C$6>ROW(Brekeke!B339)-ROW(Brekeke!$B$325),\"\",\"#\")","v":"#"},{"$f":"+CONCATENATE(\"     identity \",'Extension Table'!A16,CHAR(13),CHAR(10),,\"          authentication outbound\",CHAR(13),CHAR(10),,\"              authenticate 1 authentication-service AS_ALL_EXTENSIONS username \",'Extension Table'!F16,CHAR(13),CHAR(10),\"          registration outbound\",CHAR(13),CHAR(10),\"             registrar \",Data!$C$24,\" \",Data!$C$25,CHAR(13),CHAR(10),\"             lifetime 300\",CHAR(13),CHAR(10),\"             register auto\",CHAR(13),CHAR(10),\"             retry-timeout on-system-error 10\",CHAR(13),CHAR(10),\"             retry-timeout on-client-error 10\",CHAR(13),CHAR(10),\"             retry-timeout on-server-error 10\")","v":"     identity 115\r\n          authentication outbound\r\n              authenticate 1 authentication-service AS_ALL_EXTENSIONS username 115\r\n          registration outbound\r\n             registrar 10.10.50.23 5060\r\n             lifetime 300\r\n             register auto\r\n             retry-timeout on-system-error 10\r\n             retry-timeout on-client-error 10\r\n             retry-timeout on-server-error 10"}]
[339,{"$f":"+IF(Data!$C$6>ROW(Brekeke!B340)-ROW(Brekeke!$B$325),\"\",\"#\")","v":"#"},{"$f":"+CONCATENATE(\"     identity \",'Extension Table'!A17,CHAR(13),CHAR(10),,\"          authentication outbound\",CHAR(13),CHAR(10),,\"              authenticate 1 authentication-service AS_ALL_EXTENSIONS username \",'Extension Table'!F17,CHAR(13),CHAR(10),\"          registration outbound\",CHAR(13),CHAR(10),\"             registrar \",Data!$C$24,\" \",Data!$C$25,CHAR(13),CHAR(10),\"             lifetime 300\",CHAR(13),CHAR(10),\"             register auto\",CHAR(13),CHAR(10),\"             retry-timeout on-system-error 10\",CHAR(13),CHAR(10),\"             retry-timeout on-client-error 10\",CHAR(13),CHAR(10),\"             retry-timeout on-server-error 10\")","v":"     identity 116\r\n          authentication outbound\r\n              authenticate 1 authentication-service AS_ALL_EXTENSIONS username 116\r\n          registration outbound\r\n             registrar 10.10.50.23 5060\r\n             lifetime 300\r\n             register auto\r\n             retry-timeout on-system-error 10\r\n             retry-timeout on-client-error 10\r\n             retry-timeout on-server-error 10"}]
[340,{"$f":"+IF(Data!$C$6>ROW(Brekeke!B341)-ROW(Brekeke!$B$325),\"\",\"#\")","v":"#"},{"$f":"+CONCATENATE(\"     identity \",'Extension Table'!A18,CHAR(13),CHAR(10),,\"          authentication outbound\",CHAR(13),CHAR(10),,\"              authenticate 1 authentication-service AS_ALL_EXTENSIONS username \",'Extension Table'!F18,CHAR(13),CHAR(10),\"          registration outbound\",CHAR(13),CHAR(10),\"             registrar \",Data!$C$24,\" \",Data!$C$25,CHAR(13),CHAR(10),\"             lifetime 300\",CHAR(13),CHAR(10),\"             register auto\",CHAR(13),CHAR(10),\"             retry-timeout on-system-error 10\",CHAR(13),CHAR(10),\"             retry-timeout on-client-error 10\",CHAR(13),CHAR(10),\"             retry-timeout on-server-error 10\")","v":"     identity 117\r\n          authentication outbound\r\n              authenticate 1 authentication-service AS_ALL_EXTENSIONS username 117\r\n          registration outbound\r\n             registrar 10.10.50.23 5060\r\n             lifetime 300\r\n             register auto\r\n             retry-timeout on-system-error 10\r\n             retry-timeout on-client-error 10\r\n             retry-timeout on-server-error 10"}]
[341,{"$f":"+IF(Data!$C$6>ROW(Brekeke!B342)-ROW(Brekeke!$B$325),\"\",\"#\")","v":"#"},{"$f":"+CONCATENATE(\"     identity \",'Extension Table'!A19,CHAR(13),CHAR(10),,\"          authentication outbound\",CHAR(13),CHAR(10),,\"              authenticate 1 authentication-service AS_ALL_EXTENSIONS username \",'Extension Table'!F19,CHAR(13),CHAR(10),\"          registration outbound\",CHAR(13),CHAR(10),\"             registrar \",Data!$C$24,\" \",Data!$C$25,CHAR(13),CHAR(10),\"             lifetime 300\",CHAR(13),CHAR(10),\"             register auto\",CHAR(13),CHAR(10),\"             retry-timeout on-system-error 10\",CHAR(13),CHAR(10),\"             retry-timeout on-client-error 10\",CHAR(13),CHAR(10),\"             retry-timeout on-server-error 10\")","v":"     identity 118\r\n          authentication outbound\r\n              authenticate 1 authentication-service AS_ALL_EXTENSIONS username 118\r\n          registration outbound\r\n             registrar 10.10.50.23 5060\r\n             lifetime 300\r\n             register auto\r\n             retry-timeout on-system-error 10\r\n             retry-timeout on-client-error 10\r\n             retry-timeout on-server-error 10"}]
[342,{"$f":"+IF(Data!$C$6>ROW(Brekeke!B343)-ROW(Brekeke!$B$325),\"\",\"#\")","v":"#"},{"$f":"+CONCATENATE(\"     identity \",'Extension Table'!A20,CHAR(13),CHAR(10),,\"          authentication outbound\",CHAR(13),CHAR(10),,\"              authenticate 1 authentication-service AS_ALL_EXTENSIONS username \",'Extension Table'!F20,CHAR(13),CHAR(10),\"          registration outbound\",CHAR(13),CHAR(10),\"             registrar \",Data!$C$24,\" \",Data!$C$25,CHAR(13),CHAR(10),\"             lifetime 300\",CHAR(13),CHAR(10),\"             register auto\",CHAR(13),CHAR(10),\"             retry-timeout on-system-error 10\",CHAR(13),CHAR(10),\"             retry-timeout on-client-error 10\",CHAR(13),CHAR(10),\"             retry-timeout on-server-error 10\")","v":"     identity 119\r\n          authentication outbound\r\n              authenticate 1 authentication-service AS_ALL_EXTENSIONS username 119\r\n          registration outbound\r\n             registrar 10.10.50.23 5060\r\n             lifetime 300\r\n             register auto\r\n             retry-timeout on-system-error 10\r\n             retry-timeout on-client-error 10\r\n             retry-timeout on-server-error 10"}]
[343,{"$f":"+IF(Data!$C$6>ROW(Brekeke!B344)-ROW(Brekeke!$B$325),\"\",\"#\")","v":"#"},{"$f":"+CONCATENATE(\"     identity \",'Extension Table'!A21,CHAR(13),CHAR(10),,\"          authentication outbound\",CHAR(13),CHAR(10),,\"              authenticate 1 authentication-service AS_ALL_EXTENSIONS username \",'Extension Table'!F21,CHAR(13),CHAR(10),\"          registration outbound\",CHAR(13),CHAR(10),\"             registrar \",Data!$C$24,\" \",Data!$C$25,CHAR(13),CHAR(10),\"             lifetime 300\",CHAR(13),CHAR(10),\"             register auto\",CHAR(13),CHAR(10),\"             retry-timeout on-system-error 10\",CHAR(13),CHAR(10),\"             retry-timeout on-client-error 10\",CHAR(13),CHAR(10),\"             retry-timeout on-server-error 10\")","v":"     identity 120\r\n          authentication outbound\r\n              authenticate 1 authentication-service AS_ALL_EXTENSIONS username 120\r\n          registration outbound\r\n             registrar 10.10.50.23 5060\r\n             lifetime 300\r\n             register auto\r\n             retry-timeout on-system-error 10\r\n             retry-timeout on-client-error 10\r\n             retry-timeout on-server-error 10"}]
[344,{"$f":"+IF(Data!$C$6>ROW(Brekeke!B345)-ROW(Brekeke!$B$325),\"\",\"#\")","v":"#"},{"$f":"+CONCATENATE(\"     identity \",'Extension Table'!A22,CHAR(13),CHAR(10),,\"          authentication outbound\",CHAR(13),CHAR(10),,\"              authenticate 1 authentication-service AS_ALL_EXTENSIONS username \",'Extension Table'!F22,CHAR(13),CHAR(10),\"          registration outbound\",CHAR(13),CHAR(10),\"             registrar \",Data!$C$24,\" \",Data!$C$25,CHAR(13),CHAR(10),\"             lifetime 300\",CHAR(13),CHAR(10),\"             register auto\",CHAR(13),CHAR(10),\"             retry-timeout on-system-error 10\",CHAR(13),CHAR(10),\"             retry-timeout on-client-error 10\",CHAR(13),CHAR(10),\"             retry-timeout on-server-error 10\")","v":"     identity 121\r\n          authentication outbound\r\n              authenticate 1 authentication-service AS_ALL_EXTENSIONS username 121\r\n          registration outbound\r\n             registrar 10.10.50.23 5060\r\n             lifetime 300\r\n             register auto\r\n             retry-timeout on-system-error 10\r\n             retry-timeout on-client-error 10\r\n             retry-timeout on-server-error 10"}]
[345,{"$f":"+IF(Data!$C$6>ROW(Brekeke!B346)-ROW(Brekeke!$B$325),\"\",\"#\")","v":"#"},{"$f":"+CONCATENATE(\"     identity \",'Extension Table'!A23,CHAR(13),CHAR(10),,\"          authentication outbound\",CHAR(13),CHAR(10),,\"              authenticate 1 authentication-service AS_ALL_EXTENSIONS username \",'Extension Table'!F23,CHAR(13),CHAR(10),\"          registration outbound\",CHAR(13),CHAR(10),\"             registrar \",Data!$C$24,\" \",Data!$C$25,CHAR(13),CHAR(10),\"             lifetime 300\",CHAR(13),CHAR(10),\"             register auto\",CHAR(13),CHAR(10),\"             retry-timeout on-system-error 10\",CHAR(13),CHAR(10),\"             retry-timeout on-client-error 10\",CHAR(13),CHAR(10),\"             retry-timeout on-server-error 10\")","v":"     identity 122\r\n          authentication outbound\r\n              authenticate 1 authentication-service AS_ALL_EXTENSIONS username 122\r\n          registration outbound\r\n             registrar 10.10.50.23 5060\r\n             lifetime 300\r\n             register auto\r\n             retry-timeout on-system-error 10\r\n             retry-timeout on-client-error 10\r\n             retry-timeout on-server-error 10"}]
[346,{"$f":"+IF(Data!$C$6>ROW(Brekeke!B347)-ROW(Brekeke!$B$325),\"\",\"#\")","v":"#"},{"$f":"+CONCATENATE(\"     identity \",'Extension Table'!A24,CHAR(13),CHAR(10),,\"          authentication outbound\",CHAR(13),CHAR(10),,\"              authenticate 1 authentication-service AS_ALL_EXTENSIONS username \",'Extension Table'!F24,CHAR(13),CHAR(10),\"          registration outbound\",CHAR(13),CHAR(10),\"             registrar \",Data!$C$24,\" \",Data!$C$25,CHAR(13),CHAR(10),\"             lifetime 300\",CHAR(13),CHAR(10),\"             register auto\",CHAR(13),CHAR(10),\"             retry-timeout on-system-error 10\",CHAR(13),CHAR(10),\"             retry-timeout on-client-error 10\",CHAR(13),CHAR(10),\"             retry-timeout on-server-error 10\")","v":"     identity 123\r\n          authentication outbound\r\n              authenticate 1 authentication-service AS_ALL_EXTENSIONS username 123\r\n          registration outbound\r\n             registrar 10.10.50.23 5060\r\n             lifetime 300\r\n             register auto\r\n             retry-timeout on-system-error 10\r\n             retry-timeout on-client-error 10\r\n             retry-timeout on-server-error 10"}]
[347,{"$f":"+IF(Data!$C$6>ROW(Brekeke!B348)-ROW(Brekeke!$B$325),\"\",\"#\")","v":"#"},{"$f":"+CONCATENATE(\"     identity \",'Extension Table'!A25,CHAR(13),CHAR(10),,\"          authentication outbound\",CHAR(13),CHAR(10),,\"              authenticate 1 authentication-service AS_ALL_EXTENSIONS username \",'Extension Table'!F25,CHAR(13),CHAR(10),\"          registration outbound\",CHAR(13),CHAR(10),\"             registrar \",Data!$C$24,\" \",Data!$C$25,CHAR(13),CHAR(10),\"             lifetime 300\",CHAR(13),CHAR(10),\"             register auto\",CHAR(13),CHAR(10),\"             retry-timeout on-system-error 10\",CHAR(13),CHAR(10),\"             retry-timeout on-client-error 10\",CHAR(13),CHAR(10),\"             retry-timeout on-server-error 10\")","v":"     identity 124\r\n          authentication outbound\r\n              authenticate 1 authentication-service AS_ALL_EXTENSIONS username 124\r\n          registration outbound\r\n             registrar 10.10.50.23 5060\r\n             lifetime 300\r\n             register auto\r\n             retry-timeout on-system-error 10\r\n             retry-timeout on-client-error 10\r\n             retry-timeout on-server-error 10"}]
[348,{"$f":"+IF(Data!$C$6>ROW(Brekeke!B349)-ROW(Brekeke!$B$325),\"\",\"#\")","v":"#"},{"$f":"+CONCATENATE(\"     identity \",'Extension Table'!A26,CHAR(13),CHAR(10),,\"          authentication outbound\",CHAR(13),CHAR(10),,\"              authenticate 1 authentication-service AS_ALL_EXTENSIONS username \",'Extension Table'!F26,CHAR(13),CHAR(10),\"          registration outbound\",CHAR(13),CHAR(10),\"             registrar \",Data!$C$24,\" \",Data!$C$25,CHAR(13),CHAR(10),\"             lifetime 300\",CHAR(13),CHAR(10),\"             register auto\",CHAR(13),CHAR(10),\"             retry-timeout on-system-error 10\",CHAR(13),CHAR(10),\"             retry-timeout on-client-error 10\",CHAR(13),CHAR(10),\"             retry-timeout on-server-error 10\")","v":"     identity 125\r\n          authentication outbound\r\n              authenticate 1 authentication-service AS_ALL_EXTENSIONS username 125\r\n          registration outbound\r\n             registrar 10.10.50.23 5060\r\n             lifetime 300\r\n             register auto\r\n             retry-timeout on-system-error 10\r\n             retry-timeout on-client-error 10\r\n             retry-timeout on-server-error 10"}]
[349,{"$f":"+IF(Data!$C$6>ROW(Brekeke!B350)-ROW(Brekeke!$B$325),\"\",\"#\")","v":"#"},{"$f":"+CONCATENATE(\"     identity \",'Extension Table'!A27,CHAR(13),CHAR(10),,\"          authentication outbound\",CHAR(13),CHAR(10),,\"              authenticate 1 authentication-service AS_ALL_EXTENSIONS username \",'Extension Table'!F27,CHAR(13),CHAR(10),\"          registration outbound\",CHAR(13),CHAR(10),\"             registrar \",Data!$C$24,\" \",Data!$C$25,CHAR(13),CHAR(10),\"             lifetime 300\",CHAR(13),CHAR(10),\"             register auto\",CHAR(13),CHAR(10),\"             retry-timeout on-system-error 10\",CHAR(13),CHAR(10),\"             retry-timeout on-client-error 10\",CHAR(13),CHAR(10),\"             retry-timeout on-server-error 10\")","v":"     identity 126\r\n          authentication outbound\r\n              authenticate 1 authentication-service AS_ALL_EXTENSIONS username 126\r\n          registration outbound\r\n             registrar 10.10.50.23 5060\r\n             lifetime 300\r\n             register auto\r\n             retry-timeout on-system-error 10\r\n             retry-timeout on-client-error 10\r\n             retry-timeout on-server-error 10"}]
[350,{"$f":"+IF(Data!$C$6>ROW(Brekeke!B351)-ROW(Brekeke!$B$325),\"\",\"#\")","v":"#"},{"$f":"+CONCATENATE(\"     identity \",'Extension Table'!A28,CHAR(13),CHAR(10),,\"          authentication outbound\",CHAR(13),CHAR(10),,\"              authenticate 1 authentication-service AS_ALL_EXTENSIONS username \",'Extension Table'!F28,CHAR(13),CHAR(10),\"          registration outbound\",CHAR(13),CHAR(10),\"             registrar \",Data!$C$24,\" \",Data!$C$25,CHAR(13),CHAR(10),\"             lifetime 300\",CHAR(13),CHAR(10),\"             register auto\",CHAR(13),CHAR(10),\"             retry-timeout on-system-error 10\",CHAR(13),CHAR(10),\"             retry-timeout on-client-error 10\",CHAR(13),CHAR(10),\"             retry-timeout on-server-error 10\")","v":"     identity 127\r\n          authentication outbound\r\n              authenticate 1 authentication-service AS_ALL_EXTENSIONS username 127\r\n          registration outbound\r\n             registrar 10.10.50.23 5060\r\n             lifetime 300\r\n             register auto\r\n             retry-timeout on-system-error 10\r\n             retry-timeout on-client-error 10\r\n             retry-timeout on-server-error 10"}]
[351,{"$f":"+IF(Data!$C$6>ROW(Brekeke!B352)-ROW(Brekeke!$B$325),\"\",\"#\")","v":"#"},{"$f":"+CONCATENATE(\"     identity \",'Extension Table'!A29,CHAR(13),CHAR(10),,\"          authentication outbound\",CHAR(13),CHAR(10),,\"              authenticate 1 authentication-service AS_ALL_EXTENSIONS username \",'Extension Table'!F29,CHAR(13),CHAR(10),\"          registration outbound\",CHAR(13),CHAR(10),\"             registrar \",Data!$C$24,\" \",Data!$C$25,CHAR(13),CHAR(10),\"             lifetime 300\",CHAR(13),CHAR(10),\"             register auto\",CHAR(13),CHAR(10),\"             retry-timeout on-system-error 10\",CHAR(13),CHAR(10),\"             retry-timeout on-client-error 10\",CHAR(13),CHAR(10),\"             retry-timeout on-server-error 10\")","v":"     identity 128\r\n          authentication outbound\r\n              authenticate 1 authentication-service AS_ALL_EXTENSIONS username 128\r\n          registration outbound\r\n             registrar 10.10.50.23 5060\r\n             lifetime 300\r\n             register auto\r\n             retry-timeout on-system-error 10\r\n             retry-timeout on-client-error 10\r\n             retry-timeout on-server-error 10"}]
[352,{"$f":"+IF(Data!$C$6>ROW(Brekeke!B353)-ROW(Brekeke!$B$325),\"\",\"#\")","v":"#"},{"$f":"+CONCATENATE(\"     identity \",'Extension Table'!A30,CHAR(13),CHAR(10),,\"          authentication outbound\",CHAR(13),CHAR(10),,\"              authenticate 1 authentication-service AS_ALL_EXTENSIONS username \",'Extension Table'!F30,CHAR(13),CHAR(10),\"          registration outbound\",CHAR(13),CHAR(10),\"             registrar \",Data!$C$24,\" \",Data!$C$25,CHAR(13),CHAR(10),\"             lifetime 300\",CHAR(13),CHAR(10),\"             register auto\",CHAR(13),CHAR(10),\"             retry-timeout on-system-error 10\",CHAR(13),CHAR(10),\"             retry-timeout on-client-error 10\",CHAR(13),CHAR(10),\"             retry-timeout on-server-error 10\")","v":"     identity 129\r\n          authentication outbound\r\n              authenticate 1 authentication-service AS_ALL_EXTENSIONS username 129\r\n          registration outbound\r\n             registrar 10.10.50.23 5060\r\n             lifetime 300\r\n             register auto\r\n             retry-timeout on-system-error 10\r\n             retry-timeout on-client-error 10\r\n             retry-timeout on-server-error 10"}]
[353,{"$f":"+IF(Data!$C$6>ROW(Brekeke!B354)-ROW(Brekeke!$B$325),\"\",\"#\")","v":"#"},{"$f":"+CONCATENATE(\"     identity \",'Extension Table'!A31,CHAR(13),CHAR(10),,\"          authentication outbound\",CHAR(13),CHAR(10),,\"              authenticate 1 authentication-service AS_ALL_EXTENSIONS username \",'Extension Table'!F31,CHAR(13),CHAR(10),\"          registration outbound\",CHAR(13),CHAR(10),\"             registrar \",Data!$C$24,\" \",Data!$C$25,CHAR(13),CHAR(10),\"             lifetime 300\",CHAR(13),CHAR(10),\"             register auto\",CHAR(13),CHAR(10),\"             retry-timeout on-system-error 10\",CHAR(13),CHAR(10),\"             retry-timeout on-client-error 10\",CHAR(13),CHAR(10),\"             retry-timeout on-server-error 10\")","v":"     identity 130\r\n          authentication outbound\r\n              authenticate 1 authentication-service AS_ALL_EXTENSIONS username 130\r\n          registration outbound\r\n             registrar 10.10.50.23 5060\r\n             lifetime 300\r\n             register auto\r\n             retry-timeout on-system-error 10\r\n             retry-timeout on-client-error 10\r\n             retry-timeout on-server-error 10"}]
[354,{"$f":"+IF(Data!$C$6>ROW(Brekeke!B355)-ROW(Brekeke!$B$325),\"\",\"#\")","v":"#"},{"$f":"+CONCATENATE(\"     identity \",'Extension Table'!A32,CHAR(13),CHAR(10),,\"          authentication outbound\",CHAR(13),CHAR(10),,\"              authenticate 1 authentication-service AS_ALL_EXTENSIONS username \",'Extension Table'!F32,CHAR(13),CHAR(10),\"          registration outbound\",CHAR(13),CHAR(10),\"             registrar \",Data!$C$24,\" \",Data!$C$25,CHAR(13),CHAR(10),\"             lifetime 300\",CHAR(13),CHAR(10),\"             register auto\",CHAR(13),CHAR(10),\"             retry-timeout on-system-error 10\",CHAR(13),CHAR(10),\"             retry-timeout on-client-error 10\",CHAR(13),CHAR(10),\"             retry-timeout on-server-error 10\")","v":"     identity 131\r\n          authentication outbound\r\n              authenticate 1 authentication-service AS_ALL_EXTENSIONS username 131\r\n          registration outbound\r\n             registrar 10.10.50.23 5060\r\n             lifetime 300\r\n             register auto\r\n             retry-timeout on-system-error 10\r\n             retry-timeout on-client-error 10\r\n             retry-timeout on-server-error 10"}]
[355,{"$f":"+IF(Data!$C$6>ROW(Brekeke!B356)-ROW(Brekeke!$B$325),\"\",\"#\")","v":"#"},{"$f":"+CONCATENATE(\"     identity \",'Extension Table'!A33,CHAR(13),CHAR(10),,\"          authentication outbound\",CHAR(13),CHAR(10),,\"              authenticate 1 authentication-service AS_ALL_EXTENSIONS username \",'Extension Table'!F33,CHAR(13),CHAR(10),\"          registration outbound\",CHAR(13),CHAR(10),\"             registrar \",Data!$C$24,\" \",Data!$C$25,CHAR(13),CHAR(10),\"             lifetime 300\",CHAR(13),CHAR(10),\"             register auto\",CHAR(13),CHAR(10),\"             retry-timeout on-system-error 10\",CHAR(13),CHAR(10),\"             retry-timeout on-client-error 10\",CHAR(13),CHAR(10),\"             retry-timeout on-server-error 10\")","v":"     identity 132\r\n          authentication outbound\r\n              authenticate 1 authentication-service AS_ALL_EXTENSIONS username 132\r\n          registration outbound\r\n             registrar 10.10.50.23 5060\r\n             lifetime 300\r\n             register auto\r\n             retry-timeout on-system-error 10\r\n             retry-timeout on-client-error 10\r\n             retry-timeout on-server-error 10"}]
[356]
[357,{"$f":"+IF(Data!$C$5>ROW(Brekeke!B358)-ROW(Brekeke!$B$358),\"\",\"#\")","v":""},{"$f":"+CONCATENATE(\"location-service LS_\",'Line Table'!A2,CHAR(13),CHAR(10),\"     domain 1 \",Data!$C$24,\" \",Data!$C$25,CHAR(13),CHAR(10),\"        identity-group default\",CHAR(13),CHAR(10),\"        authentication outbound\",CHAR(13),CHAR(10),\"        authenticate 1 authentication-service AS_ALL_LINES username \",'Line Table'!E2,CHAR(13),CHAR(10),\"     identity \",'Line Table'!B2,CHAR(13),CHAR(10),\"        authentication outbound\",CHAR(13),CHAR(10),\"         authenticate 1 authentication-service AS_ALL_LINES username \",'Line Table'!E2,CHAR(13),CHAR(10),\"        registration outbound\",CHAR(13),CHAR(10),\"        registrar \",Data!$C$24,\" \",Data!$C$25,CHAR(13),CHAR(10),\"        lifetime 300\",CHAR(13),CHAR(10),\"         register auto\")","v":"location-service LS_1\r\n     domain 1 10.10.50.23 5060\r\n        identity-group default\r\n        authentication outbound\r\n        authenticate 1 authentication-service AS_ALL_LINES username 10002\r\n     identity 10002\r\n        authentication outbound\r\n         authenticate 1 authentication-service AS_ALL_LINES username 10002\r\n        registration outbound\r\n        registrar 10.10.50.23 5060\r\n        lifetime 300\r\n         register auto"}]
[358,{"$f":"+IF(Data!$C$5>ROW(Brekeke!B359)-ROW(Brekeke!$B$358),\"\",\"#\")","v":""},{"$f":"+CONCATENATE(\"location-service LS_\",'Line Table'!A3,CHAR(13),CHAR(10),\"     domain 1 \",Data!$C$24,\" \",Data!$C$25,CHAR(13),CHAR(10),\"        identity-group default\",CHAR(13),CHAR(10),\"        authentication outbound\",CHAR(13),CHAR(10),\"        authenticate 1 authentication-service AS_ALL_LINES username \",'Line Table'!E3,CHAR(13),CHAR(10),\"     identity \",'Line Table'!B3,CHAR(13),CHAR(10),\"        authentication outbound\",CHAR(13),CHAR(10),\"         authenticate 1 authentication-service AS_ALL_LINES username \",'Line Table'!E3,CHAR(13),CHAR(10),\"        registration outbound\",CHAR(13),CHAR(10),\"        registrar \",Data!$C$24,\" \",Data!$C$25,CHAR(13),CHAR(10),\"        lifetime 300\",CHAR(13),CHAR(10),\"         register auto\")","v":"location-service LS_2\r\n     domain 1 10.10.50.23 5060\r\n        identity-group default\r\n        authentication outbound\r\n        authenticate 1 authentication-service AS_ALL_LINES username 10003\r\n     identity 10003\r\n        authentication outbound\r\n         authenticate 1 authentication-service AS_ALL_LINES username 10003\r\n        registration outbound\r\n        registrar 10.10.50.23 5060\r\n        lifetime 300\r\n         register auto"}]
[359,{"$f":"+IF(Data!$C$5>ROW(Brekeke!B360)-ROW(Brekeke!$B$358),\"\",\"#\")","v":""},{"$f":"+CONCATENATE(\"location-service LS_\",'Line Table'!A4,CHAR(13),CHAR(10),\"     domain 1 \",Data!$C$24,\" \",Data!$C$25,CHAR(13),CHAR(10),\"        identity-group default\",CHAR(13),CHAR(10),\"        authentication outbound\",CHAR(13),CHAR(10),\"        authenticate 1 authentication-service AS_ALL_LINES username \",'Line Table'!E4,CHAR(13),CHAR(10),\"     identity \",'Line Table'!B4,CHAR(13),CHAR(10),\"        authentication outbound\",CHAR(13),CHAR(10),\"         authenticate 1 authentication-service AS_ALL_LINES username \",'Line Table'!E4,CHAR(13),CHAR(10),\"        registration outbound\",CHAR(13),CHAR(10),\"        registrar \",Data!$C$24,\" \",Data!$C$25,CHAR(13),CHAR(10),\"        lifetime 300\",CHAR(13),CHAR(10),\"         register auto\")","v":"location-service LS_3\r\n     domain 1 10.10.50.23 5060\r\n        identity-group default\r\n        authentication outbound\r\n        authenticate 1 authentication-service AS_ALL_LINES username 10004\r\n     identity 10004\r\n        authentication outbound\r\n         authenticate 1 authentication-service AS_ALL_LINES username 10004\r\n        registration outbound\r\n        registrar 10.10.50.23 5060\r\n        lifetime 300\r\n         register auto"}]
[360,{"$f":"+IF(Data!$C$5>ROW(Brekeke!B361)-ROW(Brekeke!$B$358),\"\",\"#\")","v":""},{"$f":"+CONCATENATE(\"location-service LS_\",'Line Table'!A5,CHAR(13),CHAR(10),\"     domain 1 \",Data!$C$24,\" \",Data!$C$25,CHAR(13),CHAR(10),\"        identity-group default\",CHAR(13),CHAR(10),\"        authentication outbound\",CHAR(13),CHAR(10),\"        authenticate 1 authentication-service AS_ALL_LINES username \",'Line Table'!E5,CHAR(13),CHAR(10),\"     identity \",'Line Table'!B5,CHAR(13),CHAR(10),\"        authentication outbound\",CHAR(13),CHAR(10),\"         authenticate 1 authentication-service AS_ALL_LINES username \",'Line Table'!E5,CHAR(13),CHAR(10),\"        registration outbound\",CHAR(13),CHAR(10),\"        registrar \",Data!$C$24,\" \",Data!$C$25,CHAR(13),CHAR(10),\"        lifetime 300\",CHAR(13),CHAR(10),\"         register auto\")","v":"location-service LS_4\r\n     domain 1 10.10.50.23 5060\r\n        identity-group default\r\n        authentication outbound\r\n        authenticate 1 authentication-service AS_ALL_LINES username 10005\r\n     identity 10005\r\n        authentication outbound\r\n         authenticate 1 authentication-service AS_ALL_LINES username 10005\r\n        registration outbound\r\n        registrar 10.10.50.23 5060\r\n        lifetime 300\r\n         register auto"}]
[361,{"$f":"+IF(Data!$C$5>ROW(Brekeke!B362)-ROW(Brekeke!$B$358),\"\",\"#\")","v":""},{"$f":"+CONCATENATE(\"location-service LS_\",'Line Table'!A6,CHAR(13),CHAR(10),\"     domain 1 \",Data!$C$24,\" \",Data!$C$25,CHAR(13),CHAR(10),\"        identity-group default\",CHAR(13),CHAR(10),\"        authentication outbound\",CHAR(13),CHAR(10),\"        authenticate 1 authentication-service AS_ALL_LINES username \",'Line Table'!E6,CHAR(13),CHAR(10),\"     identity \",'Line Table'!B6,CHAR(13),CHAR(10),\"        authentication outbound\",CHAR(13),CHAR(10),\"         authenticate 1 authentication-service AS_ALL_LINES username \",'Line Table'!E6,CHAR(13),CHAR(10),\"        registration outbound\",CHAR(13),CHAR(10),\"        registrar \",Data!$C$24,\" \",Data!$C$25,CHAR(13),CHAR(10),\"        lifetime 300\",CHAR(13),CHAR(10),\"         register auto\")","v":"location-service LS_5\r\n     domain 1 10.10.50.23 5060\r\n        identity-group default\r\n        authentication outbound\r\n        authenticate 1 authentication-service AS_ALL_LINES username 10006\r\n     identity 10006\r\n        authentication outbound\r\n         authenticate 1 authentication-service AS_ALL_LINES username 10006\r\n        registration outbound\r\n        registrar 10.10.50.23 5060\r\n        lifetime 300\r\n         register auto"}]
[362,{"$f":"+IF(Data!$C$5>ROW(Brekeke!B363)-ROW(Brekeke!$B$358),\"\",\"#\")","v":""},{"$f":"+CONCATENATE(\"location-service LS_\",'Line Table'!A7,CHAR(13),CHAR(10),\"     domain 1 \",Data!$C$24,\" \",Data!$C$25,CHAR(13),CHAR(10),\"        identity-group default\",CHAR(13),CHAR(10),\"        authentication outbound\",CHAR(13),CHAR(10),\"        authenticate 1 authentication-service AS_ALL_LINES username \",'Line Table'!E7,CHAR(13),CHAR(10),\"     identity \",'Line Table'!B7,CHAR(13),CHAR(10),\"        authentication outbound\",CHAR(13),CHAR(10),\"         authenticate 1 authentication-service AS_ALL_LINES username \",'Line Table'!E7,CHAR(13),CHAR(10),\"        registration outbound\",CHAR(13),CHAR(10),\"        registrar \",Data!$C$24,\" \",Data!$C$25,CHAR(13),CHAR(10),\"        lifetime 300\",CHAR(13),CHAR(10),\"         register auto\")","v":"location-service LS_6\r\n     domain 1 10.10.50.23 5060\r\n        identity-group default\r\n        authentication outbound\r\n        authenticate 1 authentication-service AS_ALL_LINES username 10007\r\n     identity 10007\r\n        authentication outbound\r\n         authenticate 1 authentication-service AS_ALL_LINES username 10007\r\n        registration outbound\r\n        registrar 10.10.50.23 5060\r\n        lifetime 300\r\n         register auto"}]
[363,{"$f":"+IF(Data!$C$5>ROW(Brekeke!B364)-ROW(Brekeke!$B$358),\"\",\"#\")","v":""},{"$f":"+CONCATENATE(\"location-service LS_\",'Line Table'!A8,CHAR(13),CHAR(10),\"     domain 1 \",Data!$C$24,\" \",Data!$C$25,CHAR(13),CHAR(10),\"        identity-group default\",CHAR(13),CHAR(10),\"        authentication outbound\",CHAR(13),CHAR(10),\"        authenticate 1 authentication-service AS_ALL_LINES username \",'Line Table'!E8,CHAR(13),CHAR(10),\"     identity \",'Line Table'!B8,CHAR(13),CHAR(10),\"        authentication outbound\",CHAR(13),CHAR(10),\"         authenticate 1 authentication-service AS_ALL_LINES username \",'Line Table'!E8,CHAR(13),CHAR(10),\"        registration outbound\",CHAR(13),CHAR(10),\"        registrar \",Data!$C$24,\" \",Data!$C$25,CHAR(13),CHAR(10),\"        lifetime 300\",CHAR(13),CHAR(10),\"         register auto\")","v":"location-service LS_7\r\n     domain 1 10.10.50.23 5060\r\n        identity-group default\r\n        authentication outbound\r\n        authenticate 1 authentication-service AS_ALL_LINES username 10008\r\n     identity 10008\r\n        authentication outbound\r\n         authenticate 1 authentication-service AS_ALL_LINES username 10008\r\n        registration outbound\r\n        registrar 10.10.50.23 5060\r\n        lifetime 300\r\n         register auto"}]
[364,{"$f":"+IF(Data!$C$5>ROW(Brekeke!B365)-ROW(Brekeke!$B$358),\"\",\"#\")","v":""},{"$f":"+CONCATENATE(\"location-service LS_\",'Line Table'!A9,CHAR(13),CHAR(10),\"     domain 1 \",Data!$C$24,\" \",Data!$C$25,CHAR(13),CHAR(10),\"        identity-group default\",CHAR(13),CHAR(10),\"        authentication outbound\",CHAR(13),CHAR(10),\"        authenticate 1 authentication-service AS_ALL_LINES username \",'Line Table'!E9,CHAR(13),CHAR(10),\"     identity \",'Line Table'!B9,CHAR(13),CHAR(10),\"        authentication outbound\",CHAR(13),CHAR(10),\"         authenticate 1 authentication-service AS_ALL_LINES username \",'Line Table'!E9,CHAR(13),CHAR(10),\"        registration outbound\",CHAR(13),CHAR(10),\"        registrar \",Data!$C$24,\" \",Data!$C$25,CHAR(13),CHAR(10),\"        lifetime 300\",CHAR(13),CHAR(10),\"         register auto\")","v":"location-service LS_8\r\n     domain 1 10.10.50.23 5060\r\n        identity-group default\r\n        authentication outbound\r\n        authenticate 1 authentication-service AS_ALL_LINES username 10009\r\n     identity 10009\r\n        authentication outbound\r\n         authenticate 1 authentication-service AS_ALL_LINES username 10009\r\n        registration outbound\r\n        registrar 10.10.50.23 5060\r\n        lifetime 300\r\n         register auto"}]
[365,{"$f":"+IF(Data!$C$5>ROW(Brekeke!B366)-ROW(Brekeke!$B$358),\"\",\"#\")","v":""},{"$f":"+CONCATENATE(\"location-service LS_\",'Line Table'!A10,CHAR(13),CHAR(10),\"     domain 1 \",Data!$C$24,\" \",Data!$C$25,CHAR(13),CHAR(10),\"        identity-group default\",CHAR(13),CHAR(10),\"        authentication outbound\",CHAR(13),CHAR(10),\"        authenticate 1 authentication-service AS_ALL_LINES username \",'Line Table'!E10,CHAR(13),CHAR(10),\"     identity \",'Line Table'!B10,CHAR(13),CHAR(10),\"        authentication outbound\",CHAR(13),CHAR(10),\"         authenticate 1 authentication-service AS_ALL_LINES username \",'Line Table'!E10,CHAR(13),CHAR(10),\"        registration outbound\",CHAR(13),CHAR(10),\"        registrar \",Data!$C$24,\" \",Data!$C$25,CHAR(13),CHAR(10),\"        lifetime 300\",CHAR(13),CHAR(10),\"         register auto\")","v":"location-service LS_9\r\n     domain 1 10.10.50.23 5060\r\n        identity-group default\r\n        authentication outbound\r\n        authenticate 1 authentication-service AS_ALL_LINES username 10010\r\n     identity 10010\r\n        authentication outbound\r\n         authenticate 1 authentication-service AS_ALL_LINES username 10010\r\n        registration outbound\r\n        registrar 10.10.50.23 5060\r\n        lifetime 300\r\n         register auto"}]
[366,{"$f":"+IF(Data!$C$5>ROW(Brekeke!B367)-ROW(Brekeke!$B$358),\"\",\"#\")","v":""},{"$f":"+CONCATENATE(\"location-service LS_\",'Line Table'!A11,CHAR(13),CHAR(10),\"     domain 1 \",Data!$C$24,\" \",Data!$C$25,CHAR(13),CHAR(10),\"        identity-group default\",CHAR(13),CHAR(10),\"        authentication outbound\",CHAR(13),CHAR(10),\"        authenticate 1 authentication-service AS_ALL_LINES username \",'Line Table'!E11,CHAR(13),CHAR(10),\"     identity \",'Line Table'!B11,CHAR(13),CHAR(10),\"        authentication outbound\",CHAR(13),CHAR(10),\"         authenticate 1 authentication-service AS_ALL_LINES username \",'Line Table'!E11,CHAR(13),CHAR(10),\"        registration outbound\",CHAR(13),CHAR(10),\"        registrar \",Data!$C$24,\" \",Data!$C$25,CHAR(13),CHAR(10),\"        lifetime 300\",CHAR(13),CHAR(10),\"         register auto\")","v":"location-service LS_10\r\n     domain 1 10.10.50.23 5060\r\n        identity-group default\r\n        authentication outbound\r\n        authenticate 1 authentication-service AS_ALL_LINES username 10011\r\n     identity 10011\r\n        authentication outbound\r\n         authenticate 1 authentication-service AS_ALL_LINES username 10011\r\n        registration outbound\r\n        registrar 10.10.50.23 5060\r\n        lifetime 300\r\n         register auto"}]
[367,{"$f":"+IF(Data!$C$5>ROW(Brekeke!B368)-ROW(Brekeke!$B$358),\"\",\"#\")","v":""},{"$f":"+CONCATENATE(\"location-service LS_\",'Line Table'!A12,CHAR(13),CHAR(10),\"     domain 1 \",Data!$C$24,\" \",Data!$C$25,CHAR(13),CHAR(10),\"        identity-group default\",CHAR(13),CHAR(10),\"        authentication outbound\",CHAR(13),CHAR(10),\"        authenticate 1 authentication-service AS_ALL_LINES username \",'Line Table'!E12,CHAR(13),CHAR(10),\"     identity \",'Line Table'!B12,CHAR(13),CHAR(10),\"        authentication outbound\",CHAR(13),CHAR(10),\"         authenticate 1 authentication-service AS_ALL_LINES username \",'Line Table'!E12,CHAR(13),CHAR(10),\"        registration outbound\",CHAR(13),CHAR(10),\"        registrar \",Data!$C$24,\" \",Data!$C$25,CHAR(13),CHAR(10),\"        lifetime 300\",CHAR(13),CHAR(10),\"         register auto\")","v":"location-service LS_11\r\n     domain 1 10.10.50.23 5060\r\n        identity-group default\r\n        authentication outbound\r\n        authenticate 1 authentication-service AS_ALL_LINES username 10012\r\n     identity 10012\r\n        authentication outbound\r\n         authenticate 1 authentication-service AS_ALL_LINES username 10012\r\n        registration outbound\r\n        registrar 10.10.50.23 5060\r\n        lifetime 300\r\n         register auto"}]
[368,{"$f":"+IF(Data!$C$5>ROW(Brekeke!B369)-ROW(Brekeke!$B$358),\"\",\"#\")","v":""},{"$f":"+CONCATENATE(\"location-service LS_\",'Line Table'!A13,CHAR(13),CHAR(10),\"     domain 1 \",Data!$C$24,\" \",Data!$C$25,CHAR(13),CHAR(10),\"        identity-group default\",CHAR(13),CHAR(10),\"        authentication outbound\",CHAR(13),CHAR(10),\"        authenticate 1 authentication-service AS_ALL_LINES username \",'Line Table'!E13,CHAR(13),CHAR(10),\"     identity \",'Line Table'!B13,CHAR(13),CHAR(10),\"        authentication outbound\",CHAR(13),CHAR(10),\"         authenticate 1 authentication-service AS_ALL_LINES username \",'Line Table'!E13,CHAR(13),CHAR(10),\"        registration outbound\",CHAR(13),CHAR(10),\"        registrar \",Data!$C$24,\" \",Data!$C$25,CHAR(13),CHAR(10),\"        lifetime 300\",CHAR(13),CHAR(10),\"         register auto\")","v":"location-service LS_12\r\n     domain 1 10.10.50.23 5060\r\n        identity-group default\r\n        authentication outbound\r\n        authenticate 1 authentication-service AS_ALL_LINES username 10013\r\n     identity 10013\r\n        authentication outbound\r\n         authenticate 1 authentication-service AS_ALL_LINES username 10013\r\n        registration outbound\r\n        registrar 10.10.50.23 5060\r\n        lifetime 300\r\n         register auto"}]
[369,{"$f":"+IF(Data!$C$5>ROW(Brekeke!B370)-ROW(Brekeke!$B$358),\"\",\"#\")","v":"#"},{"$f":"+CONCATENATE(\"location-service LS_\",'Line Table'!A14,CHAR(13),CHAR(10),\"     domain 1 \",Data!$C$24,\" \",Data!$C$25,CHAR(13),CHAR(10),\"        identity-group default\",CHAR(13),CHAR(10),\"        authentication outbound\",CHAR(13),CHAR(10),\"        authenticate 1 authentication-service AS_ALL_LINES username \",'Line Table'!E14,CHAR(13),CHAR(10),\"     identity \",'Line Table'!B14,CHAR(13),CHAR(10),\"        authentication outbound\",CHAR(13),CHAR(10),\"         authenticate 1 authentication-service AS_ALL_LINES username \",'Line Table'!E14,CHAR(13),CHAR(10),\"        registration outbound\",CHAR(13),CHAR(10),\"        registrar \",Data!$C$24,\" \",Data!$C$25,CHAR(13),CHAR(10),\"        lifetime 300\",CHAR(13),CHAR(10),\"         register auto\")","v":"location-service LS_13\r\n     domain 1 10.10.50.23 5060\r\n        identity-group default\r\n        authentication outbound\r\n        authenticate 1 authentication-service AS_ALL_LINES username 10014\r\n     identity 10014\r\n        authentication outbound\r\n         authenticate 1 authentication-service AS_ALL_LINES username 10014\r\n        registration outbound\r\n        registrar 10.10.50.23 5060\r\n        lifetime 300\r\n         register auto"}]
[370,{"$f":"+IF(Data!$C$5>ROW(Brekeke!B371)-ROW(Brekeke!$B$358),\"\",\"#\")","v":"#"},{"$f":"+CONCATENATE(\"location-service LS_\",'Line Table'!A15,CHAR(13),CHAR(10),\"     domain 1 \",Data!$C$24,\" \",Data!$C$25,CHAR(13),CHAR(10),\"        identity-group default\",CHAR(13),CHAR(10),\"        authentication outbound\",CHAR(13),CHAR(10),\"        authenticate 1 authentication-service AS_ALL_LINES username \",'Line Table'!E15,CHAR(13),CHAR(10),\"     identity \",'Line Table'!B15,CHAR(13),CHAR(10),\"        authentication outbound\",CHAR(13),CHAR(10),\"         authenticate 1 authentication-service AS_ALL_LINES username \",'Line Table'!E15,CHAR(13),CHAR(10),\"        registration outbound\",CHAR(13),CHAR(10),\"        registrar \",Data!$C$24,\" \",Data!$C$25,CHAR(13),CHAR(10),\"        lifetime 300\",CHAR(13),CHAR(10),\"         register auto\")","v":"location-service LS_14\r\n     domain 1 10.10.50.23 5060\r\n        identity-group default\r\n        authentication outbound\r\n        authenticate 1 authentication-service AS_ALL_LINES username 10015\r\n     identity 10015\r\n        authentication outbound\r\n         authenticate 1 authentication-service AS_ALL_LINES username 10015\r\n        registration outbound\r\n        registrar 10.10.50.23 5060\r\n        lifetime 300\r\n         register auto"}]
[371,{"$f":"+IF(Data!$C$5>ROW(Brekeke!B372)-ROW(Brekeke!$B$358),\"\",\"#\")","v":"#"},{"$f":"+CONCATENATE(\"location-service LS_\",'Line Table'!A16,CHAR(13),CHAR(10),\"     domain 1 \",Data!$C$24,\" \",Data!$C$25,CHAR(13),CHAR(10),\"        identity-group default\",CHAR(13),CHAR(10),\"        authentication outbound\",CHAR(13),CHAR(10),\"        authenticate 1 authentication-service AS_ALL_LINES username \",'Line Table'!E16,CHAR(13),CHAR(10),\"     identity \",'Line Table'!B16,CHAR(13),CHAR(10),\"        authentication outbound\",CHAR(13),CHAR(10),\"         authenticate 1 authentication-service AS_ALL_LINES username \",'Line Table'!E16,CHAR(13),CHAR(10),\"        registration outbound\",CHAR(13),CHAR(10),\"        registrar \",Data!$C$24,\" \",Data!$C$25,CHAR(13),CHAR(10),\"        lifetime 300\",CHAR(13),CHAR(10),\"         register auto\")","v":"location-service LS_15\r\n     domain 1 10.10.50.23 5060\r\n        identity-group default\r\n        authentication outbound\r\n        authenticate 1 authentication-service AS_ALL_LINES username 10016\r\n     identity 10016\r\n        authentication outbound\r\n         authenticate 1 authentication-service AS_ALL_LINES username 10016\r\n        registration outbound\r\n        registrar 10.10.50.23 5060\r\n        lifetime 300\r\n         register auto"}]
[372,{"$f":"+IF(Data!$C$5>ROW(Brekeke!B373)-ROW(Brekeke!$B$358),\"\",\"#\")","v":"#"},{"$f":"+CONCATENATE(\"location-service LS_\",'Line Table'!A17,CHAR(13),CHAR(10),\"     domain 1 \",Data!$C$24,\" \",Data!$C$25,CHAR(13),CHAR(10),\"        identity-group default\",CHAR(13),CHAR(10),\"        authentication outbound\",CHAR(13),CHAR(10),\"        authenticate 1 authentication-service AS_ALL_LINES username \",'Line Table'!E17,CHAR(13),CHAR(10),\"     identity \",'Line Table'!B17,CHAR(13),CHAR(10),\"        authentication outbound\",CHAR(13),CHAR(10),\"         authenticate 1 authentication-service AS_ALL_LINES username \",'Line Table'!E17,CHAR(13),CHAR(10),\"        registration outbound\",CHAR(13),CHAR(10),\"        registrar \",Data!$C$24,\" \",Data!$C$25,CHAR(13),CHAR(10),\"        lifetime 300\",CHAR(13),CHAR(10),\"         register auto\")","v":"location-service LS_16\r\n     domain 1 10.10.50.23 5060\r\n        identity-group default\r\n        authentication outbound\r\n        authenticate 1 authentication-service AS_ALL_LINES username 10017\r\n     identity 10017\r\n        authentication outbound\r\n         authenticate 1 authentication-service AS_ALL_LINES username 10017\r\n        registration outbound\r\n        registrar 10.10.50.23 5060\r\n        lifetime 300\r\n         register auto"}]
[373,{"$f":"+IF(Data!$C$5>ROW(Brekeke!B374)-ROW(Brekeke!$B$358),\"\",\"#\")","v":"#"},{"$f":"+CONCATENATE(\"location-service LS_\",'Line Table'!A18,CHAR(13),CHAR(10),\"     domain 1 \",Data!$C$24,\" \",Data!$C$25,CHAR(13),CHAR(10),\"        identity-group default\",CHAR(13),CHAR(10),\"        authentication outbound\",CHAR(13),CHAR(10),\"        authenticate 1 authentication-service AS_ALL_LINES username \",'Line Table'!E18,CHAR(13),CHAR(10),\"     identity \",'Line Table'!B18,CHAR(13),CHAR(10),\"        authentication outbound\",CHAR(13),CHAR(10),\"         authenticate 1 authentication-service AS_ALL_LINES username \",'Line Table'!E18,CHAR(13),CHAR(10),\"        registration outbound\",CHAR(13),CHAR(10),\"        registrar \",Data!$C$24,\" \",Data!$C$25,CHAR(13),CHAR(10),\"        lifetime 300\",CHAR(13),CHAR(10),\"         register auto\")","v":"location-service LS_17\r\n     domain 1 10.10.50.23 5060\r\n        identity-group default\r\n        authentication outbound\r\n        authenticate 1 authentication-service AS_ALL_LINES username 10018\r\n     identity 10018\r\n        authentication outbound\r\n         authenticate 1 authentication-service AS_ALL_LINES username 10018\r\n        registration outbound\r\n        registrar 10.10.50.23 5060\r\n        lifetime 300\r\n         register auto"}]
[374,{"$f":"+IF(Data!$C$5>ROW(Brekeke!B375)-ROW(Brekeke!$B$358),\"\",\"#\")","v":"#"},{"$f":"+CONCATENATE(\"location-service LS_\",'Line Table'!A19,CHAR(13),CHAR(10),\"     domain 1 \",Data!$C$24,\" \",Data!$C$25,CHAR(13),CHAR(10),\"        identity-group default\",CHAR(13),CHAR(10),\"        authentication outbound\",CHAR(13),CHAR(10),\"        authenticate 1 authentication-service AS_ALL_LINES username \",'Line Table'!E19,CHAR(13),CHAR(10),\"     identity \",'Line Table'!B19,CHAR(13),CHAR(10),\"        authentication outbound\",CHAR(13),CHAR(10),\"         authenticate 1 authentication-service AS_ALL_LINES username \",'Line Table'!E19,CHAR(13),CHAR(10),\"        registration outbound\",CHAR(13),CHAR(10),\"        registrar \",Data!$C$24,\" \",Data!$C$25,CHAR(13),CHAR(10),\"        lifetime 300\",CHAR(13),CHAR(10),\"         register auto\")","v":"location-service LS_18\r\n     domain 1 10.10.50.23 5060\r\n        identity-group default\r\n        authentication outbound\r\n        authenticate 1 authentication-service AS_ALL_LINES username 10019\r\n     identity 10019\r\n        authentication outbound\r\n         authenticate 1 authentication-service AS_ALL_LINES username 10019\r\n        registration outbound\r\n        registrar 10.10.50.23 5060\r\n        lifetime 300\r\n         register auto"}]
[375,{"$f":"+IF(Data!$C$5>ROW(Brekeke!B376)-ROW(Brekeke!$B$358),\"\",\"#\")","v":"#"},{"$f":"+CONCATENATE(\"location-service LS_\",'Line Table'!A20,CHAR(13),CHAR(10),\"     domain 1 \",Data!$C$24,\" \",Data!$C$25,CHAR(13),CHAR(10),\"        identity-group default\",CHAR(13),CHAR(10),\"        authentication outbound\",CHAR(13),CHAR(10),\"        authenticate 1 authentication-service AS_ALL_LINES username \",'Line Table'!E20,CHAR(13),CHAR(10),\"     identity \",'Line Table'!B20,CHAR(13),CHAR(10),\"        authentication outbound\",CHAR(13),CHAR(10),\"         authenticate 1 authentication-service AS_ALL_LINES username \",'Line Table'!E20,CHAR(13),CHAR(10),\"        registration outbound\",CHAR(13),CHAR(10),\"        registrar \",Data!$C$24,\" \",Data!$C$25,CHAR(13),CHAR(10),\"        lifetime 300\",CHAR(13),CHAR(10),\"         register auto\")","v":"location-service LS_19\r\n     domain 1 10.10.50.23 5060\r\n        identity-group default\r\n        authentication outbound\r\n        authenticate 1 authentication-service AS_ALL_LINES username 10020\r\n     identity 10020\r\n        authentication outbound\r\n         authenticate 1 authentication-service AS_ALL_LINES username 10020\r\n        registration outbound\r\n        registrar 10.10.50.23 5060\r\n        lifetime 300\r\n         register auto"}]
[376,{"$f":"+IF(Data!$C$5>ROW(Brekeke!B377)-ROW(Brekeke!$B$358),\"\",\"#\")","v":"#"},{"$f":"+CONCATENATE(\"location-service LS_\",'Line Table'!A21,CHAR(13),CHAR(10),\"     domain 1 \",Data!$C$24,\" \",Data!$C$25,CHAR(13),CHAR(10),\"        identity-group default\",CHAR(13),CHAR(10),\"        authentication outbound\",CHAR(13),CHAR(10),\"        authenticate 1 authentication-service AS_ALL_LINES username \",'Line Table'!E21,CHAR(13),CHAR(10),\"     identity \",'Line Table'!B21,CHAR(13),CHAR(10),\"        authentication outbound\",CHAR(13),CHAR(10),\"         authenticate 1 authentication-service AS_ALL_LINES username \",'Line Table'!E21,CHAR(13),CHAR(10),\"        registration outbound\",CHAR(13),CHAR(10),\"        registrar \",Data!$C$24,\" \",Data!$C$25,CHAR(13),CHAR(10),\"        lifetime 300\",CHAR(13),CHAR(10),\"         register auto\")","v":"location-service LS_20\r\n     domain 1 10.10.50.23 5060\r\n        identity-group default\r\n        authentication outbound\r\n        authenticate 1 authentication-service AS_ALL_LINES username 10021\r\n     identity 10021\r\n        authentication outbound\r\n         authenticate 1 authentication-service AS_ALL_LINES username 10021\r\n        registration outbound\r\n        registrar 10.10.50.23 5060\r\n        lifetime 300\r\n         register auto"}]
[377,{"$f":"+IF(Data!$C$5>ROW(Brekeke!B378)-ROW(Brekeke!$B$358),\"\",\"#\")","v":"#"},{"$f":"+CONCATENATE(\"location-service LS_\",'Line Table'!A22,CHAR(13),CHAR(10),\"     domain 1 \",Data!$C$24,\" \",Data!$C$25,CHAR(13),CHAR(10),\"        identity-group default\",CHAR(13),CHAR(10),\"        authentication outbound\",CHAR(13),CHAR(10),\"        authenticate 1 authentication-service AS_ALL_LINES username \",'Line Table'!E22,CHAR(13),CHAR(10),\"     identity \",'Line Table'!B22,CHAR(13),CHAR(10),\"        authentication outbound\",CHAR(13),CHAR(10),\"         authenticate 1 authentication-service AS_ALL_LINES username \",'Line Table'!E22,CHAR(13),CHAR(10),\"        registration outbound\",CHAR(13),CHAR(10),\"        registrar \",Data!$C$24,\" \",Data!$C$25,CHAR(13),CHAR(10),\"        lifetime 300\",CHAR(13),CHAR(10),\"         register auto\")","v":"location-service LS_21\r\n     domain 1 10.10.50.23 5060\r\n        identity-group default\r\n        authentication outbound\r\n        authenticate 1 authentication-service AS_ALL_LINES username 10022\r\n     identity 10022\r\n        authentication outbound\r\n         authenticate 1 authentication-service AS_ALL_LINES username 10022\r\n        registration outbound\r\n        registrar 10.10.50.23 5060\r\n        lifetime 300\r\n         register auto"}]
[378,{"$f":"+IF(Data!$C$5>ROW(Brekeke!B379)-ROW(Brekeke!$B$358),\"\",\"#\")","v":"#"},{"$f":"+CONCATENATE(\"location-service LS_\",'Line Table'!A23,CHAR(13),CHAR(10),\"     domain 1 \",Data!$C$24,\" \",Data!$C$25,CHAR(13),CHAR(10),\"        identity-group default\",CHAR(13),CHAR(10),\"        authentication outbound\",CHAR(13),CHAR(10),\"        authenticate 1 authentication-service AS_ALL_LINES username \",'Line Table'!E23,CHAR(13),CHAR(10),\"     identity \",'Line Table'!B23,CHAR(13),CHAR(10),\"        authentication outbound\",CHAR(13),CHAR(10),\"         authenticate 1 authentication-service AS_ALL_LINES username \",'Line Table'!E23,CHAR(13),CHAR(10),\"        registration outbound\",CHAR(13),CHAR(10),\"        registrar \",Data!$C$24,\" \",Data!$C$25,CHAR(13),CHAR(10),\"        lifetime 300\",CHAR(13),CHAR(10),\"         register auto\")","v":"location-service LS_22\r\n     domain 1 10.10.50.23 5060\r\n        identity-group default\r\n        authentication outbound\r\n        authenticate 1 authentication-service AS_ALL_LINES username 10023\r\n     identity 10023\r\n        authentication outbound\r\n         authenticate 1 authentication-service AS_ALL_LINES username 10023\r\n        registration outbound\r\n        registrar 10.10.50.23 5060\r\n        lifetime 300\r\n         register auto"}]
[379,{"$f":"+IF(Data!$C$5>ROW(Brekeke!B380)-ROW(Brekeke!$B$358),\"\",\"#\")","v":"#"},{"$f":"+CONCATENATE(\"location-service LS_\",'Line Table'!A24,CHAR(13),CHAR(10),\"     domain 1 \",Data!$C$24,\" \",Data!$C$25,CHAR(13),CHAR(10),\"        identity-group default\",CHAR(13),CHAR(10),\"        authentication outbound\",CHAR(13),CHAR(10),\"        authenticate 1 authentication-service AS_ALL_LINES username \",'Line Table'!E24,CHAR(13),CHAR(10),\"     identity \",'Line Table'!B24,CHAR(13),CHAR(10),\"        authentication outbound\",CHAR(13),CHAR(10),\"         authenticate 1 authentication-service AS_ALL_LINES username \",'Line Table'!E24,CHAR(13),CHAR(10),\"        registration outbound\",CHAR(13),CHAR(10),\"        registrar \",Data!$C$24,\" \",Data!$C$25,CHAR(13),CHAR(10),\"        lifetime 300\",CHAR(13),CHAR(10),\"         register auto\")","v":"location-service LS_23\r\n     domain 1 10.10.50.23 5060\r\n        identity-group default\r\n        authentication outbound\r\n        authenticate 1 authentication-service AS_ALL_LINES username 10024\r\n     identity 10024\r\n        authentication outbound\r\n         authenticate 1 authentication-service AS_ALL_LINES username 10024\r\n        registration outbound\r\n        registrar 10.10.50.23 5060\r\n        lifetime 300\r\n         register auto"}]
[380,{"$f":"+IF(Data!$C$5>ROW(Brekeke!B381)-ROW(Brekeke!$B$358),\"\",\"#\")","v":"#"},{"$f":"+CONCATENATE(\"location-service LS_\",'Line Table'!A25,CHAR(13),CHAR(10),\"     domain 1 \",Data!$C$24,\" \",Data!$C$25,CHAR(13),CHAR(10),\"        identity-group default\",CHAR(13),CHAR(10),\"        authentication outbound\",CHAR(13),CHAR(10),\"        authenticate 1 authentication-service AS_ALL_LINES username \",'Line Table'!E25,CHAR(13),CHAR(10),\"     identity \",'Line Table'!B25,CHAR(13),CHAR(10),\"        authentication outbound\",CHAR(13),CHAR(10),\"         authenticate 1 authentication-service AS_ALL_LINES username \",'Line Table'!E25,CHAR(13),CHAR(10),\"        registration outbound\",CHAR(13),CHAR(10),\"        registrar \",Data!$C$24,\" \",Data!$C$25,CHAR(13),CHAR(10),\"        lifetime 300\",CHAR(13),CHAR(10),\"         register auto\")","v":"location-service LS_24\r\n     domain 1 10.10.50.23 5060\r\n        identity-group default\r\n        authentication outbound\r\n        authenticate 1 authentication-service AS_ALL_LINES username 10025\r\n     identity 10025\r\n        authentication outbound\r\n         authenticate 1 authentication-service AS_ALL_LINES username 10025\r\n        registration outbound\r\n        registrar 10.10.50.23 5060\r\n        lifetime 300\r\n         register auto"}]
[381,{"$f":"+IF(Data!$C$5>ROW(Brekeke!B382)-ROW(Brekeke!$B$358),\"\",\"#\")","v":"#"},{"$f":"+CONCATENATE(\"location-service LS_\",'Line Table'!A26,CHAR(13),CHAR(10),\"     domain 1 \",Data!$C$24,\" \",Data!$C$25,CHAR(13),CHAR(10),\"        identity-group default\",CHAR(13),CHAR(10),\"        authentication outbound\",CHAR(13),CHAR(10),\"        authenticate 1 authentication-service AS_ALL_LINES username \",'Line Table'!E26,CHAR(13),CHAR(10),\"     identity \",'Line Table'!B26,CHAR(13),CHAR(10),\"        authentication outbound\",CHAR(13),CHAR(10),\"         authenticate 1 authentication-service AS_ALL_LINES username \",'Line Table'!E26,CHAR(13),CHAR(10),\"        registration outbound\",CHAR(13),CHAR(10),\"        registrar \",Data!$C$24,\" \",Data!$C$25,CHAR(13),CHAR(10),\"        lifetime 300\",CHAR(13),CHAR(10),\"         register auto\")","v":"location-service LS_25\r\n     domain 1 10.10.50.23 5060\r\n        identity-group default\r\n        authentication outbound\r\n        authenticate 1 authentication-service AS_ALL_LINES username 10026\r\n     identity 10026\r\n        authentication outbound\r\n         authenticate 1 authentication-service AS_ALL_LINES username 10026\r\n        registration outbound\r\n        registrar 10.10.50.23 5060\r\n        lifetime 300\r\n         register auto"}]
[382,{"$f":"+IF(Data!$C$5>ROW(Brekeke!B383)-ROW(Brekeke!$B$358),\"\",\"#\")","v":"#"},{"$f":"+CONCATENATE(\"location-service LS_\",'Line Table'!A27,CHAR(13),CHAR(10),\"     domain 1 \",Data!$C$24,\" \",Data!$C$25,CHAR(13),CHAR(10),\"        identity-group default\",CHAR(13),CHAR(10),\"        authentication outbound\",CHAR(13),CHAR(10),\"        authenticate 1 authentication-service AS_ALL_LINES username \",'Line Table'!E27,CHAR(13),CHAR(10),\"     identity \",'Line Table'!B27,CHAR(13),CHAR(10),\"        authentication outbound\",CHAR(13),CHAR(10),\"         authenticate 1 authentication-service AS_ALL_LINES username \",'Line Table'!E27,CHAR(13),CHAR(10),\"        registration outbound\",CHAR(13),CHAR(10),\"        registrar \",Data!$C$24,\" \",Data!$C$25,CHAR(13),CHAR(10),\"        lifetime 300\",CHAR(13),CHAR(10),\"         register auto\")","v":"location-service LS_26\r\n     domain 1 10.10.50.23 5060\r\n        identity-group default\r\n        authentication outbound\r\n        authenticate 1 authentication-service AS_ALL_LINES username 10027\r\n     identity 10027\r\n        authentication outbound\r\n         authenticate 1 authentication-service AS_ALL_LINES username 10027\r\n        registration outbound\r\n        registrar 10.10.50.23 5060\r\n        lifetime 300\r\n         register auto"}]
[383,{"$f":"+IF(Data!$C$5>ROW(Brekeke!B384)-ROW(Brekeke!$B$358),\"\",\"#\")","v":"#"},{"$f":"+CONCATENATE(\"location-service LS_\",'Line Table'!A28,CHAR(13),CHAR(10),\"     domain 1 \",Data!$C$24,\" \",Data!$C$25,CHAR(13),CHAR(10),\"        identity-group default\",CHAR(13),CHAR(10),\"        authentication outbound\",CHAR(13),CHAR(10),\"        authenticate 1 authentication-service AS_ALL_LINES username \",'Line Table'!E28,CHAR(13),CHAR(10),\"     identity \",'Line Table'!B28,CHAR(13),CHAR(10),\"        authentication outbound\",CHAR(13),CHAR(10),\"         authenticate 1 authentication-service AS_ALL_LINES username \",'Line Table'!E28,CHAR(13),CHAR(10),\"        registration outbound\",CHAR(13),CHAR(10),\"        registrar \",Data!$C$24,\" \",Data!$C$25,CHAR(13),CHAR(10),\"        lifetime 300\",CHAR(13),CHAR(10),\"         register auto\")","v":"location-service LS_27\r\n     domain 1 10.10.50.23 5060\r\n        identity-group default\r\n        authentication outbound\r\n        authenticate 1 authentication-service AS_ALL_LINES username 10028\r\n     identity 10028\r\n        authentication outbound\r\n         authenticate 1 authentication-service AS_ALL_LINES username 10028\r\n        registration outbound\r\n        registrar 10.10.50.23 5060\r\n        lifetime 300\r\n         register auto"}]
[384,{"$f":"+IF(Data!$C$5>ROW(Brekeke!B385)-ROW(Brekeke!$B$358),\"\",\"#\")","v":"#"},{"$f":"+CONCATENATE(\"location-service LS_\",'Line Table'!A29,CHAR(13),CHAR(10),\"     domain 1 \",Data!$C$24,\" \",Data!$C$25,CHAR(13),CHAR(10),\"        identity-group default\",CHAR(13),CHAR(10),\"        authentication outbound\",CHAR(13),CHAR(10),\"        authenticate 1 authentication-service AS_ALL_LINES username \",'Line Table'!E29,CHAR(13),CHAR(10),\"     identity \",'Line Table'!B29,CHAR(13),CHAR(10),\"        authentication outbound\",CHAR(13),CHAR(10),\"         authenticate 1 authentication-service AS_ALL_LINES username \",'Line Table'!E29,CHAR(13),CHAR(10),\"        registration outbound\",CHAR(13),CHAR(10),\"        registrar \",Data!$C$24,\" \",Data!$C$25,CHAR(13),CHAR(10),\"        lifetime 300\",CHAR(13),CHAR(10),\"         register auto\")","v":"location-service LS_28\r\n     domain 1 10.10.50.23 5060\r\n        identity-group default\r\n        authentication outbound\r\n        authenticate 1 authentication-service AS_ALL_LINES username 10029\r\n     identity 10029\r\n        authentication outbound\r\n         authenticate 1 authentication-service AS_ALL_LINES username 10029\r\n        registration outbound\r\n        registrar 10.10.50.23 5060\r\n        lifetime 300\r\n         register auto"}]
[385,{"$f":"+IF(Data!$C$5>ROW(Brekeke!B386)-ROW(Brekeke!$B$358),\"\",\"#\")","v":"#"},{"$f":"+CONCATENATE(\"location-service LS_\",'Line Table'!A30,CHAR(13),CHAR(10),\"     domain 1 \",Data!$C$24,\" \",Data!$C$25,CHAR(13),CHAR(10),\"        identity-group default\",CHAR(13),CHAR(10),\"        authentication outbound\",CHAR(13),CHAR(10),\"        authenticate 1 authentication-service AS_ALL_LINES username \",'Line Table'!E30,CHAR(13),CHAR(10),\"     identity \",'Line Table'!B30,CHAR(13),CHAR(10),\"        authentication outbound\",CHAR(13),CHAR(10),\"         authenticate 1 authentication-service AS_ALL_LINES username \",'Line Table'!E30,CHAR(13),CHAR(10),\"        registration outbound\",CHAR(13),CHAR(10),\"        registrar \",Data!$C$24,\" \",Data!$C$25,CHAR(13),CHAR(10),\"        lifetime 300\",CHAR(13),CHAR(10),\"         register auto\")","v":"location-service LS_29\r\n     domain 1 10.10.50.23 5060\r\n        identity-group default\r\n        authentication outbound\r\n        authenticate 1 authentication-service AS_ALL_LINES username 10030\r\n     identity 10030\r\n        authentication outbound\r\n         authenticate 1 authentication-service AS_ALL_LINES username 10030\r\n        registration outbound\r\n        registrar 10.10.50.23 5060\r\n        lifetime 300\r\n         register auto"}]
[386,{"$f":"+IF(Data!$C$5>ROW(Brekeke!B387)-ROW(Brekeke!$B$358),\"\",\"#\")","v":"#"},{"$f":"+CONCATENATE(\"location-service LS_\",'Line Table'!A31,CHAR(13),CHAR(10),\"     domain 1 \",Data!$C$24,\" \",Data!$C$25,CHAR(13),CHAR(10),\"        identity-group default\",CHAR(13),CHAR(10),\"        authentication outbound\",CHAR(13),CHAR(10),\"        authenticate 1 authentication-service AS_ALL_LINES username \",'Line Table'!E31,CHAR(13),CHAR(10),\"     identity \",'Line Table'!B31,CHAR(13),CHAR(10),\"        authentication outbound\",CHAR(13),CHAR(10),\"         authenticate 1 authentication-service AS_ALL_LINES username \",'Line Table'!E31,CHAR(13),CHAR(10),\"        registration outbound\",CHAR(13),CHAR(10),\"        registrar \",Data!$C$24,\" \",Data!$C$25,CHAR(13),CHAR(10),\"        lifetime 300\",CHAR(13),CHAR(10),\"         register auto\")","v":"location-service LS_30\r\n     domain 1 10.10.50.23 5060\r\n        identity-group default\r\n        authentication outbound\r\n        authenticate 1 authentication-service AS_ALL_LINES username 10031\r\n     identity 10031\r\n        authentication outbound\r\n         authenticate 1 authentication-service AS_ALL_LINES username 10031\r\n        registration outbound\r\n        registrar 10.10.50.23 5060\r\n        lifetime 300\r\n         register auto"}]
[387,{"$f":"+IF(Data!$C$5>ROW(Brekeke!B388)-ROW(Brekeke!$B$358),\"\",\"#\")","v":"#"},{"$f":"+CONCATENATE(\"location-service LS_\",'Line Table'!A32,CHAR(13),CHAR(10),\"     domain 1 \",Data!$C$24,\" \",Data!$C$25,CHAR(13),CHAR(10),\"        identity-group default\",CHAR(13),CHAR(10),\"        authentication outbound\",CHAR(13),CHAR(10),\"        authenticate 1 authentication-service AS_ALL_LINES username \",'Line Table'!E32,CHAR(13),CHAR(10),\"     identity \",'Line Table'!B32,CHAR(13),CHAR(10),\"        authentication outbound\",CHAR(13),CHAR(10),\"         authenticate 1 authentication-service AS_ALL_LINES username \",'Line Table'!E32,CHAR(13),CHAR(10),\"        registration outbound\",CHAR(13),CHAR(10),\"        registrar \",Data!$C$24,\" \",Data!$C$25,CHAR(13),CHAR(10),\"        lifetime 300\",CHAR(13),CHAR(10),\"         register auto\")","v":"location-service LS_31\r\n     domain 1 10.10.50.23 5060\r\n        identity-group default\r\n        authentication outbound\r\n        authenticate 1 authentication-service AS_ALL_LINES username 10032\r\n     identity 10032\r\n        authentication outbound\r\n         authenticate 1 authentication-service AS_ALL_LINES username 10032\r\n        registration outbound\r\n        registrar 10.10.50.23 5060\r\n        lifetime 300\r\n         register auto"}]
[388,{"$f":"+IF(Data!$C$5>ROW(Brekeke!B389)-ROW(Brekeke!$B$358),\"\",\"#\")","v":"#"},{"$f":"+CONCATENATE(\"location-service LS_\",'Line Table'!A33,CHAR(13),CHAR(10),\"     domain 1 \",Data!$C$24,\" \",Data!$C$25,CHAR(13),CHAR(10),\"        identity-group default\",CHAR(13),CHAR(10),\"        authentication outbound\",CHAR(13),CHAR(10),\"        authenticate 1 authentication-service AS_ALL_LINES username \",'Line Table'!E33,CHAR(13),CHAR(10),\"     identity \",'Line Table'!B33,CHAR(13),CHAR(10),\"        authentication outbound\",CHAR(13),CHAR(10),\"         authenticate 1 authentication-service AS_ALL_LINES username \",'Line Table'!E33,CHAR(13),CHAR(10),\"        registration outbound\",CHAR(13),CHAR(10),\"        registrar \",Data!$C$24,\" \",Data!$C$25,CHAR(13),CHAR(10),\"        lifetime 300\",CHAR(13),CHAR(10),\"         register auto\")","v":"location-service LS_32\r\n     domain 1 10.10.50.23 5060\r\n        identity-group default\r\n        authentication outbound\r\n        authenticate 1 authentication-service AS_ALL_LINES username 10033\r\n     identity 10033\r\n        authentication outbound\r\n         authenticate 1 authentication-service AS_ALL_LINES username 10033\r\n        registration outbound\r\n        registrar 10.10.50.23 5060\r\n        lifetime 300\r\n         register auto"}]
[389,null,"          "]
[390,{"$f":"+IF(Data!$C$5>ROW(Brekeke!B391)-ROW(Brekeke!$B$391),\"\",\"#\")","v":""},{"$f":"+CONCATENATE(\"context sip-gateway GW_SIP_\",'Line Table'!A2,CHAR(13),CHAR(10),\" interface \",Data!$C$8,CHAR(13),CHAR(10),\" bind interface IF_IP_\",Data!$C$8,\" context router port \",'Line Table'!G2,CHAR(13),CHAR(10),\" context sip-gateway GW_SIP_\",'Line Table'!A2,CHAR(13),CHAR(10),\" bind location-service LS_\",'Line Table'!A2,CHAR(13),CHAR(10),\" no shutdown\")","v":"context sip-gateway GW_SIP_1\r\n interface LAN\r\n bind interface IF_IP_LAN context router port 5060\r\n context sip-gateway GW_SIP_1\r\n bind location-service LS_1\r\n no shutdown"}]
[391,{"$f":"+IF(Data!$C$5>ROW(Brekeke!B392)-ROW(Brekeke!$B$391),\"\",\"#\")","v":""},{"$f":"+CONCATENATE(\"context sip-gateway GW_SIP_\",'Line Table'!A3,CHAR(13),CHAR(10),\" interface \",Data!$C$8,CHAR(13),CHAR(10),\" bind interface IF_IP_\",Data!$C$8,\" context router port \",'Line Table'!G3,CHAR(13),CHAR(10),\" context sip-gateway GW_SIP_\",'Line Table'!A3,CHAR(13),CHAR(10),\" bind location-service LS_\",'Line Table'!A3,CHAR(13),CHAR(10),\" no shutdown\")","v":"context sip-gateway GW_SIP_2\r\n interface LAN\r\n bind interface IF_IP_LAN context router port 5062\r\n context sip-gateway GW_SIP_2\r\n bind location-service LS_2\r\n no shutdown"}]
[392,{"$f":"+IF(Data!$C$5>ROW(Brekeke!B393)-ROW(Brekeke!$B$391),\"\",\"#\")","v":""},{"$f":"+CONCATENATE(\"context sip-gateway GW_SIP_\",'Line Table'!A4,CHAR(13),CHAR(10),\" interface \",Data!$C$8,CHAR(13),CHAR(10),\" bind interface IF_IP_\",Data!$C$8,\" context router port \",'Line Table'!G4,CHAR(13),CHAR(10),\" context sip-gateway GW_SIP_\",'Line Table'!A4,CHAR(13),CHAR(10),\" bind location-service LS_\",'Line Table'!A4,CHAR(13),CHAR(10),\" no shutdown\")","v":"context sip-gateway GW_SIP_3\r\n interface LAN\r\n bind interface IF_IP_LAN context router port 5064\r\n context sip-gateway GW_SIP_3\r\n bind location-service LS_3\r\n no shutdown"}]
[393,{"$f":"+IF(Data!$C$5>ROW(Brekeke!B394)-ROW(Brekeke!$B$391),\"\",\"#\")","v":""},{"$f":"+CONCATENATE(\"context sip-gateway GW_SIP_\",'Line Table'!A5,CHAR(13),CHAR(10),\" interface \",Data!$C$8,CHAR(13),CHAR(10),\" bind interface IF_IP_\",Data!$C$8,\" context router port \",'Line Table'!G5,CHAR(13),CHAR(10),\" context sip-gateway GW_SIP_\",'Line Table'!A5,CHAR(13),CHAR(10),\" bind location-service LS_\",'Line Table'!A5,CHAR(13),CHAR(10),\" no shutdown\")","v":"context sip-gateway GW_SIP_4\r\n interface LAN\r\n bind interface IF_IP_LAN context router port 5066\r\n context sip-gateway GW_SIP_4\r\n bind location-service LS_4\r\n no shutdown"}]
[394,{"$f":"+IF(Data!$C$5>ROW(Brekeke!B395)-ROW(Brekeke!$B$391),\"\",\"#\")","v":""},{"$f":"+CONCATENATE(\"context sip-gateway GW_SIP_\",'Line Table'!A6,CHAR(13),CHAR(10),\" interface \",Data!$C$8,CHAR(13),CHAR(10),\" bind interface IF_IP_\",Data!$C$8,\" context router port \",'Line Table'!G6,CHAR(13),CHAR(10),\" context sip-gateway GW_SIP_\",'Line Table'!A6,CHAR(13),CHAR(10),\" bind location-service LS_\",'Line Table'!A6,CHAR(13),CHAR(10),\" no shutdown\")","v":"context sip-gateway GW_SIP_5\r\n interface LAN\r\n bind interface IF_IP_LAN context router port 5068\r\n context sip-gateway GW_SIP_5\r\n bind location-service LS_5\r\n no shutdown"}]
[395,{"$f":"+IF(Data!$C$5>ROW(Brekeke!B396)-ROW(Brekeke!$B$391),\"\",\"#\")","v":""},{"$f":"+CONCATENATE(\"context sip-gateway GW_SIP_\",'Line Table'!A7,CHAR(13),CHAR(10),\" interface \",Data!$C$8,CHAR(13),CHAR(10),\" bind interface IF_IP_\",Data!$C$8,\" context router port \",'Line Table'!G7,CHAR(13),CHAR(10),\" context sip-gateway GW_SIP_\",'Line Table'!A7,CHAR(13),CHAR(10),\" bind location-service LS_\",'Line Table'!A7,CHAR(13),CHAR(10),\" no shutdown\")","v":"context sip-gateway GW_SIP_6\r\n interface LAN\r\n bind interface IF_IP_LAN context router port 5070\r\n context sip-gateway GW_SIP_6\r\n bind location-service LS_6\r\n no shutdown"}]
[396,{"$f":"+IF(Data!$C$5>ROW(Brekeke!B397)-ROW(Brekeke!$B$391),\"\",\"#\")","v":""},{"$f":"+CONCATENATE(\"context sip-gateway GW_SIP_\",'Line Table'!A8,CHAR(13),CHAR(10),\" interface \",Data!$C$8,CHAR(13),CHAR(10),\" bind interface IF_IP_\",Data!$C$8,\" context router port \",'Line Table'!G8,CHAR(13),CHAR(10),\" context sip-gateway GW_SIP_\",'Line Table'!A8,CHAR(13),CHAR(10),\" bind location-service LS_\",'Line Table'!A8,CHAR(13),CHAR(10),\" no shutdown\")","v":"context sip-gateway GW_SIP_7\r\n interface LAN\r\n bind interface IF_IP_LAN context router port 5072\r\n context sip-gateway GW_SIP_7\r\n bind location-service LS_7\r\n no shutdown"}]
[397,{"$f":"+IF(Data!$C$5>ROW(Brekeke!B398)-ROW(Brekeke!$B$391),\"\",\"#\")","v":""},{"$f":"+CONCATENATE(\"context sip-gateway GW_SIP_\",'Line Table'!A9,CHAR(13),CHAR(10),\" interface \",Data!$C$8,CHAR(13),CHAR(10),\" bind interface IF_IP_\",Data!$C$8,\" context router port \",'Line Table'!G9,CHAR(13),CHAR(10),\" context sip-gateway GW_SIP_\",'Line Table'!A9,CHAR(13),CHAR(10),\" bind location-service LS_\",'Line Table'!A9,CHAR(13),CHAR(10),\" no shutdown\")","v":"context sip-gateway GW_SIP_8\r\n interface LAN\r\n bind interface IF_IP_LAN context router port 5074\r\n context sip-gateway GW_SIP_8\r\n bind location-service LS_8\r\n no shutdown"}]
[398,{"$f":"+IF(Data!$C$5>ROW(Brekeke!B399)-ROW(Brekeke!$B$391),\"\",\"#\")","v":""},{"$f":"+CONCATENATE(\"context sip-gateway GW_SIP_\",'Line Table'!A10,CHAR(13),CHAR(10),\" interface \",Data!$C$8,CHAR(13),CHAR(10),\" bind interface IF_IP_\",Data!$C$8,\" context router port \",'Line Table'!G10,CHAR(13),CHAR(10),\" context sip-gateway GW_SIP_\",'Line Table'!A10,CHAR(13),CHAR(10),\" bind location-service LS_\",'Line Table'!A10,CHAR(13),CHAR(10),\" no shutdown\")","v":"context sip-gateway GW_SIP_9\r\n interface LAN\r\n bind interface IF_IP_LAN context router port 5076\r\n context sip-gateway GW_SIP_9\r\n bind location-service LS_9\r\n no shutdown"}]
[399,{"$f":"+IF(Data!$C$5>ROW(Brekeke!B400)-ROW(Brekeke!$B$391),\"\",\"#\")","v":""},{"$f":"+CONCATENATE(\"context sip-gateway GW_SIP_\",'Line Table'!A11,CHAR(13),CHAR(10),\" interface \",Data!$C$8,CHAR(13),CHAR(10),\" bind interface IF_IP_\",Data!$C$8,\" context router port \",'Line Table'!G11,CHAR(13),CHAR(10),\" context sip-gateway GW_SIP_\",'Line Table'!A11,CHAR(13),CHAR(10),\" bind location-service LS_\",'Line Table'!A11,CHAR(13),CHAR(10),\" no shutdown\")","v":"context sip-gateway GW_SIP_10\r\n interface LAN\r\n bind interface IF_IP_LAN context router port 5078\r\n context sip-gateway GW_SIP_10\r\n bind location-service LS_10\r\n no shutdown"}]
[400,{"$f":"+IF(Data!$C$5>ROW(Brekeke!B401)-ROW(Brekeke!$B$391),\"\",\"#\")","v":""},{"$f":"+CONCATENATE(\"context sip-gateway GW_SIP_\",'Line Table'!A12,CHAR(13),CHAR(10),\" interface \",Data!$C$8,CHAR(13),CHAR(10),\" bind interface IF_IP_\",Data!$C$8,\" context router port \",'Line Table'!G12,CHAR(13),CHAR(10),\" context sip-gateway GW_SIP_\",'Line Table'!A12,CHAR(13),CHAR(10),\" bind location-service LS_\",'Line Table'!A12,CHAR(13),CHAR(10),\" no shutdown\")","v":"context sip-gateway GW_SIP_11\r\n interface LAN\r\n bind interface IF_IP_LAN context router port 5080\r\n context sip-gateway GW_SIP_11\r\n bind location-service LS_11\r\n no shutdown"}]
[401,{"$f":"+IF(Data!$C$5>ROW(Brekeke!B402)-ROW(Brekeke!$B$391),\"\",\"#\")","v":""},{"$f":"+CONCATENATE(\"context sip-gateway GW_SIP_\",'Line Table'!A13,CHAR(13),CHAR(10),\" interface \",Data!$C$8,CHAR(13),CHAR(10),\" bind interface IF_IP_\",Data!$C$8,\" context router port \",'Line Table'!G13,CHAR(13),CHAR(10),\" context sip-gateway GW_SIP_\",'Line Table'!A13,CHAR(13),CHAR(10),\" bind location-service LS_\",'Line Table'!A13,CHAR(13),CHAR(10),\" no shutdown\")","v":"context sip-gateway GW_SIP_12\r\n interface LAN\r\n bind interface IF_IP_LAN context router port 5082\r\n context sip-gateway GW_SIP_12\r\n bind location-service LS_12\r\n no shutdown"}]
[402,{"$f":"+IF(Data!$C$5>ROW(Brekeke!B403)-ROW(Brekeke!$B$391),\"\",\"#\")","v":"#"},{"$f":"+CONCATENATE(\"context sip-gateway GW_SIP_\",'Line Table'!A14,CHAR(13),CHAR(10),\" interface \",Data!$C$8,CHAR(13),CHAR(10),\" bind interface IF_IP_\",Data!$C$8,\" context router port \",'Line Table'!G14,CHAR(13),CHAR(10),\" context sip-gateway GW_SIP_\",'Line Table'!A14,CHAR(13),CHAR(10),\" bind location-service LS_\",'Line Table'!A14,CHAR(13),CHAR(10),\" no shutdown\")","v":"context sip-gateway GW_SIP_13\r\n interface LAN\r\n bind interface IF_IP_LAN context router port 5084\r\n context sip-gateway GW_SIP_13\r\n bind location-service LS_13\r\n no shutdown"}]
[403,{"$f":"+IF(Data!$C$5>ROW(Brekeke!B404)-ROW(Brekeke!$B$391),\"\",\"#\")","v":"#"},{"$f":"+CONCATENATE(\"context sip-gateway GW_SIP_\",'Line Table'!A15,CHAR(13),CHAR(10),\" interface \",Data!$C$8,CHAR(13),CHAR(10),\" bind interface IF_IP_\",Data!$C$8,\" context router port \",'Line Table'!G15,CHAR(13),CHAR(10),\" context sip-gateway GW_SIP_\",'Line Table'!A15,CHAR(13),CHAR(10),\" bind location-service LS_\",'Line Table'!A15,CHAR(13),CHAR(10),\" no shutdown\")","v":"context sip-gateway GW_SIP_14\r\n interface LAN\r\n bind interface IF_IP_LAN context router port 5086\r\n context sip-gateway GW_SIP_14\r\n bind location-service LS_14\r\n no shutdown"}]
[404,{"$f":"+IF(Data!$C$5>ROW(Brekeke!B405)-ROW(Brekeke!$B$391),\"\",\"#\")","v":"#"},{"$f":"+CONCATENATE(\"context sip-gateway GW_SIP_\",'Line Table'!A16,CHAR(13),CHAR(10),\" interface \",Data!$C$8,CHAR(13),CHAR(10),\" bind interface IF_IP_\",Data!$C$8,\" context router port \",'Line Table'!G16,CHAR(13),CHAR(10),\" context sip-gateway GW_SIP_\",'Line Table'!A16,CHAR(13),CHAR(10),\" bind location-service LS_\",'Line Table'!A16,CHAR(13),CHAR(10),\" no shutdown\")","v":"context sip-gateway GW_SIP_15\r\n interface LAN\r\n bind interface IF_IP_LAN context router port 5088\r\n context sip-gateway GW_SIP_15\r\n bind location-service LS_15\r\n no shutdown"}]
[405,{"$f":"+IF(Data!$C$5>ROW(Brekeke!B406)-ROW(Brekeke!$B$391),\"\",\"#\")","v":"#"},{"$f":"+CONCATENATE(\"context sip-gateway GW_SIP_\",'Line Table'!A17,CHAR(13),CHAR(10),\" interface \",Data!$C$8,CHAR(13),CHAR(10),\" bind interface IF_IP_\",Data!$C$8,\" context router port \",'Line Table'!G17,CHAR(13),CHAR(10),\" context sip-gateway GW_SIP_\",'Line Table'!A17,CHAR(13),CHAR(10),\" bind location-service LS_\",'Line Table'!A17,CHAR(13),CHAR(10),\" no shutdown\")","v":"context sip-gateway GW_SIP_16\r\n interface LAN\r\n bind interface IF_IP_LAN context router port 5090\r\n context sip-gateway GW_SIP_16\r\n bind location-service LS_16\r\n no shutdown"}]
[406,{"$f":"+IF(Data!$C$5>ROW(Brekeke!B407)-ROW(Brekeke!$B$391),\"\",\"#\")","v":"#"},{"$f":"+CONCATENATE(\"context sip-gateway GW_SIP_\",'Line Table'!A18,CHAR(13),CHAR(10),\" interface \",Data!$C$8,CHAR(13),CHAR(10),\" bind interface IF_IP_\",Data!$C$8,\" context router port \",'Line Table'!G18,CHAR(13),CHAR(10),\" context sip-gateway GW_SIP_\",'Line Table'!A18,CHAR(13),CHAR(10),\" bind location-service LS_\",'Line Table'!A18,CHAR(13),CHAR(10),\" no shutdown\")","v":"context sip-gateway GW_SIP_17\r\n interface LAN\r\n bind interface IF_IP_LAN context router port 5092\r\n context sip-gateway GW_SIP_17\r\n bind location-service LS_17\r\n no shutdown"}]
[407,{"$f":"+IF(Data!$C$5>ROW(Brekeke!B408)-ROW(Brekeke!$B$391),\"\",\"#\")","v":"#"},{"$f":"+CONCATENATE(\"context sip-gateway GW_SIP_\",'Line Table'!A19,CHAR(13),CHAR(10),\" interface \",Data!$C$8,CHAR(13),CHAR(10),\" bind interface IF_IP_\",Data!$C$8,\" context router port \",'Line Table'!G19,CHAR(13),CHAR(10),\" context sip-gateway GW_SIP_\",'Line Table'!A19,CHAR(13),CHAR(10),\" bind location-service LS_\",'Line Table'!A19,CHAR(13),CHAR(10),\" no shutdown\")","v":"context sip-gateway GW_SIP_18\r\n interface LAN\r\n bind interface IF_IP_LAN context router port 5094\r\n context sip-gateway GW_SIP_18\r\n bind location-service LS_18\r\n no shutdown"}]
[408,{"$f":"+IF(Data!$C$5>ROW(Brekeke!B409)-ROW(Brekeke!$B$391),\"\",\"#\")","v":"#"},{"$f":"+CONCATENATE(\"context sip-gateway GW_SIP_\",'Line Table'!A20,CHAR(13),CHAR(10),\" interface \",Data!$C$8,CHAR(13),CHAR(10),\" bind interface IF_IP_\",Data!$C$8,\" context router port \",'Line Table'!G20,CHAR(13),CHAR(10),\" context sip-gateway GW_SIP_\",'Line Table'!A20,CHAR(13),CHAR(10),\" bind location-service LS_\",'Line Table'!A20,CHAR(13),CHAR(10),\" no shutdown\")","v":"context sip-gateway GW_SIP_19\r\n interface LAN\r\n bind interface IF_IP_LAN context router port 5096\r\n context sip-gateway GW_SIP_19\r\n bind location-service LS_19\r\n no shutdown"}]
[409,{"$f":"+IF(Data!$C$5>ROW(Brekeke!B410)-ROW(Brekeke!$B$391),\"\",\"#\")","v":"#"},{"$f":"+CONCATENATE(\"context sip-gateway GW_SIP_\",'Line Table'!A21,CHAR(13),CHAR(10),\" interface \",Data!$C$8,CHAR(13),CHAR(10),\" bind interface IF_IP_\",Data!$C$8,\" context router port \",'Line Table'!G21,CHAR(13),CHAR(10),\" context sip-gateway GW_SIP_\",'Line Table'!A21,CHAR(13),CHAR(10),\" bind location-service LS_\",'Line Table'!A21,CHAR(13),CHAR(10),\" no shutdown\")","v":"context sip-gateway GW_SIP_20\r\n interface LAN\r\n bind interface IF_IP_LAN context router port 5098\r\n context sip-gateway GW_SIP_20\r\n bind location-service LS_20\r\n no shutdown"}]
[410,{"$f":"+IF(Data!$C$5>ROW(Brekeke!B411)-ROW(Brekeke!$B$391),\"\",\"#\")","v":"#"},{"$f":"+CONCATENATE(\"context sip-gateway GW_SIP_\",'Line Table'!A22,CHAR(13),CHAR(10),\" interface \",Data!$C$8,CHAR(13),CHAR(10),\" bind interface IF_IP_\",Data!$C$8,\" context router port \",'Line Table'!G22,CHAR(13),CHAR(10),\" context sip-gateway GW_SIP_\",'Line Table'!A22,CHAR(13),CHAR(10),\" bind location-service LS_\",'Line Table'!A22,CHAR(13),CHAR(10),\" no shutdown\")","v":"context sip-gateway GW_SIP_21\r\n interface LAN\r\n bind interface IF_IP_LAN context router port 5100\r\n context sip-gateway GW_SIP_21\r\n bind location-service LS_21\r\n no shutdown"}]
[411,{"$f":"+IF(Data!$C$5>ROW(Brekeke!B412)-ROW(Brekeke!$B$391),\"\",\"#\")","v":"#"},{"$f":"+CONCATENATE(\"context sip-gateway GW_SIP_\",'Line Table'!A23,CHAR(13),CHAR(10),\" interface \",Data!$C$8,CHAR(13),CHAR(10),\" bind interface IF_IP_\",Data!$C$8,\" context router port \",'Line Table'!G23,CHAR(13),CHAR(10),\" context sip-gateway GW_SIP_\",'Line Table'!A23,CHAR(13),CHAR(10),\" bind location-service LS_\",'Line Table'!A23,CHAR(13),CHAR(10),\" no shutdown\")","v":"context sip-gateway GW_SIP_22\r\n interface LAN\r\n bind interface IF_IP_LAN context router port 5102\r\n context sip-gateway GW_SIP_22\r\n bind location-service LS_22\r\n no shutdown"}]
[412,{"$f":"+IF(Data!$C$5>ROW(Brekeke!B413)-ROW(Brekeke!$B$391),\"\",\"#\")","v":"#"},{"$f":"+CONCATENATE(\"context sip-gateway GW_SIP_\",'Line Table'!A24,CHAR(13),CHAR(10),\" interface \",Data!$C$8,CHAR(13),CHAR(10),\" bind interface IF_IP_\",Data!$C$8,\" context router port \",'Line Table'!G24,CHAR(13),CHAR(10),\" context sip-gateway GW_SIP_\",'Line Table'!A24,CHAR(13),CHAR(10),\" bind location-service LS_\",'Line Table'!A24,CHAR(13),CHAR(10),\" no shutdown\")","v":"context sip-gateway GW_SIP_23\r\n interface LAN\r\n bind interface IF_IP_LAN context router port 5104\r\n context sip-gateway GW_SIP_23\r\n bind location-service LS_23\r\n no shutdown"}]
[413,{"$f":"+IF(Data!$C$5>ROW(Brekeke!B414)-ROW(Brekeke!$B$391),\"\",\"#\")","v":"#"},{"$f":"+CONCATENATE(\"context sip-gateway GW_SIP_\",'Line Table'!A25,CHAR(13),CHAR(10),\" interface \",Data!$C$8,CHAR(13),CHAR(10),\" bind interface IF_IP_\",Data!$C$8,\" context router port \",'Line Table'!G25,CHAR(13),CHAR(10),\" context sip-gateway GW_SIP_\",'Line Table'!A25,CHAR(13),CHAR(10),\" bind location-service LS_\",'Line Table'!A25,CHAR(13),CHAR(10),\" no shutdown\")","v":"context sip-gateway GW_SIP_24\r\n interface LAN\r\n bind interface IF_IP_LAN context router port 5106\r\n context sip-gateway GW_SIP_24\r\n bind location-service LS_24\r\n no shutdown"}]
[414,{"$f":"+IF(Data!$C$5>ROW(Brekeke!B415)-ROW(Brekeke!$B$391),\"\",\"#\")","v":"#"},{"$f":"+CONCATENATE(\"context sip-gateway GW_SIP_\",'Line Table'!A26,CHAR(13),CHAR(10),\" interface \",Data!$C$8,CHAR(13),CHAR(10),\" bind interface IF_IP_\",Data!$C$8,\" context router port \",'Line Table'!G26,CHAR(13),CHAR(10),\" context sip-gateway GW_SIP_\",'Line Table'!A26,CHAR(13),CHAR(10),\" bind location-service LS_\",'Line Table'!A26,CHAR(13),CHAR(10),\" no shutdown\")","v":"context sip-gateway GW_SIP_25\r\n interface LAN\r\n bind interface IF_IP_LAN context router port 5108\r\n context sip-gateway GW_SIP_25\r\n bind location-service LS_25\r\n no shutdown"}]
[415,{"$f":"+IF(Data!$C$5>ROW(Brekeke!B416)-ROW(Brekeke!$B$391),\"\",\"#\")","v":"#"},{"$f":"+CONCATENATE(\"context sip-gateway GW_SIP_\",'Line Table'!A27,CHAR(13),CHAR(10),\" interface \",Data!$C$8,CHAR(13),CHAR(10),\" bind interface IF_IP_\",Data!$C$8,\" context router port \",'Line Table'!G27,CHAR(13),CHAR(10),\" context sip-gateway GW_SIP_\",'Line Table'!A27,CHAR(13),CHAR(10),\" bind location-service LS_\",'Line Table'!A27,CHAR(13),CHAR(10),\" no shutdown\")","v":"context sip-gateway GW_SIP_26\r\n interface LAN\r\n bind interface IF_IP_LAN context router port 5110\r\n context sip-gateway GW_SIP_26\r\n bind location-service LS_26\r\n no shutdown"}]
[416,{"$f":"+IF(Data!$C$5>ROW(Brekeke!B417)-ROW(Brekeke!$B$391),\"\",\"#\")","v":"#"},{"$f":"+CONCATENATE(\"context sip-gateway GW_SIP_\",'Line Table'!A28,CHAR(13),CHAR(10),\" interface \",Data!$C$8,CHAR(13),CHAR(10),\" bind interface IF_IP_\",Data!$C$8,\" context router port \",'Line Table'!G28,CHAR(13),CHAR(10),\" context sip-gateway GW_SIP_\",'Line Table'!A28,CHAR(13),CHAR(10),\" bind location-service LS_\",'Line Table'!A28,CHAR(13),CHAR(10),\" no shutdown\")","v":"context sip-gateway GW_SIP_27\r\n interface LAN\r\n bind interface IF_IP_LAN context router port 5112\r\n context sip-gateway GW_SIP_27\r\n bind location-service LS_27\r\n no shutdown"}]
[417,{"$f":"+IF(Data!$C$5>ROW(Brekeke!B418)-ROW(Brekeke!$B$391),\"\",\"#\")","v":"#"},{"$f":"+CONCATENATE(\"context sip-gateway GW_SIP_\",'Line Table'!A29,CHAR(13),CHAR(10),\" interface \",Data!$C$8,CHAR(13),CHAR(10),\" bind interface IF_IP_\",Data!$C$8,\" context router port \",'Line Table'!G29,CHAR(13),CHAR(10),\" context sip-gateway GW_SIP_\",'Line Table'!A29,CHAR(13),CHAR(10),\" bind location-service LS_\",'Line Table'!A29,CHAR(13),CHAR(10),\" no shutdown\")","v":"context sip-gateway GW_SIP_28\r\n interface LAN\r\n bind interface IF_IP_LAN context router port 5114\r\n context sip-gateway GW_SIP_28\r\n bind location-service LS_28\r\n no shutdown"}]
[418,{"$f":"+IF(Data!$C$5>ROW(Brekeke!B419)-ROW(Brekeke!$B$391),\"\",\"#\")","v":"#"},{"$f":"+CONCATENATE(\"context sip-gateway GW_SIP_\",'Line Table'!A30,CHAR(13),CHAR(10),\" interface \",Data!$C$8,CHAR(13),CHAR(10),\" bind interface IF_IP_\",Data!$C$8,\" context router port \",'Line Table'!G30,CHAR(13),CHAR(10),\" context sip-gateway GW_SIP_\",'Line Table'!A30,CHAR(13),CHAR(10),\" bind location-service LS_\",'Line Table'!A30,CHAR(13),CHAR(10),\" no shutdown\")","v":"context sip-gateway GW_SIP_29\r\n interface LAN\r\n bind interface IF_IP_LAN context router port 5116\r\n context sip-gateway GW_SIP_29\r\n bind location-service LS_29\r\n no shutdown"}]
[419,{"$f":"+IF(Data!$C$5>ROW(Brekeke!B420)-ROW(Brekeke!$B$391),\"\",\"#\")","v":"#"},{"$f":"+CONCATENATE(\"context sip-gateway GW_SIP_\",'Line Table'!A31,CHAR(13),CHAR(10),\" interface \",Data!$C$8,CHAR(13),CHAR(10),\" bind interface IF_IP_\",Data!$C$8,\" context router port \",'Line Table'!G31,CHAR(13),CHAR(10),\" context sip-gateway GW_SIP_\",'Line Table'!A31,CHAR(13),CHAR(10),\" bind location-service LS_\",'Line Table'!A31,CHAR(13),CHAR(10),\" no shutdown\")","v":"context sip-gateway GW_SIP_30\r\n interface LAN\r\n bind interface IF_IP_LAN context router port 5118\r\n context sip-gateway GW_SIP_30\r\n bind location-service LS_30\r\n no shutdown"}]
[420,{"$f":"+IF(Data!$C$5>ROW(Brekeke!B421)-ROW(Brekeke!$B$391),\"\",\"#\")","v":"#"},{"$f":"+CONCATENATE(\"context sip-gateway GW_SIP_\",'Line Table'!A32,CHAR(13),CHAR(10),\" interface \",Data!$C$8,CHAR(13),CHAR(10),\" bind interface IF_IP_\",Data!$C$8,\" context router port \",'Line Table'!G32,CHAR(13),CHAR(10),\" context sip-gateway GW_SIP_\",'Line Table'!A32,CHAR(13),CHAR(10),\" bind location-service LS_\",'Line Table'!A32,CHAR(13),CHAR(10),\" no shutdown\")","v":"context sip-gateway GW_SIP_31\r\n interface LAN\r\n bind interface IF_IP_LAN context router port 5120\r\n context sip-gateway GW_SIP_31\r\n bind location-service LS_31\r\n no shutdown"}]
[421,{"$f":"+IF(Data!$C$5>ROW(Brekeke!B422)-ROW(Brekeke!$B$391),\"\",\"#\")","v":"#"},{"$f":"+CONCATENATE(\"context sip-gateway GW_SIP_\",'Line Table'!A33,CHAR(13),CHAR(10),\" interface \",Data!$C$8,CHAR(13),CHAR(10),\" bind interface IF_IP_\",Data!$C$8,\" context router port \",'Line Table'!G33,CHAR(13),CHAR(10),\" context sip-gateway GW_SIP_\",'Line Table'!A33,CHAR(13),CHAR(10),\" bind location-service LS_\",'Line Table'!A33,CHAR(13),CHAR(10),\" no shutdown\")","v":"context sip-gateway GW_SIP_32\r\n interface LAN\r\n bind interface IF_IP_LAN context router port 5122\r\n context sip-gateway GW_SIP_32\r\n bind location-service LS_32\r\n no shutdown"}]
[422,null,"        "]
[423,{"$f":"+IF(Data!$C$5>ROW(Brekeke!B424)-ROW(Brekeke!$B$424),\"\",\"#\")","v":""},{"$f":"+CONCATENATE(\"  port fxo 0 \",ROW()-ROW($C$424),CHAR(13),CHAR(10),\"      \",Data!$C$31,CHAR(13),CHAR(10),\"     encapsulation cc-fxo\",CHAR(13),CHAR(10),\"      bind interface IF_FXO_\",'Line Table'!A2,\" switch\",CHAR(13),CHAR(10),\"      no shutdown\")","v":"  port fxo 0 0\r\n      use profile fxo us\r\n     encapsulation cc-fxo\r\n      bind interface IF_FXO_1 switch\r\n      no shutdown"}]
[424,{"$f":"+IF(Data!$C$5>ROW(Brekeke!B425)-ROW(Brekeke!$B$424),\"\",\"#\")","v":""},{"$f":"+CONCATENATE(\"  port fxo 0 \",ROW()-ROW($C$424),CHAR(13),CHAR(10),\"      \",Data!$C$31,CHAR(13),CHAR(10),\"     encapsulation cc-fxo\",CHAR(13),CHAR(10),\"      bind interface IF_FXO_\",'Line Table'!A3,\" switch\",CHAR(13),CHAR(10),\"      no shutdown\")","v":"  port fxo 0 1\r\n      use profile fxo us\r\n     encapsulation cc-fxo\r\n      bind interface IF_FXO_2 switch\r\n      no shutdown"}]
[425,{"$f":"+IF(Data!$C$5>ROW(Brekeke!B426)-ROW(Brekeke!$B$424),\"\",\"#\")","v":""},{"$f":"+CONCATENATE(\"  port fxo 0 \",ROW()-ROW($C$424),CHAR(13),CHAR(10),\"      \",Data!$C$31,CHAR(13),CHAR(10),\"     encapsulation cc-fxo\",CHAR(13),CHAR(10),\"      bind interface IF_FXO_\",'Line Table'!A4,\" switch\",CHAR(13),CHAR(10),\"      no shutdown\")","v":"  port fxo 0 2\r\n      use profile fxo us\r\n     encapsulation cc-fxo\r\n      bind interface IF_FXO_3 switch\r\n      no shutdown"}]
[426,{"$f":"+IF(Data!$C$5>ROW(Brekeke!B427)-ROW(Brekeke!$B$424),\"\",\"#\")","v":""},{"$f":"+CONCATENATE(\"  port fxo 0 \",ROW()-ROW($C$424),CHAR(13),CHAR(10),\"      \",Data!$C$31,CHAR(13),CHAR(10),\"     encapsulation cc-fxo\",CHAR(13),CHAR(10),\"      bind interface IF_FXO_\",'Line Table'!A5,\" switch\",CHAR(13),CHAR(10),\"      no shutdown\")","v":"  port fxo 0 3\r\n      use profile fxo us\r\n     encapsulation cc-fxo\r\n      bind interface IF_FXO_4 switch\r\n      no shutdown"}]
[427,{"$f":"+IF(Data!$C$5>ROW(Brekeke!B428)-ROW(Brekeke!$B$424),\"\",\"#\")","v":""},{"$f":"+CONCATENATE(\"  port fxo 0 \",ROW()-ROW($C$424),CHAR(13),CHAR(10),\"      \",Data!$C$31,CHAR(13),CHAR(10),\"     encapsulation cc-fxo\",CHAR(13),CHAR(10),\"      bind interface IF_FXO_\",'Line Table'!A6,\" switch\",CHAR(13),CHAR(10),\"      no shutdown\")","v":"  port fxo 0 4\r\n      use profile fxo us\r\n     encapsulation cc-fxo\r\n      bind interface IF_FXO_5 switch\r\n      no shutdown"}]
[428,{"$f":"+IF(Data!$C$5>ROW(Brekeke!B429)-ROW(Brekeke!$B$424),\"\",\"#\")","v":""},{"$f":"+CONCATENATE(\"  port fxo 0 \",ROW()-ROW($C$424),CHAR(13),CHAR(10),\"      \",Data!$C$31,CHAR(13),CHAR(10),\"     encapsulation cc-fxo\",CHAR(13),CHAR(10),\"      bind interface IF_FXO_\",'Line Table'!A7,\" switch\",CHAR(13),CHAR(10),\"      no shutdown\")","v":"  port fxo 0 5\r\n      use profile fxo us\r\n     encapsulation cc-fxo\r\n      bind interface IF_FXO_6 switch\r\n      no shutdown"}]
[429,{"$f":"+IF(Data!$C$5>ROW(Brekeke!B430)-ROW(Brekeke!$B$424),\"\",\"#\")","v":""},{"$f":"+CONCATENATE(\"  port fxo 0 \",ROW()-ROW($C$424),CHAR(13),CHAR(10),\"      \",Data!$C$31,CHAR(13),CHAR(10),\"     encapsulation cc-fxo\",CHAR(13),CHAR(10),\"      bind interface IF_FXO_\",'Line Table'!A8,\" switch\",CHAR(13),CHAR(10),\"      no shutdown\")","v":"  port fxo 0 6\r\n      use profile fxo us\r\n     encapsulation cc-fxo\r\n      bind interface IF_FXO_7 switch\r\n      no shutdown"}]
[430,{"$f":"+IF(Data!$C$5>ROW(Brekeke!B431)-ROW(Brekeke!$B$424),\"\",\"#\")","v":""},{"$f":"+CONCATENATE(\"  port fxo 0 \",ROW()-ROW($C$424),CHAR(13),CHAR(10),\"      \",Data!$C$31,CHAR(13),CHAR(10),\"     encapsulation cc-fxo\",CHAR(13),CHAR(10),\"      bind interface IF_FXO_\",'Line Table'!A9,\" switch\",CHAR(13),CHAR(10),\"      no shutdown\")","v":"  port fxo 0 7\r\n      use profile fxo us\r\n     encapsulation cc-fxo\r\n      bind interface IF_FXO_8 switch\r\n      no shutdown"}]
[431,{"$f":"+IF(Data!$C$5>ROW(Brekeke!B432)-ROW(Brekeke!$B$424),\"\",\"#\")","v":""},{"$f":"+CONCATENATE(\"  port fxo 0 \",ROW()-ROW($C$424),CHAR(13),CHAR(10),\"      \",Data!$C$31,CHAR(13),CHAR(10),\"     encapsulation cc-fxo\",CHAR(13),CHAR(10),\"      bind interface IF_FXO_\",'Line Table'!A10,\" switch\",CHAR(13),CHAR(10),\"      no shutdown\")","v":"  port fxo 0 8\r\n      use profile fxo us\r\n     encapsulation cc-fxo\r\n      bind interface IF_FXO_9 switch\r\n      no shutdown"}]
[432,{"$f":"+IF(Data!$C$5>ROW(Brekeke!B433)-ROW(Brekeke!$B$424),\"\",\"#\")","v":""},{"$f":"+CONCATENATE(\"  port fxo 0 \",ROW()-ROW($C$424),CHAR(13),CHAR(10),\"      \",Data!$C$31,CHAR(13),CHAR(10),\"     encapsulation cc-fxo\",CHAR(13),CHAR(10),\"      bind interface IF_FXO_\",'Line Table'!A11,\" switch\",CHAR(13),CHAR(10),\"      no shutdown\")","v":"  port fxo 0 9\r\n      use profile fxo us\r\n     encapsulation cc-fxo\r\n      bind interface IF_FXO_10 switch\r\n      no shutdown"}]
[433,{"$f":"+IF(Data!$C$5>ROW(Brekeke!B434)-ROW(Brekeke!$B$424),\"\",\"#\")","v":""},{"$f":"+CONCATENATE(\"  port fxo 0 \",ROW()-ROW($C$424),CHAR(13),CHAR(10),\"      \",Data!$C$31,CHAR(13),CHAR(10),\"     encapsulation cc-fxo\",CHAR(13),CHAR(10),\"      bind interface IF_FXO_\",'Line Table'!A12,\" switch\",CHAR(13),CHAR(10),\"      no shutdown\")","v":"  port fxo 0 10\r\n      use profile fxo us\r\n     encapsulation cc-fxo\r\n      bind interface IF_FXO_11 switch\r\n      no shutdown"}]
[434,{"$f":"+IF(Data!$C$5>ROW(Brekeke!B435)-ROW(Brekeke!$B$424),\"\",\"#\")","v":""},{"$f":"+CONCATENATE(\"  port fxo 0 \",ROW()-ROW($C$424),CHAR(13),CHAR(10),\"      \",Data!$C$31,CHAR(13),CHAR(10),\"     encapsulation cc-fxo\",CHAR(13),CHAR(10),\"      bind interface IF_FXO_\",'Line Table'!A13,\" switch\",CHAR(13),CHAR(10),\"      no shutdown\")","v":"  port fxo 0 11\r\n      use profile fxo us\r\n     encapsulation cc-fxo\r\n      bind interface IF_FXO_12 switch\r\n      no shutdown"}]
[435,{"$f":"+IF(Data!$C$5>ROW(Brekeke!B436)-ROW(Brekeke!$B$424),\"\",\"#\")","v":"#"},{"$f":"+CONCATENATE(\"  port fxo 0 \",ROW()-ROW($C$424),CHAR(13),CHAR(10),\"      \",Data!$C$31,CHAR(13),CHAR(10),\"     encapsulation cc-fxo\",CHAR(13),CHAR(10),\"      bind interface IF_FXO_\",'Line Table'!A14,\" switch\",CHAR(13),CHAR(10),\"      no shutdown\")","v":"  port fxo 0 12\r\n      use profile fxo us\r\n     encapsulation cc-fxo\r\n      bind interface IF_FXO_13 switch\r\n      no shutdown"}]
[436,{"$f":"+IF(Data!$C$5>ROW(Brekeke!B437)-ROW(Brekeke!$B$424),\"\",\"#\")","v":"#"},{"$f":"+CONCATENATE(\"  port fxo 0 \",ROW()-ROW($C$424),CHAR(13),CHAR(10),\"      \",Data!$C$31,CHAR(13),CHAR(10),\"     encapsulation cc-fxo\",CHAR(13),CHAR(10),\"      bind interface IF_FXO_\",'Line Table'!A15,\" switch\",CHAR(13),CHAR(10),\"      no shutdown\")","v":"  port fxo 0 13\r\n      use profile fxo us\r\n     encapsulation cc-fxo\r\n      bind interface IF_FXO_14 switch\r\n      no shutdown"}]
[437,{"$f":"+IF(Data!$C$5>ROW(Brekeke!B438)-ROW(Brekeke!$B$424),\"\",\"#\")","v":"#"},{"$f":"+CONCATENATE(\"  port fxo 0 \",ROW()-ROW($C$424),CHAR(13),CHAR(10),\"      \",Data!$C$31,CHAR(13),CHAR(10),\"     encapsulation cc-fxo\",CHAR(13),CHAR(10),\"      bind interface IF_FXO_\",'Line Table'!A16,\" switch\",CHAR(13),CHAR(10),\"      no shutdown\")","v":"  port fxo 0 14\r\n      use profile fxo us\r\n     encapsulation cc-fxo\r\n      bind interface IF_FXO_15 switch\r\n      no shutdown"}]
[438,{"$f":"+IF(Data!$C$5>ROW(Brekeke!B439)-ROW(Brekeke!$B$424),\"\",\"#\")","v":"#"},{"$f":"+CONCATENATE(\"  port fxo 0 \",ROW()-ROW($C$424),CHAR(13),CHAR(10),\"      \",Data!$C$31,CHAR(13),CHAR(10),\"     encapsulation cc-fxo\",CHAR(13),CHAR(10),\"      bind interface IF_FXO_\",'Line Table'!A17,\" switch\",CHAR(13),CHAR(10),\"      no shutdown\")","v":"  port fxo 0 15\r\n      use profile fxo us\r\n     encapsulation cc-fxo\r\n      bind interface IF_FXO_16 switch\r\n      no shutdown"}]
[439,{"$f":"+IF(Data!$C$5>ROW(Brekeke!B440)-ROW(Brekeke!$B$424),\"\",\"#\")","v":"#"},{"$f":"+CONCATENATE(\"  port fxo 0 \",ROW()-ROW($C$424),CHAR(13),CHAR(10),\"      \",Data!$C$31,CHAR(13),CHAR(10),\"     encapsulation cc-fxo\",CHAR(13),CHAR(10),\"      bind interface IF_FXO_\",'Line Table'!A18,\" switch\",CHAR(13),CHAR(10),\"      no shutdown\")","v":"  port fxo 0 16\r\n      use profile fxo us\r\n     encapsulation cc-fxo\r\n      bind interface IF_FXO_17 switch\r\n      no shutdown"}]
[440,{"$f":"+IF(Data!$C$5>ROW(Brekeke!B441)-ROW(Brekeke!$B$424),\"\",\"#\")","v":"#"},{"$f":"+CONCATENATE(\"  port fxo 0 \",ROW()-ROW($C$424),CHAR(13),CHAR(10),\"      \",Data!$C$31,CHAR(13),CHAR(10),\"     encapsulation cc-fxo\",CHAR(13),CHAR(10),\"      bind interface IF_FXO_\",'Line Table'!A19,\" switch\",CHAR(13),CHAR(10),\"      no shutdown\")","v":"  port fxo 0 17\r\n      use profile fxo us\r\n     encapsulation cc-fxo\r\n      bind interface IF_FXO_18 switch\r\n      no shutdown"}]
[441,{"$f":"+IF(Data!$C$5>ROW(Brekeke!B442)-ROW(Brekeke!$B$424),\"\",\"#\")","v":"#"},{"$f":"+CONCATENATE(\"  port fxo 0 \",ROW()-ROW($C$424),CHAR(13),CHAR(10),\"      \",Data!$C$31,CHAR(13),CHAR(10),\"     encapsulation cc-fxo\",CHAR(13),CHAR(10),\"      bind interface IF_FXO_\",'Line Table'!A20,\" switch\",CHAR(13),CHAR(10),\"      no shutdown\")","v":"  port fxo 0 18\r\n      use profile fxo us\r\n     encapsulation cc-fxo\r\n      bind interface IF_FXO_19 switch\r\n      no shutdown"}]
[442,{"$f":"+IF(Data!$C$5>ROW(Brekeke!B443)-ROW(Brekeke!$B$424),\"\",\"#\")","v":"#"},{"$f":"+CONCATENATE(\"  port fxo 0 \",ROW()-ROW($C$424),CHAR(13),CHAR(10),\"      \",Data!$C$31,CHAR(13),CHAR(10),\"     encapsulation cc-fxo\",CHAR(13),CHAR(10),\"      bind interface IF_FXO_\",'Line Table'!A21,\" switch\",CHAR(13),CHAR(10),\"      no shutdown\")","v":"  port fxo 0 19\r\n      use profile fxo us\r\n     encapsulation cc-fxo\r\n      bind interface IF_FXO_20 switch\r\n      no shutdown"}]
[443,{"$f":"+IF(Data!$C$5>ROW(Brekeke!B444)-ROW(Brekeke!$B$424),\"\",\"#\")","v":"#"},{"$f":"+CONCATENATE(\"  port fxo 0 \",ROW()-ROW($C$424),CHAR(13),CHAR(10),\"      \",Data!$C$31,CHAR(13),CHAR(10),\"     encapsulation cc-fxo\",CHAR(13),CHAR(10),\"      bind interface IF_FXO_\",'Line Table'!A22,\" switch\",CHAR(13),CHAR(10),\"      no shutdown\")","v":"  port fxo 0 20\r\n      use profile fxo us\r\n     encapsulation cc-fxo\r\n      bind interface IF_FXO_21 switch\r\n      no shutdown"}]
[444,{"$f":"+IF(Data!$C$5>ROW(Brekeke!B445)-ROW(Brekeke!$B$424),\"\",\"#\")","v":"#"},{"$f":"+CONCATENATE(\"  port fxo 0 \",ROW()-ROW($C$424),CHAR(13),CHAR(10),\"      \",Data!$C$31,CHAR(13),CHAR(10),\"     encapsulation cc-fxo\",CHAR(13),CHAR(10),\"      bind interface IF_FXO_\",'Line Table'!A23,\" switch\",CHAR(13),CHAR(10),\"      no shutdown\")","v":"  port fxo 0 21\r\n      use profile fxo us\r\n     encapsulation cc-fxo\r\n      bind interface IF_FXO_22 switch\r\n      no shutdown"}]
[445,{"$f":"+IF(Data!$C$5>ROW(Brekeke!B446)-ROW(Brekeke!$B$424),\"\",\"#\")","v":"#"},{"$f":"+CONCATENATE(\"  port fxo 0 \",ROW()-ROW($C$424),CHAR(13),CHAR(10),\"      \",Data!$C$31,CHAR(13),CHAR(10),\"     encapsulation cc-fxo\",CHAR(13),CHAR(10),\"      bind interface IF_FXO_\",'Line Table'!A24,\" switch\",CHAR(13),CHAR(10),\"      no shutdown\")","v":"  port fxo 0 22\r\n      use profile fxo us\r\n     encapsulation cc-fxo\r\n      bind interface IF_FXO_23 switch\r\n      no shutdown"}]
[446,{"$f":"+IF(Data!$C$5>ROW(Brekeke!B447)-ROW(Brekeke!$B$424),\"\",\"#\")","v":"#"},{"$f":"+CONCATENATE(\"  port fxo 0 \",ROW()-ROW($C$424),CHAR(13),CHAR(10),\"      \",Data!$C$31,CHAR(13),CHAR(10),\"     encapsulation cc-fxo\",CHAR(13),CHAR(10),\"      bind interface IF_FXO_\",'Line Table'!A25,\" switch\",CHAR(13),CHAR(10),\"      no shutdown\")","v":"  port fxo 0 23\r\n      use profile fxo us\r\n     encapsulation cc-fxo\r\n      bind interface IF_FXO_24 switch\r\n      no shutdown"}]
[447,{"$f":"+IF(Data!$C$5>ROW(Brekeke!B448)-ROW(Brekeke!$B$424),\"\",\"#\")","v":"#"},{"$f":"+CONCATENATE(\"  port fxo 0 \",ROW()-ROW($C$424),CHAR(13),CHAR(10),\"      \",Data!$C$31,CHAR(13),CHAR(10),\"     encapsulation cc-fxo\",CHAR(13),CHAR(10),\"      bind interface IF_FXO_\",'Line Table'!A26,\" switch\",CHAR(13),CHAR(10),\"      no shutdown\")","v":"  port fxo 0 24\r\n      use profile fxo us\r\n     encapsulation cc-fxo\r\n      bind interface IF_FXO_25 switch\r\n      no shutdown"}]
[448,{"$f":"+IF(Data!$C$5>ROW(Brekeke!B449)-ROW(Brekeke!$B$424),\"\",\"#\")","v":"#"},{"$f":"+CONCATENATE(\"  port fxo 0 \",ROW()-ROW($C$424),CHAR(13),CHAR(10),\"      \",Data!$C$31,CHAR(13),CHAR(10),\"     encapsulation cc-fxo\",CHAR(13),CHAR(10),\"      bind interface IF_FXO_\",'Line Table'!A27,\" switch\",CHAR(13),CHAR(10),\"      no shutdown\")","v":"  port fxo 0 25\r\n      use profile fxo us\r\n     encapsulation cc-fxo\r\n      bind interface IF_FXO_26 switch\r\n      no shutdown"}]
[449,{"$f":"+IF(Data!$C$5>ROW(Brekeke!B450)-ROW(Brekeke!$B$424),\"\",\"#\")","v":"#"},{"$f":"+CONCATENATE(\"  port fxo 0 \",ROW()-ROW($C$424),CHAR(13),CHAR(10),\"      \",Data!$C$31,CHAR(13),CHAR(10),\"     encapsulation cc-fxo\",CHAR(13),CHAR(10),\"      bind interface IF_FXO_\",'Line Table'!A28,\" switch\",CHAR(13),CHAR(10),\"      no shutdown\")","v":"  port fxo 0 26\r\n      use profile fxo us\r\n     encapsulation cc-fxo\r\n      bind interface IF_FXO_27 switch\r\n      no shutdown"}]
[450,{"$f":"+IF(Data!$C$5>ROW(Brekeke!B451)-ROW(Brekeke!$B$424),\"\",\"#\")","v":"#"},{"$f":"+CONCATENATE(\"  port fxo 0 \",ROW()-ROW($C$424),CHAR(13),CHAR(10),\"      \",Data!$C$31,CHAR(13),CHAR(10),\"     encapsulation cc-fxo\",CHAR(13),CHAR(10),\"      bind interface IF_FXO_\",'Line Table'!A29,\" switch\",CHAR(13),CHAR(10),\"      no shutdown\")","v":"  port fxo 0 27\r\n      use profile fxo us\r\n     encapsulation cc-fxo\r\n      bind interface IF_FXO_28 switch\r\n      no shutdown"}]
[451,{"$f":"+IF(Data!$C$5>ROW(Brekeke!B452)-ROW(Brekeke!$B$424),\"\",\"#\")","v":"#"},{"$f":"+CONCATENATE(\"  port fxo 0 \",ROW()-ROW($C$424),CHAR(13),CHAR(10),\"      \",Data!$C$31,CHAR(13),CHAR(10),\"     encapsulation cc-fxo\",CHAR(13),CHAR(10),\"      bind interface IF_FXO_\",'Line Table'!A30,\" switch\",CHAR(13),CHAR(10),\"      no shutdown\")","v":"  port fxo 0 28\r\n      use profile fxo us\r\n     encapsulation cc-fxo\r\n      bind interface IF_FXO_29 switch\r\n      no shutdown"}]
[452,{"$f":"+IF(Data!$C$5>ROW(Brekeke!B453)-ROW(Brekeke!$B$424),\"\",\"#\")","v":"#"},{"$f":"+CONCATENATE(\"  port fxo 0 \",ROW()-ROW($C$424),CHAR(13),CHAR(10),\"      \",Data!$C$31,CHAR(13),CHAR(10),\"     encapsulation cc-fxo\",CHAR(13),CHAR(10),\"      bind interface IF_FXO_\",'Line Table'!A31,\" switch\",CHAR(13),CHAR(10),\"      no shutdown\")","v":"  port fxo 0 29\r\n      use profile fxo us\r\n     encapsulation cc-fxo\r\n      bind interface IF_FXO_30 switch\r\n      no shutdown"}]
[453,{"$f":"+IF(Data!$C$5>ROW(Brekeke!B454)-ROW(Brekeke!$B$424),\"\",\"#\")","v":"#"},{"$f":"+CONCATENATE(\"  port fxo 0 \",ROW()-ROW($C$424),CHAR(13),CHAR(10),\"      \",Data!$C$31,CHAR(13),CHAR(10),\"     encapsulation cc-fxo\",CHAR(13),CHAR(10),\"      bind interface IF_FXO_\",'Line Table'!A32,\" switch\",CHAR(13),CHAR(10),\"      no shutdown\")","v":"  port fxo 0 30\r\n      use profile fxo us\r\n     encapsulation cc-fxo\r\n      bind interface IF_FXO_31 switch\r\n      no shutdown"}]
[454,{"$f":"+IF(Data!$C$5>ROW(Brekeke!B455)-ROW(Brekeke!$B$424),\"\",\"#\")","v":"#"},{"$f":"+CONCATENATE(\"  port fxo 0 \",ROW()-ROW($C$424),CHAR(13),CHAR(10),\"      \",Data!$C$31,CHAR(13),CHAR(10),\"     encapsulation cc-fxo\",CHAR(13),CHAR(10),\"      bind interface IF_FXO_\",'Line Table'!A33,\" switch\",CHAR(13),CHAR(10),\"      no shutdown\")","v":"  port fxo 0 31\r\n      use profile fxo us\r\n     encapsulation cc-fxo\r\n      bind interface IF_FXO_32 switch\r\n      no shutdown"}]
[455]
[456,{"$f":"+IF(Data!$C$6>0,\" \",\"#\")","v":"#"},"context sip-gateway GW_SIP_ALL_EXTENSIONS"]
[457,{"$f":"+IF(Data!$C$6>0,\" \",\"#\")","v":"#"},{"$f":"+CONCATENATE(\"      interface \",Data!C8)","v":"      interface LAN"}]
[458,{"$f":"+IF(Data!$C$6>0,\" \",\"#\")","v":"#"},{"$f":"+CONCATENATE(\"        bind interface IF_IP_\",Data!C8,\" context router port \",Data!C36)","v":"        bind interface IF_IP_LAN context router port 5060"}]
[459]
[460,{"$f":"+IF(Data!$C$6>0,\" \",\"#\")","v":"#"},"context sip-gateway GW_SIP_ALL_EXTENSIONS"]
[461,{"$f":"+IF(Data!$C$6>0,\" \",\"#\")","v":"#"},"        bind location-service LS_ALL_EXTENSIONS"]
[462,{"$f":"+IF(Data!$C$6>0,\" \",\"#\")","v":"#"},"        no shutdown"]
[463]
[464,null,"port ethernet 0 0"]
[465,null,"  medium auto"]
[466,null,"  encapsulation ip"]
[467,null,"  bind interface IF_IP_LAN router"]
[468,null,"  no shutdown"]
[469]
[470,{"$f":"+IF(Data!$C$7=\"N\",\"#\",\"\")","v":"#"},"port ethernet 0 1"]
[471,{"$f":"+IF(Data!$C$7=\"N\",\"#\",\"\")","v":"#"},"  medium auto"]
[472,{"$f":"+IF(Data!$C$7=\"N\",\"#\",\"\")","v":"#"},"  encapsulation ip"]
[473,{"$f":"+IF(Data!$C$7=\"N\",\"#\",\"\")","v":"#"},"  bind interface IF_IP_WAN router"]
[474,{"$f":"+IF(Data!$C$7=\"N\",\"#\",\"\")","v":"#"},"  no shutdown"]
[475]
[476,{"$f":"+IF(Data!$C$6>ROW(Brekeke!B477)-ROW(Brekeke!$B$477),\"\",\"#\")","v":"#"},{"$f":"+CONCATENATE(\"  port fxs 0 \",ROW()-ROW($E$477),CHAR(13),CHAR(10),\"        caller-id format \", Data!$C$41,CHAR(13),CHAR(10),\"         \",Data!$C$32,CHAR(13),CHAR(10),\"      encapsulation cc-fxs\",CHAR(13),CHAR(10),\"       bind interface IF_FXS_\",'Extension Table'!C2,\" switch \",CHAR(13),CHAR(10),\"     no shutdown\")","v":"  port fxs 0 0\r\n        caller-id format etsi\r\n         use profile fxs us\r\n      encapsulation cc-fxs\r\n       bind interface IF_FXS_1 switch \r\n     no shutdown"}]
[477,{"$f":"+IF(Data!$C$6>ROW(Brekeke!B478)-ROW(Brekeke!$B$477),\"\",\"#\")","v":"#"},{"$f":"+CONCATENATE(\"  port fxs 0 \",ROW()-ROW($E$477),CHAR(13),CHAR(10),\"        caller-id format \", Data!$C$41,CHAR(13),CHAR(10),\"         \",Data!$C$32,CHAR(13),CHAR(10),\"      encapsulation cc-fxs\",CHAR(13),CHAR(10),\"       bind interface IF_FXS_\",'Extension Table'!C3,\" switch \",CHAR(13),CHAR(10),\"     no shutdown\")","v":"  port fxs 0 1\r\n        caller-id format etsi\r\n         use profile fxs us\r\n      encapsulation cc-fxs\r\n       bind interface IF_FXS_2 switch \r\n     no shutdown"}]
[478,{"$f":"+IF(Data!$C$6>ROW(Brekeke!B479)-ROW(Brekeke!$B$477),\"\",\"#\")","v":"#"},{"$f":"+CONCATENATE(\"  port fxs 0 \",ROW()-ROW($E$477),CHAR(13),CHAR(10),\"        caller-id format \", Data!$C$41,CHAR(13),CHAR(10),\"         \",Data!$C$32,CHAR(13),CHAR(10),\"      encapsulation cc-fxs\",CHAR(13),CHAR(10),\"       bind interface IF_FXS_\",'Extension Table'!C4,\" switch \",CHAR(13),CHAR(10),\"     no shutdown\")","v":"  port fxs 0 2\r\n        caller-id format etsi\r\n         use profile fxs us\r\n      encapsulation cc-fxs\r\n       bind interface IF_FXS_3 switch \r\n     no shutdown"}]
[479,{"$f":"+IF(Data!$C$6>ROW(Brekeke!B480)-ROW(Brekeke!$B$477),\"\",\"#\")","v":"#"},{"$f":"+CONCATENATE(\"  port fxs 0 \",ROW()-ROW($E$477),CHAR(13),CHAR(10),\"        caller-id format \", Data!$C$41,CHAR(13),CHAR(10),\"         \",Data!$C$32,CHAR(13),CHAR(10),\"      encapsulation cc-fxs\",CHAR(13),CHAR(10),\"       bind interface IF_FXS_\",'Extension Table'!C5,\" switch \",CHAR(13),CHAR(10),\"     no shutdown\")","v":"  port fxs 0 3\r\n        caller-id format etsi\r\n         use profile fxs us\r\n      encapsulation cc-fxs\r\n       bind interface IF_FXS_4 switch \r\n     no shutdown"}]
[480,{"$f":"+IF(Data!$C$6>ROW(Brekeke!B481)-ROW(Brekeke!$B$477),\"\",\"#\")","v":"#"},{"$f":"+CONCATENATE(\"  port fxs 0 \",ROW()-ROW($E$477),CHAR(13),CHAR(10),\"        caller-id format \", Data!$C$41,CHAR(13),CHAR(10),\"         \",Data!$C$32,CHAR(13),CHAR(10),\"      encapsulation cc-fxs\",CHAR(13),CHAR(10),\"       bind interface IF_FXS_\",'Extension Table'!C6,\" switch \",CHAR(13),CHAR(10),\"     no shutdown\")","v":"  port fxs 0 4\r\n        caller-id format etsi\r\n         use profile fxs us\r\n      encapsulation cc-fxs\r\n       bind interface IF_FXS_5 switch \r\n     no shutdown"}]
[481,{"$f":"+IF(Data!$C$6>ROW(Brekeke!B482)-ROW(Brekeke!$B$477),\"\",\"#\")","v":"#"},{"$f":"+CONCATENATE(\"  port fxs 0 \",ROW()-ROW($E$477),CHAR(13),CHAR(10),\"        caller-id format \", Data!$C$41,CHAR(13),CHAR(10),\"         \",Data!$C$32,CHAR(13),CHAR(10),\"      encapsulation cc-fxs\",CHAR(13),CHAR(10),\"       bind interface IF_FXS_\",'Extension Table'!C7,\" switch \",CHAR(13),CHAR(10),\"     no shutdown\")","v":"  port fxs 0 5\r\n        caller-id format etsi\r\n         use profile fxs us\r\n      encapsulation cc-fxs\r\n       bind interface IF_FXS_6 switch \r\n     no shutdown"}]
[482,{"$f":"+IF(Data!$C$6>ROW(Brekeke!B483)-ROW(Brekeke!$B$477),\"\",\"#\")","v":"#"},{"$f":"+CONCATENATE(\"  port fxs 0 \",ROW()-ROW($E$477),CHAR(13),CHAR(10),\"        caller-id format \", Data!$C$41,CHAR(13),CHAR(10),\"         \",Data!$C$32,CHAR(13),CHAR(10),\"      encapsulation cc-fxs\",CHAR(13),CHAR(10),\"       bind interface IF_FXS_\",'Extension Table'!C8,\" switch \",CHAR(13),CHAR(10),\"     no shutdown\")","v":"  port fxs 0 6\r\n        caller-id format etsi\r\n         use profile fxs us\r\n      encapsulation cc-fxs\r\n       bind interface IF_FXS_7 switch \r\n     no shutdown"}]
[483,{"$f":"+IF(Data!$C$6>ROW(Brekeke!B484)-ROW(Brekeke!$B$477),\"\",\"#\")","v":"#"},{"$f":"+CONCATENATE(\"  port fxs 0 \",ROW()-ROW($E$477),CHAR(13),CHAR(10),\"        caller-id format \", Data!$C$41,CHAR(13),CHAR(10),\"         \",Data!$C$32,CHAR(13),CHAR(10),\"      encapsulation cc-fxs\",CHAR(13),CHAR(10),\"       bind interface IF_FXS_\",'Extension Table'!C9,\" switch \",CHAR(13),CHAR(10),\"     no shutdown\")","v":"  port fxs 0 7\r\n        caller-id format etsi\r\n         use profile fxs us\r\n      encapsulation cc-fxs\r\n       bind interface IF_FXS_8 switch \r\n     no shutdown"}]
[484,{"$f":"+IF(Data!$C$6>ROW(Brekeke!B485)-ROW(Brekeke!$B$477),\"\",\"#\")","v":"#"},{"$f":"+CONCATENATE(\"  port fxs 0 \",ROW()-ROW($E$477),CHAR(13),CHAR(10),\"        caller-id format \", Data!$C$41,CHAR(13),CHAR(10),\"         \",Data!$C$32,CHAR(13),CHAR(10),\"      encapsulation cc-fxs\",CHAR(13),CHAR(10),\"       bind interface IF_FXS_\",'Extension Table'!C10,\" switch \",CHAR(13),CHAR(10),\"     no shutdown\")","v":"  port fxs 0 8\r\n        caller-id format etsi\r\n         use profile fxs us\r\n      encapsulation cc-fxs\r\n       bind interface IF_FXS_9 switch \r\n     no shutdown"}]
[485,{"$f":"+IF(Data!$C$6>ROW(Brekeke!B486)-ROW(Brekeke!$B$477),\"\",\"#\")","v":"#"},{"$f":"+CONCATENATE(\"  port fxs 0 \",ROW()-ROW($E$477),CHAR(13),CHAR(10),\"        caller-id format \", Data!$C$41,CHAR(13),CHAR(10),\"         \",Data!$C$32,CHAR(13),CHAR(10),\"      encapsulation cc-fxs\",CHAR(13),CHAR(10),\"       bind interface IF_FXS_\",'Extension Table'!C11,\" switch \",CHAR(13),CHAR(10),\"     no shutdown\")","v":"  port fxs 0 9\r\n        caller-id format etsi\r\n         use profile fxs us\r\n      encapsulation cc-fxs\r\n       bind interface IF_FXS_10 switch \r\n     no shutdown"}]
[486,{"$f":"+IF(Data!$C$6>ROW(Brekeke!B487)-ROW(Brekeke!$B$477),\"\",\"#\")","v":"#"},{"$f":"+CONCATENATE(\"  port fxs 0 \",ROW()-ROW($E$477),CHAR(13),CHAR(10),\"        caller-id format \", Data!$C$41,CHAR(13),CHAR(10),\"         \",Data!$C$32,CHAR(13),CHAR(10),\"      encapsulation cc-fxs\",CHAR(13),CHAR(10),\"       bind interface IF_FXS_\",'Extension Table'!C12,\" switch \",CHAR(13),CHAR(10),\"     no shutdown\")","v":"  port fxs 0 10\r\n        caller-id format etsi\r\n         use profile fxs us\r\n      encapsulation cc-fxs\r\n       bind interface IF_FXS_11 switch \r\n     no shutdown"}]
[487,{"$f":"+IF(Data!$C$6>ROW(Brekeke!B488)-ROW(Brekeke!$B$477),\"\",\"#\")","v":"#"},{"$f":"+CONCATENATE(\"  port fxs 0 \",ROW()-ROW($E$477),CHAR(13),CHAR(10),\"        caller-id format \", Data!$C$41,CHAR(13),CHAR(10),\"         \",Data!$C$32,CHAR(13),CHAR(10),\"      encapsulation cc-fxs\",CHAR(13),CHAR(10),\"       bind interface IF_FXS_\",'Extension Table'!C13,\" switch \",CHAR(13),CHAR(10),\"     no shutdown\")","v":"  port fxs 0 11\r\n        caller-id format etsi\r\n         use profile fxs us\r\n      encapsulation cc-fxs\r\n       bind interface IF_FXS_12 switch \r\n     no shutdown"}]
[488,{"$f":"+IF(Data!$C$6>ROW(Brekeke!B489)-ROW(Brekeke!$B$477),\"\",\"#\")","v":"#"},{"$f":"+CONCATENATE(\"  port fxs 0 \",ROW()-ROW($E$477),CHAR(13),CHAR(10),\"        caller-id format \", Data!$C$41,CHAR(13),CHAR(10),\"         \",Data!$C$32,CHAR(13),CHAR(10),\"      encapsulation cc-fxs\",CHAR(13),CHAR(10),\"       bind interface IF_FXS_\",'Extension Table'!C14,\" switch \",CHAR(13),CHAR(10),\"     no shutdown\")","v":"  port fxs 0 12\r\n        caller-id format etsi\r\n         use profile fxs us\r\n      encapsulation cc-fxs\r\n       bind interface IF_FXS_13 switch \r\n     no shutdown"}]
[489,{"$f":"+IF(Data!$C$6>ROW(Brekeke!B490)-ROW(Brekeke!$B$477),\"\",\"#\")","v":"#"},{"$f":"+CONCATENATE(\"  port fxs 0 \",ROW()-ROW($E$477),CHAR(13),CHAR(10),\"        caller-id format \", Data!$C$41,CHAR(13),CHAR(10),\"         \",Data!$C$32,CHAR(13),CHAR(10),\"      encapsulation cc-fxs\",CHAR(13),CHAR(10),\"       bind interface IF_FXS_\",'Extension Table'!C15,\" switch \",CHAR(13),CHAR(10),\"     no shutdown\")","v":"  port fxs 0 13\r\n        caller-id format etsi\r\n         use profile fxs us\r\n      encapsulation cc-fxs\r\n       bind interface IF_FXS_14 switch \r\n     no shutdown"}]
[490,{"$f":"+IF(Data!$C$6>ROW(Brekeke!B491)-ROW(Brekeke!$B$477),\"\",\"#\")","v":"#"},{"$f":"+CONCATENATE(\"  port fxs 0 \",ROW()-ROW($E$477),CHAR(13),CHAR(10),\"        caller-id format \", Data!$C$41,CHAR(13),CHAR(10),\"         \",Data!$C$32,CHAR(13),CHAR(10),\"      encapsulation cc-fxs\",CHAR(13),CHAR(10),\"       bind interface IF_FXS_\",'Extension Table'!C16,\" switch \",CHAR(13),CHAR(10),\"     no shutdown\")","v":"  port fxs 0 14\r\n        caller-id format etsi\r\n         use profile fxs us\r\n      encapsulation cc-fxs\r\n       bind interface IF_FXS_15 switch \r\n     no shutdown"}]
[491,{"$f":"+IF(Data!$C$6>ROW(Brekeke!B492)-ROW(Brekeke!$B$477),\"\",\"#\")","v":"#"},{"$f":"+CONCATENATE(\"  port fxs 0 \",ROW()-ROW($E$477),CHAR(13),CHAR(10),\"        caller-id format \", Data!$C$41,CHAR(13),CHAR(10),\"         \",Data!$C$32,CHAR(13),CHAR(10),\"      encapsulation cc-fxs\",CHAR(13),CHAR(10),\"       bind interface IF_FXS_\",'Extension Table'!C17,\" switch \",CHAR(13),CHAR(10),\"     no shutdown\")","v":"  port fxs 0 15\r\n        caller-id format etsi\r\n         use profile fxs us\r\n      encapsulation cc-fxs\r\n       bind interface IF_FXS_16 switch \r\n     no shutdown"}]
[492,{"$f":"+IF(Data!$C$6>ROW(Brekeke!B493)-ROW(Brekeke!$B$477),\"\",\"#\")","v":"#"},{"$f":"+CONCATENATE(\"  port fxs 0 \",ROW()-ROW($E$477),CHAR(13),CHAR(10),\"        caller-id format \", Data!$C$41,CHAR(13),CHAR(10),\"         \",Data!$C$32,CHAR(13),CHAR(10),\"      encapsulation cc-fxs\",CHAR(13),CHAR(10),\"       bind interface IF_FXS_\",'Extension Table'!C18,\" switch \",CHAR(13),CHAR(10),\"     no shutdown\")","v":"  port fxs 0 16\r\n        caller-id format etsi\r\n         use profile fxs us\r\n      encapsulation cc-fxs\r\n       bind interface IF_FXS_17 switch \r\n     no shutdown"}]
[493,{"$f":"+IF(Data!$C$6>ROW(Brekeke!B494)-ROW(Brekeke!$B$477),\"\",\"#\")","v":"#"},{"$f":"+CONCATENATE(\"  port fxs 0 \",ROW()-ROW($E$477),CHAR(13),CHAR(10),\"        caller-id format \", Data!$C$41,CHAR(13),CHAR(10),\"         \",Data!$C$32,CHAR(13),CHAR(10),\"      encapsulation cc-fxs\",CHAR(13),CHAR(10),\"       bind interface IF_FXS_\",'Extension Table'!C19,\" switch \",CHAR(13),CHAR(10),\"     no shutdown\")","v":"  port fxs 0 17\r\n        caller-id format etsi\r\n         use profile fxs us\r\n      encapsulation cc-fxs\r\n       bind interface IF_FXS_18 switch \r\n     no shutdown"}]
[494,{"$f":"+IF(Data!$C$6>ROW(Brekeke!B495)-ROW(Brekeke!$B$477),\"\",\"#\")","v":"#"},{"$f":"+CONCATENATE(\"  port fxs 0 \",ROW()-ROW($E$477),CHAR(13),CHAR(10),\"        caller-id format \", Data!$C$41,CHAR(13),CHAR(10),\"         \",Data!$C$32,CHAR(13),CHAR(10),\"      encapsulation cc-fxs\",CHAR(13),CHAR(10),\"       bind interface IF_FXS_\",'Extension Table'!C20,\" switch \",CHAR(13),CHAR(10),\"     no shutdown\")","v":"  port fxs 0 18\r\n        caller-id format etsi\r\n         use profile fxs us\r\n      encapsulation cc-fxs\r\n       bind interface IF_FXS_19 switch \r\n     no shutdown"}]
[495,{"$f":"+IF(Data!$C$6>ROW(Brekeke!B496)-ROW(Brekeke!$B$477),\"\",\"#\")","v":"#"},{"$f":"+CONCATENATE(\"  port fxs 0 \",ROW()-ROW($E$477),CHAR(13),CHAR(10),\"        caller-id format \", Data!$C$41,CHAR(13),CHAR(10),\"         \",Data!$C$32,CHAR(13),CHAR(10),\"      encapsulation cc-fxs\",CHAR(13),CHAR(10),\"       bind interface IF_FXS_\",'Extension Table'!C21,\" switch \",CHAR(13),CHAR(10),\"     no shutdown\")","v":"  port fxs 0 19\r\n        caller-id format etsi\r\n         use profile fxs us\r\n      encapsulation cc-fxs\r\n       bind interface IF_FXS_20 switch \r\n     no shutdown"}]
[496,{"$f":"+IF(Data!$C$6>ROW(Brekeke!B497)-ROW(Brekeke!$B$477),\"\",\"#\")","v":"#"},{"$f":"+CONCATENATE(\"  port fxs 0 \",ROW()-ROW($E$477),CHAR(13),CHAR(10),\"        caller-id format \", Data!$C$41,CHAR(13),CHAR(10),\"         \",Data!$C$32,CHAR(13),CHAR(10),\"      encapsulation cc-fxs\",CHAR(13),CHAR(10),\"       bind interface IF_FXS_\",'Extension Table'!C22,\" switch \",CHAR(13),CHAR(10),\"     no shutdown\")","v":"  port fxs 0 20\r\n        caller-id format etsi\r\n         use profile fxs us\r\n      encapsulation cc-fxs\r\n       bind interface IF_FXS_21 switch \r\n     no shutdown"}]
[497,{"$f":"+IF(Data!$C$6>ROW(Brekeke!B498)-ROW(Brekeke!$B$477),\"\",\"#\")","v":"#"},{"$f":"+CONCATENATE(\"  port fxs 0 \",ROW()-ROW($E$477),CHAR(13),CHAR(10),\"        caller-id format \", Data!$C$41,CHAR(13),CHAR(10),\"         \",Data!$C$32,CHAR(13),CHAR(10),\"      encapsulation cc-fxs\",CHAR(13),CHAR(10),\"       bind interface IF_FXS_\",'Extension Table'!C23,\" switch \",CHAR(13),CHAR(10),\"     no shutdown\")","v":"  port fxs 0 21\r\n        caller-id format etsi\r\n         use profile fxs us\r\n      encapsulation cc-fxs\r\n       bind interface IF_FXS_22 switch \r\n     no shutdown"}]
[498,{"$f":"+IF(Data!$C$6>ROW(Brekeke!B499)-ROW(Brekeke!$B$477),\"\",\"#\")","v":"#"},{"$f":"+CONCATENATE(\"  port fxs 0 \",ROW()-ROW($E$477),CHAR(13),CHAR(10),\"        caller-id format \", Data!$C$41,CHAR(13),CHAR(10),\"         \",Data!$C$32,CHAR(13),CHAR(10),\"      encapsulation cc-fxs\",CHAR(13),CHAR(10),\"       bind interface IF_FXS_\",'Extension Table'!C24,\" switch \",CHAR(13),CHAR(10),\"     no shutdown\")","v":"  port fxs 0 22\r\n        caller-id format etsi\r\n         use profile fxs us\r\n      encapsulation cc-fxs\r\n       bind interface IF_FXS_23 switch \r\n     no shutdown"}]
[499,{"$f":"+IF(Data!$C$6>ROW(Brekeke!B500)-ROW(Brekeke!$B$477),\"\",\"#\")","v":"#"},{"$f":"+CONCATENATE(\"  port fxs 0 \",ROW()-ROW($E$477),CHAR(13),CHAR(10),\"        caller-id format \", Data!$C$41,CHAR(13),CHAR(10),\"         \",Data!$C$32,CHAR(13),CHAR(10),\"      encapsulation cc-fxs\",CHAR(13),CHAR(10),\"       bind interface IF_FXS_\",'Extension Table'!C25,\" switch \",CHAR(13),CHAR(10),\"     no shutdown\")","v":"  port fxs 0 23\r\n        caller-id format etsi\r\n         use profile fxs us\r\n      encapsulation cc-fxs\r\n       bind interface IF_FXS_24 switch \r\n     no shutdown"}]
[500,{"$f":"+IF(Data!$C$6>ROW(Brekeke!B501)-ROW(Brekeke!$B$477),\"\",\"#\")","v":"#"},{"$f":"+CONCATENATE(\"  port fxs 0 \",ROW()-ROW($E$477),CHAR(13),CHAR(10),\"        caller-id format \", Data!$C$41,CHAR(13),CHAR(10),\"         \",Data!$C$32,CHAR(13),CHAR(10),\"      encapsulation cc-fxs\",CHAR(13),CHAR(10),\"       bind interface IF_FXS_\",'Extension Table'!C26,\" switch \",CHAR(13),CHAR(10),\"     no shutdown\")","v":"  port fxs 0 24\r\n        caller-id format etsi\r\n         use profile fxs us\r\n      encapsulation cc-fxs\r\n       bind interface IF_FXS_25 switch \r\n     no shutdown"}]
[501,{"$f":"+IF(Data!$C$6>ROW(Brekeke!B502)-ROW(Brekeke!$B$477),\"\",\"#\")","v":"#"},{"$f":"+CONCATENATE(\"  port fxs 0 \",ROW()-ROW($E$477),CHAR(13),CHAR(10),\"        caller-id format \", Data!$C$41,CHAR(13),CHAR(10),\"         \",Data!$C$32,CHAR(13),CHAR(10),\"      encapsulation cc-fxs\",CHAR(13),CHAR(10),\"       bind interface IF_FXS_\",'Extension Table'!C27,\" switch \",CHAR(13),CHAR(10),\"     no shutdown\")","v":"  port fxs 0 25\r\n        caller-id format etsi\r\n         use profile fxs us\r\n      encapsulation cc-fxs\r\n       bind interface IF_FXS_26 switch \r\n     no shutdown"}]
[502,{"$f":"+IF(Data!$C$6>ROW(Brekeke!B503)-ROW(Brekeke!$B$477),\"\",\"#\")","v":"#"},{"$f":"+CONCATENATE(\"  port fxs 0 \",ROW()-ROW($E$477),CHAR(13),CHAR(10),\"        caller-id format \", Data!$C$41,CHAR(13),CHAR(10),\"         \",Data!$C$32,CHAR(13),CHAR(10),\"      encapsulation cc-fxs\",CHAR(13),CHAR(10),\"       bind interface IF_FXS_\",'Extension Table'!C28,\" switch \",CHAR(13),CHAR(10),\"     no shutdown\")","v":"  port fxs 0 26\r\n        caller-id format etsi\r\n         use profile fxs us\r\n      encapsulation cc-fxs\r\n       bind interface IF_FXS_27 switch \r\n     no shutdown"}]
[503,{"$f":"+IF(Data!$C$6>ROW(Brekeke!B504)-ROW(Brekeke!$B$477),\"\",\"#\")","v":"#"},{"$f":"+CONCATENATE(\"  port fxs 0 \",ROW()-ROW($E$477),CHAR(13),CHAR(10),\"        caller-id format \", Data!$C$41,CHAR(13),CHAR(10),\"         \",Data!$C$32,CHAR(13),CHAR(10),\"      encapsulation cc-fxs\",CHAR(13),CHAR(10),\"       bind interface IF_FXS_\",'Extension Table'!C29,\" switch \",CHAR(13),CHAR(10),\"     no shutdown\")","v":"  port fxs 0 27\r\n        caller-id format etsi\r\n         use profile fxs us\r\n      encapsulation cc-fxs\r\n       bind interface IF_FXS_28 switch \r\n     no shutdown"}]
[504,{"$f":"+IF(Data!$C$6>ROW(Brekeke!B505)-ROW(Brekeke!$B$477),\"\",\"#\")","v":"#"},{"$f":"+CONCATENATE(\"  port fxs 0 \",ROW()-ROW($E$477),CHAR(13),CHAR(10),\"        caller-id format \", Data!$C$41,CHAR(13),CHAR(10),\"         \",Data!$C$32,CHAR(13),CHAR(10),\"      encapsulation cc-fxs\",CHAR(13),CHAR(10),\"       bind interface IF_FXS_\",'Extension Table'!C30,\" switch \",CHAR(13),CHAR(10),\"     no shutdown\")","v":"  port fxs 0 28\r\n        caller-id format etsi\r\n         use profile fxs us\r\n      encapsulation cc-fxs\r\n       bind interface IF_FXS_29 switch \r\n     no shutdown"}]
[505,{"$f":"+IF(Data!$C$6>ROW(Brekeke!B506)-ROW(Brekeke!$B$477),\"\",\"#\")","v":"#"},{"$f":"+CONCATENATE(\"  port fxs 0 \",ROW()-ROW($E$477),CHAR(13),CHAR(10),\"        caller-id format \", Data!$C$41,CHAR(13),CHAR(10),\"         \",Data!$C$32,CHAR(13),CHAR(10),\"      encapsulation cc-fxs\",CHAR(13),CHAR(10),\"       bind interface IF_FXS_\",'Extension Table'!C31,\" switch \",CHAR(13),CHAR(10),\"     no shutdown\")","v":"  port fxs 0 29\r\n        caller-id format etsi\r\n         use profile fxs us\r\n      encapsulation cc-fxs\r\n       bind interface IF_FXS_30 switch \r\n     no shutdown"}]
[506,{"$f":"+IF(Data!$C$6>ROW(Brekeke!B507)-ROW(Brekeke!$B$477),\"\",\"#\")","v":"#"},{"$f":"+CONCATENATE(\"  port fxs 0 \",ROW()-ROW($E$477),CHAR(13),CHAR(10),\"        caller-id format \", Data!$C$41,CHAR(13),CHAR(10),\"         \",Data!$C$32,CHAR(13),CHAR(10),\"      encapsulation cc-fxs\",CHAR(13),CHAR(10),\"       bind interface IF_FXS_\",'Extension Table'!C32,\" switch \",CHAR(13),CHAR(10),\"     no shutdown\")","v":"  port fxs 0 30\r\n        caller-id format etsi\r\n         use profile fxs us\r\n      encapsulation cc-fxs\r\n       bind interface IF_FXS_31 switch \r\n     no shutdown"}]
[507,{"$f":"+IF(Data!$C$6>ROW(Brekeke!B508)-ROW(Brekeke!$B$477),\"\",\"#\")","v":"#"},{"$f":"+CONCATENATE(\"  port fxs 0 \",ROW()-ROW($E$477),CHAR(13),CHAR(10),\"        caller-id format \", Data!$C$41,CHAR(13),CHAR(10),\"         \",Data!$C$32,CHAR(13),CHAR(10),\"      encapsulation cc-fxs\",CHAR(13),CHAR(10),\"       bind interface IF_FXS_\",'Extension Table'!C33,\" switch \",CHAR(13),CHAR(10),\"     no shutdown\")","v":"  port fxs 0 31\r\n        caller-id format etsi\r\n         use profile fxs us\r\n      encapsulation cc-fxs\r\n       bind interface IF_FXS_32 switch \r\n     no shutdown"}]
[508,null,"################################################# END ##################################################"]

{"sheet":"3CX","index":8,"n_rows":512,"n_cols":4,"rows_kept":512,"cut":false,"hidden":true,"merged":[]}
["LINE #","DISCARD (#)","COMMAND","Column1"]
[1,null,"####################################################################################"]
[2,null,{"$f":"+CONCATENATE(\"# Configuration file for SmartNode with: \",Data!C5,\" FXO and \", Data!C6,\" FXS\")","v":"# Configuration file for SmartNode with: 12 FXO and 0 FXS"}]
[3,null,{"$f":"+IF(Data!C7=\"Y\",\"# With 2 ethernet ports\",\"# With one ethernet port\")","v":"# With one ethernet port"}]
[4,null,{"$f":"+CONCATENATE(\"# Configuration file name is \",Data!C11)","v":"# Configuration file name is PattonSample"}]
[5,null,"# 3CX IPPBX"]
[6,null,"####################################################################################"]
[7,null,{"$f":"+CONCATENATE(\"# \",Data!B14,\" \",Data!C14)","v":"# LAN Interface Data "}]
[8,null,{"$f":"+CONCATENATE(\"# \",Data!B15,\" \",Data!C15)","v":"# IP Address 10.10.1.10"}]
[9,null,{"$f":"+CONCATENATE(\"# \",Data!B16,\" \",Data!C16)","v":"# IP Mask 255.255.255.0"}]
[10,null,"####################################################################################"]
[11,null,{"$f":"+CONCATENATE(\"# \",Data!B18,\" \",Data!C18)","v":"# WAN Interface Data "}]
[12,null,{"$f":"+CONCATENATE(\"# \",Data!B19,\" \",Data!C19)","v":"# IP Address dhcp"}]
[13,null,{"$f":"+CONCATENATE(\"# \",Data!B20,\" \",Data!C20)","v":"# IP Mask "}]
[14,null,"####################################################################################"]
[15,null,{"$f":"+CONCATENATE(\"# \",Data!B22,\" \",Data!C22)","v":"# Default Gateway "}]
[16,null,"####################################################################################"]
[17,null,{"$f":"+CONCATENATE(\"# \",Data!B23,\" \",Data!C23)","v":"# IP-PBX/SIP PROXY DATA "}]
[18,null,{"$f":"+CONCATENATE(\"# \",Data!B24,\" \",Data!C24)","v":"# IP-PBX Ip Address /  Name / Domain 10.10.50.23"}]
[19,null,{"$f":"+CONCATENATE(\"# \",Data!B25,\" \",Data!C25)","v":"# IP-PBX SIP Port 5060"}]
[20,null,"####################################################################################"]
[21,null,{"$f":"+CONCATENATE(\"# \",Data!B27,\" \",Data!C27)","v":"# LOCALIZATION DATA "}]
[22,null,{"$f":"+CONCATENATE(\"# \",Data!B28,\" \",Data!C28)","v":"# Country United States"}]
[23,null,"####################################################################################"]
[24,null,"# Supported firmware versions R5.x"]
[25,null,{"$f":"+CONCATENATE(\"# Tool version \",Data!$C$4)","v":"# Tool version V2_1 06222011"}]
[26,null,"# Adapted: Ernesto Casas "]
[27,null,"# for comments, feedback or suggestions please send an email to: ecasas@patton.com"]
[28,null,"####################################################################################"]
[29]
[30,null,"webserver port 80 language en"]
[31,null,{"$f":"+CONCATENATE(\"sntp-client server \",Data!C9)","v":"sntp-client server 1.1.1.1"}]
[32,{"$f":"+IF(Data!C10=\"\",\"#\",\"\")","v":""},{"$f":"+CONCATENATE(\"dns-client server \",Data!C10)","v":"dns-client server 8.8.8.8"}]
[33]
[34,null,"system"]
[35,null,"ic voice 0"]
[36,null,"low-bitrate-codec g729"]
[37,null,"profile ppp default"]
[38]
[39,{"$f":"+IF(Data!$C$5>ROW('3CX'!B40)-ROW('3CX'!$B$480),\"\",\"#\")","v":""},{"$f":"+CONCATENATE(\"# Call Progress tones based on country selection. Your selected country is: \",Data!$C$28)","v":"# Call Progress tones based on country selection. Your selected country is: United States"}]
[40]
[41,null,{"$f":"+Data!$C$30","v":"profile call-progress-tone defaultDialtone\r\nflush-play-list \r\nplay 1 1000 350 -13 440 -13 \r\nprofile call-progress-tone defaultAlertingtone \r\nflush-play-list \r\nplay 1 1000 440 -19 480 -19 \r\npause 2 3000 \r\nprofile call-progress-tone defaultBusytone \r\nflush-play-list \r\nplay 1 500 480 -24 620 -24 \r\npause 2 500 \r\nprofile call-progress-tone defaultReleasetone \r\nflush-play-list \r\nplay 1 250 480 -24 620 -24 \r\npause 2 250 \r\nprofile call-progress-tone defaultCongestiontone \r\nflush-play-list \r\nplay 1 250 480 -24 620 -24 \r\npause 2 250\r\n"}]
[42,{"$f":"+IF(Data!$C$5>ROW('3CX'!B43)-ROW('3CX'!$B$480),\"\",\"#\")","v":""}]
[43,null,"profile tone-set default"]
[44,null,"profile voip default"]
[45,null,"  codec 1 g711alaw64k rx-length 20 tx-length 20"]
[46,null,"  codec 2 g711ulaw64k rx-length 20 tx-length 20"]
[47,null,"  fax transmission 1 relay t38-udp"]
[48,null,"  fax transmission 2 bypass g711alaw64k"]
[49,null,"profile pstn default"]
[50,null,"profile sip default"]
[51,null,"profile aaa default"]
[52,null,"  method 1 local"]
[53,null,"  method 2 none"]
[54]
[55,null,"context ip router"]
[56,null,"interface IF_IP_LAN"]
[57,null,{"$f":"+CONCATENATE(\"     ipaddress \",Data!C15,\" \",Data!C16)","v":"     ipaddress 10.10.1.10 255.255.255.0"}]
[58,null,"    tcp adjust-mss rx mtu"]
[59,null,"    tcp adjust-mss tx mtu"]
[60]
[61,null,"interface IF_IP_WAN"]
[62,null,{"$f":"+CONCATENATE(\"     ipaddress \",Data!C19,\" \",Data!C20)","v":"     ipaddress dhcp "}]
[63,null,"    tcp adjust-mss rx mtu"]
[64,null,"    tcp adjust-mss tx mtu"]
[65]
[66,null,"context ip router"]
[67,null,{"$f":"+CONCATENATE(\"     route 0.0.0.0 0.0.0.0  \",Data!C22)","v":"     route 0.0.0.0 0.0.0.0  "}]
[68,null,"context cs switch"]
[69,null,{"$f":"+IF(Data!C38=\"\",\"     no digit-collection timeout\",+CONCATENATE(\"     digit-collection timeout \",Data!C38))","v":"     digit-collection timeout 2"}]
[70]
[71,{"$f":"+IF(Data!$C$6>0,\" \",\"#\")","v":"#"},"routing-table called-e164 RT_DIGITCOLLECTION"]
[72,{"$f":"+IF(Data!$C$6>0,\" \",\"#\")","v":"#"},"      route .T dest-interface IF_SIP_PBX MT_EXT_TO_NAME"]
[73]
[74,{"$f":"+IF(Data!$C$6>0,\" \",\"#\")","v":"#"},"routing-table called-e164 RT_TO_FXS"]
[75,{"$f":"+IF(Data!$C$6>ROW('3CX'!B76)-ROW('3CX'!$B$76),\"\",\"#\")","v":"#"},{"$f":"+CONCATENATE(\"        route \",'Extension Table'!A2,\" dest-interface IF_FXS_\",'Extension Table'!C2)","v":"        route 101 dest-interface IF_FXS_1"}]
[76,{"$f":"+IF(Data!$C$6>ROW('3CX'!B77)-ROW('3CX'!$B$76),\"\",\"#\")","v":"#"},{"$f":"+CONCATENATE(\"        route \",'Extension Table'!A3,\" dest-interface IF_FXS_\",'Extension Table'!C3)","v":"        route 102 dest-interface IF_FXS_2"}]
[77,{"$f":"+IF(Data!$C$6>ROW('3CX'!B78)-ROW('3CX'!$B$76),\"\",\"#\")","v":"#"},{"$f":"+CONCATENATE(\"        route \",'Extension Table'!A4,\" dest-interface IF_FXS_\",'Extension Table'!C4)","v":"        route 103 dest-interface IF_FXS_3"}]
[78,{"$f":"+IF(Data!$C$6>ROW('3CX'!B79)-ROW('3CX'!$B$76),\"\",\"#\")","v":"#"},{"$f":"+CONCATENATE(\"        route \",'Extension Table'!A5,\" dest-interface IF_FXS_\",'Extension Table'!C5)","v":"        route 104 dest-interface IF_FXS_4"}]
[79,{"$f":"+IF(Data!$C$6>ROW('3CX'!B80)-ROW('3CX'!$B$76),\"\",\"#\")","v":"#"},{"$f":"+CONCATENATE(\"        route \",'Extension Table'!A6,\" dest-interface IF_FXS_\",'Extension Table'!C6)","v":"        route 105 dest-interface IF_FXS_5"}]
[80,{"$f":"+IF(Data!$C$6>ROW('3CX'!B81)-ROW('3CX'!$B$76),\"\",\"#\")","v":"#"},{"$f":"+CONCATENATE(\"        route \",'Extension Table'!A7,\" dest-interface IF_FXS_\",'Extension Table'!C7)","v":"        route 106 dest-interface IF_FXS_6"}]
[81,{"$f":"+IF(Data!$C$6>ROW('3CX'!B82)-ROW('3CX'!$B$76),\"\",\"#\")","v":"#"},{"$f":"+CONCATENATE(\"        route \",'Extension Table'!A8,\" dest-interface IF_FXS_\",'Extension Table'!C8)","v":"        route 107 dest-interface IF_FXS_7"}]
[82,{"$f":"+IF(Data!$C$6>ROW('3CX'!B83)-ROW('3CX'!$B$76),\"\",\"#\")","v":"#"},{"$f":"+CONCATENATE(\"        route \",'Extension Table'!A9,\" dest-interface IF_FXS_\",'Extension Table'!C9)","v":"        route 108 dest-interface IF_FXS_8"}]
[83,{"$f":"+IF(Data!$C$6>ROW('3CX'!B84)-ROW('3CX'!$B$76),\"\",\"#\")","v":"#"},{"$f":"+CONCATENATE(\"        route \",'Extension Table'!A10,\" dest-interface IF_FXS_\",'Extension Table'!C10)","v":"        route 109 dest-interface IF_FXS_9"}]
[84,{"$f":"+IF(Data!$C$6>ROW('3CX'!B85)-ROW('3CX'!$B$76),\"\",\"#\")","v":"#"},{"$f":"+CONCATENATE(\"        route \",'Extension Table'!A11,\" dest-interface IF_FXS_\",'Extension Table'!C11)","v":"        route 110 dest-interface IF_FXS_10"}]
[85,{"$f":"+IF(Data!$C$6>ROW('3CX'!B86)-ROW('3CX'!$B$76),\"\",\"#\")","v":"#"},{"$f":"+CONCATENATE(\"        route \",'Extension Table'!A12,\" dest-interface IF_FXS_\",'Extension Table'!C12)","v":"        route 111 dest-interface IF_FXS_11"}]
[86,{"$f":"+IF(Data!$C$6>ROW('3CX'!B87)-ROW('3CX'!$B$76),\"\",\"#\")","v":"#"},{"$f":"+CONCATENATE(\"        route \",'Extension Table'!A13,\" dest-interface IF_FXS_\",'Extension Table'!C13)","v":"        route 112 dest-interface IF_FXS_12"}]
[87,{"$f":"+IF(Data!$C$6>ROW('3CX'!B88)-ROW('3CX'!$B$76),\"\",\"#\")","v":"#"},{"$f":"+CONCATENATE(\"        route \",'Extension Table'!A14,\" dest-interface IF_FXS_\",'Extension Table'!C14)","v":"        route 113 dest-interface IF_FXS_13"}]
[88,{"$f":"+IF(Data!$C$6>ROW('3CX'!B89)-ROW('3CX'!$B$76),\"\",\"#\")","v":"#"},{"$f":"+CONCATENATE(\"        route \",'Extension Table'!A15,\" dest-interface IF_FXS_\",'Extension Table'!C15)","v":"        route 114 dest-interface IF_FXS_14"}]
[89,{"$f":"+IF(Data!$C$6>ROW('3CX'!B90)-ROW('3CX'!$B$76),\"\",\"#\")","v":"#"},{"$f":"+CONCATENATE(\"        route \",'Extension Table'!A16,\" dest-interface IF_FXS_\",'Extension Table'!C16)","v":"        route 115 dest-interface IF_FXS_15"}]
[90,{"$f":"+IF(Data!$C$6>ROW('3CX'!B91)-ROW('3CX'!$B$76),\"\",\"#\")","v":"#"},{"$f":"+CONCATENATE(\"        route \",'Extension Table'!A17,\" dest-interface IF_FXS_\",'Extension Table'!C17)","v":"        route 116 dest-interface IF_FXS_16"}]
[91,{"$f":"+IF(Data!$C$6>ROW('3CX'!B92)-ROW('3CX'!$B$76),\"\",\"#\")","v":"#"},{"$f":"+CONCATENATE(\"        route \",'Extension Table'!A18,\" dest-interface IF_FXS_\",'Extension Table'!C18)","v":"        route 117 dest-interface IF_FXS_17"}]
[92,{"$f":"+IF(Data!$C$6>ROW('3CX'!B93)-ROW('3CX'!$B$76),\"\",\"#\")","v":"#"},{"$f":"+CONCATENATE(\"        route \",'Extension Table'!A19,\" dest-interface IF_FXS_\",'Extension Table'!C19)","v":"        route 118 dest-interface IF_FXS_18"}]
[93,{"$f":"+IF(Data!$C$6>ROW('3CX'!B94)-ROW('3CX'!$B$76),\"\",\"#\")","v":"#"},{"$f":"+CONCATENATE(\"        route \",'Extension Table'!A20,\" dest-interface IF_FXS_\",'Extension Table'!C20)","v":"        route 119 dest-interface IF_FXS_19"}]
[94,{"$f":"+IF(Data!$C$6>ROW('3CX'!B95)-ROW('3CX'!$B$76),\"\",\"#\")","v":"#"},{"$f":"+CONCATENATE(\"        route \",'Extension Table'!A21,\" dest-interface IF_FXS_\",'Extension Table'!C21)","v":"        route 120 dest-interface IF_FXS_20"}]
[95,{"$f":"+IF(Data!$C$6>ROW('3CX'!B96)-ROW('3CX'!$B$76),\"\",\"#\")","v":"#"},{"$f":"+CONCATENATE(\"        route \",'Extension Table'!A22,\" dest-interface IF_FXS_\",'Extension Table'!C22)","v":"        route 121 dest-interface IF_FXS_21"}]
[96,{"$f":"+IF(Data!$C$6>ROW('3CX'!B97)-ROW('3CX'!$B$76),\"\",\"#\")","v":"#"},{"$f":"+CONCATENATE(\"        route \",'Extension Table'!A23,\" dest-interface IF_FXS_\",'Extension Table'!C23)","v":"        route 122 dest-interface IF_FXS_22"}]
[97,{"$f":"+IF(Data!$C$6>ROW('3CX'!B98)-ROW('3CX'!$B$76),\"\",\"#\")","v":"#"},{"$f":"+CONCATENATE(\"        route \",'Extension Table'!A24,\" dest-interface IF_FXS_\",'Extension Table'!C24)","v":"        route 123 dest-interface IF_FXS_23"}]
[98,{"$f":"+IF(Data!$C$6>ROW('3CX'!B99)-ROW('3CX'!$B$76),\"\",\"#\")","v":"#"},{"$f":"+CONCATENATE(\"        route \",'Extension Table'!A25,\" dest-interface IF_FXS_\",'Extension Table'!C25)","v":"        route 124 dest-interface IF_FXS_24"}]
[99,{"$f":"+IF(Data!$C$6>ROW('3CX'!B100)-ROW('3CX'!$B$76),\"\",\"#\")","v":"#"},{"$f":"+CONCATENATE(\"        route \",'Extension Table'!A26,\" dest-interface IF_FXS_\",'Extension Table'!C26)","v":"        route 125 dest-interface IF_FXS_25"}]
[100,{"$f":"+IF(Data!$C$6>ROW('3CX'!B101)-ROW('3CX'!$B$76),\"\",\"#\")","v":"#"},{"$f":"+CONCATENATE(\"        route \",'Extension Table'!A27,\" dest-interface IF_FXS_\",'Extension Table'!C27)","v":"        route 126 dest-interface IF_FXS_26"}]
[101,{"$f":"+IF(Data!$C$6>ROW('3CX'!B102)-ROW('3CX'!$B$76),\"\",\"#\")","v":"#"},{"$f":"+CONCATENATE(\"        route \",'Extension Table'!A28,\" dest-interface IF_FXS_\",'Extension Table'!C28)","v":"        route 127 dest-interface IF_FXS_27"}]
[102,{"$f":"+IF(Data!$C$6>ROW('3CX'!B103)-ROW('3CX'!$B$76),\"\",\"#\")","v":"#"},{"$f":"+CONCATENATE(\"        route \",'Extension Table'!A29,\" dest-interface IF_FXS_\",'Extension Table'!C29)","v":"        route 128 dest-interface IF_FXS_28"}]
[103,{"$f":"+IF(Data!$C$6>ROW('3CX'!B104)-ROW('3CX'!$B$76),\"\",\"#\")","v":"#"},{"$f":"+CONCATENATE(\"        route \",'Extension Table'!A30,\" dest-interface IF_FXS_\",'Extension Table'!C30)","v":"        route 129 dest-interface IF_FXS_29"}]
[104,{"$f":"+IF(Data!$C$6>ROW('3CX'!B105)-ROW('3CX'!$B$76),\"\",\"#\")","v":"#"},{"$f":"+CONCATENATE(\"        route \",'Extension Table'!A31,\" dest-interface IF_FXS_\",'Extension Table'!C31)","v":"        route 130 dest-interface IF_FXS_30"}]
[105,{"$f":"+IF(Data!$C$6>ROW('3CX'!B106)-ROW('3CX'!$B$76),\"\",\"#\")","v":"#"},{"$f":"+CONCATENATE(\"        route \",'Extension Table'!A32,\" dest-interface IF_FXS_\",'Extension Table'!C32)","v":"        route 131 dest-interface IF_FXS_31"}]
[106,{"$f":"+IF(Data!$C$6>ROW('3CX'!B107)-ROW('3CX'!$B$76),\"\",\"#\")","v":"#"},{"$f":"+CONCATENATE(\"        route \",'Extension Table'!A33,\" dest-interface IF_FXS_\",'Extension Table'!C33)","v":"        route 132 dest-interface IF_FXS_32"}]
[107,null," "]
[108,{"$f":"+IF(Data!$C$6>0,\" \",\"#\")","v":"#"},"mapping-table calling-e164 to calling-name MT_EXT_TO_NAME"]
[109,{"$f":"+IF(Data!$C$6>ROW('3CX'!B110)-ROW('3CX'!$B$110),\"\",\"#\")","v":"#"},{"$f":"+CONCATENATE(\"        map \",'Extension Table'!A2,\" to \"\"\",'Extension Table'!D2,\" \",'Extension Table'!E2,\"\"\"\")","v":"        map 101 to \"Fname user 1 Lname user 1\""}]
[110,{"$f":"+IF(Data!$C$6>ROW('3CX'!B111)-ROW('3CX'!$B$110),\"\",\"#\")","v":"#"},{"$f":"+CONCATENATE(\"        map \",'Extension Table'!A3,\" to \"\"\",'Extension Table'!D3,\" \",'Extension Table'!E3,\"\"\"\")","v":"        map 102 to \"Fname user 2 Lname user 2\""}]
[111,{"$f":"+IF(Data!$C$6>ROW('3CX'!B112)-ROW('3CX'!$B$110),\"\",\"#\")","v":"#"},{"$f":"+CONCATENATE(\"        map \",'Extension Table'!A4,\" to \"\"\",'Extension Table'!D4,\" \",'Extension Table'!E4,\"\"\"\")","v":"        map 103 to \" \""}]
[112,{"$f":"+IF(Data!$C$6>ROW('3CX'!B113)-ROW('3CX'!$B$110),\"\",\"#\")","v":"#"},{"$f":"+CONCATENATE(\"        map \",'Extension Table'!A5,\" to \"\"\",'Extension Table'!D5,\" \",'Extension Table'!E5,\"\"\"\")","v":"        map 104 to \" \""}]
[113,{"$f":"+IF(Data!$C$6>ROW('3CX'!B114)-ROW('3CX'!$B$110),\"\",\"#\")","v":"#"},{"$f":"+CONCATENATE(\"        map \",'Extension Table'!A6,\" to \"\"\",'Extension Table'!D6,\" \",'Extension Table'!E6,\"\"\"\")","v":"        map 105 to \" \""}]
[114,{"$f":"+IF(Data!$C$6>ROW('3CX'!B115)-ROW('3CX'!$B$110),\"\",\"#\")","v":"#"},{"$f":"+CONCATENATE(\"        map \",'Extension Table'!A7,\" to \"\"\",'Extension Table'!D7,\" \",'Extension Table'!E7,\"\"\"\")","v":"        map 106 to \" \""}]
[115,{"$f":"+IF(Data!$C$6>ROW('3CX'!B116)-ROW('3CX'!$B$110),\"\",\"#\")","v":"#"},{"$f":"+CONCATENATE(\"        map \",'Extension Table'!A8,\" to \"\"\",'Extension Table'!D8,\" \",'Extension Table'!E8,\"\"\"\")","v":"        map 107 to \" \""}]
[116,{"$f":"+IF(Data!$C$6>ROW('3CX'!B117)-ROW('3CX'!$B$110),\"\",\"#\")","v":"#"},{"$f":"+CONCATENATE(\"        map \",'Extension Table'!A9,\" to \"\"\",'Extension Table'!D9,\" \",'Extension Table'!E9,\"\"\"\")","v":"        map 108 to \" \""}]
[117,{"$f":"+IF(Data!$C$6>ROW('3CX'!B118)-ROW('3CX'!$B$110),\"\",\"#\")","v":"#"},{"$f":"+CONCATENATE(\"        map \",'Extension Table'!A10,\" to \"\"\",'Extension Table'!D10,\" \",'Extension Table'!E10,\"\"\"\")","v":"        map 109 to \" \""}]
[118,{"$f":"+IF(Data!$C$6>ROW('3CX'!B119)-ROW('3CX'!$B$110),\"\",\"#\")","v":"#"},{"$f":"+CONCATENATE(\"        map \",'Extension Table'!A11,\" to \"\"\",'Extension Table'!D11,\" \",'Extension Table'!E11,\"\"\"\")","v":"        map 110 to \" \""}]
[119,{"$f":"+IF(Data!$C$6>ROW('3CX'!B120)-ROW('3CX'!$B$110),\"\",\"#\")","v":"#"},{"$f":"+CONCATENATE(\"        map \",'Extension Table'!A12,\" to \"\"\",'Extension Table'!D12,\" \",'Extension Table'!E12,\"\"\"\")","v":"        map 111 to \" \""}]
[120,{"$f":"+IF(Data!$C$6>ROW('3CX'!B121)-ROW('3CX'!$B$110),\"\",\"#\")","v":"#"},{"$f":"+CONCATENATE(\"        map \",'Extension Table'!A13,\" to \"\"\",'Extension Table'!D13,\" \",'Extension Table'!E13,\"\"\"\")","v":"        map 112 to \" \""}]
[121,{"$f":"+IF(Data!$C$6>ROW('3CX'!B122)-ROW('3CX'!$B$110),\"\",\"#\")","v":"#"},{"$f":"+CONCATENATE(\"        map \",'Extension Table'!A14,\" to \"\"\",'Extension Table'!D14,\" \",'Extension Table'!E14,\"\"\"\")","v":"        map 113 to \" \""}]
[122,{"$f":"+IF(Data!$C$6>ROW('3CX'!B123)-ROW('3CX'!$B$110),\"\",\"#\")","v":"#"},{"$f":"+CONCATENATE(\"        map \",'Extension Table'!A15,\" to \"\"\",'Extension Table'!D15,\" \",'Extension Table'!E15,\"\"\"\")","v":"        map 114 to \" \""}]
[123,{"$f":"+IF(Data!$C$6>ROW('3CX'!B124)-ROW('3CX'!$B$110),\"\",\"#\")","v":"#"},{"$f":"+CONCATENATE(\"        map \",'Extension Table'!A16,\" to \"\"\",'Extension Table'!D16,\" \",'Extension Table'!E16,\"\"\"\")","v":"        map 115 to \" \""}]
[124,{"$f":"+IF(Data!$C$6>ROW('3CX'!B125)-ROW('3CX'!$B$110),\"\",\"#\")","v":"#"},{"$f":"+CONCATENATE(\"        map \",'Extension Table'!A17,\" to \"\"\",'Extension Table'!D17,\" \",'Extension Table'!E17,\"\"\"\")","v":"        map 116 to \" \""}]
[125,{"$f":"+IF(Data!$C$6>ROW('3CX'!B126)-ROW('3CX'!$B$110),\"\",\"#\")","v":"#"},{"$f":"+CONCATENATE(\"        map \",'Extension Table'!A18,\" to \"\"\",'Extension Table'!D18,\" \",'Extension Table'!E18,\"\"\"\")","v":"        map 117 to \" \""}]
[126,{"$f":"+IF(Data!$C$6>ROW('3CX'!B127)-ROW('3CX'!$B$110),\"\",\"#\")","v":"#"},{"$f":"+CONCATENATE(\"        map \",'Extension Table'!A19,\" to \"\"\",'Extension Table'!D19,\" \",'Extension Table'!E19,\"\"\"\")","v":"        map 118 to \" \""}]
[127,{"$f":"+IF(Data!$C$6>ROW('3CX'!B128)-ROW('3CX'!$B$110),\"\",\"#\")","v":"#"},{"$f":"+CONCATENATE(\"        map \",'Extension Table'!A20,\" to \"\"\",'Extension Table'!D20,\" \",'Extension Table'!E20,\"\"\"\")","v":"        map 119 to \" \""}]
[128,{"$f":"+IF(Data!$C$6>ROW('3CX'!B129)-ROW('3CX'!$B$110),\"\",\"#\")","v":"#"},{"$f":"+CONCATENATE(\"        map \",'Extension Table'!A21,\" to \"\"\",'Extension Table'!D21,\" \",'Extension Table'!E21,\"\"\"\")","v":"        map 120 to \" \""}]
[129,{"$f":"+IF(Data!$C$6>ROW('3CX'!B130)-ROW('3CX'!$B$110),\"\",\"#\")","v":"#"},{"$f":"+CONCATENATE(\"        map \",'Extension Table'!A22,\" to \"\"\",'Extension Table'!D22,\" \",'Extension Table'!E22,\"\"\"\")","v":"        map 121 to \" \""}]
[130,{"$f":"+IF(Data!$C$6>ROW('3CX'!B131)-ROW('3CX'!$B$110),\"\",\"#\")","v":"#"},{"$f":"+CONCATENATE(\"        map \",'Extension Table'!A23,\" to \"\"\",'Extension Table'!D23,\" \",'Extension Table'!E23,\"\"\"\")","v":"        map 122 to \" \""}]
[131,{"$f":"+IF(Data!$C$6>ROW('3CX'!B132)-ROW('3CX'!$B$110),\"\",\"#\")","v":"#"},{"$f":"+CONCATENATE(\"        map \",'Extension Table'!A24,\" to \"\"\",'Extension Table'!D24,\" \",'Extension Table'!E24,\"\"\"\")","v":"        map 123 to \" \""}]
[132,{"$f":"+IF(Data!$C$6>ROW('3CX'!B133)-ROW('3CX'!$B$110),\"\",\"#\")","v":"#"},{"$f":"+CONCATENATE(\"        map \",'Extension Table'!A25,\" to \"\"\",'Extension Table'!D25,\" \",'Extension Table'!E25,\"\"\"\")","v":"        map 124 to \" \""}]
[133,{"$f":"+IF(Data!$C$6>ROW('3CX'!B134)-ROW('3CX'!$B$110),\"\",\"#\")","v":"#"},{"$f":"+CONCATENATE(\"        map \",'Extension Table'!A26,\" to \"\"\",'Extension Table'!D26,\" \",'Extension Table'!E26,\"\"\"\")","v":"        map 125 to \" \""}]
[134,{"$f":"+IF(Data!$C$6>ROW('3CX'!B135)-ROW('3CX'!$B$110),\"\",\"#\")","v":"#"},{"$f":"+CONCATENATE(\"        map \",'Extension Table'!A27,\" to \"\"\",'Extension Table'!D27,\" \",'Extension Table'!E27,\"\"\"\")","v":"        map 126 to \" \""}]
[135,{"$f":"+IF(Data!$C$6>ROW('3CX'!B136)-ROW('3CX'!$B$110),\"\",\"#\")","v":"#"},{"$f":"+CONCATENATE(\"        map \",'Extension Table'!A28,\" to \"\"\",'Extension Table'!D28,\" \",'Extension Table'!E28,\"\"\"\")","v":"        map 127 to \" \""}]
[136,{"$f":"+IF(Data!$C$6>ROW('3CX'!B137)-ROW('3CX'!$B$110),\"\",\"#\")","v":"#"},{"$f":"+CONCATENATE(\"        map \",'Extension Table'!A29,\" to \"\"\",'Extension Table'!D29,\" \",'Extension Table'!E29,\"\"\"\")","v":"        map 128 to \" \""}]
[137,{"$f":"+IF(Data!$C$6>ROW('3CX'!B138)-ROW('3CX'!$B$110),\"\",\"#\")","v":"#"},{"$f":"+CONCATENATE(\"        map \",'Extension Table'!A30,\" to \"\"\",'Extension Table'!D30,\" \",'Extension Table'!E30,\"\"\"\")","v":"        map 129 to \" \""}]
[138,{"$f":"+IF(Data!$C$6>ROW('3CX'!B139)-ROW('3CX'!$B$110),\"\",\"#\")","v":"#"},{"$f":"+CONCATENATE(\"        map \",'Extension Table'!A31,\" to \"\"\",'Extension Table'!D31,\" \",'Extension Table'!E31,\"\"\"\")","v":"        map 130 to \" \""}]
[139,{"$f":"+IF(Data!$C$6>ROW('3CX'!B140)-ROW('3CX'!$B$110),\"\",\"#\")","v":"#"},{"$f":"+CONCATENATE(\"        map \",'Extension Table'!A32,\" to \"\"\",'Extension Table'!D32,\" \",'Extension Table'!E32,\"\"\"\")","v":"        map 131 to \" \""}]
[140,{"$f":"+IF(Data!$C$6>ROW('3CX'!B141)-ROW('3CX'!$B$110),\"\",\"#\")","v":"#"},{"$f":"+CONCATENATE(\"        map \",'Extension Table'!A33,\" to \"\"\",'Extension Table'!D33,\" \",'Extension Table'!E33,\"\"\"\")","v":"        map 132 to \" \""}]
[141]
[142,{"$f":"+IF(Data!$C$5>ROW('3CX'!B143)-ROW('3CX'!$B$143),\"\",\"#\")","v":""},{"$f":"+CONCATENATE(\"  interface sip IF_SIP_\",'Line Table'!A2,CHAR(13),CHAR(10),,\"        bind context sip-gateway GW_SIP_\",'Line Table'!A2,CHAR(13),CHAR(10),,\"        \",+'Line Table'!C2,CHAR(13),CHAR(10),,\"        early-disconnect\",CHAR(13),CHAR(10),,\"        route call dest-interface IF_FXO_\",'Line Table'!A2,CHAR(13),CHAR(10),,\"        remote \",Data!$C$24,\" \",Data!$C$25,CHAR(13),CHAR(10),,\"        address-translation outgoing-call request-uri user-part fix \",'Line Table'!B2,\" host-part to-header target-param none\",CHAR(13),CHAR(10),,\"        address-translation incoming-call called-e164 request-uri\",CHAR(13),CHAR(10),,CHAR(13),CHAR(10),)","v":"  interface sip IF_SIP_1\r\n        bind context sip-gateway GW_SIP_1\r\n        early-connect \r\n        early-disconnect\r\n        route call dest-interface IF_FXO_1\r\n        remote 10.10.50.23 5060\r\n        address-translation outgoing-call request-uri user-part fix 10002 host-part to-header target-param none\r\n        address-translation incoming-call called-e164 request-uri\r\n\r\n"}]
[143,{"$f":"+IF(Data!$C$5>ROW('3CX'!B144)-ROW('3CX'!$B$143),\"\",\"#\")","v":""},{"$f":"+CONCATENATE(\"  interface sip IF_SIP_\",'Line Table'!A3,CHAR(13),CHAR(10),,\"        bind context sip-gateway GW_SIP_\",'Line Table'!A3,CHAR(13),CHAR(10),,\"        \",+'Line Table'!C3,CHAR(13),CHAR(10),,\"        early-disconnect\",CHAR(13),CHAR(10),,\"        route call dest-interface IF_FXO_\",'Line Table'!A3,CHAR(13),CHAR(10),,\"        remote \",Data!$C$24,\" \",Data!$C$25,CHAR(13),CHAR(10),,\"        address-translation outgoing-call request-uri user-part fix \",'Line Table'!B3,\" host-part to-header target-param none\",CHAR(13),CHAR(10),,\"        address-translation incoming-call called-e164 request-uri\",CHAR(13),CHAR(10),,CHAR(13),CHAR(10),)","v":"  interface sip IF_SIP_2\r\n        bind context sip-gateway GW_SIP_2\r\n        early-connect \r\n        early-disconnect\r\n        route call dest-interface IF_FXO_2\r\n        remote 10.10.50.23 5060\r\n        address-translation outgoing-call request-uri user-part fix 10003 host-part to-header target-param none\r\n        address-translation incoming-call called-e164 request-uri\r\n\r\n"}]
[144,{"$f":"+IF(Data!$C$5>ROW('3CX'!B145)-ROW('3CX'!$B$143),\"\",\"#\")","v":""},{"$f":"+CONCATENATE(\"  interface sip IF_SIP_\",'Line Table'!A4,CHAR(13),CHAR(10),,\"        bind context sip-gateway GW_SIP_\",'Line Table'!A4,CHAR(13),CHAR(10),,\"        \",+'Line Table'!C4,CHAR(13),CHAR(10),,\"        early-disconnect\",CHAR(13),CHAR(10),,\"        route call dest-interface IF_FXO_\",'Line Table'!A4,CHAR(13),CHAR(10),,\"        remote \",Data!$C$24,\" \",Data!$C$25,CHAR(13),CHAR(10),,\"        address-translation outgoing-call request-uri user-part fix \",'Line Table'!B4,\" host-part to-header target-param none\",CHAR(13),CHAR(10),,\"        address-translation incoming-call called-e164 request-uri\",CHAR(13),CHAR(10),,CHAR(13),CHAR(10),)","v":"  interface sip IF_SIP_3\r\n        bind context sip-gateway GW_SIP_3\r\n        early-connect \r\n        early-disconnect\r\n        route call dest-interface IF_FXO_3\r\n        remote 10.10.50.23 5060\r\n        address-translation outgoing-call request-uri user-part fix 10004 host-part to-header target-param none\r\n        address-translation incoming-call called-e164 request-uri\r\n\r\n"}]
[145,{"$f":"+IF(Data!$C$5>ROW('3CX'!B146)-ROW('3CX'!$B$143),\"\",\"#\")","v":""},{"$f":"+CONCATENATE(\"  interface sip IF_SIP_\",'Line Table'!A5,CHAR(13),CHAR(10),,\"        bind context sip-gateway GW_SIP_\",'Line Table'!A5,CHAR(13),CHAR(10),,\"        \",+'Line Table'!C5,CHAR(13),CHAR(10),,\"        early-disconnect\",CHAR(13),CHAR(10),,\"        route call dest-interface IF_FXO_\",'Line Table'!A5,CHAR(13),CHAR(10),,\"        remote \",Data!$C$24,\" \",Data!$C$25,CHAR(13),CHAR(10),,\"        address-translation outgoing-call request-uri user-part fix \",'Line Table'!B5,\" host-part to-header target-param none\",CHAR(13),CHAR(10),,\"        address-translation incoming-call called-e164 request-uri\",CHAR(13),CHAR(10),,CHAR(13),CHAR(10),)","v":"  interface sip IF_SIP_4\r\n        bind context sip-gateway GW_SIP_4\r\n        early-connect \r\n        early-disconnect\r\n        route call dest-interface IF_FXO_4\r\n        remote 10.10.50.23 5060\r\n        address-translation outgoing-call request-uri user-part fix 10005 host-part to-header target-param none\r\n        address-translation incoming-call called-e164 request-uri\r\n\r\n"}]
[146,{"$f":"+IF(Data!$C$5>ROW('3CX'!B147)-ROW('3CX'!$B$143),\"\",\"#\")","v":""},{"$f":"+CONCATENATE(\"  interface sip IF_SIP_\",'Line Table'!A6,CHAR(13),CHAR(10),,\"        bind context sip-gateway GW_SIP_\",'Line Table'!A6,CHAR(13),CHAR(10),,\"        \",+'Line Table'!C6,CHAR(13),CHAR(10),,\"        early-disconnect\",CHAR(13),CHAR(10),,\"        route call dest-interface IF_FXO_\",'Line Table'!A6,CHAR(13),CHAR(10),,\"        remote \",Data!$C$24,\" \",Data!$C$25,CHAR(13),CHAR(10),,\"        address-translation outgoing-call request-uri user-part fix \",'Line Table'!B6,\" host-part to-header target-param none\",CHAR(13),CHAR(10),,\"        address-translation incoming-call called-e164 request-uri\",CHAR(13),CHAR(10),,CHAR(13),CHAR(10),)","v":"  interface sip IF_SIP_5\r\n        bind context sip-gateway GW_SIP_5\r\n        early-connect \r\n        early-disconnect\r\n        route call dest-interface IF_FXO_5\r\n        remote 10.10.50.23 5060\r\n        address-translation outgoing-call request-uri user-part fix 10006 host-part to-header target-param none\r\n        address-translation incoming-call called-e164 request-uri\r\n\r\n"}]
[147,{"$f":"+IF(Data!$C$5>ROW('3CX'!B148)-ROW('3CX'!$B$143),\"\",\"#\")","v":""},{"$f":"+CONCATENATE(\"  interface sip IF_SIP_\",'Line Table'!A7,CHAR(13),CHAR(10),,\"        bind context sip-gateway GW_SIP_\",'Line Table'!A7,CHAR(13),CHAR(10),,\"        \",+'Line Table'!C7,CHAR(13),CHAR(10),,\"        early-disconnect\",CHAR(13),CHAR(10),,\"        route call dest-interface IF_FXO_\",'Line Table'!A7,CHAR(13),CHAR(10),,\"        remote \",Data!$C$24,\" \",Data!$C$25,CHAR(13),CHAR(10),,\"        address-translation outgoing-call request-uri user-part fix \",'Line Table'!B7,\" host-part to-header target-param none\",CHAR(13),CHAR(10),,\"        address-translation incoming-call called-e164 request-uri\",CHAR(13),CHAR(10),,CHAR(13),CHAR(10),)","v":"  interface sip IF_SIP_6\r\n        bind context sip-gateway GW_SIP_6\r\n        early-connect \r\n        early-disconnect\r\n        route call dest-interface IF_FXO_6\r\n        remote 10.10.50.23 5060\r\n        address-translation outgoing-call request-uri user-part fix 10007 host-part to-header target-param none\r\n        address-translation incoming-call called-e164 request-uri\r\n\r\n"}]
[148,{"$f":"+IF(Data!$C$5>ROW('3CX'!B149)-ROW('3CX'!$B$143),\"\",\"#\")","v":""},{"$f":"+CONCATENATE(\"  interface sip IF_SIP_\",'Line Table'!A8,CHAR(13),CHAR(10),,\"        bind context sip-gateway GW_SIP_\",'Line Table'!A8,CHAR(13),CHAR(10),,\"        \",+'Line Table'!C8,CHAR(13),CHAR(10),,\"        early-disconnect\",CHAR(13),CHAR(10),,\"        route call dest-interface IF_FXO_\",'Line Table'!A8,CHAR(13),CHAR(10),,\"        remote \",Data!$C$24,\" \",Data!$C$25,CHAR(13),CHAR(10),,\"        address-translation outgoing-call request-uri user-part fix \",'Line Table'!B8,\" host-part to-header target-param none\",CHAR(13),CHAR(10),,\"        address-translation incoming-call called-e164 request-uri\",CHAR(13),CHAR(10),,CHAR(13),CHAR(10),)","v":"  interface sip IF_SIP_7\r\n        bind context sip-gateway GW_SIP_7\r\n        early-connect \r\n        early-disconnect\r\n        route call dest-interface IF_FXO_7\r\n        remote 10.10.50.23 5060\r\n        address-translation outgoing-call request-uri user-part fix 10008 host-part to-header target-param none\r\n        address-translation incoming-call called-e164 request-uri\r\n\r\n"}]
[149,{"$f":"+IF(Data!$C$5>ROW('3CX'!B150)-ROW('3CX'!$B$143),\"\",\"#\")","v":""},{"$f":"+CONCATENATE(\"  interface sip IF_SIP_\",'Line Table'!A9,CHAR(13),CHAR(10),,\"        bind context sip-gateway GW_SIP_\",'Line Table'!A9,CHAR(13),CHAR(10),,\"        \",+'Line Table'!C9,CHAR(13),CHAR(10),,\"        early-disconnect\",CHAR(13),CHAR(10),,\"        route call dest-interface IF_FXO_\",'Line Table'!A9,CHAR(13),CHAR(10),,\"        remote \",Data!$C$24,\" \",Data!$C$25,CHAR(13),CHAR(10),,\"        address-translation outgoing-call request-uri user-part fix \",'Line Table'!B9,\" host-part to-header target-param none\",CHAR(13),CHAR(10),,\"        address-translation incoming-call called-e164 request-uri\",CHAR(13),CHAR(10),,CHAR(13),CHAR(10),)","v":"  interface sip IF_SIP_8\r\n        bind context sip-gateway GW_SIP_8\r\n        early-connect \r\n        early-disconnect\r\n        route call dest-interface IF_FXO_8\r\n        remote 10.10.50.23 5060\r\n        address-translation outgoing-call request-uri user-part fix 10009 host-part to-header target-param none\r\n        address-translation incoming-call called-e164 request-uri\r\n\r\n"}]
[150,{"$f":"+IF(Data!$C$5>ROW('3CX'!B151)-ROW('3CX'!$B$143),\"\",\"#\")","v":""},{"$f":"+CONCATENATE(\"  interface sip IF_SIP_\",'Line Table'!A10,CHAR(13),CHAR(10),,\"        bind context sip-gateway GW_SIP_\",'Line Table'!A10,CHAR(13),CHAR(10),,\"        \",+'Line Table'!C10,CHAR(13),CHAR(10),,\"        early-disconnect\",CHAR(13),CHAR(10),,\"        route call dest-interface IF_FXO_\",'Line Table'!A10,CHAR(13),CHAR(10),,\"        remote \",Data!$C$24,\" \",Data!$C$25,CHAR(13),CHAR(10),,\"        address-translation outgoing-call request-uri user-part fix \",'Line Table'!B10,\" host-part to-header target-param none\",CHAR(13),CHAR(10),,\"        address-translation incoming-call called-e164 request-uri\",CHAR(13),CHAR(10),,CHAR(13),CHAR(10),)","v":"  interface sip IF_SIP_9\r\n        bind context sip-gateway GW_SIP_9\r\n        early-connect \r\n        early-disconnect\r\n        route call dest-interface IF_FXO_9\r\n        remote 10.10.50.23 5060\r\n        address-translation outgoing-call request-uri user-part fix 10010 host-part to-header target-param none\r\n        address-translation incoming-call called-e164 request-uri\r\n\r\n"}]
[151,{"$f":"+IF(Data!$C$5>ROW('3CX'!B152)-ROW('3CX'!$B$143),\"\",\"#\")","v":""},{"$f":"+CONCATENATE(\"  interface sip IF_SIP_\",'Line Table'!A11,CHAR(13),CHAR(10),,\"        bind context sip-gateway GW_SIP_\",'Line Table'!A11,CHAR(13),CHAR(10),,\"        \",+'Line Table'!C11,CHAR(13),CHAR(10),,\"        early-disconnect\",CHAR(13),CHAR(10),,\"        route call dest-interface IF_FXO_\",'Line Table'!A11,CHAR(13),CHAR(10),,\"        remote \",Data!$C$24,\" \",Data!$C$25,CHAR(13),CHAR(10),,\"        address-translation outgoing-call request-uri user-part fix \",'Line Table'!B11,\" host-part to-header target-param none\",CHAR(13),CHAR(10),,\"        address-translation incoming-call called-e164 request-uri\",CHAR(13),CHAR(10),,CHAR(13),CHAR(10),)","v":"  interface sip IF_SIP_10\r\n        bind context sip-gateway GW_SIP_10\r\n        early-connect \r\n        early-disconnect\r\n        route call dest-interface IF_FXO_10\r\n        remote 10.10.50.23 5060\r\n        address-translation outgoing-call request-uri user-part fix 10011 host-part to-header target-param none\r\n        address-translation incoming-call called-e164 request-uri\r\n\r\n"}]
[152,{"$f":"+IF(Data!$C$5>ROW('3CX'!B153)-ROW('3CX'!$B$143),\"\",\"#\")","v":""},{"$f":"+CONCATENATE(\"  interface sip IF_SIP_\",'Line Table'!A12,CHAR(13),CHAR(10),,\"        bind context sip-gateway GW_SIP_\",'Line Table'!A12,CHAR(13),CHAR(10),,\"        \",+'Line Table'!C12,CHAR(13),CHAR(10),,\"        early-disconnect\",CHAR(13),CHAR(10),,\"        route call dest-interface IF_FXO_\",'Line Table'!A12,CHAR(13),CHAR(10),,\"        remote \",Data!$C$24,\" \",Data!$C$25,CHAR(13),CHAR(10),,\"        address-translation outgoing-call request-uri user-part fix \",'Line Table'!B12,\" host-part to-header target-param none\",CHAR(13),CHAR(10),,\"        address-translation incoming-call called-e164 request-uri\",CHAR(13),CHAR(10),,CHAR(13),CHAR(10),)","v":"  interface sip IF_SIP_11\r\n        bind context sip-gateway GW_SIP_11\r\n        early-connect \r\n        early-disconnect\r\n        route call dest-interface IF_FXO_11\r\n        remote 10.10.50.23 5060\r\n        address-translation outgoing-call request-uri user-part fix 10012 host-part to-header target-param none\r\n        address-translation incoming-call called-e164 request-uri\r\n\r\n"}]
[153,{"$f":"+IF(Data!$C$5>ROW('3CX'!B154)-ROW('3CX'!$B$143),\"\",\"#\")","v":""},{"$f":"+CONCATENATE(\"  interface sip IF_SIP_\",'Line Table'!A13,CHAR(13),CHAR(10),,\"        bind context sip-gateway GW_SIP_\",'Line Table'!A13,CHAR(13),CHAR(10),,\"        \",+'Line Table'!C13,CHAR(13),CHAR(10),,\"        early-disconnect\",CHAR(13),CHAR(10),,\"        route call dest-interface IF_FXO_\",'Line Table'!A13,CHAR(13),CHAR(10),,\"        remote \",Data!$C$24,\" \",Data!$C$25,CHAR(13),CHAR(10),,\"        address-translation outgoing-call request-uri user-part fix \",'Line Table'!B13,\" host-part to-header target-param none\",CHAR(13),CHAR(10),,\"        address-translation incoming-call called-e164 request-uri\",CHAR(13),CHAR(10),,CHAR(13),CHAR(10),)","v":"  interface sip IF_SIP_12\r\n        bind context sip-gateway GW_SIP_12\r\n        early-connect \r\n        early-disconnect\r\n        route call dest-interface IF_FXO_12\r\n        remote 10.10.50.23 5060\r\n        address-translation outgoing-call request-uri user-part fix 10013 host-part to-header target-param none\r\n        address-translation incoming-call called-e164 request-uri\r\n\r\n"}]
[154,{"$f":"+IF(Data!$C$5>ROW('3CX'!B155)-ROW('3CX'!$B$143),\"\",\"#\")","v":"#"},{"$f":"+CONCATENATE(\"  interface sip IF_SIP_\",'Line Table'!A14,CHAR(13),CHAR(10),,\"        bind context sip-gateway GW_SIP_\",'Line Table'!A14,CHAR(13),CHAR(10),,\"        \",+'Line Table'!C14,CHAR(13),CHAR(10),,\"        early-disconnect\",CHAR(13),CHAR(10),,\"        route call dest-interface IF_FXO_\",'Line Table'!A14,CHAR(13),CHAR(10),,\"        remote \",Data!$C$24,\" \",Data!$C$25,CHAR(13),CHAR(10),,\"        address-translation outgoing-call request-uri user-part fix \",'Line Table'!B14,\" host-part to-header target-param none\",CHAR(13),CHAR(10),,\"        address-translation incoming-call called-e164 request-uri\",CHAR(13),CHAR(10),,CHAR(13),CHAR(10),)","v":"  interface sip IF_SIP_13\r\n        bind context sip-gateway GW_SIP_13\r\n        early-connect \r\n        early-disconnect\r\n        route call dest-interface IF_FXO_13\r\n        remote 10.10.50.23 5060\r\n        address-translation outgoing-call request-uri user-part fix 10014 host-part to-header target-param none\r\n        address-translation incoming-call called-e164 request-uri\r\n\r\n"}]
[155,{"$f":"+IF(Data!$C$5>ROW('3CX'!B156)-ROW('3CX'!$B$143),\"\",\"#\")","v":"#"},{"$f":"+CONCATENATE(\"  interface sip IF_SIP_\",'Line Table'!A15,CHAR(13),CHAR(10),,\"        bind context sip-gateway GW_SIP_\",'Line Table'!A15,CHAR(13),CHAR(10),,\"        \",+'Line Table'!C15,CHAR(13),CHAR(10),,\"        early-disconnect\",CHAR(13),CHAR(10),,\"        route call dest-interface IF_FXO_\",'Line Table'!A15,CHAR(13),CHAR(10),,\"        remote \",Data!$C$24,\" \",Data!$C$25,CHAR(13),CHAR(10),,\"        address-translation outgoing-call request-uri user-part fix \",'Line Table'!B15,\" host-part to-header target-param none\",CHAR(13),CHAR(10),,\"        address-translation incoming-call called-e164 request-uri\",CHAR(13),CHAR(10),,CHAR(13),CHAR(10),)","v":"  interface sip IF_SIP_14\r\n        bind context sip-gateway GW_SIP_14\r\n        early-connect \r\n        early-disconnect\r\n        route call dest-interface IF_FXO_14\r\n        remote 10.10.50.23 5060\r\n        address-translation outgoing-call request-uri user-part fix 10015 host-part to-header target-param none\r\n        address-translation incoming-call called-e164 request-uri\r\n\r\n"}]
[156,{"$f":"+IF(Data!$C$5>ROW('3CX'!B157)-ROW('3CX'!$B$143),\"\",\"#\")","v":"#"},{"$f":"+CONCATENATE(\"  interface sip IF_SIP_\",'Line Table'!A16,CHAR(13),CHAR(10),,\"        bind context sip-gateway GW_SIP_\",'Line Table'!A16,CHAR(13),CHAR(10),,\"        \",+'Line Table'!C16,CHAR(13),CHAR(10),,\"        early-disconnect\",CHAR(13),CHAR(10),,\"        route call dest-interface IF_FXO_\",'Line Table'!A16,CHAR(13),CHAR(10),,\"        remote \",Data!$C$24,\" \",Data!$C$25,CHAR(13),CHAR(10),,\"        address-translation outgoing-call request-uri user-part fix \",'Line Table'!B16,\" host-part to-header target-param none\",CHAR(13),CHAR(10),,\"        address-translation incoming-call called-e164 request-uri\",CHAR(13),CHAR(10),,CHAR(13),CHAR(10),)","v":"  interface sip IF_SIP_15\r\n        bind context sip-gateway GW_SIP_15\r\n        early-connect \r\n        early-disconnect\r\n        route call dest-interface IF_FXO_15\r\n        remote 10.10.50.23 5060\r\n        address-translation outgoing-call request-uri user-part fix 10016 host-part to-header target-param none\r\n        address-translation incoming-call called-e164 request-uri\r\n\r\n"}]
[157,{"$f":"+IF(Data!$C$5>ROW('3CX'!B158)-ROW('3CX'!$B$143),\"\",\"#\")","v":"#"},{"$f":"+CONCATENATE(\"  interface sip IF_SIP_\",'Line Table'!A17,CHAR(13),CHAR(10),,\"        bind context sip-gateway GW_SIP_\",'Line Table'!A17,CHAR(13),CHAR(10),,\"        \",+'Line Table'!C17,CHAR(13),CHAR(10),,\"        early-disconnect\",CHAR(13),CHAR(10),,\"        route call dest-interface IF_FXO_\",'Line Table'!A17,CHAR(13),CHAR(10),,\"        remote \",Data!$C$24,\" \",Data!$C$25,CHAR(13),CHAR(10),,\"        address-translation outgoing-call request-uri user-part fix \",'Line Table'!B17,\" host-part to-header target-param none\",CHAR(13),CHAR(10),,\"        address-translation incoming-call called-e164 request-uri\",CHAR(13),CHAR(10),,CHAR(13),CHAR(10),)","v":"  interface sip IF_SIP_16\r\n        bind context sip-gateway GW_SIP_16\r\n        early-connect \r\n        early-disconnect\r\n        route call dest-interface IF_FXO_16\r\n        remote 10.10.50.23 5060\r\n        address-translation outgoing-call request-uri user-part fix 10017 host-part to-header target-param none\r\n        address-translation incoming-call called-e164 request-uri\r\n\r\n"}]
[158,{"$f":"+IF(Data!$C$5>ROW('3CX'!B159)-ROW('3CX'!$B$143),\"\",\"#\")","v":"#"},{"$f":"+CONCATENATE(\"  interface sip IF_SIP_\",'Line Table'!A18,CHAR(13),CHAR(10),,\"        bind context sip-gateway GW_SIP_\",'Line Table'!A18,CHAR(13),CHAR(10),,\"        \",+'Line Table'!C18,CHAR(13),CHAR(10),,\"        early-disconnect\",CHAR(13),CHAR(10),,\"        route call dest-interface IF_FXO_\",'Line Table'!A18,CHAR(13),CHAR(10),,\"        remote \",Data!$C$24,\" \",Data!$C$25,CHAR(13),CHAR(10),,\"        address-translation outgoing-call request-uri user-part fix \",'Line Table'!B18,\" host-part to-header target-param none\",CHAR(13),CHAR(10),,\"        address-translation incoming-call called-e164 request-uri\",CHAR(13),CHAR(10),,CHAR(13),CHAR(10),)","v":"  interface sip IF_SIP_17\r\n        bind context sip-gateway GW_SIP_17\r\n        early-connect \r\n        early-disconnect\r\n        route call dest-interface IF_FXO_17\r\n        remote 10.10.50.23 5060\r\n        address-translation outgoing-call request-uri user-part fix 10018 host-part to-header target-param none\r\n        address-translation incoming-call called-e164 request-uri\r\n\r\n"}]
[159,{"$f":"+IF(Data!$C$5>ROW('3CX'!B160)-ROW('3CX'!$B$143),\"\",\"#\")","v":"#"},{"$f":"+CONCATENATE(\"  interface sip IF_SIP_\",'Line Table'!A19,CHAR(13),CHAR(10),,\"        bind context sip-gateway GW_SIP_\",'Line Table'!A19,CHAR(13),CHAR(10),,\"        \",+'Line Table'!C19,CHAR(13),CHAR(10),,\"        early-disconnect\",CHAR(13),CHAR(10),,\"        route call dest-interface IF_FXO_\",'Line Table'!A19,CHAR(13),CHAR(10),,\"        remote \",Data!$C$24,\" \",Data!$C$25,CHAR(13),CHAR(10),,\"        address-translation outgoing-call request-uri user-part fix \",'Line Table'!B19,\" host-part to-header target-param none\",CHAR(13),CHAR(10),,\"        address-translation incoming-call called-e164 request-uri\",CHAR(13),CHAR(10),,CHAR(13),CHAR(10),)","v":"  interface sip IF_SIP_18\r\n        bind context sip-gateway GW_SIP_18\r\n        early-connect \r\n        early-disconnect\r\n        route call dest-interface IF_FXO_18\r\n        remote 10.10.50.23 5060\r\n        address-translation outgoing-call request-uri user-part fix 10019 host-part to-header target-param none\r\n        address-translation incoming-call called-e164 request-uri\r\n\r\n"}]
[160,{"$f":"+IF(Data!$C$5>ROW('3CX'!B161)-ROW('3CX'!$B$143),\"\",\"#\")","v":"#"},{"$f":"+CONCATENATE(\"  interface sip IF_SIP_\",'Line Table'!A20,CHAR(13),CHAR(10),,\"        bind context sip-gateway GW_SIP_\",'Line Table'!A20,CHAR(13),CHAR(10),,\"        \",+'Line Table'!C20,CHAR(13),CHAR(10),,\"        early-disconnect\",CHAR(13),CHAR(10),,\"        route call dest-interface IF_FXO_\",'Line Table'!A20,CHAR(13),CHAR(10),,\"        remote \",Data!$C$24,\" \",Data!$C$25,CHAR(13),CHAR(10),,\"        address-translation outgoing-call request-uri user-part fix \",'Line Table'!B20,\" host-part to-header target-param none\",CHAR(13),CHAR(10),,\"        address-translation incoming-call called-e164 request-uri\",CHAR(13),CHAR(10),,CHAR(13),CHAR(10),)","v":"  interface sip IF_SIP_19\r\n        bind context sip-gateway GW_SIP_19\r\n        early-connect \r\n        early-disconnect\r\n        route call dest-interface IF_FXO_19\r\n        remote 10.10.50.23 5060\r\n        address-translation outgoing-call request-uri user-part fix 10020 host-part to-header target-param none\r\n        address-translation incoming-call called-e164 request-uri\r\n\r\n"}]
[161,{"$f":"+IF(Data!$C$5>ROW('3CX'!B162)-ROW('3CX'!$B$143),\"\",\"#\")","v":"#"},{"$f":"+CONCATENATE(\"  interface sip IF_SIP_\",'Line Table'!A21,CHAR(13),CHAR(10),,\"        bind context sip-gateway GW_SIP_\",'Line Table'!A21,CHAR(13),CHAR(10),,\"        \",+'Line Table'!C21,CHAR(13),CHAR(10),,\"        early-disconnect\",CHAR(13),CHAR(10),,\"        route call dest-interface IF_FXO_\",'Line Table'!A21,CHAR(13),CHAR(10),,\"        remote \",Data!$C$24,\" \",Data!$C$25,CHAR(13),CHAR(10),,\"        address-translation outgoing-call request-uri user-part fix \",'Line Table'!B21,\" host-part to-header target-param none\",CHAR(13),CHAR(10),,\"        address-translation incoming-call called-e164 request-uri\",CHAR(13),CHAR(10),,CHAR(13),CHAR(10),)","v":"  interface sip IF_SIP_20\r\n        bind context sip-gateway GW_SIP_20\r\n        early-connect \r\n        early-disconnect\r\n        route call dest-interface IF_FXO_20\r\n        remote 10.10.50.23 5060\r\n        address-translation outgoing-call request-uri user-part fix 10021 host-part to-header target-param none\r\n        address-translation incoming-call called-e164 request-uri\r\n\r\n"}]
[162,{"$f":"+IF(Data!$C$5>ROW('3CX'!B163)-ROW('3CX'!$B$143),\"\",\"#\")","v":"#"},{"$f":"+CONCATENATE(\"  interface sip IF_SIP_\",'Line Table'!A22,CHAR(13),CHAR(10),,\"        bind context sip-gateway GW_SIP_\",'Line Table'!A22,CHAR(13),CHAR(10),,\"        \",+'Line Table'!C22,CHAR(13),CHAR(10),,\"        early-disconnect\",CHAR(13),CHAR(10),,\"        route call dest-interface IF_FXO_\",'Line Table'!A22,CHAR(13),CHAR(10),,\"        remote \",Data!$C$24,\" \",Data!$C$25,CHAR(13),CHAR(10),,\"        address-translation outgoing-call request-uri user-part fix \",'Line Table'!B22,\" host-part to-header target-param none\",CHAR(13),CHAR(10),,\"        address-translation incoming-call called-e164 request-uri\",CHAR(13),CHAR(10),,CHAR(13),CHAR(10),)","v":"  interface sip IF_SIP_21\r\n        bind context sip-gateway GW_SIP_21\r\n        early-connect \r\n        early-disconnect\r\n        route call dest-interface IF_FXO_21\r\n        remote 10.10.50.23 5060\r\n        address-translation outgoing-call request-uri user-part fix 10022 host-part to-header target-param none\r\n        address-translation incoming-call called-e164 request-uri\r\n\r\n"}]
[163,{"$f":"+IF(Data!$C$5>ROW('3CX'!B164)-ROW('3CX'!$B$143),\"\",\"#\")","v":"#"},{"$f":"+CONCATENATE(\"  interface sip IF_SIP_\",'Line Table'!A23,CHAR(13),CHAR(10),,\"        bind context sip-gateway GW_SIP_\",'Line Table'!A23,CHAR(13),CHAR(10),,\"        \",+'Line Table'!C23,CHAR(13),CHAR(10),,\"        early-disconnect\",CHAR(13),CHAR(10),,\"        route call dest-interface IF_FXO_\",'Line Table'!A23,CHAR(13),CHAR(10),,\"        remote \",Data!$C$24,\" \",Data!$C$25,CHAR(13),CHAR(10),,\"        address-translation outgoing-call request-uri user-part fix \",'Line Table'!B23,\" host-part to-header target-param none\",CHAR(13),CHAR(10),,\"        address-translation incoming-call called-e164 request-uri\",CHAR(13),CHAR(10),,CHAR(13),CHAR(10),)","v":"  interface sip IF_SIP_22\r\n        bind context sip-gateway GW_SIP_22\r\n        early-connect \r\n        early-disconnect\r\n        route call dest-interface IF_FXO_22\r\n        remote 10.10.50.23 5060\r\n        address-translation outgoing-call request-uri user-part fix 10023 host-part to-header target-param none\r\n        address-translation incoming-call called-e164 request-uri\r\n\r\n"}]
[164,{"$f":"+IF(Data!$C$5>ROW('3CX'!B165)-ROW('3CX'!$B$143),\"\",\"#\")","v":"#"},{"$f":"+CONCATENATE(\"  interface sip IF_SIP_\",'Line Table'!A24,CHAR(13),CHAR(10),,\"        bind context sip-gateway GW_SIP_\",'Line Table'!A24,CHAR(13),CHAR(10),,\"        \",+'Line Table'!C24,CHAR(13),CHAR(10),,\"        early-disconnect\",CHAR(13),CHAR(10),,\"        route call dest-interface IF_FXO_\",'Line Table'!A24,CHAR(13),CHAR(10),,\"        remote \",Data!$C$24,\" \",Data!$C$25,CHAR(13),CHAR(10),,\"        address-translation outgoing-call request-uri user-part fix \",'Line Table'!B24,\" host-part to-header target-param none\",CHAR(13),CHAR(10),,\"        address-translation incoming-call called-e164 request-uri\",CHAR(13),CHAR(10),,CHAR(13),CHAR(10),)","v":"  interface sip IF_SIP_23\r\n        bind context sip-gateway GW_SIP_23\r\n        early-connect \r\n        early-disconnect\r\n        route call dest-interface IF_FXO_23\r\n        remote 10.10.50.23 5060\r\n        address-translation outgoing-call request-uri user-part fix 10024 host-part to-header target-param none\r\n        address-translation incoming-call called-e164 request-uri\r\n\r\n"}]
[165,{"$f":"+IF(Data!$C$5>ROW('3CX'!B166)-ROW('3CX'!$B$143),\"\",\"#\")","v":"#"},{"$f":"+CONCATENATE(\"  interface sip IF_SIP_\",'Line Table'!A25,CHAR(13),CHAR(10),,\"        bind context sip-gateway GW_SIP_\",'Line Table'!A25,CHAR(13),CHAR(10),,\"        \",+'Line Table'!C25,CHAR(13),CHAR(10),,\"        early-disconnect\",CHAR(13),CHAR(10),,\"        route call dest-interface IF_FXO_\",'Line Table'!A25,CHAR(13),CHAR(10),,\"        remote \",Data!$C$24,\" \",Data!$C$25,CHAR(13),CHAR(10),,\"        address-translation outgoing-call request-uri user-part fix \",'Line Table'!B25,\" host-part to-header target-param none\",CHAR(13),CHAR(10),,\"        address-translation incoming-call called-e164 request-uri\",CHAR(13),CHAR(10),,CHAR(13),CHAR(10),)","v":"  interface sip IF_SIP_24\r\n        bind context sip-gateway GW_SIP_24\r\n        early-connect \r\n        early-disconnect\r\n        route call dest-interface IF_FXO_24\r\n        remote 10.10.50.23 5060\r\n        address-translation outgoing-call request-uri user-part fix 10025 host-part to-header target-param none\r\n        address-translation incoming-call called-e164 request-uri\r\n\r\n"}]
[166,{"$f":"+IF(Data!$C$5>ROW('3CX'!B167)-ROW('3CX'!$B$143),\"\",\"#\")","v":"#"},{"$f":"+CONCATENATE(\"  interface sip IF_SIP_\",'Line Table'!A26,CHAR(13),CHAR(10),,\"        bind context sip-gateway GW_SIP_\",'Line Table'!A26,CHAR(13),CHAR(10),,\"        \",+'Line Table'!C26,CHAR(13),CHAR(10),,\"        early-disconnect\",CHAR(13),CHAR(10),,\"        route call dest-interface IF_FXO_\",'Line Table'!A26,CHAR(13),CHAR(10),,\"        remote \",Data!$C$24,\" \",Data!$C$25,CHAR(13),CHAR(10),,\"        address-translation outgoing-call request-uri user-part fix \",'Line Table'!B26,\" host-part to-header target-param none\",CHAR(13),CHAR(10),,\"        address-translation incoming-call called-e164 request-uri\",CHAR(13),CHAR(10),,CHAR(13),CHAR(10),)","v":"  interface sip IF_SIP_25\r\n        bind context sip-gateway GW_SIP_25\r\n        early-connect \r\n        early-disconnect\r\n        route call dest-interface IF_FXO_25\r\n        remote 10.10.50.23 5060\r\n        address-translation outgoing-call request-uri user-part fix 10026 host-part to-header target-param none\r\n        address-translation incoming-call called-e164 request-uri\r\n\r\n"}]
[167,{"$f":"+IF(Data!$C$5>ROW('3CX'!B168)-ROW('3CX'!$B$143),\"\",\"#\")","v":"#"},{"$f":"+CONCATENATE(\"  interface sip IF_SIP_\",'Line Table'!A27,CHAR(13),CHAR(10),,\"        bind context sip-gateway GW_SIP_\",'Line Table'!A27,CHAR(13),CHAR(10),,\"        \",+'Line Table'!C27,CHAR(13),CHAR(10),,\"        early-disconnect\",CHAR(13),CHAR(10),,\"        route call dest-interface IF_FXO_\",'Line Table'!A27,CHAR(13),CHAR(10),,\"        remote \",Data!$C$24,\" \",Data!$C$25,CHAR(13),CHAR(10),,\"        address-translation outgoing-call request-uri user-part fix \",'Line Table'!B27,\" host-part to-header target-param none\",CHAR(13),CHAR(10),,\"        address-translation incoming-call called-e164 request-uri\",CHAR(13),CHAR(10),,CHAR(13),CHAR(10),)","v":"  interface sip IF_SIP_26\r\n        bind context sip-gateway GW_SIP_26\r\n        early-connect \r\n        early-disconnect\r\n        route call dest-interface IF_FXO_26\r\n        remote 10.10.50.23 5060\r\n        address-translation outgoing-call request-uri user-part fix 10027 host-part to-header target-param none\r\n        address-translation incoming-call called-e164 request-uri\r\n\r\n"}]
[168,{"$f":"+IF(Data!$C$5>ROW('3CX'!B169)-ROW('3CX'!$B$143),\"\",\"#\")","v":"#"},{"$f":"+CONCATENATE(\"  interface sip IF_SIP_\",'Line Table'!A28,CHAR(13),CHAR(10),,\"        bind context sip-gateway GW_SIP_\",'Line Table'!A28,CHAR(13),CHAR(10),,\"        \",+'Line Table'!C28,CHAR(13),CHAR(10),,\"        early-disconnect\",CHAR(13),CHAR(10),,\"        route call dest-interface IF_FXO_\",'Line Table'!A28,CHAR(13),CHAR(10),,\"        remote \",Data!$C$24,\" \",Data!$C$25,CHAR(13),CHAR(10),,\"        address-translation outgoing-call request-uri user-part fix \",'Line Table'!B28,\" host-part to-header target-param none\",CHAR(13),CHAR(10),,\"        address-translation incoming-call called-e164 request-uri\",CHAR(13),CHAR(10),,CHAR(13),CHAR(10),)","v":"  interface sip IF_SIP_27\r\n        bind context sip-gateway GW_SIP_27\r\n        early-connect \r\n        early-disconnect\r\n        route call dest-interface IF_FXO_27\r\n        remote 10.10.50.23 5060\r\n        address-translation outgoing-call request-uri user-part fix 10028 host-part to-header target-param none\r\n        address-translation incoming-call called-e164 request-uri\r\n\r\n"}]
[169,{"$f":"+IF(Data!$C$5>ROW('3CX'!B170)-ROW('3CX'!$B$143),\"\",\"#\")","v":"#"},{"$f":"+CONCATENATE(\"  interface sip IF_SIP_\",'Line Table'!A29,CHAR(13),CHAR(10),,\"        bind context sip-gateway GW_SIP_\",'Line Table'!A29,CHAR(13),CHAR(10),,\"        \",+'Line Table'!C29,CHAR(13),CHAR(10),,\"        early-disconnect\",CHAR(13),CHAR(10),,\"        route call dest-interface IF_FXO_\",'Line Table'!A29,CHAR(13),CHAR(10),,\"        remote \",Data!$C$24,\" \",Data!$C$25,CHAR(13),CHAR(10),,\"        address-translation outgoing-call request-uri user-part fix \",'Line Table'!B29,\" host-part to-header target-param none\",CHAR(13),CHAR(10),,\"        address-translation incoming-call called-e164 request-uri\",CHAR(13),CHAR(10),,CHAR(13),CHAR(10),)","v":"  interface sip IF_SIP_28\r\n        bind context sip-gateway GW_SIP_28\r\n        early-connect \r\n        early-disconnect\r\n        route call dest-interface IF_FXO_28\r\n        remote 10.10.50.23 5060\r\n        address-translation outgoing-call request-uri user-part fix 10029 host-part to-header target-param none\r\n        address-translation incoming-call called-e164 request-uri\r\n\r\n"}]
[170,{"$f":"+IF(Data!$C$5>ROW('3CX'!B171)-ROW('3CX'!$B$143),\"\",\"#\")","v":"#"},{"$f":"+CONCATENATE(\"  interface sip IF_SIP_\",'Line Table'!A30,CHAR(13),CHAR(10),,\"        bind context sip-gateway GW_SIP_\",'Line Table'!A30,CHAR(13),CHAR(10),,\"        \",+'Line Table'!C30,CHAR(13),CHAR(10),,\"        early-disconnect\",CHAR(13),CHAR(10),,\"        route call dest-interface IF_FXO_\",'Line Table'!A30,CHAR(13),CHAR(10),,\"        remote \",Data!$C$24,\" \",Data!$C$25,CHAR(13),CHAR(10),,\"        address-translation outgoing-call request-uri user-part fix \",'Line Table'!B30,\" host-part to-header target-param none\",CHAR(13),CHAR(10),,\"        address-translation incoming-call called-e164 request-uri\",CHAR(13),CHAR(10),,CHAR(13),CHAR(10),)","v":"  interface sip IF_SIP_29\r\n        bind context sip-gateway GW_SIP_29\r\n        early-connect \r\n        early-disconnect\r\n        route call dest-interface IF_FXO_29\r\n        remote 10.10.50.23 5060\r\n        address-translation outgoing-call request-uri user-part fix 10030 host-part to-header target-param none\r\n        address-translation incoming-call called-e164 request-uri\r\n\r\n"}]
[171,{"$f":"+IF(Data!$C$5>ROW('3CX'!B172)-ROW('3CX'!$B$143),\"\",\"#\")","v":"#"},{"$f":"+CONCATENATE(\"  interface sip IF_SIP_\",'Line Table'!A31,CHAR(13),CHAR(10),,\"        bind context sip-gateway GW_SIP_\",'Line Table'!A31,CHAR(13),CHAR(10),,\"        \",+'Line Table'!C31,CHAR(13),CHAR(10),,\"        early-disconnect\",CHAR(13),CHAR(10),,\"        route call dest-interface IF_FXO_\",'Line Table'!A31,CHAR(13),CHAR(10),,\"        remote \",Data!$C$24,\" \",Data!$C$25,CHAR(13),CHAR(10),,\"        address-translation outgoing-call request-uri user-part fix \",'Line Table'!B31,\" host-part to-header target-param none\",CHAR(13),CHAR(10),,\"        address-translation incoming-call called-e164 request-uri\",CHAR(13),CHAR(10),,CHAR(13),CHAR(10),)","v":"  interface sip IF_SIP_30\r\n        bind context sip-gateway GW_SIP_30\r\n        early-connect \r\n        early-disconnect\r\n        route call dest-interface IF_FXO_30\r\n        remote 10.10.50.23 5060\r\n        address-translation outgoing-call request-uri user-part fix 10031 host-part to-header target-param none\r\n        address-translation incoming-call called-e164 request-uri\r\n\r\n"}]
[172,{"$f":"+IF(Data!$C$5>ROW('3CX'!B173)-ROW('3CX'!$B$143),\"\",\"#\")","v":"#"},{"$f":"+CONCATENATE(\"  interface sip IF_SIP_\",'Line Table'!A32,CHAR(13),CHAR(10),,\"        bind context sip-gateway GW_SIP_\",'Line Table'!A32,CHAR(13),CHAR(10),,\"        \",+'Line Table'!C32,CHAR(13),CHAR(10),,\"        early-disconnect\",CHAR(13),CHAR(10),,\"        route call dest-interface IF_FXO_\",'Line Table'!A32,CHAR(13),CHAR(10),,\"        remote \",Data!$C$24,\" \",Data!$C$25,CHAR(13),CHAR(10),,\"        address-translation outgoing-call request-uri user-part fix \",'Line Table'!B32,\" host-part to-header target-param none\",CHAR(13),CHAR(10),,\"        address-translation incoming-call called-e164 request-uri\",CHAR(13),CHAR(10),,CHAR(13),CHAR(10),)","v":"  interface sip IF_SIP_31\r\n        bind context sip-gateway GW_SIP_31\r\n        early-connect \r\n        early-disconnect\r\n        route call dest-interface IF_FXO_31\r\n        remote 10.10.50.23 5060\r\n        address-translation outgoing-call request-uri user-part fix 10032 host-part to-header target-param none\r\n        address-translation incoming-call called-e164 request-uri\r\n\r\n"}]
[173,{"$f":"+IF(Data!$C$5>ROW('3CX'!B174)-ROW('3CX'!$B$143),\"\",\"#\")","v":"#"},{"$f":"+CONCATENATE(\"  interface sip IF_SIP_\",'Line Table'!A33,CHAR(13),CHAR(10),,\"        bind context sip-gateway GW_SIP_\",'Line Table'!A33,CHAR(13),CHAR(10),,\"        \",+'Line Table'!C33,CHAR(13),CHAR(10),,\"        early-disconnect\",CHAR(13),CHAR(10),,\"        route call dest-interface IF_FXO_\",'Line Table'!A33,CHAR(13),CHAR(10),,\"        remote \",Data!$C$24,\" \",Data!$C$25,CHAR(13),CHAR(10),,\"        address-translation outgoing-call request-uri user-part fix \",'Line Table'!B33,\" host-part to-header target-param none\",CHAR(13),CHAR(10),,\"        address-translation incoming-call called-e164 request-uri\",CHAR(13),CHAR(10),,CHAR(13),CHAR(10),)","v":"  interface sip IF_SIP_32\r\n        bind context sip-gateway GW_SIP_32\r\n        early-connect \r\n        early-disconnect\r\n        route call dest-interface IF_FXO_32\r\n        remote 10.10.50.23 5060\r\n        address-translation outgoing-call request-uri user-part fix 10033 host-part to-header target-param none\r\n        address-translation incoming-call called-e164 request-uri\r\n\r\n"}]
[174]
[175,{"$f":"+IF(Data!$C$5>ROW('3CX'!B176)-ROW('3CX'!$B$176),\"\",\"#\")","v":""},{"$f":"+CONCATENATE(\" interface fxo IF_FXO_\",'Line Table'!A2,CHAR(13),CHAR(10),\"          route call dest-interface IF_SIP_\",'Line Table'!A2,CHAR(13),CHAR(10),\"         loop-break-duration min 200 max 1000\",CHAR(13),CHAR(10),\"          \",'Line Table'!D2,CHAR(13),CHAR(10),\"         mute-dialing\",CHAR(13),CHAR(10),\"           disconnect-signal loop-break\",CHAR(13),CHAR(10),\"         disconnect-signal busy-tone\",CHAR(13),CHAR(10),\"         dial-after timeout 1\")","v":" interface fxo IF_FXO_1\r\n          route call dest-interface IF_SIP_1\r\n         loop-break-duration min 200 max 1000\r\n          ring-number on-caller-id \r\n         mute-dialing\r\n           disconnect-signal loop-break\r\n         disconnect-signal busy-tone\r\n         dial-after timeout 1"}]
[176,{"$f":"+IF(Data!$C$5>ROW('3CX'!B177)-ROW('3CX'!$B$176),\"\",\"#\")","v":""},{"$f":"+CONCATENATE(\" interface fxo IF_FXO_\",'Line Table'!A3,CHAR(13),CHAR(10),\"          route call dest-interface IF_SIP_\",'Line Table'!A3,CHAR(13),CHAR(10),\"         loop-break-duration min 200 max 1000\",CHAR(13),CHAR(10),\"          \",'Line Table'!D3,CHAR(13),CHAR(10),\"         mute-dialing\",CHAR(13),CHAR(10),\"           disconnect-signal loop-break\",CHAR(13),CHAR(10),\"         disconnect-signal busy-tone\",CHAR(13),CHAR(10),\"         dial-after timeout 1\")","v":" interface fxo IF_FXO_2\r\n          route call dest-interface IF_SIP_2\r\n         loop-break-duration min 200 max 1000\r\n          ring-number on-caller-id \r\n         mute-dialing\r\n           disconnect-signal loop-break\r\n         disconnect-signal busy-tone\r\n         dial-after timeout 1"}]
[177,{"$f":"+IF(Data!$C$5>ROW('3CX'!B178)-ROW('3CX'!$B$176),\"\",\"#\")","v":""},{"$f":"+CONCATENATE(\" interface fxo IF_FXO_\",'Line Table'!A4,CHAR(13),CHAR(10),\"          route call dest-interface IF_SIP_\",'Line Table'!A4,CHAR(13),CHAR(10),\"         loop-break-duration min 200 max 1000\",CHAR(13),CHAR(10),\"          \",'Line Table'!D4,CHAR(13),CHAR(10),\"         mute-dialing\",CHAR(13),CHAR(10),\"           disconnect-signal loop-break\",CHAR(13),CHAR(10),\"         disconnect-signal busy-tone\",CHAR(13),CHAR(10),\"         dial-after timeout 1\")","v":" interface fxo IF_FXO_3\r\n          route call dest-interface IF_SIP_3\r\n         loop-break-duration min 200 max 1000\r\n          ring-number on-caller-id \r\n         mute-dialing\r\n           disconnect-signal loop-break\r\n         disconnect-signal busy-tone\r\n         dial-after timeout 1"}]
[178,{"$f":"+IF(Data!$C$5>ROW('3CX'!B179)-ROW('3CX'!$B$176),\"\",\"#\")","v":""},{"$f":"+CONCATENATE(\" interface fxo IF_FXO_\",'Line Table'!A5,CHAR(13),CHAR(10),\"          route call dest-interface IF_SIP_\",'Line Table'!A5,CHAR(13),CHAR(10),\"         loop-break-duration min 200 max 1000\",CHAR(13),CHAR(10),\"          \",'Line Table'!D5,CHAR(13),CHAR(10),\"         mute-dialing\",CHAR(13),CHAR(10),\"           disconnect-signal loop-break\",CHAR(13),CHAR(10),\"         disconnect-signal busy-tone\",CHAR(13),CHAR(10),\"         dial-after timeout 1\")","v":" interface fxo IF_FXO_4\r\n          route call dest-interface IF_SIP_4\r\n         loop-break-duration min 200 max 1000\r\n          ring-number on-caller-id \r\n         mute-dialing\r\n           disconnect-signal loop-break\r\n         disconnect-signal busy-tone\r\n         dial-after timeout 1"}]
[179,{"$f":"+IF(Data!$C$5>ROW('3CX'!B180)-ROW('3CX'!$B$176),\"\",\"#\")","v":""},{"$f":"+CONCATENATE(\" interface fxo IF_FXO_\",'Line Table'!A6,CHAR(13),CHAR(10),\"          route call dest-interface IF_SIP_\",'Line Table'!A6,CHAR(13),CHAR(10),\"         loop-break-duration min 200 max 1000\",CHAR(13),CHAR(10),\"          \",'Line Table'!D6,CHAR(13),CHAR(10),\"         mute-dialing\",CHAR(13),CHAR(10),\"           disconnect-signal loop-break\",CHAR(13),CHAR(10),\"         disconnect-signal busy-tone\",CHAR(13),CHAR(10),\"         dial-after timeout 1\")","v":" interface fxo IF_FXO_5\r\n          route call dest-interface IF_SIP_5\r\n         loop-break-duration min 200 max 1000\r\n          ring-number on-caller-id \r\n         mute-dialing\r\n           disconnect-signal loop-break\r\n         disconnect-signal busy-tone\r\n         dial-after timeout 1"}]
[180,{"$f":"+IF(Data!$C$5>ROW('3CX'!B181)-ROW('3CX'!$B$176),\"\",\"#\")","v":""},{"$f":"+CONCATENATE(\" interface fxo IF_FXO_\",'Line Table'!A7,CHAR(13),CHAR(10),\"          route call dest-interface IF_SIP_\",'Line Table'!A7,CHAR(13),CHAR(10),\"         loop-break-duration min 200 max 1000\",CHAR(13),CHAR(10),\"          \",'Line Table'!D7,CHAR(13),CHAR(10),\"         mute-dialing\",CHAR(13),CHAR(10),\"           disconnect-signal loop-break\",CHAR(13),CHAR(10),\"         disconnect-signal busy-tone\",CHAR(13),CHAR(10),\"         dial-after timeout 1\")","v":" interface fxo IF_FXO_6\r\n          route call dest-interface IF_SIP_6\r\n         loop-break-duration min 200 max 1000\r\n          ring-number on-caller-id \r\n         mute-dialing\r\n           disconnect-signal loop-break\r\n         disconnect-signal busy-tone\r\n         dial-after timeout 1"}]
[181,{"$f":"+IF(Data!$C$5>ROW('3CX'!B182)-ROW('3CX'!$B$176),\"\",\"#\")","v":""},{"$f":"+CONCATENATE(\" interface fxo IF_FXO_\",'Line Table'!A8,CHAR(13),CHAR(10),\"          route call dest-interface IF_SIP_\",'Line Table'!A8,CHAR(13),CHAR(10),\"         loop-break-duration min 200 max 1000\",CHAR(13),CHAR(10),\"          \",'Line Table'!D8,CHAR(13),CHAR(10),\"         mute-dialing\",CHAR(13),CHAR(10),\"           disconnect-signal loop-break\",CHAR(13),CHAR(10),\"         disconnect-signal busy-tone\",CHAR(13),CHAR(10),\"         dial-after timeout 1\")","v":" interface fxo IF_FXO_7\r\n          route call dest-interface IF_SIP_7\r\n         loop-break-duration min 200 max 1000\r\n          ring-number on-caller-id \r\n         mute-dialing\r\n           disconnect-signal loop-break\r\n         disconnect-signal busy-tone\r\n         dial-after timeout 1"}]
[182,{"$f":"+IF(Data!$C$5>ROW('3CX'!B183)-ROW('3CX'!$B$176),\"\",\"#\")","v":""},{"$f":"+CONCATENATE(\" interface fxo IF_FXO_\",'Line Table'!A9,CHAR(13),CHAR(10),\"          route call dest-interface IF_SIP_\",'Line Table'!A9,CHAR(13),CHAR(10),\"         loop-break-duration min 200 max 1000\",CHAR(13),CHAR(10),\"          \",'Line Table'!D9,CHAR(13),CHAR(10),\"         mute-dialing\",CHAR(13),CHAR(10),\"           disconnect-signal loop-break\",CHAR(13),CHAR(10),\"         disconnect-signal busy-tone\",CHAR(13),CHAR(10),\"         dial-after timeout 1\")","v":" interface fxo IF_FXO_8\r\n          route call dest-interface IF_SIP_8\r\n         loop-break-duration min 200 max 1000\r\n          ring-number on-caller-id \r\n         mute-dialing\r\n           disconnect-signal loop-break\r\n         disconnect-signal busy-tone\r\n         dial-after timeout 1"}]
[183,{"$f":"+IF(Data!$C$5>ROW('3CX'!B184)-ROW('3CX'!$B$176),\"\",\"#\")","v":""},{"$f":"+CONCATENATE(\" interface fxo IF_FXO_\",'Line Table'!A10,CHAR(13),CHAR(10),\"          route call dest-interface IF_SIP_\",'Line Table'!A10,CHAR(13),CHAR(10),\"         loop-break-duration min 200 max 1000\",CHAR(13),CHAR(10),\"          \",'Line Table'!D10,CHAR(13),CHAR(10),\"         mute-dialing\",CHAR(13),CHAR(10),\"           disconnect-signal loop-break\",CHAR(13),CHAR(10),\"         disconnect-signal busy-tone\",CHAR(13),CHAR(10),\"         dial-after timeout 1\")","v":" interface fxo IF_FXO_9\r\n          route call dest-interface IF_SIP_9\r\n         loop-break-duration min 200 max 1000\r\n          ring-number on-caller-id \r\n         mute-dialing\r\n           disconnect-signal loop-break\r\n         disconnect-signal busy-tone\r\n         dial-after timeout 1"}]
[184,{"$f":"+IF(Data!$C$5>ROW('3CX'!B185)-ROW('3CX'!$B$176),\"\",\"#\")","v":""},{"$f":"+CONCATENATE(\" interface fxo IF_FXO_\",'Line Table'!A11,CHAR(13),CHAR(10),\"          route call dest-interface IF_SIP_\",'Line Table'!A11,CHAR(13),CHAR(10),\"         loop-break-duration min 200 max 1000\",CHAR(13),CHAR(10),\"          \",'Line Table'!D11,CHAR(13),CHAR(10),\"         mute-dialing\",CHAR(13),CHAR(10),\"           disconnect-signal loop-break\",CHAR(13),CHAR(10),\"         disconnect-signal busy-tone\",CHAR(13),CHAR(10),\"         dial-after timeout 1\")","v":" interface fxo IF_FXO_10\r\n          route call dest-interface IF_SIP_10\r\n         loop-break-duration min 200 max 1000\r\n          ring-number on-caller-id \r\n         mute-dialing\r\n           disconnect-signal loop-break\r\n         disconnect-signal busy-tone\r\n         dial-after timeout 1"}]
[185,{"$f":"+IF(Data!$C$5>ROW('3CX'!B186)-ROW('3CX'!$B$176),\"\",\"#\")","v":""},{"$f":"+CONCATENATE(\" interface fxo IF_FXO_\",'Line Table'!A12,CHAR(13),CHAR(10),\"          route call dest-interface IF_SIP_\",'Line Table'!A12,CHAR(13),CHAR(10),\"         loop-break-duration min 200 max 1000\",CHAR(13),CHAR(10),\"          \",'Line Table'!D12,CHAR(13),CHAR(10),\"         mute-dialing\",CHAR(13),CHAR(10),\"           disconnect-signal loop-break\",CHAR(13),CHAR(10),\"         disconnect-signal busy-tone\",CHAR(13),CHAR(10),\"         dial-after timeout 1\")","v":" interface fxo IF_FXO_11\r\n          route call dest-interface IF_SIP_11\r\n         loop-break-duration min 200 max 1000\r\n          ring-number on-caller-id \r\n         mute-dialing\r\n           disconnect-signal loop-break\r\n         disconnect-signal busy-tone\r\n         dial-after timeout 1"}]
[186,{"$f":"+IF(Data!$C$5>ROW('3CX'!B187)-ROW('3CX'!$B$176),\"\",\"#\")","v":""},{"$f":"+CONCATENATE(\" interface fxo IF_FXO_\",'Line Table'!A13,CHAR(13),CHAR(10),\"          route call dest-interface IF_SIP_\",'Line Table'!A13,CHAR(13),CHAR(10),\"         loop-break-duration min 200 max 1000\",CHAR(13),CHAR(10),\"          \",'Line Table'!D13,CHAR(13),CHAR(10),\"         mute-dialing\",CHAR(13),CHAR(10),\"           disconnect-signal loop-break\",CHAR(13),CHAR(10),\"         disconnect-signal busy-tone\",CHAR(13),CHAR(10),\"         dial-after timeout 1\")","v":" interface fxo IF_FXO_12\r\n          route call dest-interface IF_SIP_12\r\n         loop-break-duration min 200 max 1000\r\n          ring-number on-caller-id \r\n         mute-dialing\r\n           disconnect-signal loop-break\r\n         disconnect-signal busy-tone\r\n         dial-after timeout 1"}]
[187,{"$f":"+IF(Data!$C$5>ROW('3CX'!B188)-ROW('3CX'!$B$176),\"\",\"#\")","v":"#"},{"$f":"+CONCATENATE(\" interface fxo IF_FXO_\",'Line Table'!A14,CHAR(13),CHAR(10),\"          route call dest-interface IF_SIP_\",'Line Table'!A14,CHAR(13),CHAR(10),\"         loop-break-duration min 200 max 1000\",CHAR(13),CHAR(10),\"          \",'Line Table'!D14,CHAR(13),CHAR(10),\"         mute-dialing\",CHAR(13),CHAR(10),\"           disconnect-signal loop-break\",CHAR(13),CHAR(10),\"         disconnect-signal busy-tone\",CHAR(13),CHAR(10),\"         dial-after timeout 1\")","v":" interface fxo IF_FXO_13\r\n          route call dest-interface IF_SIP_13\r\n         loop-break-duration min 200 max 1000\r\n          ring-number on-caller-id \r\n         mute-dialing\r\n           disconnect-signal loop-break\r\n         disconnect-signal busy-tone\r\n         dial-after timeout 1"}]
[188,{"$f":"+IF(Data!$C$5>ROW('3CX'!B189)-ROW('3CX'!$B$176),\"\",\"#\")","v":"#"},{"$f":"+CONCATENATE(\" interface fxo IF_FXO_\",'Line Table'!A15,CHAR(13),CHAR(10),\"          route call dest-interface IF_SIP_\",'Line Table'!A15,CHAR(13),CHAR(10),\"         loop-break-duration min 200 max 1000\",CHAR(13),CHAR(10),\"          \",'Line Table'!D15,CHAR(13),CHAR(10),\"         mute-dialing\",CHAR(13),CHAR(10),\"           disconnect-signal loop-break\",CHAR(13),CHAR(10),\"         disconnect-signal busy-tone\",CHAR(13),CHAR(10),\"         dial-after timeout 1\")","v":" interface fxo IF_FXO_14\r\n          route call dest-interface IF_SIP_14\r\n         loop-break-duration min 200 max 1000\r\n          ring-number on-caller-id \r\n         mute-dialing\r\n           disconnect-signal loop-break\r\n         disconnect-signal busy-tone\r\n         dial-after timeout 1"}]
[189,{"$f":"+IF(Data!$C$5>ROW('3CX'!B190)-ROW('3CX'!$B$176),\"\",\"#\")","v":"#"},{"$f":"+CONCATENATE(\" interface fxo IF_FXO_\",'Line Table'!A16,CHAR(13),CHAR(10),\"          route call dest-interface IF_SIP_\",'Line Table'!A16,CHAR(13),CHAR(10),\"         loop-break-duration min 200 max 1000\",CHAR(13),CHAR(10),\"          \",'Line Table'!D16,CHAR(13),CHAR(10),\"         mute-dialing\",CHAR(13),CHAR(10),\"           disconnect-signal loop-break\",CHAR(13),CHAR(10),\"         disconnect-signal busy-tone\",CHAR(13),CHAR(10),\"         dial-after timeout 1\")","v":" interface fxo IF_FXO_15\r\n          route call dest-interface IF_SIP_15\r\n         loop-break-duration min 200 max 1000\r\n          ring-number on-caller-id \r\n         mute-dialing\r\n           disconnect-signal loop-break\r\n         disconnect-signal busy-tone\r\n         dial-after timeout 1"}]
[190,{"$f":"+IF(Data!$C$5>ROW('3CX'!B191)-ROW('3CX'!$B$176),\"\",\"#\")","v":"#"},{"$f":"+CONCATENATE(\" interface fxo IF_FXO_\",'Line Table'!A17,CHAR(13),CHAR(10),\"          route call dest-interface IF_SIP_\",'Line Table'!A17,CHAR(13),CHAR(10),\"         loop-break-duration min 200 max 1000\",CHAR(13),CHAR(10),\"          \",'Line Table'!D17,CHAR(13),CHAR(10),\"         mute-dialing\",CHAR(13),CHAR(10),\"           disconnect-signal loop-break\",CHAR(13),CHAR(10),\"         disconnect-signal busy-tone\",CHAR(13),CHAR(10),\"         dial-after timeout 1\")","v":" interface fxo IF_FXO_16\r\n          route call dest-interface IF_SIP_16\r\n         loop-break-duration min 200 max 1000\r\n          ring-number on-caller-id \r\n         mute-dialing\r\n           disconnect-signal loop-break\r\n         disconnect-signal busy-tone\r\n         dial-after timeout 1"}]
[191,{"$f":"+IF(Data!$C$5>ROW('3CX'!B192)-ROW('3CX'!$B$176),\"\",\"#\")","v":"#"},{"$f":"+CONCATENATE(\" interface fxo IF_FXO_\",'Line Table'!A18,CHAR(13),CHAR(10),\"          route call dest-interface IF_SIP_\",'Line Table'!A18,CHAR(13),CHAR(10),\"         loop-break-duration min 200 max 1000\",CHAR(13),CHAR(10),\"          \",'Line Table'!D18,CHAR(13),CHAR(10),\"         mute-dialing\",CHAR(13),CHAR(10),\"           disconnect-signal loop-break\",CHAR(13),CHAR(10),\"         disconnect-signal busy-tone\",CHAR(13),CHAR(10),\"         dial-after timeout 1\")","v":" interface fxo IF_FXO_17\r\n          route call dest-interface IF_SIP_17\r\n         loop-break-duration min 200 max 1000\r\n          ring-number on-caller-id \r\n         mute-dialing\r\n           disconnect-signal loop-break\r\n         disconnect-signal busy-tone\r\n         dial-after timeout 1"}]
[192,{"$f":"+IF(Data!$C$5>ROW('3CX'!B193)-ROW('3CX'!$B$176),\"\",\"#\")","v":"#"},{"$f":"+CONCATENATE(\" interface fxo IF_FXO_\",'Line Table'!A19,CHAR(13),CHAR(10),\"          route call dest-interface IF_SIP_\",'Line Table'!A19,CHAR(13),CHAR(10),\"         loop-break-duration min 200 max 1000\",CHAR(13),CHAR(10),\"          \",'Line Table'!D19,CHAR(13),CHAR(10),\"         mute-dialing\",CHAR(13),CHAR(10),\"           disconnect-signal loop-break\",CHAR(13),CHAR(10),\"         disconnect-signal busy-tone\",CHAR(13),CHAR(10),\"         dial-after timeout 1\")","v":" interface fxo IF_FXO_18\r\n          route call dest-interface IF_SIP_18\r\n         loop-break-duration min 200 max 1000\r\n          ring-number on-caller-id \r\n         mute-dialing\r\n           disconnect-signal loop-break\r\n         disconnect-signal busy-tone\r\n         dial-after timeout 1"}]
[193,{"$f":"+IF(Data!$C$5>ROW('3CX'!B194)-ROW('3CX'!$B$176),\"\",\"#\")","v":"#"},{"$f":"+CONCATENATE(\" interface fxo IF_FXO_\",'Line Table'!A20,CHAR(13),CHAR(10),\"          route call dest-interface IF_SIP_\",'Line Table'!A20,CHAR(13),CHAR(10),\"         loop-break-duration min 200 max 1000\",CHAR(13),CHAR(10),\"          \",'Line Table'!D20,CHAR(13),CHAR(10),\"         mute-dialing\",CHAR(13),CHAR(10),\"           disconnect-signal loop-break\",CHAR(13),CHAR(10),\"         disconnect-signal busy-tone\",CHAR(13),CHAR(10),\"         dial-after timeout 1\")","v":" interface fxo IF_FXO_19\r\n          route call dest-interface IF_SIP_19\r\n         loop-break-duration min 200 max 1000\r\n          ring-number on-caller-id \r\n         mute-dialing\r\n           disconnect-signal loop-break\r\n         disconnect-signal busy-tone\r\n         dial-after timeout 1"}]
[194,{"$f":"+IF(Data!$C$5>ROW('3CX'!B195)-ROW('3CX'!$B$176),\"\",\"#\")","v":"#"},{"$f":"+CONCATENATE(\" interface fxo IF_FXO_\",'Line Table'!A21,CHAR(13),CHAR(10),\"          route call dest-interface IF_SIP_\",'Line Table'!A21,CHAR(13),CHAR(10),\"         loop-break-duration min 200 max 1000\",CHAR(13),CHAR(10),\"          \",'Line Table'!D21,CHAR(13),CHAR(10),\"         mute-dialing\",CHAR(13),CHAR(10),\"           disconnect-signal loop-break\",CHAR(13),CHAR(10),\"         disconnect-signal busy-tone\",CHAR(13),CHAR(10),\"         dial-after timeout 1\")","v":" interface fxo IF_FXO_20\r\n          route call dest-interface IF_SIP_20\r\n         loop-break-duration min 200 max 1000\r\n          ring-number on-caller-id \r\n         mute-dialing\r\n           disconnect-signal loop-break\r\n         disconnect-signal busy-tone\r\n         dial-after timeout 1"}]
[195,{"$f":"+IF(Data!$C$5>ROW('3CX'!B196)-ROW('3CX'!$B$176),\"\",\"#\")","v":"#"},{"$f":"+CONCATENATE(\" interface fxo IF_FXO_\",'Line Table'!A22,CHAR(13),CHAR(10),\"          route call dest-interface IF_SIP_\",'Line Table'!A22,CHAR(13),CHAR(10),\"         loop-break-duration min 200 max 1000\",CHAR(13),CHAR(10),\"          \",'Line Table'!D22,CHAR(13),CHAR(10),\"         mute-dialing\",CHAR(13),CHAR(10),\"           disconnect-signal loop-break\",CHAR(13),CHAR(10),\"         disconnect-signal busy-tone\",CHAR(13),CHAR(10),\"         dial-after timeout 1\")","v":" interface fxo IF_FXO_21\r\n          route call dest-interface IF_SIP_21\r\n         loop-break-duration min 200 max 1000\r\n          ring-number on-caller-id \r\n         mute-dialing\r\n           disconnect-signal loop-break\r\n         disconnect-signal busy-tone\r\n         dial-after timeout 1"}]
[196,{"$f":"+IF(Data!$C$5>ROW('3CX'!B197)-ROW('3CX'!$B$176),\"\",\"#\")","v":"#"},{"$f":"+CONCATENATE(\" interface fxo IF_FXO_\",'Line Table'!A23,CHAR(13),CHAR(10),\"          route call dest-interface IF_SIP_\",'Line Table'!A23,CHAR(13),CHAR(10),\"         loop-break-duration min 200 max 1000\",CHAR(13),CHAR(10),\"          \",'Line Table'!D23,CHAR(13),CHAR(10),\"         mute-dialing\",CHAR(13),CHAR(10),\"           disconnect-signal loop-break\",CHAR(13),CHAR(10),\"         disconnect-signal busy-tone\",CHAR(13),CHAR(10),\"         dial-after timeout 1\")","v":" interface fxo IF_FXO_22\r\n          route call dest-interface IF_SIP_22\r\n         loop-break-duration min 200 max 1000\r\n          ring-number on-caller-id \r\n         mute-dialing\r\n           disconnect-signal loop-break\r\n         disconnect-signal busy-tone\r\n         dial-after timeout 1"}]
[197,{"$f":"+IF(Data!$C$5>ROW('3CX'!B198)-ROW('3CX'!$B$176),\"\",\"#\")","v":"#"},{"$f":"+CONCATENATE(\" interface fxo IF_FXO_\",'Line Table'!A24,CHAR(13),CHAR(10),\"          route call dest-interface IF_SIP_\",'Line Table'!A24,CHAR(13),CHAR(10),\"         loop-break-duration min 200 max 1000\",CHAR(13),CHAR(10),\"          \",'Line Table'!D24,CHAR(13),CHAR(10),\"         mute-dialing\",CHAR(13),CHAR(10),\"           disconnect-signal loop-break\",CHAR(13),CHAR(10),\"         disconnect-signal busy-tone\",CHAR(13),CHAR(10),\"         dial-after timeout 1\")","v":" interface fxo IF_FXO_23\r\n          route call dest-interface IF_SIP_23\r\n         loop-break-duration min 200 max 1000\r\n          ring-number on-caller-id \r\n         mute-dialing\r\n           disconnect-signal loop-break\r\n         disconnect-signal busy-tone\r\n         dial-after timeout 1"}]
[198,{"$f":"+IF(Data!$C$5>ROW('3CX'!B199)-ROW('3CX'!$B$176),\"\",\"#\")","v":"#"},{"$f":"+CONCATENATE(\" interface fxo IF_FXO_\",'Line Table'!A25,CHAR(13),CHAR(10),\"          route call dest-interface IF_SIP_\",'Line Table'!A25,CHAR(13),CHAR(10),\"         loop-break-duration min 200 max 1000\",CHAR(13),CHAR(10),\"          \",'Line Table'!D25,CHAR(13),CHAR(10),\"         mute-dialing\",CHAR(13),CHAR(10),\"           disconnect-signal loop-break\",CHAR(13),CHAR(10),\"         disconnect-signal busy-tone\",CHAR(13),CHAR(10),\"         dial-after timeout 1\")","v":" interface fxo IF_FXO_24\r\n          route call dest-interface IF_SIP_24\r\n         loop-break-duration min 200 max 1000\r\n          ring-number on-caller-id \r\n         mute-dialing\r\n           disconnect-signal loop-break\r\n         disconnect-signal busy-tone\r\n         dial-after timeout 1"}]
[199,{"$f":"+IF(Data!$C$5>ROW('3CX'!B200)-ROW('3CX'!$B$176),\"\",\"#\")","v":"#"},{"$f":"+CONCATENATE(\" interface fxo IF_FXO_\",'Line Table'!A26,CHAR(13),CHAR(10),\"          route call dest-interface IF_SIP_\",'Line Table'!A26,CHAR(13),CHAR(10),\"         loop-break-duration min 200 max 1000\",CHAR(13),CHAR(10),\"          \",'Line Table'!D26,CHAR(13),CHAR(10),\"         mute-dialing\",CHAR(13),CHAR(10),\"           disconnect-signal loop-break\",CHAR(13),CHAR(10),\"         disconnect-signal busy-tone\",CHAR(13),CHAR(10),\"         dial-after timeout 1\")","v":" interface fxo IF_FXO_25\r\n          route call dest-interface IF_SIP_25\r\n         loop-break-duration min 200 max 1000\r\n          ring-number on-caller-id \r\n         mute-dialing\r\n           disconnect-signal loop-break\r\n         disconnect-signal busy-tone\r\n         dial-after timeout 1"}]
[200,{"$f":"+IF(Data!$C$5>ROW('3CX'!B201)-ROW('3CX'!$B$176),\"\",\"#\")","v":"#"},{"$f":"+CONCATENATE(\" interface fxo IF_FXO_\",'Line Table'!A27,CHAR(13),CHAR(10),\"          route call dest-interface IF_SIP_\",'Line Table'!A27,CHAR(13),CHAR(10),\"         loop-break-duration min 200 max 1000\",CHAR(13),CHAR(10),\"          \",'Line Table'!D27,CHAR(13),CHAR(10),\"         mute-dialing\",CHAR(13),CHAR(10),\"           disconnect-signal loop-break\",CHAR(13),CHAR(10),\"         disconnect-signal busy-tone\",CHAR(13),CHAR(10),\"         dial-after timeout 1\")","v":" interface fxo IF_FXO_26\r\n          route call dest-interface IF_SIP_26\r\n         loop-break-duration min 200 max 1000\r\n          ring-number on-caller-id \r\n         mute-dialing\r\n           disconnect-signal loop-break\r\n         disconnect-signal busy-tone\r\n         dial-after timeout 1"}]
[201,{"$f":"+IF(Data!$C$5>ROW('3CX'!B202)-ROW('3CX'!$B$176),\"\",\"#\")","v":"#"},{"$f":"+CONCATENATE(\" interface fxo IF_FXO_\",'Line Table'!A28,CHAR(13),CHAR(10),\"          route call dest-interface IF_SIP_\",'Line Table'!A28,CHAR(13),CHAR(10),\"         loop-break-duration min 200 max 1000\",CHAR(13),CHAR(10),\"          \",'Line Table'!D28,CHAR(13),CHAR(10),\"         mute-dialing\",CHAR(13),CHAR(10),\"           disconnect-signal loop-break\",CHAR(13),CHAR(10),\"         disconnect-signal busy-tone\",CHAR(13),CHAR(10),\"         dial-after timeout 1\")","v":" interface fxo IF_FXO_27\r\n          route call dest-interface IF_SIP_27\r\n         loop-break-duration min 200 max 1000\r\n          ring-number on-caller-id \r\n         mute-dialing\r\n           disconnect-signal loop-break\r\n         disconnect-signal busy-tone\r\n         dial-after timeout 1"}]
[202,{"$f":"+IF(Data!$C$5>ROW('3CX'!B203)-ROW('3CX'!$B$176),\"\",\"#\")","v":"#"},{"$f":"+CONCATENATE(\" interface fxo IF_FXO_\",'Line Table'!A29,CHAR(13),CHAR(10),\"          route call dest-interface IF_SIP_\",'Line Table'!A29,CHAR(13),CHAR(10),\"         loop-break-duration min 200 max 1000\",CHAR(13),CHAR(10),\"          \",'Line Table'!D29,CHAR(13),CHAR(10),\"         mute-dialing\",CHAR(13),CHAR(10),\"           disconnect-signal loop-break\",CHAR(13),CHAR(10),\"         disconnect-signal busy-tone\",CHAR(13),CHAR(10),\"         dial-after timeout 1\")","v":" interface fxo IF_FXO_28\r\n          route call dest-interface IF_SIP_28\r\n         loop-break-duration min 200 max 1000\r\n          ring-number on-caller-id \r\n         mute-dialing\r\n           disconnect-signal loop-break\r\n         disconnect-signal busy-tone\r\n         dial-after timeout 1"}]
[203,{"$f":"+IF(Data!$C$5>ROW('3CX'!B204)-ROW('3CX'!$B$176),\"\",\"#\")","v":"#"},{"$f":"+CONCATENATE(\" interface fxo IF_FXO_\",'Line Table'!A30,CHAR(13),CHAR(10),\"          route call dest-interface IF_SIP_\",'Line Table'!A30,CHAR(13),CHAR(10),\"         loop-break-duration min 200 max 1000\",CHAR(13),CHAR(10),\"          \",'Line Table'!D30,CHAR(13),CHAR(10),\"         mute-dialing\",CHAR(13),CHAR(10),\"           disconnect-signal loop-break\",CHAR(13),CHAR(10),\"         disconnect-signal busy-tone\",CHAR(13),CHAR(10),\"         dial-after timeout 1\")","v":" interface fxo IF_FXO_29\r\n          route call dest-interface IF_SIP_29\r\n         loop-break-duration min 200 max 1000\r\n          ring-number on-caller-id \r\n         mute-dialing\r\n           disconnect-signal loop-break\r\n         disconnect-signal busy-tone\r\n         dial-after timeout 1"}]
[204,{"$f":"+IF(Data!$C$5>ROW('3CX'!B205)-ROW('3CX'!$B$176),\"\",\"#\")","v":"#"},{"$f":"+CONCATENATE(\" interface fxo IF_FXO_\",'Line Table'!A31,CHAR(13),CHAR(10),\"          route call dest-interface IF_SIP_\",'Line Table'!A31,CHAR(13),CHAR(10),\"         loop-break-duration min 200 max 1000\",CHAR(13),CHAR(10),\"          \",'Line Table'!D31,CHAR(13),CHAR(10),\"         mute-dialing\",CHAR(13),CHAR(10),\"           disconnect-signal loop-break\",CHAR(13),CHAR(10),\"         disconnect-signal busy-tone\",CHAR(13),CHAR(10),\"         dial-after timeout 1\")","v":" interface fxo IF_FXO_30\r\n          route call dest-interface IF_SIP_30\r\n         loop-break-duration min 200 max 1000\r\n          ring-number on-caller-id \r\n         mute-dialing\r\n           disconnect-signal loop-break\r\n         disconnect-signal busy-tone\r\n         dial-after timeout 1"}]
[205,{"$f":"+IF(Data!$C$5>ROW('3CX'!B206)-ROW('3CX'!$B$176),\"\",\"#\")","v":"#"},{"$f":"+CONCATENATE(\" interface fxo IF_FXO_\",'Line Table'!A32,CHAR(13),CHAR(10),\"          route call dest-interface IF_SIP_\",'Line Table'!A32,CHAR(13),CHAR(10),\"         loop-break-duration min 200 max 1000\",CHAR(13),CHAR(10),\"          \",'Line Table'!D32,CHAR(13),CHAR(10),\"         mute-dialing\",CHAR(13),CHAR(10),\"           disconnect-signal loop-break\",CHAR(13),CHAR(10),\"         disconnect-signal busy-tone\",CHAR(13),CHAR(10),\"         dial-after timeout 1\")","v":" interface fxo IF_FXO_31\r\n          route call dest-interface IF_SIP_31\r\n         loop-break-duration min 200 max 1000\r\n          ring-number on-caller-id \r\n         mute-dialing\r\n           disconnect-signal loop-break\r\n         disconnect-signal busy-tone\r\n         dial-after timeout 1"}]
[206,{"$f":"+IF(Data!$C$5>ROW('3CX'!B207)-ROW('3CX'!$B$176),\"\",\"#\")","v":"#"},{"$f":"+CONCATENATE(\" interface fxo IF_FXO_\",'Line Table'!A33,CHAR(13),CHAR(10),\"          route call dest-interface IF_SIP_\",'Line Table'!A33,CHAR(13),CHAR(10),\"         loop-break-duration min 200 max 1000\",CHAR(13),CHAR(10),\"          \",'Line Table'!D33,CHAR(13),CHAR(10),\"         mute-dialing\",CHAR(13),CHAR(10),\"           disconnect-signal loop-break\",CHAR(13),CHAR(10),\"         disconnect-signal busy-tone\",CHAR(13),CHAR(10),\"         dial-after timeout 1\")","v":" interface fxo IF_FXO_32\r\n          route call dest-interface IF_SIP_32\r\n         loop-break-duration min 200 max 1000\r\n          ring-number on-caller-id \r\n         mute-dialing\r\n           disconnect-signal loop-break\r\n         disconnect-signal busy-tone\r\n         dial-after timeout 1"}]
[207]
[208,{"$f":"+IF(Data!$C$6>0,\" \",\"#\")","v":"#"},"interface sip IF_SIP_PBX"]
[209,{"$f":"+IF(Data!$C$6>0,\" \",\"#\")","v":"#"},"        bind context sip-gateway GW_SIP_ALL_EXTENSIONS"]
[210,{"$f":"+IF(Data!$C$6>0,\" \",\"#\")","v":"#"},"        route call dest-table RT_TO_FXS"]
[211,{"$f":"+IF(Data!$C$6>0,\" \",\"#\")","v":"#"},{"$f":"+CONCATENATE(\"              remote \",Data!C24,\" \",Data!C25)","v":"              remote 10.10.50.23 5060"}]
[212,{"$f":"+IF(Data!$C$6>0,\" \",\"#\")","v":"#"},{"$f":"+IF(OR(AND(UPPER(Data!C15)=\"DHCP\",Data!$C$8=\"LAN\"),AND(UPPER(Data!C19)=\"DHCP\",Data!$C$8=\"WAN\")),\" \",+CONCATENATE(\"              local \",Data!C15))","v":"              local 10.10.1.10"},"Agregar Early connect / Disconnect"]
[213,{"$f":"+IF(Data!$C$6>0,\" \",\"#\")","v":"#"},{"$f":"+CONCATENATE(\"              address-translation outgoing-call from-header user-part call host-part fix \",Data!$C$24,\" \", Data!C25)","v":"              address-translation outgoing-call from-header user-part call host-part fix 10.10.50.23 5060"}]
[214,{"$f":"+IF(Data!$C$6>0,\" \",\"#\")","v":"#"},"              address-translation outgoing-call diversion-header host-part remote"]
[215,{"$f":"+IF(Data!$C$6>0,\" \",\"#\")","v":"#"},"              address-translation incoming-call calling-e164 from-header"]
[216]
[217,{"$f":"+IF(Data!$C$6>ROW('3CX'!B218)-ROW('3CX'!$B$218),\"\",\"#\")","v":"#"},{"$f":"+CONCATENATE(\"    interface fxs IF_FXS_\",'Extension Table'!C2,CHAR(13),CHAR(10),IF(Data!$C$42=\"(none)\",\"\",CONCATENATE(\"        caller-id-presentation \",Data!$C$42)),CHAR(13),CHAR(10),\"             route call dest-table RT_DIGITCOLLECTION\",CHAR(13),CHAR(10),\"             message-waiting-indication stutter-dial-tone\",CHAR(13),CHAR(10),\"             message-waiting-indication frequency-shift-keying\",CHAR(13),CHAR(10),\"             call-transfer\",CHAR(13),CHAR(10),\"             subscriber-number \",'Extension Table'!A2)","v":"    interface fxs IF_FXS_1\r\n        caller-id-presentation pre-ring\r\n             route call dest-table RT_DIGITCOLLECTION\r\n             message-waiting-indication stutter-dial-tone\r\n             message-waiting-indication frequency-shift-keying\r\n             call-transfer\r\n             subscriber-number 101"}]
[218,{"$f":"+IF(Data!$C$6>ROW('3CX'!B219)-ROW('3CX'!$B$218),\"\",\"#\")","v":"#"},{"$f":"+CONCATENATE(\"    interface fxs IF_FXS_\",'Extension Table'!C3,CHAR(13),CHAR(10),IF(Data!$C$42=\"(none)\",\"\",CONCATENATE(\"        caller-id-presentation \",Data!$C$42)),CHAR(13),CHAR(10),\"             route call dest-table RT_DIGITCOLLECTION\",CHAR(13),CHAR(10),\"             message-waiting-indication stutter-dial-tone\",CHAR(13),CHAR(10),\"             message-waiting-indication frequency-shift-keying\",CHAR(13),CHAR(10),\"             call-transfer\",CHAR(13),CHAR(10),\"             subscriber-number \",'Extension Table'!A3)","v":"    interface fxs IF_FXS_2\r\n        caller-id-presentation pre-ring\r\n             route call dest-table RT_DIGITCOLLECTION\r\n             message-waiting-indication stutter-dial-tone\r\n             message-waiting-indication frequency-shift-keying\r\n             call-transfer\r\n             subscriber-number 102"}]
[219,{"$f":"+IF(Data!$C$6>ROW('3CX'!B220)-ROW('3CX'!$B$218),\"\",\"#\")","v":"#"},{"$f":"+CONCATENATE(\"    interface fxs IF_FXS_\",'Extension Table'!C4,CHAR(13),CHAR(10),IF(Data!$C$42=\"(none)\",\"\",CONCATENATE(\"        caller-id-presentation \",Data!$C$42)),CHAR(13),CHAR(10),\"             route call dest-table RT_DIGITCOLLECTION\",CHAR(13),CHAR(10),\"             message-waiting-indication stutter-dial-tone\",CHAR(13),CHAR(10),\"             message-waiting-indication frequency-shift-keying\",CHAR(13),CHAR(10),\"             call-transfer\",CHAR(13),CHAR(10),\"             subscriber-number \",'Extension Table'!A4)","v":"    interface fxs IF_FXS_3\r\n        caller-id-presentation pre-ring\r\n             route call dest-table RT_DIGITCOLLECTION\r\n             message-waiting-indication stutter-dial-tone\r\n             message-waiting-indication frequency-shift-keying\r\n             call-transfer\r\n             subscriber-number 103"}]
[220,{"$f":"+IF(Data!$C$6>ROW('3CX'!B221)-ROW('3CX'!$B$218),\"\",\"#\")","v":"#"},{"$f":"+CONCATENATE(\"    interface fxs IF_FXS_\",'Extension Table'!C5,CHAR(13),CHAR(10),IF(Data!$C$42=\"(none)\",\"\",CONCATENATE(\"        caller-id-presentation \",Data!$C$42)),CHAR(13),CHAR(10),\"             route call dest-table RT_DIGITCOLLECTION\",CHAR(13),CHAR(10),\"             message-waiting-indication stutter-dial-tone\",CHAR(13),CHAR(10),\"             message-waiting-indication frequency-shift-keying\",CHAR(13),CHAR(10),\"             call-transfer\",CHAR(13),CHAR(10),\"             subscriber-number \",'Extension Table'!A5)","v":"    interface fxs IF_FXS_4\r\n        caller-id-presentation pre-ring\r\n             route call dest-table RT_DIGITCOLLECTION\r\n             message-waiting-indication stutter-dial-tone\r\n             message-waiting-indication frequency-shift-keying\r\n             call-transfer\r\n             subscriber-number 104"}]
[221,{"$f":"+IF(Data!$C$6>ROW('3CX'!B222)-ROW('3CX'!$B$218),\"\",\"#\")","v":"#"},{"$f":"+CONCATENATE(\"    interface fxs IF_FXS_\",'Extension Table'!C6,CHAR(13),CHAR(10),IF(Data!$C$42=\"(none)\",\"\",CONCATENATE(\"        caller-id-presentation \",Data!$C$42)),CHAR(13),CHAR(10),\"             route call dest-table RT_DIGITCOLLECTION\",CHAR(13),CHAR(10),\"             message-waiting-indication stutter-dial-tone\",CHAR(13),CHAR(10),\"             message-waiting-indication frequency-shift-keying\",CHAR(13),CHAR(10),\"             call-transfer\",CHAR(13),CHAR(10),\"             subscriber-number \",'Extension Table'!A6)","v":"    interface fxs IF_FXS_5\r\n        caller-id-presentation pre-ring\r\n             route call dest-table RT_DIGITCOLLECTION\r\n             message-waiting-indication stutter-dial-tone\r\n             message-waiting-indication frequency-shift-keying\r\n             call-transfer\r\n             subscriber-number 105"}]
[222,{"$f":"+IF(Data!$C$6>ROW('3CX'!B223)-ROW('3CX'!$B$218),\"\",\"#\")","v":"#"},{"$f":"+CONCATENATE(\"    interface fxs IF_FXS_\",'Extension Table'!C7,CHAR(13),CHAR(10),IF(Data!$C$42=\"(none)\",\"\",CONCATENATE(\"        caller-id-presentation \",Data!$C$42)),CHAR(13),CHAR(10),\"             route call dest-table RT_DIGITCOLLECTION\",CHAR(13),CHAR(10),\"             message-waiting-indication stutter-dial-tone\",CHAR(13),CHAR(10),\"             message-waiting-indication frequency-shift-keying\",CHAR(13),CHAR(10),\"             call-transfer\",CHAR(13),CHAR(10),\"             subscriber-number \",'Extension Table'!A7)","v":"    interface fxs IF_FXS_6\r\n        caller-id-presentation pre-ring\r\n             route call dest-table RT_DIGITCOLLECTION\r\n             message-waiting-indication stutter-dial-tone\r\n             message-waiting-indication frequency-shift-keying\r\n             call-transfer\r\n             subscriber-number 106"}]
[223,{"$f":"+IF(Data!$C$6>ROW('3CX'!B224)-ROW('3CX'!$B$218),\"\",\"#\")","v":"#"},{"$f":"+CONCATENATE(\"    interface fxs IF_FXS_\",'Extension Table'!C8,CHAR(13),CHAR(10),IF(Data!$C$42=\"(none)\",\"\",CONCATENATE(\"        caller-id-presentation \",Data!$C$42)),CHAR(13),CHAR(10),\"             route call dest-table RT_DIGITCOLLECTION\",CHAR(13),CHAR(10),\"             message-waiting-indication stutter-dial-tone\",CHAR(13),CHAR(10),\"             message-waiting-indication frequency-shift-keying\",CHAR(13),CHAR(10),\"             call-transfer\",CHAR(13),CHAR(10),\"             subscriber-number \",'Extension Table'!A8)","v":"    interface fxs IF_FXS_7\r\n        caller-id-presentation pre-ring\r\n             route call dest-table RT_DIGITCOLLECTION\r\n             message-waiting-indication stutter-dial-tone\r\n             message-waiting-indication frequency-shift-keying\r\n             call-transfer\r\n             subscriber-number 107"}]
[224,{"$f":"+IF(Data!$C$6>ROW('3CX'!B225)-ROW('3CX'!$B$218),\"\",\"#\")","v":"#"},{"$f":"+CONCATENATE(\"    interface fxs IF_FXS_\",'Extension Table'!C9,CHAR(13),CHAR(10),IF(Data!$C$42=\"(none)\",\"\",CONCATENATE(\"        caller-id-presentation \",Data!$C$42)),CHAR(13),CHAR(10),\"             route call dest-table RT_DIGITCOLLECTION\",CHAR(13),CHAR(10),\"             message-waiting-indication stutter-dial-tone\",CHAR(13),CHAR(10),\"             message-waiting-indication frequency-shift-keying\",CHAR(13),CHAR(10),\"             call-transfer\",CHAR(13),CHAR(10),\"             subscriber-number \",'Extension Table'!A9)","v":"    interface fxs IF_FXS_8\r\n        caller-id-presentation pre-ring\r\n             route call dest-table RT_DIGITCOLLECTION\r\n             message-waiting-indication stutter-dial-tone\r\n             message-waiting-indication frequency-shift-keying\r\n             call-transfer\r\n             subscriber-number 108"}]
[225,{"$f":"+IF(Data!$C$6>ROW('3CX'!B226)-ROW('3CX'!$B$218),\"\",\"#\")","v":"#"},{"$f":"+CONCATENATE(\"    interface fxs IF_FXS_\",'Extension Table'!C10,CHAR(13),CHAR(10),IF(Data!$C$42=\"(none)\",\"\",CONCATENATE(\"        caller-id-presentation \",Data!$C$42)),CHAR(13),CHAR(10),\"             route call dest-table RT_DIGITCOLLECTION\",CHAR(13),CHAR(10),\"             message-waiting-indication stutter-dial-tone\",CHAR(13),CHAR(10),\"             message-waiting-indication frequency-shift-keying\",CHAR(13),CHAR(10),\"             call-transfer\",CHAR(13),CHAR(10),\"             subscriber-number \",'Extension Table'!A10)","v":"    interface fxs IF_FXS_9\r\n        caller-id-presentation pre-ring\r\n             route call dest-table RT_DIGITCOLLECTION\r\n             message-waiting-indication stutter-dial-tone\r\n             message-waiting-indication frequency-shift-keying\r\n             call-transfer\r\n             subscriber-number 109"}]
[226,{"$f":"+IF(Data!$C$6>ROW('3CX'!B227)-ROW('3CX'!$B$218),\"\",\"#\")","v":"#"},{"$f":"+CONCATENATE(\"    interface fxs IF_FXS_\",'Extension Table'!C11,CHAR(13),CHAR(10),IF(Data!$C$42=\"(none)\",\"\",CONCATENATE(\"        caller-id-presentation \",Data!$C$42)),CHAR(13),CHAR(10),\"             route call dest-table RT_DIGITCOLLECTION\",CHAR(13),CHAR(10),\"             message-waiting-indication stutter-dial-tone\",CHAR(13),CHAR(10),\"             message-waiting-indication frequency-shift-keying\",CHAR(13),CHAR(10),\"             call-transfer\",CHAR(13),CHAR(10),\"             subscriber-number \",'Extension Table'!A11)","v":"    interface fxs IF_FXS_10\r\n        caller-id-presentation pre-ring\r\n             route call dest-table RT_DIGITCOLLECTION\r\n             message-waiting-indication stutter-dial-tone\r\n             message-waiting-indication frequency-shift-keying\r\n             call-transfer\r\n             subscriber-number 110"}]
[227,{"$f":"+IF(Data!$C$6>ROW('3CX'!B228)-ROW('3CX'!$B$218),\"\",\"#\")","v":"#"},{"$f":"+CONCATENATE(\"    interface fxs IF_FXS_\",'Extension Table'!C12,CHAR(13),CHAR(10),IF(Data!$C$42=\"(none)\",\"\",CONCATENATE(\"        caller-id-presentation \",Data!$C$42)),CHAR(13),CHAR(10),\"             route call dest-table RT_DIGITCOLLECTION\",CHAR(13),CHAR(10),\"             message-waiting-indication stutter-dial-tone\",CHAR(13),CHAR(10),\"             message-waiting-indication frequency-shift-keying\",CHAR(13),CHAR(10),\"             call-transfer\",CHAR(13),CHAR(10),\"             subscriber-number \",'Extension Table'!A12)","v":"    interface fxs IF_FXS_11\r\n        caller-id-presentation pre-ring\r\n             route call dest-table RT_DIGITCOLLECTION\r\n             message-waiting-indication stutter-dial-tone\r\n             message-waiting-indication frequency-shift-keying\r\n             call-transfer\r\n             subscriber-number 111"}]
[228,{"$f":"+IF(Data!$C$6>ROW('3CX'!B229)-ROW('3CX'!$B$218),\"\",\"#\")","v":"#"},{"$f":"+CONCATENATE(\"    interface fxs IF_FXS_\",'Extension Table'!C13,CHAR(13),CHAR(10),IF(Data!$C$42=\"(none)\",\"\",CONCATENATE(\"        caller-id-presentation \",Data!$C$42)),CHAR(13),CHAR(10),\"             route call dest-table RT_DIGITCOLLECTION\",CHAR(13),CHAR(10),\"             message-waiting-indication stutter-dial-tone\",CHAR(13),CHAR(10),\"             message-waiting-indication frequency-shift-keying\",CHAR(13),CHAR(10),\"             call-transfer\",CHAR(13),CHAR(10),\"             subscriber-number \",'Extension Table'!A13)","v":"    interface fxs IF_FXS_12\r\n        caller-id-presentation pre-ring\r\n             route call dest-table RT_DIGITCOLLECTION\r\n             message-waiting-indication stutter-dial-tone\r\n             message-waiting-indication frequency-shift-keying\r\n             call-transfer\r\n             subscriber-number 112"}]
[229,{"$f":"+IF(Data!$C$6>ROW('3CX'!B230)-ROW('3CX'!$B$218),\"\",\"#\")","v":"#"},{"$f":"+CONCATENATE(\"    interface fxs IF_FXS_\",'Extension Table'!C14,CHAR(13),CHAR(10),IF(Data!$C$42=\"(none)\",\"\",CONCATENATE(\"        caller-id-presentation \",Data!$C$42)),CHAR(13),CHAR(10),\"             route call dest-table RT_DIGITCOLLECTION\",CHAR(13),CHAR(10),\"             message-waiting-indication stutter-dial-tone\",CHAR(13),CHAR(10),\"             message-waiting-indication frequency-shift-keying\",CHAR(13),CHAR(10),\"             call-transfer\",CHAR(13),CHAR(10),\"             subscriber-number \",'Extension Table'!A14)","v":"    interface fxs IF_FXS_13\r\n        caller-id-presentation pre-ring\r\n             route call dest-table RT_DIGITCOLLECTION\r\n             message-waiting-indication stutter-dial-tone\r\n             message-waiting-indication frequency-shift-keying\r\n             call-transfer\r\n             subscriber-number 113"}]
[230,{"$f":"+IF(Data!$C$6>ROW('3CX'!B231)-ROW('3CX'!$B$218),\"\",\"#\")","v":"#"},{"$f":"+CONCATENATE(\"    interface fxs IF_FXS_\",'Extension Table'!C15,CHAR(13),CHAR(10),IF(Data!$C$42=\"(none)\",\"\",CONCATENATE(\"        caller-id-presentation \",Data!$C$42)),CHAR(13),CHAR(10),\"             route call dest-table RT_DIGITCOLLECTION\",CHAR(13),CHAR(10),\"             message-waiting-indication stutter-dial-tone\",CHAR(13),CHAR(10),\"             message-waiting-indication frequency-shift-keying\",CHAR(13),CHAR(10),\"             call-transfer\",CHAR(13),CHAR(10),\"             subscriber-number \",'Extension Table'!A15)","v":"    interface fxs IF_FXS_14\r\n        caller-id-presentation pre-ring\r\n             route call dest-table RT_DIGITCOLLECTION\r\n             message-waiting-indication stutter-dial-tone\r\n             message-waiting-indication frequency-shift-keying\r\n             call-transfer\r\n             subscriber-number 114"}]
[231,{"$f":"+IF(Data!$C$6>ROW('3CX'!B232)-ROW('3CX'!$B$218),\"\",\"#\")","v":"#"},{"$f":"+CONCATENATE(\"    interface fxs IF_FXS_\",'Extension Table'!C16,CHAR(13),CHAR(10),IF(Data!$C$42=\"(none)\",\"\",CONCATENATE(\"        caller-id-presentation \",Data!$C$42)),CHAR(13),CHAR(10),\"             route call dest-table RT_DIGITCOLLECTION\",CHAR(13),CHAR(10),\"             message-waiting-indication stutter-dial-tone\",CHAR(13),CHAR(10),\"             message-waiting-indication frequency-shift-keying\",CHAR(13),CHAR(10),\"             call-transfer\",CHAR(13),CHAR(10),\"             subscriber-number \",'Extension Table'!A16)","v":"    interface fxs IF_FXS_15\r\n        caller-id-presentation pre-ring\r\n             route call dest-table RT_DIGITCOLLECTION\r\n             message-waiting-indication stutter-dial-tone\r\n             message-waiting-indication frequency-shift-keying\r\n             call-transfer\r\n             subscriber-number 115"}]
[232,{"$f":"+IF(Data!$C$6>ROW('3CX'!B233)-ROW('3CX'!$B$218),\"\",\"#\")","v":"#"},{"$f":"+CONCATENATE(\"    interface fxs IF_FXS_\",'Extension Table'!C17,CHAR(13),CHAR(10),IF(Data!$C$42=\"(none)\",\"\",CONCATENATE(\"        caller-id-presentation \",Data!$C$42)),CHAR(13),CHAR(10),\"             route call dest-table RT_DIGITCOLLECTION\",CHAR(13),CHAR(10),\"             message-waiting-indication stutter-dial-tone\",CHAR(13),CHAR(10),\"             message-waiting-indication frequency-shift-keying\",CHAR(13),CHAR(10),\"             call-transfer\",CHAR(13),CHAR(10),\"             subscriber-number \",'Extension Table'!A17)","v":"    interface fxs IF_FXS_16\r\n        caller-id-presentation pre-ring\r\n             route call dest-table RT_DIGITCOLLECTION\r\n             message-waiting-indication stutter-dial-tone\r\n             message-waiting-indication frequency-shift-keying\r\n             call-transfer\r\n             subscriber-number 116"}]
[233,{"$f":"+IF(Data!$C$6>ROW('3CX'!B234)-ROW('3CX'!$B$218),\"\",\"#\")","v":"#"},{"$f":"+CONCATENATE(\"    interface fxs IF_FXS_\",'Extension Table'!C18,CHAR(13),CHAR(10),IF(Data!$C$42=\"(none)\",\"\",CONCATENATE(\"        caller-id-presentation \",Data!$C$42)),CHAR(13),CHAR(10),\"             route call dest-table RT_DIGITCOLLECTION\",CHAR(13),CHAR(10),\"             message-waiting-indication stutter-dial-tone\",CHAR(13),CHAR(10),\"             message-waiting-indication frequency-shift-keying\",CHAR(13),CHAR(10),\"             call-transfer\",CHAR(13),CHAR(10),\"             subscriber-number \",'Extension Table'!A18)","v":"    interface fxs IF_FXS_17\r\n        caller-id-presentation pre-ring\r\n             route call dest-table RT_DIGITCOLLECTION\r\n             message-waiting-indication stutter-dial-tone\r\n             message-waiting-indication frequency-shift-keying\r\n             call-transfer\r\n             subscriber-number 117"}]
[234,{"$f":"+IF(Data!$C$6>ROW('3CX'!B235)-ROW('3CX'!$B$218),\"\",\"#\")","v":"#"},{"$f":"+CONCATENATE(\"    interface fxs IF_FXS_\",'Extension Table'!C19,CHAR(13),CHAR(10),IF(Data!$C$42=\"(none)\",\"\",CONCATENATE(\"        caller-id-presentation \",Data!$C$42)),CHAR(13),CHAR(10),\"             route call dest-table RT_DIGITCOLLECTION\",CHAR(13),CHAR(10),\"             message-waiting-indication stutter-dial-tone\",CHAR(13),CHAR(10),\"             message-waiting-indication frequency-shift-keying\",CHAR(13),CHAR(10),\"             call-transfer\",CHAR(13),CHAR(10),\"             subscriber-number \",'Extension Table'!A19)","v":"    interface fxs IF_FXS_18\r\n        caller-id-presentation pre-ring\r\n             route call dest-table RT_DIGITCOLLECTION\r\n             message-waiting-indication stutter-dial-tone\r\n             message-waiting-indication frequency-shift-keying\r\n             call-transfer\r\n             subscriber-number 118"}]
[235,{"$f":"+IF(Data!$C$6>ROW('3CX'!B236)-ROW('3CX'!$B$218),\"\",\"#\")","v":"#"},{"$f":"+CONCATENATE(\"    interface fxs IF_FXS_\",'Extension Table'!C20,CHAR(13),CHAR(10),IF(Data!$C$42=\"(none)\",\"\",CONCATENATE(\"        caller-id-presentation \",Data!$C$42)),CHAR(13),CHAR(10),\"             route call dest-table RT_DIGITCOLLECTION\",CHAR(13),CHAR(10),\"             message-waiting-indication stutter-dial-tone\",CHAR(13),CHAR(10),\"             message-waiting-indication frequency-shift-keying\",CHAR(13),CHAR(10),\"             call-transfer\",CHAR(13),CHAR(10),\"             subscriber-number \",'Extension Table'!A20)","v":"    interface fxs IF_FXS_19\r\n        caller-id-presentation pre-ring\r\n             route call dest-table RT_DIGITCOLLECTION\r\n             message-waiting-indication stutter-dial-tone\r\n             message-waiting-indication frequency-shift-keying\r\n             call-transfer\r\n             subscriber-number 119"}]
[236,{"$f":"+IF(Data!$C$6>ROW('3CX'!B237)-ROW('3CX'!$B$218),\"\",\"#\")","v":"#"},{"$f":"+CONCATENATE(\"    interface fxs IF_FXS_\",'Extension Table'!C21,CHAR(13),CHAR(10),IF(Data!$C$42=\"(none)\",\"\",CONCATENATE(\"        caller-id-presentation \",Data!$C$42)),CHAR(13),CHAR(10),\"             route call dest-table RT_DIGITCOLLECTION\",CHAR(13),CHAR(10),\"             message-waiting-indication stutter-dial-tone\",CHAR(13),CHAR(10),\"             message-waiting-indication frequency-shift-keying\",CHAR(13),CHAR(10),\"             call-transfer\",CHAR(13),CHAR(10),\"             subscriber-number \",'Extension Table'!A21)","v":"    interface fxs IF_FXS_20\r\n        caller-id-presentation pre-ring\r\n             route call dest-table RT_DIGITCOLLECTION\r\n             message-waiting-indication stutter-dial-tone\r\n             message-waiting-indication frequency-shift-keying\r\n             call-transfer\r\n             subscriber-number 120"}]
[237,{"$f":"+IF(Data!$C$6>ROW('3CX'!B238)-ROW('3CX'!$B$218),\"\",\"#\")","v":"#"},{"$f":"+CONCATENATE(\"    interface fxs IF_FXS_\",'Extension Table'!C22,CHAR(13),CHAR(10),IF(Data!$C$42=\"(none)\",\"\",CONCATENATE(\"        caller-id-presentation \",Data!$C$42)),CHAR(13),CHAR(10),\"             route call dest-table RT_DIGITCOLLECTION\",CHAR(13),CHAR(10),\"             message-waiting-indication stutter-dial-tone\",CHAR(13),CHAR(10),\"             message-waiting-indication frequency-shift-keying\",CHAR(13),CHAR(10),\"             call-transfer\",CHAR(13),CHAR(10),\"             subscriber-number \",'Extension Table'!A22)","v":"    interface fxs IF_FXS_21\r\n        caller-id-presentation pre-ring\r\n             route call dest-table RT_DIGITCOLLECTION\r\n             message-waiting-indication stutter-dial-tone\r\n             message-waiting-indication frequency-shift-keying\r\n             call-transfer\r\n             subscriber-number 121"}]
[238,{"$f":"+IF(Data!$C$6>ROW('3CX'!B239)-ROW('3CX'!$B$218),\"\",\"#\")","v":"#"},{"$f":"+CONCATENATE(\"    interface fxs IF_FXS_\",'Extension Table'!C23,CHAR(13),CHAR(10),IF(Data!$C$42=\"(none)\",\"\",CONCATENATE(\"        caller-id-presentation \",Data!$C$42)),CHAR(13),CHAR(10),\"             route call dest-table RT_DIGITCOLLECTION\",CHAR(13),CHAR(10),\"             message-waiting-indication stutter-dial-tone\",CHAR(13),CHAR(10),\"             message-waiting-indication frequency-shift-keying\",CHAR(13),CHAR(10),\"             call-transfer\",CHAR(13),CHAR(10),\"             subscriber-number \",'Extension Table'!A23)","v":"    interface fxs IF_FXS_22\r\n        caller-id-presentation pre-ring\r\n             route call dest-table RT_DIGITCOLLECTION\r\n             message-waiting-indication stutter-dial-tone\r\n             message-waiting-indication frequency-shift-keying\r\n             call-transfer\r\n             subscriber-number 122"}]
[239,{"$f":"+IF(Data!$C$6>ROW('3CX'!B240)-ROW('3CX'!$B$218),\"\",\"#\")","v":"#"},{"$f":"+CONCATENATE(\"    interface fxs IF_FXS_\",'Extension Table'!C24,CHAR(13),CHAR(10),IF(Data!$C$42=\"(none)\",\"\",CONCATENATE(\"        caller-id-presentation \",Data!$C$42)),CHAR(13),CHAR(10),\"             route call dest-table RT_DIGITCOLLECTION\",CHAR(13),CHAR(10),\"             message-waiting-indication stutter-dial-tone\",CHAR(13),CHAR(10),\"             message-waiting-indication frequency-shift-keying\",CHAR(13),CHAR(10),\"             call-transfer\",CHAR(13),CHAR(10),\"             subscriber-number \",'Extension Table'!A24)","v":"    interface fxs IF_FXS_23\r\n        caller-id-presentation pre-ring\r\n             route call dest-table RT_DIGITCOLLECTION\r\n             message-waiting-indication stutter-dial-tone\r\n             message-waiting-indication frequency-shift-keying\r\n             call-transfer\r\n             subscriber-number 123"}]
[240,{"$f":"+IF(Data!$C$6>ROW('3CX'!B241)-ROW('3CX'!$B$218),\"\",\"#\")","v":"#"},{"$f":"+CONCATENATE(\"    interface fxs IF_FXS_\",'Extension Table'!C25,CHAR(13),CHAR(10),IF(Data!$C$42=\"(none)\",\"\",CONCATENATE(\"        caller-id-presentation \",Data!$C$42)),CHAR(13),CHAR(10),\"             route call dest-table RT_DIGITCOLLECTION\",CHAR(13),CHAR(10),\"             message-waiting-indication stutter-dial-tone\",CHAR(13),CHAR(10),\"             message-waiting-indication frequency-shift-keying\",CHAR(13),CHAR(10),\"             call-transfer\",CHAR(13),CHAR(10),\"             subscriber-number \",'Extension Table'!A25)","v":"    interface fxs IF_FXS_24\r\n        caller-id-presentation pre-ring\r\n             route call dest-table RT_DIGITCOLLECTION\r\n             message-waiting-indication stutter-dial-tone\r\n             message-waiting-indication frequency-shift-keying\r\n             call-transfer\r\n             subscriber-number 124"}]
[241,{"$f":"+IF(Data!$C$6>ROW('3CX'!B242)-ROW('3CX'!$B$218),\"\",\"#\")","v":"#"},{"$f":"+CONCATENATE(\"    interface fxs IF_FXS_\",'Extension Table'!C26,CHAR(13),CHAR(10),IF(Data!$C$42=\"(none)\",\"\",CONCATENATE(\"        caller-id-presentation \",Data!$C$42)),CHAR(13),CHAR(10),\"             route call dest-table RT_DIGITCOLLECTION\",CHAR(13),CHAR(10),\"             message-waiting-indication stutter-dial-tone\",CHAR(13),CHAR(10),\"             message-waiting-indication frequency-shift-keying\",CHAR(13),CHAR(10),\"             call-transfer\",CHAR(13),CHAR(10),\"             subscriber-number \",'Extension Table'!A26)","v":"    interface fxs IF_FXS_25\r\n        caller-id-presentation pre-ring\r\n             route call dest-table RT_DIGITCOLLECTION\r\n             message-waiting-indication stutter-dial-tone\r\n             message-waiting-indication frequency-shift-keying\r\n             call-transfer\r\n             subscriber-number 125"}]
[242,{"$f":"+IF(Data!$C$6>ROW('3CX'!B243)-ROW('3CX'!$B$218),\"\",\"#\")","v":"#"},{"$f":"+CONCATENATE(\"    interface fxs IF_FXS_\",'Extension Table'!C27,CHAR(13),CHAR(10),IF(Data!$C$42=\"(none)\",\"\",CONCATENATE(\"        caller-id-presentation \",Data!$C$42)),CHAR(13),CHAR(10),\"             route call dest-table RT_DIGITCOLLECTION\",CHAR(13),CHAR(10),\"             message-waiting-indication stutter-dial-tone\",CHAR(13),CHAR(10),\"             message-waiting-indication frequency-shift-keying\",CHAR(13),CHAR(10),\"             call-transfer\",CHAR(13),CHAR(10),\"             subscriber-number \",'Extension Table'!A27)","v":"    interface fxs IF_FXS_26\r\n        caller-id-presentation pre-ring\r\n             route call dest-table RT_DIGITCOLLECTION\r\n             message-waiting-indication stutter-dial-tone\r\n             message-waiting-indication frequency-shift-keying\r\n             call-transfer\r\n             subscriber-number 126"}]
[243,{"$f":"+IF(Data!$C$6>ROW('3CX'!B244)-ROW('3CX'!$B$218),\"\",\"#\")","v":"#"},{"$f":"+CONCATENATE(\"    interface fxs IF_FXS_\",'Extension Table'!C28,CHAR(13),CHAR(10),IF(Data!$C$42=\"(none)\",\"\",CONCATENATE(\"        caller-id-presentation \",Data!$C$42)),CHAR(13),CHAR(10),\"             route call dest-table RT_DIGITCOLLECTION\",CHAR(13),CHAR(10),\"             message-waiting-indication stutter-dial-tone\",CHAR(13),CHAR(10),\"             message-waiting-indication frequency-shift-keying\",CHAR(13),CHAR(10),\"             call-transfer\",CHAR(13),CHAR(10),\"             subscriber-number \",'Extension Table'!A28)","v":"    interface fxs IF_FXS_27\r\n        caller-id-presentation pre-ring\r\n             route call dest-table RT_DIGITCOLLECTION\r\n             message-waiting-indication stutter-dial-tone\r\n             message-waiting-indication frequency-shift-keying\r\n             call-transfer\r\n             subscriber-number 127"}]
[244,{"$f":"+IF(Data!$C$6>ROW('3CX'!B245)-ROW('3CX'!$B$218),\"\",\"#\")","v":"#"},{"$f":"+CONCATENATE(\"    interface fxs IF_FXS_\",'Extension Table'!C29,CHAR(13),CHAR(10),IF(Data!$C$42=\"(none)\",\"\",CONCATENATE(\"        caller-id-presentation \",Data!$C$42)),CHAR(13),CHAR(10),\"             route call dest-table RT_DIGITCOLLECTION\",CHAR(13),CHAR(10),\"             message-waiting-indication stutter-dial-tone\",CHAR(13),CHAR(10),\"             message-waiting-indication frequency-shift-keying\",CHAR(13),CHAR(10),\"             call-transfer\",CHAR(13),CHAR(10),\"             subscriber-number \",'Extension Table'!A29)","v":"    interface fxs IF_FXS_28\r\n        caller-id-presentation pre-ring\r\n             route call dest-table RT_DIGITCOLLECTION\r\n             message-waiting-indication stutter-dial-tone\r\n             message-waiting-indication frequency-shift-keying\r\n             call-transfer\r\n             subscriber-number 128"}]
[245,{"$f":"+IF(Data!$C$6>ROW('3CX'!B246)-ROW('3CX'!$B$218),\"\",\"#\")","v":"#"},{"$f":"+CONCATENATE(\"    interface fxs IF_FXS_\",'Extension Table'!C30,CHAR(13),CHAR(10),IF(Data!$C$42=\"(none)\",\"\",CONCATENATE(\"        caller-id-presentation \",Data!$C$42)),CHAR(13),CHAR(10),\"             route call dest-table RT_DIGITCOLLECTION\",CHAR(13),CHAR(10),\"             message-waiting-indication stutter-dial-tone\",CHAR(13),CHAR(10),\"             message-waiting-indication frequency-shift-keying\",CHAR(13),CHAR(10),\"             call-transfer\",CHAR(13),CHAR(10),\"             subscriber-number \",'Extension Table'!A30)","v":"    interface fxs IF_FXS_29\r\n        caller-id-presentation pre-ring\r\n             route call dest-table RT_DIGITCOLLECTION\r\n             message-waiting-indication stutter-dial-tone\r\n             message-waiting-indication frequency-shift-keying\r\n             call-transfer\r\n             subscriber-number 129"}]
[246,{"$f":"+IF(Data!$C$6>ROW('3CX'!B247)-ROW('3CX'!$B$218),\"\",\"#\")","v":"#"},{"$f":"+CONCATENATE(\"    interface fxs IF_FXS_\",'Extension Table'!C31,CHAR(13),CHAR(10),IF(Data!$C$42=\"(none)\",\"\",CONCATENATE(\"        caller-id-presentation \",Data!$C$42)),CHAR(13),CHAR(10),\"             route call dest-table RT_DIGITCOLLECTION\",CHAR(13),CHAR(10),\"             message-waiting-indication stutter-dial-tone\",CHAR(13),CHAR(10),\"             message-waiting-indication frequency-shift-keying\",CHAR(13),CHAR(10),\"             call-transfer\",CHAR(13),CHAR(10),\"             subscriber-number \",'Extension Table'!A31)","v":"    interface fxs IF_FXS_30\r\n        caller-id-presentation pre-ring\r\n             route call dest-table RT_DIGITCOLLECTION\r\n             message-waiting-indication stutter-dial-tone\r\n             message-waiting-indication frequency-shift-keying\r\n             call-transfer\r\n             subscriber-number 130"}]
[247,{"$f":"+IF(Data!$C$6>ROW('3CX'!B248)-ROW('3CX'!$B$218),\"\",\"#\")","v":"#"},{"$f":"+CONCATENATE(\"    interface fxs IF_FXS_\",'Extension Table'!C32,CHAR(13),CHAR(10),IF(Data!$C$42=\"(none)\",\"\",CONCATENATE(\"        caller-id-presentation \",Data!$C$42)),CHAR(13),CHAR(10),\"             route call dest-table RT_DIGITCOLLECTION\",CHAR(13),CHAR(10),\"             message-waiting-indication stutter-dial-tone\",CHAR(13),CHAR(10),\"             message-waiting-indication frequency-shift-keying\",CHAR(13),CHAR(10),\"             call-transfer\",CHAR(13),CHAR(10),\"             subscriber-number \",'Extension Table'!A32)","v":"    interface fxs IF_FXS_31\r\n        caller-id-presentation pre-ring\r\n             route call dest-table RT_DIGITCOLLECTION\r\n             message-waiting-indication stutter-dial-tone\r\n             message-waiting-indication frequency-shift-keying\r\n             call-transfer\r\n             subscriber-number 131"}]
[248,{"$f":"+IF(Data!$C$6>ROW('3CX'!B249)-ROW('3CX'!$B$218),\"\",\"#\")","v":"#"},{"$f":"+CONCATENATE(\"    interface fxs IF_FXS_\",'Extension Table'!C33,CHAR(13),CHAR(10),IF(Data!$C$42=\"(none)\",\"\",CONCATENATE(\"        caller-id-presentation \",Data!$C$42)),CHAR(13),CHAR(10),\"             route call dest-table RT_DIGITCOLLECTION\",CHAR(13),CHAR(10),\"             message-waiting-indication stutter-dial-tone\",CHAR(13),CHAR(10),\"             message-waiting-indication frequency-shift-keying\",CHAR(13),CHAR(10),\"             call-transfer\",CHAR(13),CHAR(10),\"             subscriber-number \",'Extension Table'!A33)","v":"    interface fxs IF_FXS_32\r\n        caller-id-presentation pre-ring\r\n             route call dest-table RT_DIGITCOLLECTION\r\n             message-waiting-indication stutter-dial-tone\r\n             message-waiting-indication frequency-shift-keying\r\n             call-transfer\r\n             subscriber-number 132"}]
[249,null,"                "]
[250,null,"context cs switch"]
[251,null,"  no shutdown"]
[252]
[253,{"$f":"+IF(Data!$C$6>0,\" \",\"#\")","v":"#"},"authentication-service AS_ALL_EXTENSIONS"]
[254,{"$f":"+IF(Data!$C$6>0,\" \",\"#\")","v":"#"},{"$f":"+CONCATENATE(\"   realm 1 3CXPhoneSystem\")","v":"   realm 1 3CXPhoneSystem"},"Revisar si hace falta para 3CX"]
[255,{"$f":"+IF(Data!$C$6>ROW('3CX'!B256)-ROW('3CX'!$B$256),\"\",\"#\")","v":"#"},{"$f":"+CONCATENATE(\"      username \",'Extension Table'!F2,\" password \",'Extension Table'!G2)","v":"      username 101 password 101"}]
[256,{"$f":"+IF(Data!$C$6>ROW('3CX'!B257)-ROW('3CX'!$B$256),\"\",\"#\")","v":"#"},{"$f":"+CONCATENATE(\"      username \",'Extension Table'!F3,\" password \",'Extension Table'!G3)","v":"      username 102 password 102"}]
[257,{"$f":"+IF(Data!$C$6>ROW('3CX'!B258)-ROW('3CX'!$B$256),\"\",\"#\")","v":"#"},{"$f":"+CONCATENATE(\"      username \",'Extension Table'!F4,\" password \",'Extension Table'!G4)","v":"      username 103 password 103"}]
[258,{"$f":"+IF(Data!$C$6>ROW('3CX'!B259)-ROW('3CX'!$B$256),\"\",\"#\")","v":"#"},{"$f":"+CONCATENATE(\"      username \",'Extension Table'!F5,\" password \",'Extension Table'!G5)","v":"      username 104 password 104"}]
[259,{"$f":"+IF(Data!$C$6>ROW('3CX'!B260)-ROW('3CX'!$B$256),\"\",\"#\")","v":"#"},{"$f":"+CONCATENATE(\"      username \",'Extension Table'!F6,\" password \",'Extension Table'!G6)","v":"      username 105 password 105"}]
[260,{"$f":"+IF(Data!$C$6>ROW('3CX'!B261)-ROW('3CX'!$B$256),\"\",\"#\")","v":"#"},{"$f":"+CONCATENATE(\"      username \",'Extension Table'!F7,\" password \",'Extension Table'!G7)","v":"      username 106 password 106"}]
[261,{"$f":"+IF(Data!$C$6>ROW('3CX'!B262)-ROW('3CX'!$B$256),\"\",\"#\")","v":"#"},{"$f":"+CONCATENATE(\"      username \",'Extension Table'!F8,\" password \",'Extension Table'!G8)","v":"      username 107 password 107"}]
[262,{"$f":"+IF(Data!$C$6>ROW('3CX'!B263)-ROW('3CX'!$B$256),\"\",\"#\")","v":"#"},{"$f":"+CONCATENATE(\"      username \",'Extension Table'!F9,\" password \",'Extension Table'!G9)","v":"      username 108 password 108"}]
[263,{"$f":"+IF(Data!$C$6>ROW('3CX'!B264)-ROW('3CX'!$B$256),\"\",\"#\")","v":"#"},{"$f":"+CONCATENATE(\"      username \",'Extension Table'!F10,\" password \",'Extension Table'!G10)","v":"      username 109 password 109"}]
[264,{"$f":"+IF(Data!$C$6>ROW('3CX'!B265)-ROW('3CX'!$B$256),\"\",\"#\")","v":"#"},{"$f":"+CONCATENATE(\"      username \",'Extension Table'!F11,\" password \",'Extension Table'!G11)","v":"      username 110 password 110"}]
[265,{"$f":"+IF(Data!$C$6>ROW('3CX'!B266)-ROW('3CX'!$B$256),\"\",\"#\")","v":"#"},{"$f":"+CONCATENATE(\"      username \",'Extension Table'!F12,\" password \",'Extension Table'!G12)","v":"      username 111 password 111"}]
[266,{"$f":"+IF(Data!$C$6>ROW('3CX'!B267)-ROW('3CX'!$B$256),\"\",\"#\")","v":"#"},{"$f":"+CONCATENATE(\"      username \",'Extension Table'!F13,\" password \",'Extension Table'!G13)","v":"      username 112 password 112"}]
[267,{"$f":"+IF(Data!$C$6>ROW('3CX'!B268)-ROW('3CX'!$B$256),\"\",\"#\")","v":"#"},{"$f":"+CONCATENATE(\"      username \",'Extension Table'!F14,\" password \",'Extension Table'!G14)","v":"      username 113 password 113"}]
[268,{"$f":"+IF(Data!$C$6>ROW('3CX'!B269)-ROW('3CX'!$B$256),\"\",\"#\")","v":"#"},{"$f":"+CONCATENATE(\"      username \",'Extension Table'!F15,\" password \",'Extension Table'!G15)","v":"      username 114 password 114"}]
[269,{"$f":"+IF(Data!$C$6>ROW('3CX'!B270)-ROW('3CX'!$B$256),\"\",\"#\")","v":"#"},{"$f":"+CONCATENATE(\"      username \",'Extension Table'!F16,\" password \",'Extension Table'!G16)","v":"      username 115 password 115"}]
[270,{"$f":"+IF(Data!$C$6>ROW('3CX'!B271)-ROW('3CX'!$B$256),\"\",\"#\")","v":"#"},{"$f":"+CONCATENATE(\"      username \",'Extension Table'!F17,\" password \",'Extension Table'!G17)","v":"      username 116 password 116"}]
[271,{"$f":"+IF(Data!$C$6>ROW('3CX'!B272)-ROW('3CX'!$B$256),\"\",\"#\")","v":"#"},{"$f":"+CONCATENATE(\"      username \",'Extension Table'!F18,\" password \",'Extension Table'!G18)","v":"      username 117 password 117"}]
[272,{"$f":"+IF(Data!$C$6>ROW('3CX'!B273)-ROW('3CX'!$B$256),\"\",\"#\")","v":"#"},{"$f":"+CONCATENATE(\"      username \",'Extension Table'!F19,\" password \",'Extension Table'!G19)","v":"      username 118 password 118"}]
[273,{"$f":"+IF(Data!$C$6>ROW('3CX'!B274)-ROW('3CX'!$B$256),\"\",\"#\")","v":"#"},{"$f":"+CONCATENATE(\"      username \",'Extension Table'!F20,\" password \",'Extension Table'!G20)","v":"      username 119 password 119"}]
[274,{"$f":"+IF(Data!$C$6>ROW('3CX'!B275)-ROW('3CX'!$B$256),\"\",\"#\")","v":"#"},{"$f":"+CONCATENATE(\"      username \",'Extension Table'!F21,\" password \",'Extension Table'!G21)","v":"      username 120 password 120"}]
[275,{"$f":"+IF(Data!$C$6>ROW('3CX'!B276)-ROW('3CX'!$B$256),\"\",\"#\")","v":"#"},{"$f":"+CONCATENATE(\"      username \",'Extension Table'!F22,\" password \",'Extension Table'!G22)","v":"      username 121 password 121"}]
[276,{"$f":"+IF(Data!$C$6>ROW('3CX'!B277)-ROW('3CX'!$B$256),\"\",\"#\")","v":"#"},{"$f":"+CONCATENATE(\"      username \",'Extension Table'!F23,\" password \",'Extension Table'!G23)","v":"      username 122 password 122"}]
[277,{"$f":"+IF(Data!$C$6>ROW('3CX'!B278)-ROW('3CX'!$B$256),\"\",\"#\")","v":"#"},{"$f":"+CONCATENATE(\"      username \",'Extension Table'!F24,\" password \",'Extension Table'!G24)","v":"      username 123 password 123"}]
[278,{"$f":"+IF(Data!$C$6>ROW('3CX'!B279)-ROW('3CX'!$B$256),\"\",\"#\")","v":"#"},{"$f":"+CONCATENATE(\"      username \",'Extension Table'!F25,\" password \",'Extension Table'!G25)","v":"      username 124 password 124"}]
[279,{"$f":"+IF(Data!$C$6>ROW('3CX'!B280)-ROW('3CX'!$B$256),\"\",\"#\")","v":"#"},{"$f":"+CONCATENATE(\"      username \",'Extension Table'!F26,\" password \",'Extension Table'!G26)","v":"      username 125 password 125"}]
[280,{"$f":"+IF(Data!$C$6>ROW('3CX'!B281)-ROW('3CX'!$B$256),\"\",\"#\")","v":"#"},{"$f":"+CONCATENATE(\"      username \",'Extension Table'!F27,\" password \",'Extension Table'!G27)","v":"      username 126 password 126"}]
[281,{"$f":"+IF(Data!$C$6>ROW('3CX'!B282)-ROW('3CX'!$B$256),\"\",\"#\")","v":"#"},{"$f":"+CONCATENATE(\"      username \",'Extension Table'!F28,\" password \",'Extension Table'!G28)","v":"      username 127 password 127"}]
[282,{"$f":"+IF(Data!$C$6>ROW('3CX'!B283)-ROW('3CX'!$B$256),\"\",\"#\")","v":"#"},{"$f":"+CONCATENATE(\"      username \",'Extension Table'!F29,\" password \",'Extension Table'!G29)","v":"      username 128 password 128"}]
[283,{"$f":"+IF(Data!$C$6>ROW('3CX'!B284)-ROW('3CX'!$B$256),\"\",\"#\")","v":"#"},{"$f":"+CONCATENATE(\"      username \",'Extension Table'!F30,\" password \",'Extension Table'!G30)","v":"      username 129 password 129"}]
[284,{"$f":"+IF(Data!$C$6>ROW('3CX'!B285)-ROW('3CX'!$B$256),\"\",\"#\")","v":"#"},{"$f":"+CONCATENATE(\"      username \",'Extension Table'!F31,\" password \",'Extension Table'!G31)","v":"      username 130 password 130"}]
[285,{"$f":"+IF(Data!$C$6>ROW('3CX'!B286)-ROW('3CX'!$B$256),\"\",\"#\")","v":"#"},{"$f":"+CONCATENATE(\"      username \",'Extension Table'!F32,\" password \",'Extension Table'!G32)","v":"      username 131 password 131"}]
[286,{"$f":"+IF(Data!$C$6>ROW('3CX'!B287)-ROW('3CX'!$B$256),\"\",\"#\")","v":"#"},{"$f":"+CONCATENATE(\"      username \",'Extension Table'!F33,\" password \",'Extension Table'!G33)","v":"      username 132 password 132"}]
[287,null,"  "]
[288,{"$f":"+IF(Data!$C$5>0,\" \",\"#\")","v":" "},"authentication-service AS_ALL_LINES"]
[289,{"$f":"+IF(Data!$C$5>0,\" \",\"#\")","v":" "},{"$f":"+CONCATENATE(\"   realm 1 3CXPhoneSystem\")","v":"   realm 1 3CXPhoneSystem"},"Revisar si hace falta para 3CX"]
[290]
[291,{"$f":"+IF(Data!$C$5>ROW('3CX'!B292)-ROW('3CX'!$B$292),\"\",\"#\")","v":""},{"$f":"+CONCATENATE(\"      username \",'Line Table'!E2,\" password \",'Line Table'!F2)","v":"      username 10002 password 10002"}]
[292,{"$f":"+IF(Data!$C$5>ROW('3CX'!B293)-ROW('3CX'!$B$292),\"\",\"#\")","v":""},{"$f":"+CONCATENATE(\"      username \",'Line Table'!E3,\" password \",'Line Table'!F3)","v":"      username 10003 password 10003"}]
[293,{"$f":"+IF(Data!$C$5>ROW('3CX'!B294)-ROW('3CX'!$B$292),\"\",\"#\")","v":""},{"$f":"+CONCATENATE(\"      username \",'Line Table'!E4,\" password \",'Line Table'!F4)","v":"      username 10004 password 10004"}]
[294,{"$f":"+IF(Data!$C$5>ROW('3CX'!B295)-ROW('3CX'!$B$292),\"\",\"#\")","v":""},{"$f":"+CONCATENATE(\"      username \",'Line Table'!E5,\" password \",'Line Table'!F5)","v":"      username 10005 password 10005"}]
[295,{"$f":"+IF(Data!$C$5>ROW('3CX'!B296)-ROW('3CX'!$B$292),\"\",\"#\")","v":""},{"$f":"+CONCATENATE(\"      username \",'Line Table'!E6,\" password \",'Line Table'!F6)","v":"      username 10006 password 10006"}]
[296,{"$f":"+IF(Data!$C$5>ROW('3CX'!B297)-ROW('3CX'!$B$292),\"\",\"#\")","v":""},{"$f":"+CONCATENATE(\"      username \",'Line Table'!E7,\" password \",'Line Table'!F7)","v":"      username 10007 password 10007"}]
[297,{"$f":"+IF(Data!$C$5>ROW('3CX'!B298)-ROW('3CX'!$B$292),\"\",\"#\")","v":""},{"$f":"+CONCATENATE(\"      username \",'Line Table'!E8,\" password \",'Line Table'!F8)","v":"      username 10008 password 10008"}]
[298,{"$f":"+IF(Data!$C$5>ROW('3CX'!B299)-ROW('3CX'!$B$292),\"\",\"#\")","v":""},{"$f":"+CONCATENATE(\"      username \",'Line Table'!E9,\" password \",'Line Table'!F9)","v":"      username 10009 password 10009"}]
[299,{"$f":"+IF(Data!$C$5>ROW('3CX'!B300)-ROW('3CX'!$B$292),\"\",\"#\")","v":""},{"$f":"+CONCATENATE(\"      username \",'Line Table'!E10,\" password \",'Line Table'!F10)","v":"      username 10010 password 10010"}]
[300,{"$f":"+IF(Data!$C$5>ROW('3CX'!B301)-ROW('3CX'!$B$292),\"\",\"#\")","v":""},{"$f":"+CONCATENATE(\"      username \",'Line Table'!E11,\" password \",'Line Table'!F11)","v":"      username 10011 password 10011"}]
[301,{"$f":"+IF(Data!$C$5>ROW('3CX'!B302)-ROW('3CX'!$B$292),\"\",\"#\")","v":""},{"$f":"+CONCATENATE(\"      username \",'Line Table'!E12,\" password \",'Line Table'!F12)","v":"      username 10012 password 10012"}]
[302,{"$f":"+IF(Data!$C$5>ROW('3CX'!B303)-ROW('3CX'!$B$292),\"\",\"#\")","v":""},{"$f":"+CONCATENATE(\"      username \",'Line Table'!E13,\" password \",'Line Table'!F13)","v":"      username 10013 password 10013"}]
[303,{"$f":"+IF(Data!$C$5>ROW('3CX'!B304)-ROW('3CX'!$B$292),\"\",\"#\")","v":"#"},{"$f":"+CONCATENATE(\"      username \",'Line Table'!E14,\" password \",'Line Table'!F14)","v":"      username 10014 password 10014"}]
[304,{"$f":"+IF(Data!$C$5>ROW('3CX'!B305)-ROW('3CX'!$B$292),\"\",\"#\")","v":"#"},{"$f":"+CONCATENATE(\"      username \",'Line Table'!E15,\" password \",'Line Table'!F15)","v":"      username 10015 password 10015"}]
[305,{"$f":"+IF(Data!$C$5>ROW('3CX'!B306)-ROW('3CX'!$B$292),\"\",\"#\")","v":"#"},{"$f":"+CONCATENATE(\"      username \",'Line Table'!E16,\" password \",'Line Table'!F16)","v":"      username 10016 password 10016"}]
[306,{"$f":"+IF(Data!$C$5>ROW('3CX'!B307)-ROW('3CX'!$B$292),\"\",\"#\")","v":"#"},{"$f":"+CONCATENATE(\"      username \",'Line Table'!E17,\" password \",'Line Table'!F17)","v":"      username 10017 password 10017"}]
[307,{"$f":"+IF(Data!$C$5>ROW('3CX'!B308)-ROW('3CX'!$B$292),\"\",\"#\")","v":"#"},{"$f":"+CONCATENATE(\"      username \",'Line Table'!E18,\" password \",'Line Table'!F18)","v":"      username 10018 password 10018"}]
[308,{"$f":"+IF(Data!$C$5>ROW('3CX'!B309)-ROW('3CX'!$B$292),\"\",\"#\")","v":"#"},{"$f":"+CONCATENATE(\"      username \",'Line Table'!E19,\" password \",'Line Table'!F19)","v":"      username 10019 password 10019"}]
[309,{"$f":"+IF(Data!$C$5>ROW('3CX'!B310)-ROW('3CX'!$B$292),\"\",\"#\")","v":"#"},{"$f":"+CONCATENATE(\"      username \",'Line Table'!E20,\" password \",'Line Table'!F20)","v":"      username 10020 password 10020"}]
[310,{"$f":"+IF(Data!$C$5>ROW('3CX'!B311)-ROW('3CX'!$B$292),\"\",\"#\")","v":"#"},{"$f":"+CONCATENATE(\"      username \",'Line Table'!E21,\" password \",'Line Table'!F21)","v":"      username 10021 password 10021"}]
[311,{"$f":"+IF(Data!$C$5>ROW('3CX'!B312)-ROW('3CX'!$B$292),\"\",\"#\")","v":"#"},{"$f":"+CONCATENATE(\"      username \",'Line Table'!E22,\" password \",'Line Table'!F22)","v":"      username 10022 password 10022"}]
[312,{"$f":"+IF(Data!$C$5>ROW('3CX'!B313)-ROW('3CX'!$B$292),\"\",\"#\")","v":"#"},{"$f":"+CONCATENATE(\"      username \",'Line Table'!E23,\" password \",'Line Table'!F23)","v":"      username 10023 password 10023"}]
[313,{"$f":"+IF(Data!$C$5>ROW('3CX'!B314)-ROW('3CX'!$B$292),\"\",\"#\")","v":"#"},{"$f":"+CONCATENATE(\"      username \",'Line Table'!E24,\" password \",'Line Table'!F24)","v":"      username 10024 password 10024"}]
[314,{"$f":"+IF(Data!$C$5>ROW('3CX'!B315)-ROW('3CX'!$B$292),\"\",\"#\")","v":"#"},{"$f":"+CONCATENATE(\"      username \",'Line Table'!E25,\" password \",'Line Table'!F25)","v":"      username 10025 password 10025"}]
[315,{"$f":"+IF(Data!$C$5>ROW('3CX'!B316)-ROW('3CX'!$B$292),\"\",\"#\")","v":"#"},{"$f":"+CONCATENATE(\"      username \",'Line Table'!E26,\" password \",'Line Table'!F26)","v":"      username 10026 password 10026"}]
[316,{"$f":"+IF(Data!$C$5>ROW('3CX'!B317)-ROW('3CX'!$B$292),\"\",\"#\")","v":"#"},{"$f":"+CONCATENATE(\"      username \",'Line Table'!E27,\" password \",'Line Table'!F27)","v":"      username 10027 password 10027"}]
[317,{"$f":"+IF(Data!$C$5>ROW('3CX'!B318)-ROW('3CX'!$B$292),\"\",\"#\")","v":"#"},{"$f":"+CONCATENATE(\"      username \",'Line Table'!E28,\" password \",'Line Table'!F28)","v":"      username 10028 password 10028"}]
[318,{"$f":"+IF(Data!$C$5>ROW('3CX'!B319)-ROW('3CX'!$B$292),\"\",\"#\")","v":"#"},{"$f":"+CONCATENATE(\"      username \",'Line Table'!E29,\" password \",'Line Table'!F29)","v":"      username 10029 password 10029"}]
[319,{"$f":"+IF(Data!$C$5>ROW('3CX'!B320)-ROW('3CX'!$B$292),\"\",\"#\")","v":"#"},{"$f":"+CONCATENATE(\"      username \",'Line Table'!E30,\" password \",'Line Table'!F30)","v":"      username 10030 password 10030"}]
[320,{"$f":"+IF(Data!$C$5>ROW('3CX'!B321)-ROW('3CX'!$B$292),\"\",\"#\")","v":"#"},{"$f":"+CONCATENATE(\"      username \",'Line Table'!E31,\" password \",'Line Table'!F31)","v":"      username 10031 password 10031"}]
[321,{"$f":"+IF(Data!$C$5>ROW('3CX'!B322)-ROW('3CX'!$B$292),\"\",\"#\")","v":"#"},{"$f":"+CONCATENATE(\"      username \",'Line Table'!E32,\" password \",'Line Table'!F32)","v":"      username 10032 password 10032"}]
[322,{"$f":"+IF(Data!$C$5>ROW('3CX'!B323)-ROW('3CX'!$B$292),\"\",\"#\")","v":"#"},{"$f":"+CONCATENATE(\"      username \",'Line Table'!E33,\" password \",'Line Table'!F33)","v":"      username 10033 password 10033"}]
[323]
[324,{"$f":"+IF(Data!$C$6>0,\" \",\"#\")","v":"#"},"location-service LS_ALL_EXTENSIONS"]
[325,{"$f":"+IF(Data!$C$6>0,\" \",\"#\")","v":"#"},{"$f":"+CONCATENATE(\"     domain 1 \",Data!C24,\" \",Data!C25)","v":"     domain 1 10.10.50.23 5060"}]
[326,{"$f":"+IF(Data!$C$6>0,\" \",\"#\")","v":"#"},"     identity-group default"]
[327,{"$f":"+IF(Data!$C$6>ROW('3CX'!B328)-ROW('3CX'!$B$328),\"\",\"#\")","v":"#"},{"$f":"+CONCATENATE(\"     identity \",'Extension Table'!A2,CHAR(13),CHAR(10),,\"          authentication outbound\",CHAR(13),CHAR(10),,\"              authenticate 1 authentication-service AS_ALL_EXTENSIONS username \",'Extension Table'!F2,CHAR(13),CHAR(10),\"          registration outbound\",CHAR(13),CHAR(10),\"             registrar \",Data!$C$24,\" \",Data!$C$25,CHAR(13),CHAR(10),\"             lifetime 300\",CHAR(13),CHAR(10),\"             register auto\",CHAR(13),CHAR(10),\"             retry-timeout on-system-error 10\",CHAR(13),CHAR(10),\"             retry-timeout on-client-error 10\",CHAR(13),CHAR(10),\"             retry-timeout on-server-error 10\")","v":"     identity 101\r\n          authentication outbound\r\n              authenticate 1 authentication-service AS_ALL_EXTENSIONS username 101\r\n          registration outbound\r\n             registrar 10.10.50.23 5060\r\n             lifetime 300\r\n             register auto\r\n             retry-timeout on-system-error 10\r\n             retry-timeout on-client-error 10\r\n             retry-timeout on-server-error 10"}]
[328,{"$f":"+IF(Data!$C$6>ROW('3CX'!B329)-ROW('3CX'!$B$328),\"\",\"#\")","v":"#"},{"$f":"+CONCATENATE(\"     identity \",'Extension Table'!A3,CHAR(13),CHAR(10),,\"          authentication outbound\",CHAR(13),CHAR(10),,\"              authenticate 1 authentication-service AS_ALL_EXTENSIONS username \",'Extension Table'!F3,CHAR(13),CHAR(10),\"          registration outbound\",CHAR(13),CHAR(10),\"             registrar \",Data!$C$24,\" \",Data!$C$25,CHAR(13),CHAR(10),\"             lifetime 300\",CHAR(13),CHAR(10),\"             register auto\",CHAR(13),CHAR(10),\"             retry-timeout on-system-error 10\",CHAR(13),CHAR(10),\"             retry-timeout on-client-error 10\",CHAR(13),CHAR(10),\"             retry-timeout on-server-error 10\")","v":"     identity 102\r\n          authentication outbound\r\n              authenticate 1 authentication-service AS_ALL_EXTENSIONS username 102\r\n          registration outbound\r\n             registrar 10.10.50.23 5060\r\n             lifetime 300\r\n             register auto\r\n             retry-timeout on-system-error 10\r\n             retry-timeout on-client-error 10\r\n             retry-timeout on-server-error 10"}]
[329,{"$f":"+IF(Data!$C$6>ROW('3CX'!B330)-ROW('3CX'!$B$328),\"\",\"#\")","v":"#"},{"$f":"+CONCATENATE(\"     identity \",'Extension Table'!A4,CHAR(13),CHAR(10),,\"          authentication outbound\",CHAR(13),CHAR(10),,\"              authenticate 1 authentication-service AS_ALL_EXTENSIONS username \",'Extension Table'!F4,CHAR(13),CHAR(10),\"          registration outbound\",CHAR(13),CHAR(10),\"             registrar \",Data!$C$24,\" \",Data!$C$25,CHAR(13),CHAR(10),\"             lifetime 300\",CHAR(13),CHAR(10),\"             register auto\",CHAR(13),CHAR(10),\"             retry-timeout on-system-error 10\",CHAR(13),CHAR(10),\"             retry-timeout on-client-error 10\",CHAR(13),CHAR(10),\"             retry-timeout on-server-error 10\")","v":"     identity 103\r\n          authentication outbound\r\n              authenticate 1 authentication-service AS_ALL_EXTENSIONS username 103\r\n          registration outbound\r\n             registrar 10.10.50.23 5060\r\n             lifetime 300\r\n             register auto\r\n             retry-timeout on-system-error 10\r\n             retry-timeout on-client-error 10\r\n             retry-timeout on-server-error 10"}]
[330,{"$f":"+IF(Data!$C$6>ROW('3CX'!B331)-ROW('3CX'!$B$328),\"\",\"#\")","v":"#"},{"$f":"+CONCATENATE(\"     identity \",'Extension Table'!A5,CHAR(13),CHAR(10),,\"          authentication outbound\",CHAR(13),CHAR(10),,\"              authenticate 1 authentication-service AS_ALL_EXTENSIONS username \",'Extension Table'!F5,CHAR(13),CHAR(10),\"          registration outbound\",CHAR(13),CHAR(10),\"             registrar \",Data!$C$24,\" \",Data!$C$25,CHAR(13),CHAR(10),\"             lifetime 300\",CHAR(13),CHAR(10),\"             register auto\",CHAR(13),CHAR(10),\"             retry-timeout on-system-error 10\",CHAR(13),CHAR(10),\"             retry-timeout on-client-error 10\",CHAR(13),CHAR(10),\"             retry-timeout on-server-error 10\")","v":"     identity 104\r\n          authentication outbound\r\n              authenticate 1 authentication-service AS_ALL_EXTENSIONS username 104\r\n          registration outbound\r\n             registrar 10.10.50.23 5060\r\n             lifetime 300\r\n             register auto\r\n             retry-timeout on-system-error 10\r\n             retry-timeout on-client-error 10\r\n             retry-timeout on-server-error 10"}]
[331,{"$f":"+IF(Data!$C$6>ROW('3CX'!B332)-ROW('3CX'!$B$328),\"\",\"#\")","v":"#"},{"$f":"+CONCATENATE(\"     identity \",'Extension Table'!A6,CHAR(13),CHAR(10),,\"          authentication outbound\",CHAR(13),CHAR(10),,\"              authenticate 1 authentication-service AS_ALL_EXTENSIONS username \",'Extension Table'!F6,CHAR(13),CHAR(10),\"          registration outbound\",CHAR(13),CHAR(10),\"             registrar \",Data!$C$24,\" \",Data!$C$25,CHAR(13),CHAR(10),\"             lifetime 300\",CHAR(13),CHAR(10),\"             register auto\",CHAR(13),CHAR(10),\"             retry-timeout on-system-error 10\",CHAR(13),CHAR(10),\"             retry-timeout on-client-error 10\",CHAR(13),CHAR(10),\"             retry-timeout on-server-error 10\")","v":"     identity 105\r\n          authentication outbound\r\n              authenticate 1 authentication-service AS_ALL_EXTENSIONS username 105\r\n          registration outbound\r\n             registrar 10.10.50.23 5060\r\n             lifetime 300\r\n             register auto\r\n             retry-timeout on-system-error 10\r\n             retry-timeout on-client-error 10\r\n             retry-timeout on-server-error 10"}]
[332,{"$f":"+IF(Data!$C$6>ROW('3CX'!B333)-ROW('3CX'!$B$328),\"\",\"#\")","v":"#"},{"$f":"+CONCATENATE(\"     identity \",'Extension Table'!A7,CHAR(13),CHAR(10),,\"          authentication outbound\",CHAR(13),CHAR(10),,\"              authenticate 1 authentication-service AS_ALL_EXTENSIONS username \",'Extension Table'!F7,CHAR(13),CHAR(10),\"          registration outbound\",CHAR(13),CHAR(10),\"             registrar \",Data!$C$24,\" \",Data!$C$25,CHAR(13),CHAR(10),\"             lifetime 300\",CHAR(13),CHAR(10),\"             register auto\",CHAR(13),CHAR(10),\"             retry-timeout on-system-error 10\",CHAR(13),CHAR(10),\"             retry-timeout on-client-error 10\",CHAR(13),CHAR(10),\"             retry-timeout on-server-error 10\")","v":"     identity 106\r\n          authentication outbound\r\n              authenticate 1 authentication-service AS_ALL_EXTENSIONS username 106\r\n          registration outbound\r\n             registrar 10.10.50.23 5060\r\n             lifetime 300\r\n             register auto\r\n             retry-timeout on-system-error 10\r\n             retry-timeout on-client-error 10\r\n             retry-timeout on-server-error 10"}]
[333,{"$f":"+IF(Data!$C$6>ROW('3CX'!B334)-ROW('3CX'!$B$328),\"\",\"#\")","v":"#"},{"$f":"+CONCATENATE(\"     identity \",'Extension Table'!A8,CHAR(13),CHAR(10),,\"          authentication outbound\",CHAR(13),CHAR(10),,\"              authenticate 1 authentication-service AS_ALL_EXTENSIONS username \",'Extension Table'!F8,CHAR(13),CHAR(10),\"          registration outbound\",CHAR(13),CHAR(10),\"             registrar \",Data!$C$24,\" \",Data!$C$25,CHAR(13),CHAR(10),\"             lifetime 300\",CHAR(13),CHAR(10),\"             register auto\",CHAR(13),CHAR(10),\"             retry-timeout on-system-error 10\",CHAR(13),CHAR(10),\"             retry-timeout on-client-error 10\",CHAR(13),CHAR(10),\"             retry-timeout on-server-error 10\")","v":"     identity 107\r\n          authentication outbound\r\n              authenticate 1 authentication-service AS_ALL_EXTENSIONS username 107\r\n          registration outbound\r\n             registrar 10.10.50.23 5060\r\n             lifetime 300\r\n             register auto\r\n             retry-timeout on-system-error 10\r\n             retry-timeout on-client-error 10\r\n             retry-timeout on-server-error 10"}]
[334,{"$f":"+IF(Data!$C$6>ROW('3CX'!B335)-ROW('3CX'!$B$328),\"\",\"#\")","v":"#"},{"$f":"+CONCATENATE(\"     identity \",'Extension Table'!A9,CHAR(13),CHAR(10),,\"          authentication outbound\",CHAR(13),CHAR(10),,\"              authenticate 1 authentication-service AS_ALL_EXTENSIONS username \",'Extension Table'!F9,CHAR(13),CHAR(10),\"          registration outbound\",CHAR(13),CHAR(10),\"             registrar \",Data!$C$24,\" \",Data!$C$25,CHAR(13),CHAR(10),\"             lifetime 300\",CHAR(13),CHAR(10),\"             register auto\",CHAR(13),CHAR(10),\"             retry-timeout on-system-error 10\",CHAR(13),CHAR(10),\"             retry-timeout on-client-error 10\",CHAR(13),CHAR(10),\"             retry-timeout on-server-error 10\")","v":"     identity 108\r\n          authentication outbound\r\n              authenticate 1 authentication-service AS_ALL_EXTENSIONS username 108\r\n          registration outbound\r\n             registrar 10.10.50.23 5060\r\n             lifetime 300\r\n             register auto\r\n             retry-timeout on-system-error 10\r\n             retry-timeout on-client-error 10\r\n             retry-timeout on-server-error 10"}]
[335,{"$f":"+IF(Data!$C$6>ROW('3CX'!B336)-ROW('3CX'!$B$328),\"\",\"#\")","v":"#"},{"$f":"+CONCATENATE(\"     identity \",'Extension Table'!A10,CHAR(13),CHAR(10),,\"          authentication outbound\",CHAR(13),CHAR(10),,\"              authenticate 1 authentication-service AS_ALL_EXTENSIONS username \",'Extension Table'!F10,CHAR(13),CHAR(10),\"          registration outbound\",CHAR(13),CHAR(10),\"             registrar \",Data!$C$24,\" \",Data!$C$25,CHAR(13),CHAR(10),\"             lifetime 300\",CHAR(13),CHAR(10),\"             register auto\",CHAR(13),CHAR(10),\"             retry-timeout on-system-error 10\",CHAR(13),CHAR(10),\"             retry-timeout on-client-error 10\",CHAR(13),CHAR(10),\"             retry-timeout on-server-error 10\")","v":"     identity 109\r\n          authentication outbound\r\n              authenticate 1 authentication-service AS_ALL_EXTENSIONS username 109\r\n          registration outbound\r\n             registrar 10.10.50.23 5060\r\n             lifetime 300\r\n             register auto\r\n             retry-timeout on-system-error 10\r\n             retry-timeout on-client-error 10\r\n             retry-timeout on-server-error 10"}]
[336,{"$f":"+IF(Data!$C$6>ROW('3CX'!B337)-ROW('3CX'!$B$328),\"\",\"#\")","v":"#"},{"$f":"+CONCATENATE(\"     identity \",'Extension Table'!A11,CHAR(13),CHAR(10),,\"          authentication outbound\",CHAR(13),CHAR(10),,\"              authenticate 1 authentication-service AS_ALL_EXTENSIONS username \",'Extension Table'!F11,CHAR(13),CHAR(10),\"          registration outbound\",CHAR(13),CHAR(10),\"             registrar \",Data!$C$24,\" \",Data!$C$25,CHAR(13),CHAR(10),\"             lifetime 300\",CHAR(13),CHAR(10),\"             register auto\",CHAR(13),CHAR(10),\"             retry-timeout on-system-error 10\",CHAR(13),CHAR(10),\"             retry-timeout on-client-error 10\",CHAR(13),CHAR(10),\"             retry-timeout on-server-error 10\")","v":"     identity 110\r\n          authentication outbound\r\n              authenticate 1 authentication-service AS_ALL_EXTENSIONS username 110\r\n          registration outbound\r\n             registrar 10.10.50.23 5060\r\n             lifetime 300\r\n             register auto\r\n             retry-timeout on-system-error 10\r\n             retry-timeout on-client-error 10\r\n             retry-timeout on-server-error 10"}]
[337,{"$f":"+IF(Data!$C$6>ROW('3CX'!B338)-ROW('3CX'!$B$328),\"\",\"#\")","v":"#"},{"$f":"+CONCATENATE(\"     identity \",'Extension Table'!A12,CHAR(13),CHAR(10),,\"          authentication outbound\",CHAR(13),CHAR(10),,\"              authenticate 1 authentication-service AS_ALL_EXTENSIONS username \",'Extension Table'!F12,CHAR(13),CHAR(10),\"          registration outbound\",CHAR(13),CHAR(10),\"             registrar \",Data!$C$24,\" \",Data!$C$25,CHAR(13),CHAR(10),\"             lifetime 300\",CHAR(13),CHAR(10),\"             register auto\",CHAR(13),CHAR(10),\"             retry-timeout on-system-error 10\",CHAR(13),CHAR(10),\"             retry-timeout on-client-error 10\",CHAR(13),CHAR(10),\"             retry-timeout on-server-error 10\")","v":"     identity 111\r\n          authentication outbound\r\n              authenticate 1 authentication-service AS_ALL_EXTENSIONS username 111\r\n          registration outbound\r\n             registrar 10.10.50.23 5060\r\n             lifetime 300\r\n             register auto\r\n             retry-timeout on-system-error 10\r\n             retry-timeout on-client-error 10\r\n             retry-timeout on-server-error 10"}]
[338,{"$f":"+IF(Data!$C$6>ROW('3CX'!B339)-ROW('3CX'!$B$328),\"\",\"#\")","v":"#"},{"$f":"+CONCATENATE(\"     identity \",'Extension Table'!A13,CHAR(13),CHAR(10),,\"          authentication outbound\",CHAR(13),CHAR(10),,\"              authenticate 1 authentication-service AS_ALL_EXTENSIONS username \",'Extension Table'!F13,CHAR(13),CHAR(10),\"          registration outbound\",CHAR(13),CHAR(10),\"             registrar \",Data!$C$24,\" \",Data!$C$25,CHAR(13),CHAR(10),\"             lifetime 300\",CHAR(13),CHAR(10),\"             register auto\",CHAR(13),CHAR(10),\"             retry-timeout on-system-error 10\",CHAR(13),CHAR(10),\"             retry-timeout on-client-error 10\",CHAR(13),CHAR(10),\"             retry-timeout on-server-error 10\")","v":"     identity 112\r\n          authentication outbound\r\n              authenticate 1 authentication-service AS_ALL_EXTENSIONS username 112\r\n          registration outbound\r\n             registrar 10.10.50.23 5060\r\n             lifetime 300\r\n             register auto\r\n             retry-timeout on-system-error 10\r\n             retry-timeout on-client-error 10\r\n             retry-timeout on-server-error 10"}]
[339,{"$f":"+IF(Data!$C$6>ROW('3CX'!B340)-ROW('3CX'!$B$328),\"\",\"#\")","v":"#"},{"$f":"+CONCATENATE(\"     identity \",'Extension Table'!A14,CHAR(13),CHAR(10),,\"          authentication outbound\",CHAR(13),CHAR(10),,\"              authenticate 1 authentication-service AS_ALL_EXTENSIONS username \",'Extension Table'!F14,CHAR(13),CHAR(10),\"          registration outbound\",CHAR(13),CHAR(10),\"             registrar \",Data!$C$24,\" \",Data!$C$25,CHAR(13),CHAR(10),\"             lifetime 300\",CHAR(13),CHAR(10),\"             register auto\",CHAR(13),CHAR(10),\"             retry-timeout on-system-error 10\",CHAR(13),CHAR(10),\"             retry-timeout on-client-error 10\",CHAR(13),CHAR(10),\"             retry-timeout on-server-error 10\")","v":"     identity 113\r\n          authentication outbound\r\n              authenticate 1 authentication-service AS_ALL_EXTENSIONS username 113\r\n          registration outbound\r\n             registrar 10.10.50.23 5060\r\n             lifetime 300\r\n             register auto\r\n             retry-timeout on-system-error 10\r\n             retry-timeout on-client-error 10\r\n             retry-timeout on-server-error 10"}]
[340,{"$f":"+IF(Data!$C$6>ROW('3CX'!B341)-ROW('3CX'!$B$328),\"\",\"#\")","v":"#"},{"$f":"+CONCATENATE(\"     identity \",'Extension Table'!A15,CHAR(13),CHAR(10),,\"          authentication outbound\",CHAR(13),CHAR(10),,\"              authenticate 1 authentication-service AS_ALL_EXTENSIONS username \",'Extension Table'!F15,CHAR(13),CHAR(10),\"          registration outbound\",CHAR(13),CHAR(10),\"             registrar \",Data!$C$24,\" \",Data!$C$25,CHAR(13),CHAR(10),\"             lifetime 300\",CHAR(13),CHAR(10),\"             register auto\",CHAR(13),CHAR(10),\"             retry-timeout on-system-error 10\",CHAR(13),CHAR(10),\"             retry-timeout on-client-error 10\",CHAR(13),CHAR(10),\"             retry-timeout on-server-error 10\")","v":"     identity 114\r\n          authentication outbound\r\n              authenticate 1 authentication-service AS_ALL_EXTENSIONS username 114\r\n          registration outbound\r\n             registrar 10.10.50.23 5060\r\n             lifetime 300\r\n             register auto\r\n             retry-timeout on-system-error 10\r\n             retry-timeout on-client-error 10\r\n             retry-timeout on-server-error 10"}]
[341,{"$f":"+IF(Data!$C$6>ROW('3CX'!B342)-ROW('3CX'!$B$328),\"\",\"#\")","v":"#"},{"$f":"+CONCATENATE(\"     identity \",'Extension Table'!A16,CHAR(13),CHAR(10),,\"          authentication outbound\",CHAR(13),CHAR(10),,\"              authenticate 1 authentication-service AS_ALL_EXTENSIONS username \",'Extension Table'!F16,CHAR(13),CHAR(10),\"          registration outbound\",CHAR(13),CHAR(10),\"             registrar \",Data!$C$24,\" \",Data!$C$25,CHAR(13),CHAR(10),\"             lifetime 300\",CHAR(13),CHAR(10),\"             register auto\",CHAR(13),CHAR(10),\"             retry-timeout on-system-error 10\",CHAR(13),CHAR(10),\"             retry-timeout on-client-error 10\",CHAR(13),CHAR(10),\"             retry-timeout on-server-error 10\")","v":"     identity 115\r\n          authentication outbound\r\n              authenticate 1 authentication-service AS_ALL_EXTENSIONS username 115\r\n          registration outbound\r\n             registrar 10.10.50.23 5060\r\n             lifetime 300\r\n             register auto\r\n             retry-timeout on-system-error 10\r\n             retry-timeout on-client-error 10\r\n             retry-timeout on-server-error 10"}]
[342,{"$f":"+IF(Data!$C$6>ROW('3CX'!B343)-ROW('3CX'!$B$328),\"\",\"#\")","v":"#"},{"$f":"+CONCATENATE(\"     identity \",'Extension Table'!A17,CHAR(13),CHAR(10),,\"          authentication outbound\",CHAR(13),CHAR(10),,\"              authenticate 1 authentication-service AS_ALL_EXTENSIONS username \",'Extension Table'!F17,CHAR(13),CHAR(10),\"          registration outbound\",CHAR(13),CHAR(10),\"             registrar \",Data!$C$24,\" \",Data!$C$25,CHAR(13),CHAR(10),\"             lifetime 300\",CHAR(13),CHAR(10),\"             register auto\",CHAR(13),CHAR(10),\"             retry-timeout on-system-error 10\",CHAR(13),CHAR(10),\"             retry-timeout on-client-error 10\",CHAR(13),CHAR(10),\"             retry-timeout on-server-error 10\")","v":"     identity 116\r\n          authentication outbound\r\n              authenticate 1 authentication-service AS_ALL_EXTENSIONS username 116\r\n          registration outbound\r\n             registrar 10.10.50.23 5060\r\n             lifetime 300\r\n             register auto\r\n             retry-timeout on-system-error 10\r\n             retry-timeout on-client-error 10\r\n             retry-timeout on-server-error 10"}]
[343,{"$f":"+IF(Data!$C$6>ROW('3CX'!B344)-ROW('3CX'!$B$328),\"\",\"#\")","v":"#"},{"$f":"+CONCATENATE(\"     identity \",'Extension Table'!A18,CHAR(13),CHAR(10),,\"          authentication outbound\",CHAR(13),CHAR(10),,\"              authenticate 1 authentication-service AS_ALL_EXTENSIONS username \",'Extension Table'!F18,CHAR(13),CHAR(10),\"          registration outbound\",CHAR(13),CHAR(10),\"             registrar \",Data!$C$24,\" \",Data!$C$25,CHAR(13),CHAR(10),\"             lifetime 300\",CHAR(13),CHAR(10),\"             register auto\",CHAR(13),CHAR(10),\"             retry-timeout on-system-error 10\",CHAR(13),CHAR(10),\"             retry-timeout on-client-error 10\",CHAR(13),CHAR(10),\"             retry-timeout on-server-error 10\")","v":"     identity 117\r\n          authentication outbound\r\n              authenticate 1 authentication-service AS_ALL_EXTENSIONS username 117\r\n          registration outbound\r\n             registrar 10.10.50.23 5060\r\n             lifetime 300\r\n             register auto\r\n             retry-timeout on-system-error 10\r\n             retry-timeout on-client-error 10\r\n             retry-timeout on-server-error 10"}]
[344,{"$f":"+IF(Data!$C$6>ROW('3CX'!B345)-ROW('3CX'!$B$328),\"\",\"#\")","v":"#"},{"$f":"+CONCATENATE(\"     identity \",'Extension Table'!A19,CHAR(13),CHAR(10),,\"          authentication outbound\",CHAR(13),CHAR(10),,\"              authenticate 1 authentication-service AS_ALL_EXTENSIONS username \",'Extension Table'!F19,CHAR(13),CHAR(10),\"          registration outbound\",CHAR(13),CHAR(10),\"             registrar \",Data!$C$24,\" \",Data!$C$25,CHAR(13),CHAR(10),\"             lifetime 300\",CHAR(13),CHAR(10),\"             register auto\",CHAR(13),CHAR(10),\"             retry-timeout on-system-error 10\",CHAR(13),CHAR(10),\"             retry-timeout on-client-error 10\",CHAR(13),CHAR(10),\"             retry-timeout on-server-error 10\")","v":"     identity 118\r\n          authentication outbound\r\n              authenticate 1 authentication-service AS_ALL_EXTENSIONS username 118\r\n          registration outbound\r\n             registrar 10.10.50.23 5060\r\n             lifetime 300\r\n             register auto\r\n             retry-timeout on-system-error 10\r\n             retry-timeout on-client-error 10\r\n             retry-timeout on-server-error 10"}]
[345,{"$f":"+IF(Data!$C$6>ROW('3CX'!B346)-ROW('3CX'!$B$328),\"\",\"#\")","v":"#"},{"$f":"+CONCATENATE(\"     identity \",'Extension Table'!A20,CHAR(13),CHAR(10),,\"          authentication outbound\",CHAR(13),CHAR(10),,\"              authenticate 1 authentication-service AS_ALL_EXTENSIONS username \",'Extension Table'!F20,CHAR(13),CHAR(10),\"          registration outbound\",CHAR(13),CHAR(10),\"             registrar \",Data!$C$24,\" \",Data!$C$25,CHAR(13),CHAR(10),\"             lifetime 300\",CHAR(13),CHAR(10),\"             register auto\",CHAR(13),CHAR(10),\"             retry-timeout on-system-error 10\",CHAR(13),CHAR(10),\"             retry-timeout on-client-error 10\",CHAR(13),CHAR(10),\"             retry-timeout on-server-error 10\")","v":"     identity 119\r\n          authentication outbound\r\n              authenticate 1 authentication-service AS_ALL_EXTENSIONS username 119\r\n          registration outbound\r\n             registrar 10.10.50.23 5060\r\n             lifetime 300\r\n             register auto\r\n             retry-timeout on-system-error 10\r\n             retry-timeout on-client-error 10\r\n             retry-timeout on-server-error 10"}]
[346,{"$f":"+IF(Data!$C$6>ROW('3CX'!B347)-ROW('3CX'!$B$328),\"\",\"#\")","v":"#"},{"$f":"+CONCATENATE(\"     identity \",'Extension Table'!A21,CHAR(13),CHAR(10),,\"          authentication outbound\",CHAR(13),CHAR(10),,\"              authenticate 1 authentication-service AS_ALL_EXTENSIONS username \",'Extension Table'!F21,CHAR(13),CHAR(10),\"          registration outbound\",CHAR(13),CHAR(10),\"             registrar \",Data!$C$24,\" \",Data!$C$25,CHAR(13),CHAR(10),\"             lifetime 300\",CHAR(13),CHAR(10),\"             register auto\",CHAR(13),CHAR(10),\"             retry-timeout on-system-error 10\",CHAR(13),CHAR(10),\"             retry-timeout on-client-error 10\",CHAR(13),CHAR(10),\"             retry-timeout on-server-error 10\")","v":"     identity 120\r\n          authentication outbound\r\n              authenticate 1 authentication-service AS_ALL_EXTENSIONS username 120\r\n          registration outbound\r\n             registrar 10.10.50.23 5060\r\n             lifetime 300\r\n             register auto\r\n             retry-timeout on-system-error 10\r\n             retry-timeout on-client-error 10\r\n             retry-timeout on-server-error 10"}]
[347,{"$f":"+IF(Data!$C$6>ROW('3CX'!B348)-ROW('3CX'!$B$328),\"\",\"#\")","v":"#"},{"$f":"+CONCATENATE(\"     identity \",'Extension Table'!A22,CHAR(13),CHAR(10),,\"          authentication outbound\",CHAR(13),CHAR(10),,\"              authenticate 1 authentication-service AS_ALL_EXTENSIONS username \",'Extension Table'!F22,CHAR(13),CHAR(10),\"          registration outbound\",CHAR(13),CHAR(10),\"             registrar \",Data!$C$24,\" \",Data!$C$25,CHAR(13),CHAR(10),\"             lifetime 300\",CHAR(13),CHAR(10),\"             register auto\",CHAR(13),CHAR(10),\"             retry-timeout on-system-error 10\",CHAR(13),CHAR(10),\"             retry-timeout on-client-error 10\",CHAR(13),CHAR(10),\"             retry-timeout on-server-error 10\")","v":"     identity 121\r\n          authentication outbound\r\n              authenticate 1 authentication-service AS_ALL_EXTENSIONS username 121\r\n          registration outbound\r\n             registrar 10.10.50.23 5060\r\n             lifetime 300\r\n             register auto\r\n             retry-timeout on-system-error 10\r\n             retry-timeout on-client-error 10\r\n             retry-timeout on-server-error 10"}]
[348,{"$f":"+IF(Data!$C$6>ROW('3CX'!B349)-ROW('3CX'!$B$328),\"\",\"#\")","v":"#"},{"$f":"+CONCATENATE(\"     identity \",'Extension Table'!A23,CHAR(13),CHAR(10),,\"          authentication outbound\",CHAR(13),CHAR(10),,\"              authenticate 1 authentication-service AS_ALL_EXTENSIONS username \",'Extension Table'!F23,CHAR(13),CHAR(10),\"          registration outbound\",CHAR(13),CHAR(10),\"             registrar \",Data!$C$24,\" \",Data!$C$25,CHAR(13),CHAR(10),\"             lifetime 300\",CHAR(13),CHAR(10),\"             register auto\",CHAR(13),CHAR(10),\"             retry-timeout on-system-error 10\",CHAR(13),CHAR(10),\"             retry-timeout on-client-error 10\",CHAR(13),CHAR(10),\"             retry-timeout on-server-error 10\")","v":"     identity 122\r\n          authentication outbound\r\n              authenticate 1 authentication-service AS_ALL_EXTENSIONS username 122\r\n          registration outbound\r\n             registrar 10.10.50.23 5060\r\n             lifetime 300\r\n             register auto\r\n             retry-timeout on-system-error 10\r\n             retry-timeout on-client-error 10\r\n             retry-timeout on-server-error 10"}]
[349,{"$f":"+IF(Data!$C$6>ROW('3CX'!B350)-ROW('3CX'!$B$328),\"\",\"#\")","v":"#"},{"$f":"+CONCATENATE(\"     identity \",'Extension Table'!A24,CHAR(13),CHAR(10),,\"          authentication outbound\",CHAR(13),CHAR(10),,\"              authenticate 1 authentication-service AS_ALL_EXTENSIONS username \",'Extension Table'!F24,CHAR(13),CHAR(10),\"          registration outbound\",CHAR(13),CHAR(10),\"             registrar \",Data!$C$24,\" \",Data!$C$25,CHAR(13),CHAR(10),\"             lifetime 300\",CHAR(13),CHAR(10),\"             register auto\",CHAR(13),CHAR(10),\"             retry-timeout on-system-error 10\",CHAR(13),CHAR(10),\"             retry-timeout on-client-error 10\",CHAR(13),CHAR(10),\"             retry-timeout on-server-error 10\")","v":"     identity 123\r\n          authentication outbound\r\n              authenticate 1 authentication-service AS_ALL_EXTENSIONS username 123\r\n          registration outbound\r\n             registrar 10.10.50.23 5060\r\n             lifetime 300\r\n             register auto\r\n             retry-timeout on-system-error 10\r\n             retry-timeout on-client-error 10\r\n             retry-timeout on-server-error 10"}]
[350,{"$f":"+IF(Data!$C$6>ROW('3CX'!B351)-ROW('3CX'!$B$328),\"\",\"#\")","v":"#"},{"$f":"+CONCATENATE(\"     identity \",'Extension Table'!A25,CHAR(13),CHAR(10),,\"          authentication outbound\",CHAR(13),CHAR(10),,\"              authenticate 1 authentication-service AS_ALL_EXTENSIONS username \",'Extension Table'!F25,CHAR(13),CHAR(10),\"          registration outbound\",CHAR(13),CHAR(10),\"             registrar \",Data!$C$24,\" \",Data!$C$25,CHAR(13),CHAR(10),\"             lifetime 300\",CHAR(13),CHAR(10),\"             register auto\",CHAR(13),CHAR(10),\"             retry-timeout on-system-error 10\",CHAR(13),CHAR(10),\"             retry-timeout on-client-error 10\",CHAR(13),CHAR(10),\"             retry-timeout on-server-error 10\")","v":"     identity 124\r\n          authentication outbound\r\n              authenticate 1 authentication-service AS_ALL_EXTENSIONS username 124\r\n          registration outbound\r\n             registrar 10.10.50.23 5060\r\n             lifetime 300\r\n             register auto\r\n             retry-timeout on-system-error 10\r\n             retry-timeout on-client-error 10\r\n             retry-timeout on-server-error 10"}]
[351,{"$f":"+IF(Data!$C$6>ROW('3CX'!B352)-ROW('3CX'!$B$328),\"\",\"#\")","v":"#"},{"$f":"+CONCATENATE(\"     identity \",'Extension Table'!A26,CHAR(13),CHAR(10),,\"          authentication outbound\",CHAR(13),CHAR(10),,\"              authenticate 1 authentication-service AS_ALL_EXTENSIONS username \",'Extension Table'!F26,CHAR(13),CHAR(10),\"          registration outbound\",CHAR(13),CHAR(10),\"             registrar \",Data!$C$24,\" \",Data!$C$25,CHAR(13),CHAR(10),\"             lifetime 300\",CHAR(13),CHAR(10),\"             register auto\",CHAR(13),CHAR(10),\"             retry-timeout on-system-error 10\",CHAR(13),CHAR(10),\"             retry-timeout on-client-error 10\",CHAR(13),CHAR(10),\"             retry-timeout on-server-error 10\")","v":"     identity 125\r\n          authentication outbound\r\n              authenticate 1 authentication-service AS_ALL_EXTENSIONS username 125\r\n          registration outbound\r\n             registrar 10.10.50.23 5060\r\n             lifetime 300\r\n             register auto\r\n             retry-timeout on-system-error 10\r\n             retry-timeout on-client-error 10\r\n             retry-timeout on-server-error 10"}]
[352,{"$f":"+IF(Data!$C$6>ROW('3CX'!B353)-ROW('3CX'!$B$328),\"\",\"#\")","v":"#"},{"$f":"+CONCATENATE(\"     identity \",'Extension Table'!A27,CHAR(13),CHAR(10),,\"          authentication outbound\",CHAR(13),CHAR(10),,\"              authenticate 1 authentication-service AS_ALL_EXTENSIONS username \",'Extension Table'!F27,CHAR(13),CHAR(10),\"          registration outbound\",CHAR(13),CHAR(10),\"             registrar \",Data!$C$24,\" \",Data!$C$25,CHAR(13),CHAR(10),\"             lifetime 300\",CHAR(13),CHAR(10),\"             register auto\",CHAR(13),CHAR(10),\"             retry-timeout on-system-error 10\",CHAR(13),CHAR(10),\"             retry-timeout on-client-error 10\",CHAR(13),CHAR(10),\"             retry-timeout on-server-error 10\")","v":"     identity 126\r\n          authentication outbound\r\n              authenticate 1 authentication-service AS_ALL_EXTENSIONS username 126\r\n          registration outbound\r\n             registrar 10.10.50.23 5060\r\n             lifetime 300\r\n             register auto\r\n             retry-timeout on-system-error 10\r\n             retry-timeout on-client-error 10\r\n             retry-timeout on-server-error 10"}]
[353,{"$f":"+IF(Data!$C$6>ROW('3CX'!B354)-ROW('3CX'!$B$328),\"\",\"#\")","v":"#"},{"$f":"+CONCATENATE(\"     identity \",'Extension Table'!A28,CHAR(13),CHAR(10),,\"          authentication outbound\",CHAR(13),CHAR(10),,\"              authenticate 1 authentication-service AS_ALL_EXTENSIONS username \",'Extension Table'!F28,CHAR(13),CHAR(10),\"          registration outbound\",CHAR(13),CHAR(10),\"             registrar \",Data!$C$24,\" \",Data!$C$25,CHAR(13),CHAR(10),\"             lifetime 300\",CHAR(13),CHAR(10),\"             register auto\",CHAR(13),CHAR(10),\"             retry-timeout on-system-error 10\",CHAR(13),CHAR(10),\"             retry-timeout on-client-error 10\",CHAR(13),CHAR(10),\"             retry-timeout on-server-error 10\")","v":"     identity 127\r\n          authentication outbound\r\n              authenticate 1 authentication-service AS_ALL_EXTENSIONS username 127\r\n          registration outbound\r\n             registrar 10.10.50.23 5060\r\n             lifetime 300\r\n             register auto\r\n             retry-timeout on-system-error 10\r\n             retry-timeout on-client-error 10\r\n             retry-timeout on-server-error 10"}]
[354,{"$f":"+IF(Data!$C$6>ROW('3CX'!B355)-ROW('3CX'!$B$328),\"\",\"#\")","v":"#"},{"$f":"+CONCATENATE(\"     identity \",'Extension Table'!A29,CHAR(13),CHAR(10),,\"          authentication outbound\",CHAR(13),CHAR(10),,\"              authenticate 1 authentication-service AS_ALL_EXTENSIONS username \",'Extension Table'!F29,CHAR(13),CHAR(10),\"          registration outbound\",CHAR(13),CHAR(10),\"             registrar \",Data!$C$24,\" \",Data!$C$25,CHAR(13),CHAR(10),\"             lifetime 300\",CHAR(13),CHAR(10),\"             register auto\",CHAR(13),CHAR(10),\"             retry-timeout on-system-error 10\",CHAR(13),CHAR(10),\"             retry-timeout on-client-error 10\",CHAR(13),CHAR(10),\"             retry-timeout on-server-error 10\")","v":"     identity 128\r\n          authentication outbound\r\n              authenticate 1 authentication-service AS_ALL_EXTENSIONS username 128\r\n          registration outbound\r\n             registrar 10.10.50.23 5060\r\n             lifetime 300\r\n             register auto\r\n             retry-timeout on-system-error 10\r\n             retry-timeout on-client-error 10\r\n             retry-timeout on-server-error 10"}]
[355,{"$f":"+IF(Data!$C$6>ROW('3CX'!B356)-ROW('3CX'!$B$328),\"\",\"#\")","v":"#"},{"$f":"+CONCATENATE(\"     identity \",'Extension Table'!A30,CHAR(13),CHAR(10),,\"          authentication outbound\",CHAR(13),CHAR(10),,\"              authenticate 1 authentication-service AS_ALL_EXTENSIONS username \",'Extension Table'!F30,CHAR(13),CHAR(10),\"          registration outbound\",CHAR(13),CHAR(10),\"             registrar \",Data!$C$24,\" \",Data!$C$25,CHAR(13),CHAR(10),\"             lifetime 300\",CHAR(13),CHAR(10),\"             register auto\",CHAR(13),CHAR(10),\"             retry-timeout on-system-error 10\",CHAR(13),CHAR(10),\"             retry-timeout on-client-error 10\",CHAR(13),CHAR(10),\"             retry-timeout on-server-error 10\")","v":"     identity 129\r\n          authentication outbound\r\n              authenticate 1 authentication-service AS_ALL_EXTENSIONS username 129\r\n          registration outbound\r\n             registrar 10.10.50.23 5060\r\n             lifetime 300\r\n             register auto\r\n             retry-timeout on-system-error 10\r\n             retry-timeout on-client-error 10\r\n             retry-timeout on-server-error 10"}]
[356,{"$f":"+IF(Data!$C$6>ROW('3CX'!B357)-ROW('3CX'!$B$328),\"\",\"#\")","v":"#"},{"$f":"+CONCATENATE(\"     identity \",'Extension Table'!A31,CHAR(13),CHAR(10),,\"          authentication outbound\",CHAR(13),CHAR(10),,\"              authenticate 1 authentication-service AS_ALL_EXTENSIONS username \",'Extension Table'!F31,CHAR(13),CHAR(10),\"          registration outbound\",CHAR(13),CHAR(10),\"             registrar \",Data!$C$24,\" \",Data!$C$25,CHAR(13),CHAR(10),\"             lifetime 300\",CHAR(13),CHAR(10),\"             register auto\",CHAR(13),CHAR(10),\"             retry-timeout on-system-error 10\",CHAR(13),CHAR(10),\"             retry-timeout on-client-error 10\",CHAR(13),CHAR(10),\"             retry-timeout on-server-error 10\")","v":"     identity 130\r\n          authentication outbound\r\n              authenticate 1 authentication-service AS_ALL_EXTENSIONS username 130\r\n          registration outbound\r\n             registrar 10.10.50.23 5060\r\n             lifetime 300\r\n             register auto\r\n             retry-timeout on-system-error 10\r\n             retry-timeout on-client-error 10\r\n             retry-timeout on-server-error 10"}]
[357,{"$f":"+IF(Data!$C$6>ROW('3CX'!B358)-ROW('3CX'!$B$328),\"\",\"#\")","v":"#"},{"$f":"+CONCATENATE(\"     identity \",'Extension Table'!A32,CHAR(13),CHAR(10),,\"          authentication outbound\",CHAR(13),CHAR(10),,\"              authenticate 1 authentication-service AS_ALL_EXTENSIONS username \",'Extension Table'!F32,CHAR(13),CHAR(10),\"          registration outbound\",CHAR(13),CHAR(10),\"             registrar \",Data!$C$24,\" \",Data!$C$25,CHAR(13),CHAR(10),\"             lifetime 300\",CHAR(13),CHAR(10),\"             register auto\",CHAR(13),CHAR(10),\"             retry-timeout on-system-error 10\",CHAR(13),CHAR(10),\"             retry-timeout on-client-error 10\",CHAR(13),CHAR(10),\"             retry-timeout on-server-error 10\")","v":"     identity 131\r\n          authentication outbound\r\n              authenticate 1 authentication-service AS_ALL_EXTENSIONS username 131\r\n          registration outbound\r\n             registrar 10.10.50.23 5060\r\n             lifetime 300\r\n             register auto\r\n             retry-timeout on-system-error 10\r\n             retry-timeout on-client-error 10\r\n             retry-timeout on-server-error 10"}]
[358,{"$f":"+IF(Data!$C$6>ROW('3CX'!B359)-ROW('3CX'!$B$328),\"\",\"#\")","v":"#"},{"$f":"+CONCATENATE(\"     identity \",'Extension Table'!A33,CHAR(13),CHAR(10),,\"          authentication outbound\",CHAR(13),CHAR(10),,\"              authenticate 1 authentication-service AS_ALL_EXTENSIONS username \",'Extension Table'!F33,CHAR(13),CHAR(10),\"          registration outbound\",CHAR(13),CHAR(10),\"             registrar \",Data!$C$24,\" \",Data!$C$25,CHAR(13),CHAR(10),\"             lifetime 300\",CHAR(13),CHAR(10),\"             register auto\",CHAR(13),CHAR(10),\"             retry-timeout on-system-error 10\",CHAR(13),CHAR(10),\"             retry-timeout on-client-error 10\",CHAR(13),CHAR(10),\"             retry-timeout on-server-error 10\")","v":"     identity 132\r\n          authentication outbound\r\n              authenticate 1 authentication-service AS_ALL_EXTENSIONS username 132\r\n          registration outbound\r\n             registrar 10.10.50.23 5060\r\n             lifetime 300\r\n             register auto\r\n             retry-timeout on-system-error 10\r\n             retry-timeout on-client-error 10\r\n             retry-timeout on-server-error 10"}]
[359]
[360,{"$f":"+IF(Data!$C$5>ROW('3CX'!B361)-ROW('3CX'!$B$361),\"\",\"#\")","v":""},{"$f":"+CONCATENATE(\"location-service LS_\",'Line Table'!A2,CHAR(13),CHAR(10),\"     domain 1 \",Data!$C$24,\" \",Data!$C$25,CHAR(13),CHAR(10),\"        identity-group default\",CHAR(13),CHAR(10),\"        authentication outbound\",CHAR(13),CHAR(10),\"        authenticate 1 authentication-service AS_ALL_LINES username \",'Line Table'!E2,CHAR(13),CHAR(10),\"     identity \",'Line Table'!B2,CHAR(13),CHAR(10),\"        authentication outbound\",CHAR(13),CHAR(10),\"         authenticate 1 authentication-service AS_ALL_LINES username \",'Line Table'!E2,CHAR(13),CHAR(10),\"        registration outbound\",CHAR(13),CHAR(10),\"        registrar \",Data!$C$24,\" \",Data!$C$25,CHAR(13),CHAR(10),\"        lifetime 300\",CHAR(13),CHAR(10),\"         register auto\")","v":"location-service LS_1\r\n     domain 1 10.10.50.23 5060\r\n        identity-group default\r\n        authentication outbound\r\n        authenticate 1 authentication-service AS_ALL_LINES username 10002\r\n     identity 10002\r\n        authentication outbound\r\n         authenticate 1 authentication-service AS_ALL_LINES username 10002\r\n        registration outbound\r\n        registrar 10.10.50.23 5060\r\n        lifetime 300\r\n         register auto"}]
[361,{"$f":"+IF(Data!$C$5>ROW('3CX'!B362)-ROW('3CX'!$B$361),\"\",\"#\")","v":""},{"$f":"+CONCATENATE(\"location-service LS_\",'Line Table'!A3,CHAR(13),CHAR(10),\"     domain 1 \",Data!$C$24,\" \",Data!$C$25,CHAR(13),CHAR(10),\"        identity-group default\",CHAR(13),CHAR(10),\"        authentication outbound\",CHAR(13),CHAR(10),\"        authenticate 1 authentication-service AS_ALL_LINES username \",'Line Table'!E3,CHAR(13),CHAR(10),\"     identity \",'Line Table'!B3,CHAR(13),CHAR(10),\"        authentication outbound\",CHAR(13),CHAR(10),\"         authenticate 1 authentication-service AS_ALL_LINES username \",'Line Table'!E3,CHAR(13),CHAR(10),\"        registration outbound\",CHAR(13),CHAR(10),\"        registrar \",Data!$C$24,\" \",Data!$C$25,CHAR(13),CHAR(10),\"        lifetime 300\",CHAR(13),CHAR(10),\"         register auto\")","v":"location-service LS_2\r\n     domain 1 10.10.50.23 5060\r\n        identity-group default\r\n        authentication outbound\r\n        authenticate 1 authentication-service AS_ALL_LINES username 10003\r\n     identity 10003\r\n        authentication outbound\r\n         authenticate 1 authentication-service AS_ALL_LINES username 10003\r\n        registration outbound\r\n        registrar 10.10.50.23 5060\r\n        lifetime 300\r\n         register auto"}]
[362,{"$f":"+IF(Data!$C$5>ROW('3CX'!B363)-ROW('3CX'!$B$361),\"\",\"#\")","v":""},{"$f":"+CONCATENATE(\"location-service LS_\",'Line Table'!A4,CHAR(13),CHAR(10),\"     domain 1 \",Data!$C$24,\" \",Data!$C$25,CHAR(13),CHAR(10),\"        identity-group default\",CHAR(13),CHAR(10),\"        authentication outbound\",CHAR(13),CHAR(10),\"        authenticate 1 authentication-service AS_ALL_LINES username \",'Line Table'!E4,CHAR(13),CHAR(10),\"     identity \",'Line Table'!B4,CHAR(13),CHAR(10),\"        authentication outbound\",CHAR(13),CHAR(10),\"         authenticate 1 authentication-service AS_ALL_LINES username \",'Line Table'!E4,CHAR(13),CHAR(10),\"        registration outbound\",CHAR(13),CHAR(10),\"        registrar \",Data!$C$24,\" \",Data!$C$25,CHAR(13),CHAR(10),\"        lifetime 300\",CHAR(13),CHAR(10),\"         register auto\")","v":"location-service LS_3\r\n     domain 1 10.10.50.23 5060\r\n        identity-group default\r\n        authentication outbound\r\n        authenticate 1 authentication-service AS_ALL_LINES username 10004\r\n     identity 10004\r\n        authentication outbound\r\n         authenticate 1 authentication-service AS_ALL_LINES username 10004\r\n        registration outbound\r\n        registrar 10.10.50.23 5060\r\n        lifetime 300\r\n         register auto"}]
[363,{"$f":"+IF(Data!$C$5>ROW('3CX'!B364)-ROW('3CX'!$B$361),\"\",\"#\")","v":""},{"$f":"+CONCATENATE(\"location-service LS_\",'Line Table'!A5,CHAR(13),CHAR(10),\"     domain 1 \",Data!$C$24,\" \",Data!$C$25,CHAR(13),CHAR(10),\"        identity-group default\",CHAR(13),CHAR(10),\"        authentication outbound\",CHAR(13),CHAR(10),\"        authenticate 1 authentication-service AS_ALL_LINES username \",'Line Table'!E5,CHAR(13),CHAR(10),\"     identity \",'Line Table'!B5,CHAR(13),CHAR(10),\"        authentication outbound\",CHAR(13),CHAR(10),\"         authenticate 1 authentication-service AS_ALL_LINES username \",'Line Table'!E5,CHAR(13),CHAR(10),\"        registration outbound\",CHAR(13),CHAR(10),\"        registrar \",Data!$C$24,\" \",Data!$C$25,CHAR(13),CHAR(10),\"        lifetime 300\",CHAR(13),CHAR(10),\"         register auto\")","v":"location-service LS_4\r\n     domain 1 10.10.50.23 5060\r\n        identity-group default\r\n        authentication outbound\r\n        authenticate 1 authentication-service AS_ALL_LINES username 10005\r\n     identity 10005\r\n        authentication outbound\r\n         authenticate 1 authentication-service AS_ALL_LINES username 10005\r\n        registration outbound\r\n        registrar 10.10.50.23 5060\r\n        lifetime 300\r\n         register auto"}]
[364,{"$f":"+IF(Data!$C$5>ROW('3CX'!B365)-ROW('3CX'!$B$361),\"\",\"#\")","v":""},{"$f":"+CONCATENATE(\"location-service LS_\",'Line Table'!A6,CHAR(13),CHAR(10),\"     domain 1 \",Data!$C$24,\" \",Data!$C$25,CHAR(13),CHAR(10),\"        identity-group default\",CHAR(13),CHAR(10),\"        authentication outbound\",CHAR(13),CHAR(10),\"        authenticate 1 authentication-service AS_ALL_LINES username \",'Line Table'!E6,CHAR(13),CHAR(10),\"     identity \",'Line Table'!B6,CHAR(13),CHAR(10),\"        authentication outbound\",CHAR(13),CHAR(10),\"         authenticate 1 authentication-service AS_ALL_LINES username \",'Line Table'!E6,CHAR(13),CHAR(10),\"        registration outbound\",CHAR(13),CHAR(10),\"        registrar \",Data!$C$24,\" \",Data!$C$25,CHAR(13),CHAR(10),\"        lifetime 300\",CHAR(13),CHAR(10),\"         register auto\")","v":"location-service LS_5\r\n     domain 1 10.10.50.23 5060\r\n        identity-group default\r\n        authentication outbound\r\n        authenticate 1 authentication-service AS_ALL_LINES username 10006\r\n     identity 10006\r\n        authentication outbound\r\n         authenticate 1 authentication-service AS_ALL_LINES username 10006\r\n        registration outbound\r\n        registrar 10.10.50.23 5060\r\n        lifetime 300\r\n         register auto"}]
[365,{"$f":"+IF(Data!$C$5>ROW('3CX'!B366)-ROW('3CX'!$B$361),\"\",\"#\")","v":""},{"$f":"+CONCATENATE(\"location-service LS_\",'Line Table'!A7,CHAR(13),CHAR(10),\"     domain 1 \",Data!$C$24,\" \",Data!$C$25,CHAR(13),CHAR(10),\"        identity-group default\",CHAR(13),CHAR(10),\"        authentication outbound\",CHAR(13),CHAR(10),\"        authenticate 1 authentication-service AS_ALL_LINES username \",'Line Table'!E7,CHAR(13),CHAR(10),\"     identity \",'Line Table'!B7,CHAR(13),CHAR(10),\"        authentication outbound\",CHAR(13),CHAR(10),\"         authenticate 1 authentication-service AS_ALL_LINES username \",'Line Table'!E7,CHAR(13),CHAR(10),\"        registration outbound\",CHAR(13),CHAR(10),\"        registrar \",Data!$C$24,\" \",Data!$C$25,CHAR(13),CHAR(10),\"        lifetime 300\",CHAR(13),CHAR(10),\"         register auto\")","v":"location-service LS_6\r\n     domain 1 10.10.50.23 5060\r\n        identity-group default\r\n        authentication outbound\r\n        authenticate 1 authentication-service AS_ALL_LINES username 10007\r\n     identity 10007\r\n        authentication outbound\r\n         authenticate 1 authentication-service AS_ALL_LINES username 10007\r\n        registration outbound\r\n        registrar 10.10.50.23 5060\r\n        lifetime 300\r\n         register auto"}]
[366,{"$f":"+IF(Data!$C$5>ROW('3CX'!B367)-ROW('3CX'!$B$361),\"\",\"#\")","v":""},{"$f":"+CONCATENATE(\"location-service LS_\",'Line Table'!A8,CHAR(13),CHAR(10),\"     domain 1 \",Data!$C$24,\" \",Data!$C$25,CHAR(13),CHAR(10),\"        identity-group default\",CHAR(13),CHAR(10),\"        authentication outbound\",CHAR(13),CHAR(10),\"        authenticate 1 authentication-service AS_ALL_LINES username \",'Line Table'!E8,CHAR(13),CHAR(10),\"     identity \",'Line Table'!B8,CHAR(13),CHAR(10),\"        authentication outbound\",CHAR(13),CHAR(10),\"         authenticate 1 authentication-service AS_ALL_LINES username \",'Line Table'!E8,CHAR(13),CHAR(10),\"        registration outbound\",CHAR(13),CHAR(10),\"        registrar \",Data!$C$24,\" \",Data!$C$25,CHAR(13),CHAR(10),\"        lifetime 300\",CHAR(13),CHAR(10),\"         register auto\")","v":"location-service LS_7\r\n     domain 1 10.10.50.23 5060\r\n        identity-group default\r\n        authentication outbound\r\n        authenticate 1 authentication-service AS_ALL_LINES username 10008\r\n     identity 10008\r\n        authentication outbound\r\n         authenticate 1 authentication-service AS_ALL_LINES username 10008\r\n        registration outbound\r\n        registrar 10.10.50.23 5060\r\n        lifetime 300\r\n         register auto"}]
[367,{"$f":"+IF(Data!$C$5>ROW('3CX'!B368)-ROW('3CX'!$B$361),\"\",\"#\")","v":""},{"$f":"+CONCATENATE(\"location-service LS_\",'Line Table'!A9,CHAR(13),CHAR(10),\"     domain 1 \",Data!$C$24,\" \",Data!$C$25,CHAR(13),CHAR(10),\"        identity-group default\",CHAR(13),CHAR(10),\"        authentication outbound\",CHAR(13),CHAR(10),\"        authenticate 1 authentication-service AS_ALL_LINES username \",'Line Table'!E9,CHAR(13),CHAR(10),\"     identity \",'Line Table'!B9,CHAR(13),CHAR(10),\"        authentication outbound\",CHAR(13),CHAR(10),\"         authenticate 1 authentication-service AS_ALL_LINES username \",'Line Table'!E9,CHAR(13),CHAR(10),\"        registration outbound\",CHAR(13),CHAR(10),\"        registrar \",Data!$C$24,\" \",Data!$C$25,CHAR(13),CHAR(10),\"        lifetime 300\",CHAR(13),CHAR(10),\"         register auto\")","v":"location-service LS_8\r\n     domain 1 10.10.50.23 5060\r\n        identity-group default\r\n        authentication outbound\r\n        authenticate 1 authentication-service AS_ALL_LINES username 10009\r\n     identity 10009\r\n        authentication outbound\r\n         authenticate 1 authentication-service AS_ALL_LINES username 10009\r\n        registration outbound\r\n        registrar 10.10.50.23 5060\r\n        lifetime 300\r\n         register auto"}]
[368,{"$f":"+IF(Data!$C$5>ROW('3CX'!B369)-ROW('3CX'!$B$361),\"\",\"#\")","v":""},{"$f":"+CONCATENATE(\"location-service LS_\",'Line Table'!A10,CHAR(13),CHAR(10),\"     domain 1 \",Data!$C$24,\" \",Data!$C$25,CHAR(13),CHAR(10),\"        identity-group default\",CHAR(13),CHAR(10),\"        authentication outbound\",CHAR(13),CHAR(10),\"        authenticate 1 authentication-service AS_ALL_LINES username \",'Line Table'!E10,CHAR(13),CHAR(10),\"     identity \",'Line Table'!B10,CHAR(13),CHAR(10),\"        authentication outbound\",CHAR(13),CHAR(10),\"         authenticate 1 authentication-service AS_ALL_LINES username \",'Line Table'!E10,CHAR(13),CHAR(10),\"        registration outbound\",CHAR(13),CHAR(10),\"        registrar \",Data!$C$24,\" \",Data!$C$25,CHAR(13),CHAR(10),\"        lifetime 300\",CHAR(13),CHAR(10),\"         register auto\")","v":"location-service LS_9\r\n     domain 1 10.10.50.23 5060\r\n        identity-group default\r\n        authentication outbound\r\n        authenticate 1 authentication-service AS_ALL_LINES username 10010\r\n     identity 10010\r\n        authentication outbound\r\n         authenticate 1 authentication-service AS_ALL_LINES username 10010\r\n        registration outbound\r\n        registrar 10.10.50.23 5060\r\n        lifetime 300\r\n         register auto"}]
[369,{"$f":"+IF(Data!$C$5>ROW('3CX'!B370)-ROW('3CX'!$B$361),\"\",\"#\")","v":""},{"$f":"+CONCATENATE(\"location-service LS_\",'Line Table'!A11,CHAR(13),CHAR(10),\"     domain 1 \",Data!$C$24,\" \",Data!$C$25,CHAR(13),CHAR(10),\"        identity-group default\",CHAR(13),CHAR(10),\"        authentication outbound\",CHAR(13),CHAR(10),\"        authenticate 1 authentication-service AS_ALL_LINES username \",'Line Table'!E11,CHAR(13),CHAR(10),\"     identity \",'Line Table'!B11,CHAR(13),CHAR(10),\"        authentication outbound\",CHAR(13),CHAR(10),\"         authenticate 1 authentication-service AS_ALL_LINES username \",'Line Table'!E11,CHAR(13),CHAR(10),\"        registration outbound\",CHAR(13),CHAR(10),\"        registrar \",Data!$C$24,\" \",Data!$C$25,CHAR(13),CHAR(10),\"        lifetime 300\",CHAR(13),CHAR(10),\"         register auto\")","v":"location-service LS_10\r\n     domain 1 10.10.50.23 5060\r\n        identity-group default\r\n        authentication outbound\r\n        authenticate 1 authentication-service AS_ALL_LINES username 10011\r\n     identity 10011\r\n        authentication outbound\r\n         authenticate 1 authentication-service AS_ALL_LINES username 10011\r\n        registration outbound\r\n        registrar 10.10.50.23 5060\r\n        lifetime 300\r\n         register auto"}]
[370,{"$f":"+IF(Data!$C$5>ROW('3CX'!B371)-ROW('3CX'!$B$361),\"\",\"#\")","v":""},{"$f":"+CONCATENATE(\"location-service LS_\",'Line Table'!A12,CHAR(13),CHAR(10),\"     domain 1 \",Data!$C$24,\" \",Data!$C$25,CHAR(13),CHAR(10),\"        identity-group default\",CHAR(13),CHAR(10),\"        authentication outbound\",CHAR(13),CHAR(10),\"        authenticate 1 authentication-service AS_ALL_LINES username \",'Line Table'!E12,CHAR(13),CHAR(10),\"     identity \",'Line Table'!B12,CHAR(13),CHAR(10),\"        authentication outbound\",CHAR(13),CHAR(10),\"         authenticate 1 authentication-service AS_ALL_LINES username \",'Line Table'!E12,CHAR(13),CHAR(10),\"        registration outbound\",CHAR(13),CHAR(10),\"        registrar \",Data!$C$24,\" \",Data!$C$25,CHAR(13),CHAR(10),\"        lifetime 300\",CHAR(13),CHAR(10),\"         register auto\")","v":"location-service LS_11\r\n     domain 1 10.10.50.23 5060\r\n        identity-group default\r\n        authentication outbound\r\n        authenticate 1 authentication-service AS_ALL_LINES username 10012\r\n     identity 10012\r\n        authentication outbound\r\n         authenticate 1 authentication-service AS_ALL_LINES username 10012\r\n        registration outbound\r\n        registrar 10.10.50.23 5060\r\n        lifetime 300\r\n         register auto"}]
[371,{"$f":"+IF(Data!$C$5>ROW('3CX'!B372)-ROW('3CX'!$B$361),\"\",\"#\")","v":""},{"$f":"+CONCATENATE(\"location-service LS_\",'Line Table'!A13,CHAR(13),CHAR(10),\"     domain 1 \",Data!$C$24,\" \",Data!$C$25,CHAR(13),CHAR(10),\"        identity-group default\",CHAR(13),CHAR(10),\"        authentication outbound\",CHAR(13),CHAR(10),\"        authenticate 1 authentication-service AS_ALL_LINES username \",'Line Table'!E13,CHAR(13),CHAR(10),\"     identity \",'Line Table'!B13,CHAR(13),CHAR(10),\"        authentication outbound\",CHAR(13),CHAR(10),\"         authenticate 1 authentication-service AS_ALL_LINES username \",'Line Table'!E13,CHAR(13),CHAR(10),\"        registration outbound\",CHAR(13),CHAR(10),\"        registrar \",Data!$C$24,\" \",Data!$C$25,CHAR(13),CHAR(10),\"        lifetime 300\",CHAR(13),CHAR(10),\"         register auto\")","v":"location-service LS_12\r\n     domain 1 10.10.50.23 5060\r\n        identity-group default\r\n        authentication outbound\r\n        authenticate 1 authentication-service AS_ALL_LINES username 10013\r\n     identity 10013\r\n        authentication outbound\r\n         authenticate 1 authentication-service AS_ALL_LINES username 10013\r\n        registration outbound\r\n        registrar 10.10.50.23 5060\r\n        lifetime 300\r\n         register auto"}]
[372,{"$f":"+IF(Data!$C$5>ROW('3CX'!B373)-ROW('3CX'!$B$361),\"\",\"#\")","v":"#"},{"$f":"+CONCATENATE(\"location-service LS_\",'Line Table'!A14,CHAR(13),CHAR(10),\"     domain 1 \",Data!$C$24,\" \",Data!$C$25,CHAR(13),CHAR(10),\"        identity-group default\",CHAR(13),CHAR(10),\"        authentication outbound\",CHAR(13),CHAR(10),\"        authenticate 1 authentication-service AS_ALL_LINES username \",'Line Table'!E14,CHAR(13),CHAR(10),\"     identity \",'Line Table'!B14,CHAR(13),CHAR(10),\"        authentication outbound\",CHAR(13),CHAR(10),\"         authenticate 1 authentication-service AS_ALL_LINES username \",'Line Table'!E14,CHAR(13),CHAR(10),\"        registration outbound\",CHAR(13),CHAR(10),\"        registrar \",Data!$C$24,\" \",Data!$C$25,CHAR(13),CHAR(10),\"        lifetime 300\",CHAR(13),CHAR(10),\"         register auto\")","v":"location-service LS_13\r\n     domain 1 10.10.50.23 5060\r\n        identity-group default\r\n        authentication outbound\r\n        authenticate 1 authentication-service AS_ALL_LINES username 10014\r\n     identity 10014\r\n        authentication outbound\r\n         authenticate 1 authentication-service AS_ALL_LINES username 10014\r\n        registration outbound\r\n        registrar 10.10.50.23 5060\r\n        lifetime 300\r\n         register auto"}]
[373,{"$f":"+IF(Data!$C$5>ROW('3CX'!B374)-ROW('3CX'!$B$361),\"\",\"#\")","v":"#"},{"$f":"+CONCATENATE(\"location-service LS_\",'Line Table'!A15,CHAR(13),CHAR(10),\"     domain 1 \",Data!$C$24,\" \",Data!$C$25,CHAR(13),CHAR(10),\"        identity-group default\",CHAR(13),CHAR(10),\"        authentication outbound\",CHAR(13),CHAR(10),\"        authenticate 1 authentication-service AS_ALL_LINES username \",'Line Table'!E15,CHAR(13),CHAR(10),\"     identity \",'Line Table'!B15,CHAR(13),CHAR(10),\"        authentication outbound\",CHAR(13),CHAR(10),\"         authenticate 1 authentication-service AS_ALL_LINES username \",'Line Table'!E15,CHAR(13),CHAR(10),\"        registration outbound\",CHAR(13),CHAR(10),\"        registrar \",Data!$C$24,\" \",Data!$C$25,CHAR(13),CHAR(10),\"        lifetime 300\",CHAR(13),CHAR(10),\"         register auto\")","v":"location-service LS_14\r\n     domain 1 10.10.50.23 5060\r\n        identity-group default\r\n        authentication outbound\r\n        authenticate 1 authentication-service AS_ALL_LINES username 10015\r\n     identity 10015\r\n        authentication outbound\r\n         authenticate 1 authentication-service AS_ALL_LINES username 10015\r\n        registration outbound\r\n        registrar 10.10.50.23 5060\r\n        lifetime 300\r\n         register auto"}]
[374,{"$f":"+IF(Data!$C$5>ROW('3CX'!B375)-ROW('3CX'!$B$361),\"\",\"#\")","v":"#"},{"$f":"+CONCATENATE(\"location-service LS_\",'Line Table'!A16,CHAR(13),CHAR(10),\"     domain 1 \",Data!$C$24,\" \",Data!$C$25,CHAR(13),CHAR(10),\"        identity-group default\",CHAR(13),CHAR(10),\"        authentication outbound\",CHAR(13),CHAR(10),\"        authenticate 1 authentication-service AS_ALL_LINES username \",'Line Table'!E16,CHAR(13),CHAR(10),\"     identity \",'Line Table'!B16,CHAR(13),CHAR(10),\"        authentication outbound\",CHAR(13),CHAR(10),\"         authenticate 1 authentication-service AS_ALL_LINES username \",'Line Table'!E16,CHAR(13),CHAR(10),\"        registration outbound\",CHAR(13),CHAR(10),\"        registrar \",Data!$C$24,\" \",Data!$C$25,CHAR(13),CHAR(10),\"        lifetime 300\",CHAR(13),CHAR(10),\"         register auto\")","v":"location-service LS_15\r\n     domain 1 10.10.50.23 5060\r\n        identity-group default\r\n        authentication outbound\r\n        authenticate 1 authentication-service AS_ALL_LINES username 10016\r\n     identity 10016\r\n        authentication outbound\r\n         authenticate 1 authentication-service AS_ALL_LINES username 10016\r\n        registration outbound\r\n        registrar 10.10.50.23 5060\r\n        lifetime 300\r\n         register auto"}]
[375,{"$f":"+IF(Data!$C$5>ROW('3CX'!B376)-ROW('3CX'!$B$361),\"\",\"#\")","v":"#"},{"$f":"+CONCATENATE(\"location-service LS_\",'Line Table'!A17,CHAR(13),CHAR(10),\"     domain 1 \",Data!$C$24,\" \",Data!$C$25,CHAR(13),CHAR(10),\"        identity-group default\",CHAR(13),CHAR(10),\"        authentication outbound\",CHAR(13),CHAR(10),\"        authenticate 1 authentication-service AS_ALL_LINES username \",'Line Table'!E17,CHAR(13),CHAR(10),\"     identity \",'Line Table'!B17,CHAR(13),CHAR(10),\"        authentication outbound\",CHAR(13),CHAR(10),\"         authenticate 1 authentication-service AS_ALL_LINES username \",'Line Table'!E17,CHAR(13),CHAR(10),\"        registration outbound\",CHAR(13),CHAR(10),\"        registrar \",Data!$C$24,\" \",Data!$C$25,CHAR(13),CHAR(10),\"        lifetime 300\",CHAR(13),CHAR(10),\"         register auto\")","v":"location-service LS_16\r\n     domain 1 10.10.50.23 5060\r\n        identity-group default\r\n        authentication outbound\r\n        authenticate 1 authentication-service AS_ALL_LINES username 10017\r\n     identity 10017\r\n        authentication outbound\r\n         authenticate 1 authentication-service AS_ALL_LINES username 10017\r\n        registration outbound\r\n        registrar 10.10.50.23 5060\r\n        lifetime 300\r\n         register auto"}]
[376,{"$f":"+IF(Data!$C$5>ROW('3CX'!B377)-ROW('3CX'!$B$361),\"\",\"#\")","v":"#"},{"$f":"+CONCATENATE(\"location-service LS_\",'Line Table'!A18,CHAR(13),CHAR(10),\"     domain 1 \",Data!$C$24,\" \",Data!$C$25,CHAR(13),CHAR(10),\"        identity-group default\",CHAR(13),CHAR(10),\"        authentication outbound\",CHAR(13),CHAR(10),\"        authenticate 1 authentication-service AS_ALL_LINES username \",'Line Table'!E18,CHAR(13),CHAR(10),\"     identity \",'Line Table'!B18,CHAR(13),CHAR(10),\"        authentication outbound\",CHAR(13),CHAR(10),\"         authenticate 1 authentication-service AS_ALL_LINES username \",'Line Table'!E18,CHAR(13),CHAR(10),\"        registration outbound\",CHAR(13),CHAR(10),\"        registrar \",Data!$C$24,\" \",Data!$C$25,CHAR(13),CHAR(10),\"        lifetime 300\",CHAR(13),CHAR(10),\"         register auto\")","v":"location-service LS_17\r\n     domain 1 10.10.50.23 5060\r\n        identity-group default\r\n        authentication outbound\r\n        authenticate 1 authentication-service AS_ALL_LINES username 10018\r\n     identity 10018\r\n        authentication outbound\r\n         authenticate 1 authentication-service AS_ALL_LINES username 10018\r\n        registration outbound\r\n        registrar 10.10.50.23 5060\r\n        lifetime 300\r\n         register auto"}]
[377,{"$f":"+IF(Data!$C$5>ROW('3CX'!B378)-ROW('3CX'!$B$361),\"\",\"#\")","v":"#"},{"$f":"+CONCATENATE(\"location-service LS_\",'Line Table'!A19,CHAR(13),CHAR(10),\"     domain 1 \",Data!$C$24,\" \",Data!$C$25,CHAR(13),CHAR(10),\"        identity-group default\",CHAR(13),CHAR(10),\"        authentication outbound\",CHAR(13),CHAR(10),\"        authenticate 1 authentication-service AS_ALL_LINES username \",'Line Table'!E19,CHAR(13),CHAR(10),\"     identity \",'Line Table'!B19,CHAR(13),CHAR(10),\"        authentication outbound\",CHAR(13),CHAR(10),\"         authenticate 1 authentication-service AS_ALL_LINES username \",'Line Table'!E19,CHAR(13),CHAR(10),\"        registration outbound\",CHAR(13),CHAR(10),\"        registrar \",Data!$C$24,\" \",Data!$C$25,CHAR(13),CHAR(10),\"        lifetime 300\",CHAR(13),CHAR(10),\"         register auto\")","v":"location-service LS_18\r\n     domain 1 10.10.50.23 5060\r\n        identity-group default\r\n        authentication outbound\r\n        authenticate 1 authentication-service AS_ALL_LINES username 10019\r\n     identity 10019\r\n        authentication outbound\r\n         authenticate 1 authentication-service AS_ALL_LINES username 10019\r\n        registration outbound\r\n        registrar 10.10.50.23 5060\r\n        lifetime 300\r\n         register auto"}]
[378,{"$f":"+IF(Data!$C$5>ROW('3CX'!B379)-ROW('3CX'!$B$361),\"\",\"#\")","v":"#"},{"$f":"+CONCATENATE(\"location-service LS_\",'Line Table'!A20,CHAR(13),CHAR(10),\"     domain 1 \",Data!$C$24,\" \",Data!$C$25,CHAR(13),CHAR(10),\"        identity-group default\",CHAR(13),CHAR(10),\"        authentication outbound\",CHAR(13),CHAR(10),\"        authenticate 1 authentication-service AS_ALL_LINES username \",'Line Table'!E20,CHAR(13),CHAR(10),\"     identity \",'Line Table'!B20,CHAR(13),CHAR(10),\"        authentication outbound\",CHAR(13),CHAR(10),\"         authenticate 1 authentication-service AS_ALL_LINES username \",'Line Table'!E20,CHAR(13),CHAR(10),\"        registration outbound\",CHAR(13),CHAR(10),\"        registrar \",Data!$C$24,\" \",Data!$C$25,CHAR(13),CHAR(10),\"        lifetime 300\",CHAR(13),CHAR(10),\"         register auto\")","v":"location-service LS_19\r\n     domain 1 10.10.50.23 5060\r\n        identity-group default\r\n        authentication outbound\r\n        authenticate 1 authentication-service AS_ALL_LINES username 10020\r\n     identity 10020\r\n        authentication outbound\r\n         authenticate 1 authentication-service AS_ALL_LINES username 10020\r\n        registration outbound\r\n        registrar 10.10.50.23 5060\r\n        lifetime 300\r\n         register auto"}]
[379,{"$f":"+IF(Data!$C$5>ROW('3CX'!B380)-ROW('3CX'!$B$361),\"\",\"#\")","v":"#"},{"$f":"+CONCATENATE(\"location-service LS_\",'Line Table'!A21,CHAR(13),CHAR(10),\"     domain 1 \",Data!$C$24,\" \",Data!$C$25,CHAR(13),CHAR(10),\"        identity-group default\",CHAR(13),CHAR(10),\"        authentication outbound\",CHAR(13),CHAR(10),\"        authenticate 1 authentication-service AS_ALL_LINES username \",'Line Table'!E21,CHAR(13),CHAR(10),\"     identity \",'Line Table'!B21,CHAR(13),CHAR(10),\"        authentication outbound\",CHAR(13),CHAR(10),\"         authenticate 1 authentication-service AS_ALL_LINES username \",'Line Table'!E21,CHAR(13),CHAR(10),\"        registration outbound\",CHAR(13),CHAR(10),\"        registrar \",Data!$C$24,\" \",Data!$C$25,CHAR(13),CHAR(10),\"        lifetime 300\",CHAR(13),CHAR(10),\"         register auto\")","v":"location-service LS_20\r\n     domain 1 10.10.50.23 5060\r\n        identity-group default\r\n        authentication outbound\r\n        authenticate 1 authentication-service AS_ALL_LINES username 10021\r\n     identity 10021\r\n        authentication outbound\r\n         authenticate 1 authentication-service AS_ALL_LINES username 10021\r\n        registration outbound\r\n        registrar 10.10.50.23 5060\r\n        lifetime 300\r\n         register auto"}]
[380,{"$f":"+IF(Data!$C$5>ROW('3CX'!B381)-ROW('3CX'!$B$361),\"\",\"#\")","v":"#"},{"$f":"+CONCATENATE(\"location-service LS_\",'Line Table'!A22,CHAR(13),CHAR(10),\"     domain 1 \",Data!$C$24,\" \",Data!$C$25,CHAR(13),CHAR(10),\"        identity-group default\",CHAR(13),CHAR(10),\"        authentication outbound\",CHAR(13),CHAR(10),\"        authenticate 1 authentication-service AS_ALL_LINES username \",'Line Table'!E22,CHAR(13),CHAR(10),\"     identity \",'Line Table'!B22,CHAR(13),CHAR(10),\"        authentication outbound\",CHAR(13),CHAR(10),\"         authenticate 1 authentication-service AS_ALL_LINES username \",'Line Table'!E22,CHAR(13),CHAR(10),\"        registration outbound\",CHAR(13),CHAR(10),\"        registrar \",Data!$C$24,\" \",Data!$C$25,CHAR(13),CHAR(10),\"        lifetime 300\",CHAR(13),CHAR(10),\"         register auto\")","v":"location-service LS_21\r\n     domain 1 10.10.50.23 5060\r\n        identity-group default\r\n        authentication outbound\r\n        authenticate 1 authentication-service AS_ALL_LINES username 10022\r\n     identity 10022\r\n        authentication outbound\r\n         authenticate 1 authentication-service AS_ALL_LINES username 10022\r\n        registration outbound\r\n        registrar 10.10.50.23 5060\r\n        lifetime 300\r\n         register auto"}]
[381,{"$f":"+IF(Data!$C$5>ROW('3CX'!B382)-ROW('3CX'!$B$361),\"\",\"#\")","v":"#"},{"$f":"+CONCATENATE(\"location-service LS_\",'Line Table'!A23,CHAR(13),CHAR(10),\"     domain 1 \",Data!$C$24,\" \",Data!$C$25,CHAR(13),CHAR(10),\"        identity-group default\",CHAR(13),CHAR(10),\"        authentication outbound\",CHAR(13),CHAR(10),\"        authenticate 1 authentication-service AS_ALL_LINES username \",'Line Table'!E23,CHAR(13),CHAR(10),\"     identity \",'Line Table'!B23,CHAR(13),CHAR(10),\"        authentication outbound\",CHAR(13),CHAR(10),\"         authenticate 1 authentication-service AS_ALL_LINES username \",'Line Table'!E23,CHAR(13),CHAR(10),\"        registration outbound\",CHAR(13),CHAR(10),\"        registrar \",Data!$C$24,\" \",Data!$C$25,CHAR(13),CHAR(10),\"        lifetime 300\",CHAR(13),CHAR(10),\"         register auto\")","v":"location-service LS_22\r\n     domain 1 10.10.50.23 5060\r\n        identity-group default\r\n        authentication outbound\r\n        authenticate 1 authentication-service AS_ALL_LINES username 10023\r\n     identity 10023\r\n        authentication outbound\r\n         authenticate 1 authentication-service AS_ALL_LINES username 10023\r\n        registration outbound\r\n        registrar 10.10.50.23 5060\r\n        lifetime 300\r\n         register auto"}]
[382,{"$f":"+IF(Data!$C$5>ROW('3CX'!B383)-ROW('3CX'!$B$361),\"\",\"#\")","v":"#"},{"$f":"+CONCATENATE(\"location-service LS_\",'Line Table'!A24,CHAR(13),CHAR(10),\"     domain 1 \",Data!$C$24,\" \",Data!$C$25,CHAR(13),CHAR(10),\"        identity-group default\",CHAR(13),CHAR(10),\"        authentication outbound\",CHAR(13),CHAR(10),\"        authenticate 1 authentication-service AS_ALL_LINES username \",'Line Table'!E24,CHAR(13),CHAR(10),\"     identity \",'Line Table'!B24,CHAR(13),CHAR(10),\"        authentication outbound\",CHAR(13),CHAR(10),\"         authenticate 1 authentication-service AS_ALL_LINES username \",'Line Table'!E24,CHAR(13),CHAR(10),\"        registration outbound\",CHAR(13),CHAR(10),\"        registrar \",Data!$C$24,\" \",Data!$C$25,CHAR(13),CHAR(10),\"        lifetime 300\",CHAR(13),CHAR(10),\"         register auto\")","v":"location-service LS_23\r\n     domain 1 10.10.50.23 5060\r\n        identity-group default\r\n        authentication outbound\r\n        authenticate 1 authentication-service AS_ALL_LINES username 10024\r\n     identity 10024\r\n        authentication outbound\r\n         authenticate 1 authentication-service AS_ALL_LINES username 10024\r\n        registration outbound\r\n        registrar 10.10.50.23 5060\r\n        lifetime 300\r\n         register auto"}]
[383,{"$f":"+IF(Data!$C$5>ROW('3CX'!B384)-ROW('3CX'!$B$361),\"\",\"#\")","v":"#"},{"$f":"+CONCATENATE(\"location-service LS_\",'Line Table'!A25,CHAR(13),CHAR(10),\"     domain 1 \",Data!$C$24,\" \",Data!$C$25,CHAR(13),CHAR(10),\"        identity-group default\",CHAR(13),CHAR(10),\"        authentication outbound\",CHAR(13),CHAR(10),\"        authenticate 1 authentication-service AS_ALL_LINES username \",'Line Table'!E25,CHAR(13),CHAR(10),\"     identity \",'Line Table'!B25,CHAR(13),CHAR(10),\"        authentication outbound\",CHAR(13),CHAR(10),\"         authenticate 1 authentication-service AS_ALL_LINES username \",'Line Table'!E25,CHAR(13),CHAR(10),\"        registration outbound\",CHAR(13),CHAR(10),\"        registrar \",Data!$C$24,\" \",Data!$C$25,CHAR(13),CHAR(10),\"        lifetime 300\",CHAR(13),CHAR(10),\"         register auto\")","v":"location-service LS_24\r\n     domain 1 10.10.50.23 5060\r\n        identity-group default\r\n        authentication outbound\r\n        authenticate 1 authentication-service AS_ALL_LINES username 10025\r\n     identity 10025\r\n        authentication outbound\r\n         authenticate 1 authentication-service AS_ALL_LINES username 10025\r\n        registration outbound\r\n        registrar 10.10.50.23 5060\r\n        lifetime 300\r\n         register auto"}]
[384,{"$f":"+IF(Data!$C$5>ROW('3CX'!B385)-ROW('3CX'!$B$361),\"\",\"#\")","v":"#"},{"$f":"+CONCATENATE(\"location-service LS_\",'Line Table'!A26,CHAR(13),CHAR(10),\"     domain 1 \",Data!$C$24,\" \",Data!$C$25,CHAR(13),CHAR(10),\"        identity-group default\",CHAR(13),CHAR(10),\"        authentication outbound\",CHAR(13),CHAR(10),\"        authenticate 1 authentication-service AS_ALL_LINES username \",'Line Table'!E26,CHAR(13),CHAR(10),\"     identity \",'Line Table'!B26,CHAR(13),CHAR(10),\"        authentication outbound\",CHAR(13),CHAR(10),\"         authenticate 1 authentication-service AS_ALL_LINES username \",'Line Table'!E26,CHAR(13),CHAR(10),\"        registration outbound\",CHAR(13),CHAR(10),\"        registrar \",Data!$C$24,\" \",Data!$C$25,CHAR(13),CHAR(10),\"        lifetime 300\",CHAR(13),CHAR(10),\"         register auto\")","v":"location-service LS_25\r\n     domain 1 10.10.50.23 5060\r\n        identity-group default\r\n        authentication outbound\r\n        authenticate 1 authentication-service AS_ALL_LINES username 10026\r\n     identity 10026\r\n        authentication outbound\r\n         authenticate 1 authentication-service AS_ALL_LINES username 10026\r\n        registration outbound\r\n        registrar 10.10.50.23 5060\r\n        lifetime 300\r\n         register auto"}]
[385,{"$f":"+IF(Data!$C$5>ROW('3CX'!B386)-ROW('3CX'!$B$361),\"\",\"#\")","v":"#"},{"$f":"+CONCATENATE(\"location-service LS_\",'Line Table'!A27,CHAR(13),CHAR(10),\"     domain 1 \",Data!$C$24,\" \",Data!$C$25,CHAR(13),CHAR(10),\"        identity-group default\",CHAR(13),CHAR(10),\"        authentication outbound\",CHAR(13),CHAR(10),\"        authenticate 1 authentication-service AS_ALL_LINES username \",'Line Table'!E27,CHAR(13),CHAR(10),\"     identity \",'Line Table'!B27,CHAR(13),CHAR(10),\"        authentication outbound\",CHAR(13),CHAR(10),\"         authenticate 1 authentication-service AS_ALL_LINES username \",'Line Table'!E27,CHAR(13),CHAR(10),\"        registration outbound\",CHAR(13),CHAR(10),\"        registrar \",Data!$C$24,\" \",Data!$C$25,CHAR(13),CHAR(10),\"        lifetime 300\",CHAR(13),CHAR(10),\"         register auto\")","v":"location-service LS_26\r\n     domain 1 10.10.50.23 5060\r\n        identity-group default\r\n        authentication outbound\r\n        authenticate 1 authentication-service AS_ALL_LINES username 10027\r\n     identity 10027\r\n        authentication outbound\r\n         authenticate 1 authentication-service AS_ALL_LINES username 10027\r\n        registration outbound\r\n        registrar 10.10.50.23 5060\r\n        lifetime 300\r\n         register auto"}]
[386,{"$f":"+IF(Data!$C$5>ROW('3CX'!B387)-ROW('3CX'!$B$361),\"\",\"#\")","v":"#"},{"$f":"+CONCATENATE(\"location-service LS_\",'Line Table'!A28,CHAR(13),CHAR(10),\"     domain 1 \",Data!$C$24,\" \",Data!$C$25,CHAR(13),CHAR(10),\"        identity-group default\",CHAR(13),CHAR(10),\"        authentication outbound\",CHAR(13),CHAR(10),\"        authenticate 1 authentication-service AS_ALL_LINES username \",'Line Table'!E28,CHAR(13),CHAR(10),\"     identity \",'Line Table'!B28,CHAR(13),CHAR(10),\"        authentication outbound\",CHAR(13),CHAR(10),\"         authenticate 1 authentication-service AS_ALL_LINES username \",'Line Table'!E28,CHAR(13),CHAR(10),\"        registration outbound\",CHAR(13),CHAR(10),\"        registrar \",Data!$C$24,\" \",Data!$C$25,CHAR(13),CHAR(10),\"        lifetime 300\",CHAR(13),CHAR(10),\"         register auto\")","v":"location-service LS_27\r\n     domain 1 10.10.50.23 5060\r\n        identity-group default\r\n        authentication outbound\r\n        authenticate 1 authentication-service AS_ALL_LINES username 10028\r\n     identity 10028\r\n        authentication outbound\r\n         authenticate 1 authentication-service AS_ALL_LINES username 10028\r\n        registration outbound\r\n        registrar 10.10.50.23 5060\r\n        lifetime 300\r\n         register auto"}]
[387,{"$f":"+IF(Data!$C$5>ROW('3CX'!B388)-ROW('3CX'!$B$361),\"\",\"#\")","v":"#"},{"$f":"+CONCATENATE(\"location-service LS_\",'Line Table'!A29,CHAR(13),CHAR(10),\"     domain 1 \",Data!$C$24,\" \",Data!$C$25,CHAR(13),CHAR(10),\"        identity-group default\",CHAR(13),CHAR(10),\"        authentication outbound\",CHAR(13),CHAR(10),\"        authenticate 1 authentication-service AS_ALL_LINES username \",'Line Table'!E29,CHAR(13),CHAR(10),\"     identity \",'Line Table'!B29,CHAR(13),CHAR(10),\"        authentication outbound\",CHAR(13),CHAR(10),\"         authenticate 1 authentication-service AS_ALL_LINES username \",'Line Table'!E29,CHAR(13),CHAR(10),\"        registration outbound\",CHAR(13),CHAR(10),\"        registrar \",Data!$C$24,\" \",Data!$C$25,CHAR(13),CHAR(10),\"        lifetime 300\",CHAR(13),CHAR(10),\"         register auto\")","v":"location-service LS_28\r\n     domain 1 10.10.50.23 5060\r\n        identity-group default\r\n        authentication outbound\r\n        authenticate 1 authentication-service AS_ALL_LINES username 10029\r\n     identity 10029\r\n        authentication outbound\r\n         authenticate 1 authentication-service AS_ALL_LINES username 10029\r\n        registration outbound\r\n        registrar 10.10.50.23 5060\r\n        lifetime 300\r\n         register auto"}]
[388,{"$f":"+IF(Data!$C$5>ROW('3CX'!B389)-ROW('3CX'!$B$361),\"\",\"#\")","v":"#"},{"$f":"+CONCATENATE(\"location-service LS_\",'Line Table'!A30,CHAR(13),CHAR(10),\"     domain 1 \",Data!$C$24,\" \",Data!$C$25,CHAR(13),CHAR(10),\"        identity-group default\",CHAR(13),CHAR(10),\"        authentication outbound\",CHAR(13),CHAR(10),\"        authenticate 1 authentication-service AS_ALL_LINES username \",'Line Table'!E30,CHAR(13),CHAR(10),\"     identity \",'Line Table'!B30,CHAR(13),CHAR(10),\"        authentication outbound\",CHAR(13),CHAR(10),\"         authenticate 1 authentication-service AS_ALL_LINES username \",'Line Table'!E30,CHAR(13),CHAR(10),\"        registration outbound\",CHAR(13),CHAR(10),\"        registrar \",Data!$C$24,\" \",Data!$C$25,CHAR(13),CHAR(10),\"        lifetime 300\",CHAR(13),CHAR(10),\"         register auto\")","v":"location-service LS_29\r\n     domain 1 10.10.50.23 5060\r\n        identity-group default\r\n        authentication outbound\r\n        authenticate 1 authentication-service AS_ALL_LINES username 10030\r\n     identity 10030\r\n        authentication outbound\r\n         authenticate 1 authentication-service AS_ALL_LINES username 10030\r\n        registration outbound\r\n        registrar 10.10.50.23 5060\r\n        lifetime 300\r\n         register auto"}]
[389,{"$f":"+IF(Data!$C$5>ROW('3CX'!B390)-ROW('3CX'!$B$361),\"\",\"#\")","v":"#"},{"$f":"+CONCATENATE(\"location-service LS_\",'Line Table'!A31,CHAR(13),CHAR(10),\"     domain 1 \",Data!$C$24,\" \",Data!$C$25,CHAR(13),CHAR(10),\"        identity-group default\",CHAR(13),CHAR(10),\"        authentication outbound\",CHAR(13),CHAR(10),\"        authenticate 1 authentication-service AS_ALL_LINES username \",'Line Table'!E31,CHAR(13),CHAR(10),\"     identity \",'Line Table'!B31,CHAR(13),CHAR(10),\"        authentication outbound\",CHAR(13),CHAR(10),\"         authenticate 1 authentication-service AS_ALL_LINES username \",'Line Table'!E31,CHAR(13),CHAR(10),\"        registration outbound\",CHAR(13),CHAR(10),\"        registrar \",Data!$C$24,\" \",Data!$C$25,CHAR(13),CHAR(10),\"        lifetime 300\",CHAR(13),CHAR(10),\"         register auto\")","v":"location-service LS_30\r\n     domain 1 10.10.50.23 5060\r\n        identity-group default\r\n        authentication outbound\r\n        authenticate 1 authentication-service AS_ALL_LINES username 10031\r\n     identity 10031\r\n        authentication outbound\r\n         authenticate 1 authentication-service AS_ALL_LINES username 10031\r\n        registration outbound\r\n        registrar 10.10.50.23 5060\r\n        lifetime 300\r\n         register auto"}]
[390,{"$f":"+IF(Data!$C$5>ROW('3CX'!B391)-ROW('3CX'!$B$361),\"\",\"#\")","v":"#"},{"$f":"+CONCATENATE(\"location-service LS_\",'Line Table'!A32,CHAR(13),CHAR(10),\"     domain 1 \",Data!$C$24,\" \",Data!$C$25,CHAR(13),CHAR(10),\"        identity-group default\",CHAR(13),CHAR(10),\"        authentication outbound\",CHAR(13),CHAR(10),\"        authenticate 1 authentication-service AS_ALL_LINES username \",'Line Table'!E32,CHAR(13),CHAR(10),\"     identity \",'Line Table'!B32,CHAR(13),CHAR(10),\"        authentication outbound\",CHAR(13),CHAR(10),\"         authenticate 1 authentication-service AS_ALL_LINES username \",'Line Table'!E32,CHAR(13),CHAR(10),\"        registration outbound\",CHAR(13),CHAR(10),\"        registrar \",Data!$C$24,\" \",Data!$C$25,CHAR(13),CHAR(10),\"        lifetime 300\",CHAR(13),CHAR(10),\"         register auto\")","v":"location-service LS_31\r\n     domain 1 10.10.50.23 5060\r\n        identity-group default\r\n        authentication outbound\r\n        authenticate 1 authentication-service AS_ALL_LINES username 10032\r\n     identity 10032\r\n        authentication outbound\r\n         authenticate 1 authentication-service AS_ALL_LINES username 10032\r\n        registration outbound\r\n        registrar 10.10.50.23 5060\r\n        lifetime 300\r\n         register auto"}]
[391,{"$f":"+IF(Data!$C$5>ROW('3CX'!B392)-ROW('3CX'!$B$361),\"\",\"#\")","v":"#"},{"$f":"+CONCATENATE(\"location-service LS_\",'Line Table'!A33,CHAR(13),CHAR(10),\"     domain 1 \",Data!$C$24,\" \",Data!$C$25,CHAR(13),CHAR(10),\"        identity-group default\",CHAR(13),CHAR(10),\"        authentication outbound\",CHAR(13),CHAR(10),\"        authenticate 1 authentication-service AS_ALL_LINES username \",'Line Table'!E33,CHAR(13),CHAR(10),\"     identity \",'Line Table'!B33,CHAR(13),CHAR(10),\"        authentication outbound\",CHAR(13),CHAR(10),\"         authenticate 1 authentication-service AS_ALL_LINES username \",'Line Table'!E33,CHAR(13),CHAR(10),\"        registration outbound\",CHAR(13),CHAR(10),\"        registrar \",Data!$C$24,\" \",Data!$C$25,CHAR(13),CHAR(10),\"        lifetime 300\",CHAR(13),CHAR(10),\"         register auto\")","v":"location-service LS_32\r\n     domain 1 10.10.50.23 5060\r\n        identity-group default\r\n        authentication outbound\r\n        authenticate 1 authentication-service AS_ALL_LINES username 10033\r\n     identity 10033\r\n        authentication outbound\r\n         authenticate 1 authentication-service AS_ALL_LINES username 10033\r\n        registration outbound\r\n        registrar 10.10.50.23 5060\r\n        lifetime 300\r\n         register auto"}]
[392,null,"          "]
[393,{"$f":"+IF(Data!$C$5>ROW('3CX'!B394)-ROW('3CX'!$B$394),\"\",\"#\")","v":""},{"$f":"+CONCATENATE(\"context sip-gateway GW_SIP_\",'Line Table'!A2,CHAR(13),CHAR(10),\" interface \",Data!$C$8,CHAR(13),CHAR(10),\" bind interface IF_IP_\",Data!$C$8,\" context router port \",'Line Table'!G2,CHAR(13),CHAR(10),\" context sip-gateway GW_SIP_\",'Line Table'!A2,CHAR(13),CHAR(10),\" bind location-service LS_\",'Line Table'!A2,CHAR(13),CHAR(10),\" no shutdown\")","v":"context sip-gateway GW_SIP_1\r\n interface LAN\r\n bind interface IF_IP_LAN context router port 5060\r\n context sip-gateway GW_SIP_1\r\n bind location-service LS_1\r\n no shutdown"}]
[394,{"$f":"+IF(Data!$C$5>ROW('3CX'!B395)-ROW('3CX'!$B$394),\"\",\"#\")","v":""},{"$f":"+CONCATENATE(\"context sip-gateway GW_SIP_\",'Line Table'!A3,CHAR(13),CHAR(10),\" interface \",Data!$C$8,CHAR(13),CHAR(10),\" bind interface IF_IP_\",Data!$C$8,\" context router port \",'Line Table'!G3,CHAR(13),CHAR(10),\" context sip-gateway GW_SIP_\",'Line Table'!A3,CHAR(13),CHAR(10),\" bind location-service LS_\",'Line Table'!A3,CHAR(13),CHAR(10),\" no shutdown\")","v":"context sip-gateway GW_SIP_2\r\n interface LAN\r\n bind interface IF_IP_LAN context router port 5062\r\n context sip-gateway GW_SIP_2\r\n bind location-service LS_2\r\n no shutdown"}]
[395,{"$f":"+IF(Data!$C$5>ROW('3CX'!B396)-ROW('3CX'!$B$394),\"\",\"#\")","v":""},{"$f":"+CONCATENATE(\"context sip-gateway GW_SIP_\",'Line Table'!A4,CHAR(13),CHAR(10),\" interface \",Data!$C$8,CHAR(13),CHAR(10),\" bind interface IF_IP_\",Data!$C$8,\" context router port \",'Line Table'!G4,CHAR(13),CHAR(10),\" context sip-gateway GW_SIP_\",'Line Table'!A4,CHAR(13),CHAR(10),\" bind location-service LS_\",'Line Table'!A4,CHAR(13),CHAR(10),\" no shutdown\")","v":"context sip-gateway GW_SIP_3\r\n interface LAN\r\n bind interface IF_IP_LAN context router port 5064\r\n context sip-gateway GW_SIP_3\r\n bind location-service LS_3\r\n no shutdown"}]
[396,{"$f":"+IF(Data!$C$5>ROW('3CX'!B397)-ROW('3CX'!$B$394),\"\",\"#\")","v":""},{"$f":"+CONCATENATE(\"context sip-gateway GW_SIP_\",'Line Table'!A5,CHAR(13),CHAR(10),\" interface \",Data!$C$8,CHAR(13),CHAR(10),\" bind interface IF_IP_\",Data!$C$8,\" context router port \",'Line Table'!G5,CHAR(13),CHAR(10),\" context sip-gateway GW_SIP_\",'Line Table'!A5,CHAR(13),CHAR(10),\" bind location-service LS_\",'Line Table'!A5,CHAR(13),CHAR(10),\" no shutdown\")","v":"context sip-gateway GW_SIP_4\r\n interface LAN\r\n bind interface IF_IP_LAN context router port 5066\r\n context sip-gateway GW_SIP_4\r\n bind location-service LS_4\r\n no shutdown"}]
[397,{"$f":"+IF(Data!$C$5>ROW('3CX'!B398)-ROW('3CX'!$B$394),\"\",\"#\")","v":""},{"$f":"+CONCATENATE(\"context sip-gateway GW_SIP_\",'Line Table'!A6,CHAR(13),CHAR(10),\" interface \",Data!$C$8,CHAR(13),CHAR(10),\" bind interface IF_IP_\",Data!$C$8,\" context router port \",'Line Table'!G6,CHAR(13),CHAR(10),\" context sip-gateway GW_SIP_\",'Line Table'!A6,CHAR(13),CHAR(10),\" bind location-service LS_\",'Line Table'!A6,CHAR(13),CHAR(10),\" no shutdown\")","v":"context sip-gateway GW_SIP_5\r\n interface LAN\r\n bind interface IF_IP_LAN context router port 5068\r\n context sip-gateway GW_SIP_5\r\n bind location-service LS_5\r\n no shutdown"}]
[398,{"$f":"+IF(Data!$C$5>ROW('3CX'!B399)-ROW('3CX'!$B$394),\"\",\"#\")","v":""},{"$f":"+CONCATENATE(\"context sip-gateway GW_SIP_\",'Line Table'!A7,CHAR(13),CHAR(10),\" interface \",Data!$C$8,CHAR(13),CHAR(10),\" bind interface IF_IP_\",Data!$C$8,\" context router port \",'Line Table'!G7,CHAR(13),CHAR(10),\" context sip-gateway GW_SIP_\",'Line Table'!A7,CHAR(13),CHAR(10),\" bind location-service LS_\",'Line Table'!A7,CHAR(13),CHAR(10),\" no shutdown\")","v":"context sip-gateway GW_SIP_6\r\n interface LAN\r\n bind interface IF_IP_LAN context router port 5070\r\n context sip-gateway GW_SIP_6\r\n bind location-service LS_6\r\n no shutdown"}]
[399,{"$f":"+IF(Data!$C$5>ROW('3CX'!B400)-ROW('3CX'!$B$394),\"\",\"#\")","v":""},{"$f":"+CONCATENATE(\"context sip-gateway GW_SIP_\",'Line Table'!A8,CHAR(13),CHAR(10),\" interface \",Data!$C$8,CHAR(13),CHAR(10),\" bind interface IF_IP_\",Data!$C$8,\" context router port \",'Line Table'!G8,CHAR(13),CHAR(10),\" context sip-gateway GW_SIP_\",'Line Table'!A8,CHAR(13),CHAR(10),\" bind location-service LS_\",'Line Table'!A8,CHAR(13),CHAR(10),\" no shutdown\")","v":"context sip-gateway GW_SIP_7\r\n interface LAN\r\n bind interface IF_IP_LAN context router port 5072\r\n context sip-gateway GW_SIP_7\r\n bind location-service LS_7\r\n no shutdown"}]
[400,{"$f":"+IF(Data!$C$5>ROW('3CX'!B401)-ROW('3CX'!$B$394),\"\",\"#\")","v":""},{"$f":"+CONCATENATE(\"context sip-gateway GW_SIP_\",'Line Table'!A9,CHAR(13),CHAR(10),\" interface \",Data!$C$8,CHAR(13),CHAR(10),\" bind interface IF_IP_\",Data!$C$8,\" context router port \",'Line Table'!G9,CHAR(13),CHAR(10),\" context sip-gateway GW_SIP_\",'Line Table'!A9,CHAR(13),CHAR(10),\" bind location-service LS_\",'Line Table'!A9,CHAR(13),CHAR(10),\" no shutdown\")","v":"context sip-gateway GW_SIP_8\r\n interface LAN\r\n bind interface IF_IP_LAN context router port 5074\r\n context sip-gateway GW_SIP_8\r\n bind location-service LS_8\r\n no shutdown"}]
[401,{"$f":"+IF(Data!$C$5>ROW('3CX'!B402)-ROW('3CX'!$B$394),\"\",\"#\")","v":""},{"$f":"+CONCATENATE(\"context sip-gateway GW_SIP_\",'Line Table'!A10,CHAR(13),CHAR(10),\" interface \",Data!$C$8,CHAR(13),CHAR(10),\" bind interface IF_IP_\",Data!$C$8,\" context router port \",'Line Table'!G10,CHAR(13),CHAR(10),\" context sip-gateway GW_SIP_\",'Line Table'!A10,CHAR(13),CHAR(10),\" bind location-service LS_\",'Line Table'!A10,CHAR(13),CHAR(10),\" no shutdown\")","v":"context sip-gateway GW_SIP_9\r\n interface LAN\r\n bind interface IF_IP_LAN context router port 5076\r\n context sip-gateway GW_SIP_9\r\n bind location-service LS_9\r\n no shutdown"}]
[402,{"$f":"+IF(Data!$C$5>ROW('3CX'!B403)-ROW('3CX'!$B$394),\"\",\"#\")","v":""},{"$f":"+CONCATENATE(\"context sip-gateway GW_SIP_\",'Line Table'!A11,CHAR(13),CHAR(10),\" interface \",Data!$C$8,CHAR(13),CHAR(10),\" bind interface IF_IP_\",Data!$C$8,\" context router port \",'Line Table'!G11,CHAR(13),CHAR(10),\" context sip-gateway GW_SIP_\",'Line Table'!A11,CHAR(13),CHAR(10),\" bind location-service LS_\",'Line Table'!A11,CHAR(13),CHAR(10),\" no shutdown\")","v":"context sip-gateway GW_SIP_10\r\n interface LAN\r\n bind interface IF_IP_LAN context router port 5078\r\n context sip-gateway GW_SIP_10\r\n bind location-service LS_10\r\n no shutdown"}]
[403,{"$f":"+IF(Data!$C$5>ROW('3CX'!B404)-ROW('3CX'!$B$394),\"\",\"#\")","v":""},{"$f":"+CONCATENATE(\"context sip-gateway GW_SIP_\",'Line Table'!A12,CHAR(13),CHAR(10),\" interface \",Data!$C$8,CHAR(13),CHAR(10),\" bind interface IF_IP_\",Data!$C$8,\" context router port \",'Line Table'!G12,CHAR(13),CHAR(10),\" context sip-gateway GW_SIP_\",'Line Table'!A12,CHAR(13),CHAR(10),\" bind location-service LS_\",'Line Table'!A12,CHAR(13),CHAR(10),\" no shutdown\")","v":"context sip-gateway GW_SIP_11\r\n interface LAN\r\n bind interface IF_IP_LAN context router port 5080\r\n context sip-gateway GW_SIP_11\r\n bind location-service LS_11\r\n no shutdown"}]
[404,{"$f":"+IF(Data!$C$5>ROW('3CX'!B405)-ROW('3CX'!$B$394),\"\",\"#\")","v":""},{"$f":"+CONCATENATE(\"context sip-gateway GW_SIP_\",'Line Table'!A13,CHAR(13),CHAR(10),\" interface \",Data!$C$8,CHAR(13),CHAR(10),\" bind interface IF_IP_\",Data!$C$8,\" context router port \",'Line Table'!G13,CHAR(13),CHAR(10),\" context sip-gateway GW_SIP_\",'Line Table'!A13,CHAR(13),CHAR(10),\" bind location-service LS_\",'Line Table'!A13,CHAR(13),CHAR(10),\" no shutdown\")","v":"context sip-gateway GW_SIP_12\r\n interface LAN\r\n bind interface IF_IP_LAN context router port 5082\r\n context sip-gateway GW_SIP_12\r\n bind location-service LS_12\r\n no shutdown"}]
[405,{"$f":"+IF(Data!$C$5>ROW('3CX'!B406)-ROW('3CX'!$B$394),\"\",\"#\")","v":"#"},{"$f":"+CONCATENATE(\"context sip-gateway GW_SIP_\",'Line Table'!A14,CHAR(13),CHAR(10),\" interface \",Data!$C$8,CHAR(13),CHAR(10),\" bind interface IF_IP_\",Data!$C$8,\" context router port \",'Line Table'!G14,CHAR(13),CHAR(10),\" context sip-gateway GW_SIP_\",'Line Table'!A14,CHAR(13),CHAR(10),\" bind location-service LS_\",'Line Table'!A14,CHAR(13),CHAR(10),\" no shutdown\")","v":"context sip-gateway GW_SIP_13\r\n interface LAN\r\n bind interface IF_IP_LAN context router port 5084\r\n context sip-gateway GW_SIP_13\r\n bind location-service LS_13\r\n no shutdown"}]
[406,{"$f":"+IF(Data!$C$5>ROW('3CX'!B407)-ROW('3CX'!$B$394),\"\",\"#\")","v":"#"},{"$f":"+CONCATENATE(\"context sip-gateway GW_SIP_\",'Line Table'!A15,CHAR(13),CHAR(10),\" interface \",Data!$C$8,CHAR(13),CHAR(10),\" bind interface IF_IP_\",Data!$C$8,\" context router port \",'Line Table'!G15,CHAR(13),CHAR(10),\" context sip-gateway GW_SIP_\",'Line Table'!A15,CHAR(13),CHAR(10),\" bind location-service LS_\",'Line Table'!A15,CHAR(13),CHAR(10),\" no shutdown\")","v":"context sip-gateway GW_SIP_14\r\n interface LAN\r\n bind interface IF_IP_LAN context router port 5086\r\n context sip-gateway GW_SIP_14\r\n bind location-service LS_14\r\n no shutdown"}]
[407,{"$f":"+IF(Data!$C$5>ROW('3CX'!B408)-ROW('3CX'!$B$394),\"\",\"#\")","v":"#"},{"$f":"+CONCATENATE(\"context sip-gateway GW_SIP_\",'Line Table'!A16,CHAR(13),CHAR(10),\" interface \",Data!$C$8,CHAR(13),CHAR(10),\" bind interface IF_IP_\",Data!$C$8,\" context router port \",'Line Table'!G16,CHAR(13),CHAR(10),\" context sip-gateway GW_SIP_\",'Line Table'!A16,CHAR(13),CHAR(10),\" bind location-service LS_\",'Line Table'!A16,CHAR(13),CHAR(10),\" no shutdown\")","v":"context sip-gateway GW_SIP_15\r\n interface LAN\r\n bind interface IF_IP_LAN context router port 5088\r\n context sip-gateway GW_SIP_15\r\n bind location-service LS_15\r\n no shutdown"}]
[408,{"$f":"+IF(Data!$C$5>ROW('3CX'!B409)-ROW('3CX'!$B$394),\"\",\"#\")","v":"#"},{"$f":"+CONCATENATE(\"context sip-gateway GW_SIP_\",'Line Table'!A17,CHAR(13),CHAR(10),\" interface \",Data!$C$8,CHAR(13),CHAR(10),\" bind interface IF_IP_\",Data!$C$8,\" context router port \",'Line Table'!G17,CHAR(13),CHAR(10),\" context sip-gateway GW_SIP_\",'Line Table'!A17,CHAR(13),CHAR(10),\" bind location-service LS_\",'Line Table'!A17,CHAR(13),CHAR(10),\" no shutdown\")","v":"context sip-gateway GW_SIP_16\r\n interface LAN\r\n bind interface IF_IP_LAN context router port 5090\r\n context sip-gateway GW_SIP_16\r\n bind location-service LS_16\r\n no shutdown"}]
[409,{"$f":"+IF(Data!$C$5>ROW('3CX'!B410)-ROW('3CX'!$B$394),\"\",\"#\")","v":"#"},{"$f":"+CONCATENATE(\"context sip-gateway GW_SIP_\",'Line Table'!A18,CHAR(13),CHAR(10),\" interface \",Data!$C$8,CHAR(13),CHAR(10),\" bind interface IF_IP_\",Data!$C$8,\" context router port \",'Line Table'!G18,CHAR(13),CHAR(10),\" context sip-gateway GW_SIP_\",'Line Table'!A18,CHAR(13),CHAR(10),\" bind location-service LS_\",'Line Table'!A18,CHAR(13),CHAR(10),\" no shutdown\")","v":"context sip-gateway GW_SIP_17\r\n interface LAN\r\n bind interface IF_IP_LAN context router port 5092\r\n context sip-gateway GW_SIP_17\r\n bind location-service LS_17\r\n no shutdown"}]
[410,{"$f":"+IF(Data!$C$5>ROW('3CX'!B411)-ROW('3CX'!$B$394),\"\",\"#\")","v":"#"},{"$f":"+CONCATENATE(\"context sip-gateway GW_SIP_\",'Line Table'!A19,CHAR(13),CHAR(10),\" interface \",Data!$C$8,CHAR(13),CHAR(10),\" bind interface IF_IP_\",Data!$C$8,\" context router port \",'Line Table'!G19,CHAR(13),CHAR(10),\" context sip-gateway GW_SIP_\",'Line Table'!A19,CHAR(13),CHAR(10),\" bind location-service LS_\",'Line Table'!A19,CHAR(13),CHAR(10),\" no shutdown\")","v":"context sip-gateway GW_SIP_18\r\n interface LAN\r\n bind interface IF_IP_LAN context router port 5094\r\n context sip-gateway GW_SIP_18\r\n bind location-service LS_18\r\n no shutdown"}]
[411,{"$f":"+IF(Data!$C$5>ROW('3CX'!B412)-ROW('3CX'!$B$394),\"\",\"#\")","v":"#"},{"$f":"+CONCATENATE(\"context sip-gateway GW_SIP_\",'Line Table'!A20,CHAR(13),CHAR(10),\" interface \",Data!$C$8,CHAR(13),CHAR(10),\" bind interface IF_IP_\",Data!$C$8,\" context router port \",'Line Table'!G20,CHAR(13),CHAR(10),\" context sip-gateway GW_SIP_\",'Line Table'!A20,CHAR(13),CHAR(10),\" bind location-service LS_\",'Line Table'!A20,CHAR(13),CHAR(10),\" no shutdown\")","v":"context sip-gateway GW_SIP_19\r\n interface LAN\r\n bind interface IF_IP_LAN context router port 5096\r\n context sip-gateway GW_SIP_19\r\n bind location-service LS_19\r\n no shutdown"}]
[412,{"$f":"+IF(Data!$C$5>ROW('3CX'!B413)-ROW('3CX'!$B$394),\"\",\"#\")","v":"#"},{"$f":"+CONCATENATE(\"context sip-gateway GW_SIP_\",'Line Table'!A21,CHAR(13),CHAR(10),\" interface \",Data!$C$8,CHAR(13),CHAR(10),\" bind interface IF_IP_\",Data!$C$8,\" context router port \",'Line Table'!G21,CHAR(13),CHAR(10),\" context sip-gateway GW_SIP_\",'Line Table'!A21,CHAR(13),CHAR(10),\" bind location-service LS_\",'Line Table'!A21,CHAR(13),CHAR(10),\" no shutdown\")","v":"context sip-gateway GW_SIP_20\r\n interface LAN\r\n bind interface IF_IP_LAN context router port 5098\r\n context sip-gateway GW_SIP_20\r\n bind location-service LS_20\r\n no shutdown"}]
[413,{"$f":"+IF(Data!$C$5>ROW('3CX'!B414)-ROW('3CX'!$B$394),\"\",\"#\")","v":"#"},{"$f":"+CONCATENATE(\"context sip-gateway GW_SIP_\",'Line Table'!A22,CHAR(13),CHAR(10),\" interface \",Data!$C$8,CHAR(13),CHAR(10),\" bind interface IF_IP_\",Data!$C$8,\" context router port \",'Line Table'!G22,CHAR(13),CHAR(10),\" context sip-gateway GW_SIP_\",'Line Table'!A22,CHAR(13),CHAR(10),\" bind location-service LS_\",'Line Table'!A22,CHAR(13),CHAR(10),\" no shutdown\")","v":"context sip-gateway GW_SIP_21\r\n interface LAN\r\n bind interface IF_IP_LAN context router port 5100\r\n context sip-gateway GW_SIP_21\r\n bind location-service LS_21\r\n no shutdown"}]
[414,{"$f":"+IF(Data!$C$5>ROW('3CX'!B415)-ROW('3CX'!$B$394),\"\",\"#\")","v":"#"},{"$f":"+CONCATENATE(\"context sip-gateway GW_SIP_\",'Line Table'!A23,CHAR(13),CHAR(10),\" interface \",Data!$C$8,CHAR(13),CHAR(10),\" bind interface IF_IP_\",Data!$C$8,\" context router port \",'Line Table'!G23,CHAR(13),CHAR(10),\" context sip-gateway GW_SIP_\",'Line Table'!A23,CHAR(13),CHAR(10),\" bind location-service LS_\",'Line Table'!A23,CHAR(13),CHAR(10),\" no shutdown\")","v":"context sip-gateway GW_SIP_22\r\n interface LAN\r\n bind interface IF_IP_LAN context router port 5102\r\n context sip-gateway GW_SIP_22\r\n bind location-service LS_22\r\n no shutdown"}]
[415,{"$f":"+IF(Data!$C$5>ROW('3CX'!B416)-ROW('3CX'!$B$394),\"\",\"#\")","v":"#"},{"$f":"+CONCATENATE(\"context sip-gateway GW_SIP_\",'Line Table'!A24,CHAR(13),CHAR(10),\" interface \",Data!$C$8,CHAR(13),CHAR(10),\" bind interface IF_IP_\",Data!$C$8,\" context router port \",'Line Table'!G24,CHAR(13),CHAR(10),\" context sip-gateway GW_SIP_\",'Line Table'!A24,CHAR(13),CHAR(10),\" bind location-service LS_\",'Line Table'!A24,CHAR(13),CHAR(10),\" no shutdown\")","v":"context sip-gateway GW_SIP_23\r\n interface LAN\r\n bind interface IF_IP_LAN context router port 5104\r\n context sip-gateway GW_SIP_23\r\n bind location-service LS_23\r\n no shutdown"}]
[416,{"$f":"+IF(Data!$C$5>ROW('3CX'!B417)-ROW('3CX'!$B$394),\"\",\"#\")","v":"#"},{"$f":"+CONCATENATE(\"context sip-gateway GW_SIP_\",'Line Table'!A25,CHAR(13),CHAR(10),\" interface \",Data!$C$8,CHAR(13),CHAR(10),\" bind interface IF_IP_\",Data!$C$8,\" context router port \",'Line Table'!G25,CHAR(13),CHAR(10),\" context sip-gateway GW_SIP_\",'Line Table'!A25,CHAR(13),CHAR(10),\" bind location-service LS_\",'Line Table'!A25,CHAR(13),CHAR(10),\" no shutdown\")","v":"context sip-gateway GW_SIP_24\r\n interface LAN\r\n bind interface IF_IP_LAN context router port 5106\r\n context sip-gateway GW_SIP_24\r\n bind location-service LS_24\r\n no shutdown"}]
[417,{"$f":"+IF(Data!$C$5>ROW('3CX'!B418)-ROW('3CX'!$B$394),\"\",\"#\")","v":"#"},{"$f":"+CONCATENATE(\"context sip-gateway GW_SIP_\",'Line Table'!A26,CHAR(13),CHAR(10),\" interface \",Data!$C$8,CHAR(13),CHAR(10),\" bind interface IF_IP_\",Data!$C$8,\" context router port \",'Line Table'!G26,CHAR(13),CHAR(10),\" context sip-gateway GW_SIP_\",'Line Table'!A26,CHAR(13),CHAR(10),\" bind location-service LS_\",'Line Table'!A26,CHAR(13),CHAR(10),\" no shutdown\")","v":"context sip-gateway GW_SIP_25\r\n interface LAN\r\n bind interface IF_IP_LAN context router port 5108\r\n context sip-gateway GW_SIP_25\r\n bind location-service LS_25\r\n no shutdown"}]
[418,{"$f":"+IF(Data!$C$5>ROW('3CX'!B419)-ROW('3CX'!$B$394),\"\",\"#\")","v":"#"},{"$f":"+CONCATENATE(\"context sip-gateway GW_SIP_\",'Line Table'!A27,CHAR(13),CHAR(10),\" interface \",Data!$C$8,CHAR(13),CHAR(10),\" bind interface IF_IP_\",Data!$C$8,\" context router port \",'Line Table'!G27,CHAR(13),CHAR(10),\" context sip-gateway GW_SIP_\",'Line Table'!A27,CHAR(13),CHAR(10),\" bind location-service LS_\",'Line Table'!A27,CHAR(13),CHAR(10),\" no shutdown\")","v":"context sip-gateway GW_SIP_26\r\n interface LAN\r\n bind interface IF_IP_LAN context router port 5110\r\n context sip-gateway GW_SIP_26\r\n bind location-service LS_26\r\n no shutdown"}]
[419,{"$f":"+IF(Data!$C$5>ROW('3CX'!B420)-ROW('3CX'!$B$394),\"\",\"#\")","v":"#"},{"$f":"+CONCATENATE(\"context sip-gateway GW_SIP_\",'Line Table'!A28,CHAR(13),CHAR(10),\" interface \",Data!$C$8,CHAR(13),CHAR(10),\" bind interface IF_IP_\",Data!$C$8,\" context router port \",'Line Table'!G28,CHAR(13),CHAR(10),\" context sip-gateway GW_SIP_\",'Line Table'!A28,CHAR(13),CHAR(10),\" bind location-service LS_\",'Line Table'!A28,CHAR(13),CHAR(10),\" no shutdown\")","v":"context sip-gateway GW_SIP_27\r\n interface LAN\r\n bind interface IF_IP_LAN context router port 5112\r\n context sip-gateway GW_SIP_27\r\n bind location-service LS_27\r\n no shutdown"}]
[420,{"$f":"+IF(Data!$C$5>ROW('3CX'!B421)-ROW('3CX'!$B$394),\"\",\"#\")","v":"#"},{"$f":"+CONCATENATE(\"context sip-gateway GW_SIP_\",'Line Table'!A29,CHAR(13),CHAR(10),\" interface \",Data!$C$8,CHAR(13),CHAR(10),\" bind interface IF_IP_\",Data!$C$8,\" context router port \",'Line Table'!G29,CHAR(13),CHAR(10),\" context sip-gateway GW_SIP_\",'Line Table'!A29,CHAR(13),CHAR(10),\" bind location-service LS_\",'Line Table'!A29,CHAR(13),CHAR(10),\" no shutdown\")","v":"context sip-gateway GW_SIP_28\r\n interface LAN\r\n bind interface IF_IP_LAN context router port 5114\r\n context sip-gateway GW_SIP_28\r\n bind location-service LS_28\r\n no shutdown"}]
[421,{"$f":"+IF(Data!$C$5>ROW('3CX'!B422)-ROW('3CX'!$B$394),\"\",\"#\")","v":"#"},{"$f":"+CONCATENATE(\"context sip-gateway GW_SIP_\",'Line Table'!A30,CHAR(13),CHAR(10),\" interface \",Data!$C$8,CHAR(13),CHAR(10),\" bind interface IF_IP_\",Data!$C$8,\" context router port \",'Line Table'!G30,CHAR(13),CHAR(10),\" context sip-gateway GW_SIP_\",'Line Table'!A30,CHAR(13),CHAR(10),\" bind location-service LS_\",'Line Table'!A30,CHAR(13),CHAR(10),\" no shutdown\")","v":"context sip-gateway GW_SIP_29\r\n interface LAN\r\n bind interface IF_IP_LAN context router port 5116\r\n context sip-gateway GW_SIP_29\r\n bind location-service LS_29\r\n no shutdown"}]
[422,{"$f":"+IF(Data!$C$5>ROW('3CX'!B423)-ROW('3CX'!$B$394),\"\",\"#\")","v":"#"},{"$f":"+CONCATENATE(\"context sip-gateway GW_SIP_\",'Line Table'!A31,CHAR(13),CHAR(10),\" interface \",Data!$C$8,CHAR(13),CHAR(10),\" bind interface IF_IP_\",Data!$C$8,\" context router port \",'Line Table'!G31,CHAR(13),CHAR(10),\" context sip-gateway GW_SIP_\",'Line Table'!A31,CHAR(13),CHAR(10),\" bind location-service LS_\",'Line Table'!A31,CHAR(13),CHAR(10),\" no shutdown\")","v":"context sip-gateway GW_SIP_30\r\n interface LAN\r\n bind interface IF_IP_LAN context router port 5118\r\n context sip-gateway GW_SIP_30\r\n bind location-service LS_30\r\n no shutdown"}]
[423,{"$f":"+IF(Data!$C$5>ROW('3CX'!B424)-ROW('3CX'!$B$394),\"\",\"#\")","v":"#"},{"$f":"+CONCATENATE(\"context sip-gateway GW_SIP_\",'Line Table'!A32,CHAR(13),CHAR(10),\" interface \",Data!$C$8,CHAR(13),CHAR(10),\" bind interface IF_IP_\",Data!$C$8,\" context router port \",'Line Table'!G32,CHAR(13),CHAR(10),\" context sip-gateway GW_SIP_\",'Line Table'!A32,CHAR(13),CHAR(10),\" bind location-service LS_\",'Line Table'!A32,CHAR(13),CHAR(10),\" no shutdown\")","v":"context sip-gateway GW_SIP_31\r\n interface LAN\r\n bind interface IF_IP_LAN context router port 5120\r\n context sip-gateway GW_SIP_31\r\n bind location-service LS_31\r\n no shutdown"}]
[424,{"$f":"+IF(Data!$C$5>ROW('3CX'!B425)-ROW('3CX'!$B$394),\"\",\"#\")","v":"#"},{"$f":"+CONCATENATE(\"context sip-gateway GW_SIP_\",'Line Table'!A33,CHAR(13),CHAR(10),\" interface \",Data!$C$8,CHAR(13),CHAR(10),\" bind interface IF_IP_\",Data!$C$8,\" context router port \",'Line Table'!G33,CHAR(13),CHAR(10),\" context sip-gateway GW_SIP_\",'Line Table'!A33,CHAR(13),CHAR(10),\" bind location-service LS_\",'Line Table'!A33,CHAR(13),CHAR(10),\" no shutdown\")","v":"context sip-gateway GW_SIP_32\r\n interface LAN\r\n bind interface IF_IP_LAN context router port 5122\r\n context sip-gateway GW_SIP_32\r\n bind location-service LS_32\r\n no shutdown"}]
[425,null,"        "]
[426,{"$f":"+IF(Data!$C$5>ROW('3CX'!B427)-ROW('3CX'!$B$427),\"\",\"#\")","v":""},{"$f":"+CONCATENATE(\"  port fxo 0 \",ROW()-ROW($C$427),CHAR(13),CHAR(10),\"      \",Data!$C$31,CHAR(13),CHAR(10),\"     encapsulation cc-fxo\",CHAR(13),CHAR(10),\"      bind interface IF_FXO_\",'Line Table'!A2,\" switch\",CHAR(13),CHAR(10),\"      no shutdown\")","v":"  port fxo 0 0\r\n      use profile fxo us\r\n     encapsulation cc-fxo\r\n      bind interface IF_FXO_1 switch\r\n      no shutdown"}]
[427,{"$f":"+IF(Data!$C$5>ROW('3CX'!B428)-ROW('3CX'!$B$427),\"\",\"#\")","v":""},{"$f":"+CONCATENATE(\"  port fxo 0 \",ROW()-ROW($C$427),CHAR(13),CHAR(10),\"      \",Data!$C$31,CHAR(13),CHAR(10),\"     encapsulation cc-fxo\",CHAR(13),CHAR(10),\"      bind interface IF_FXO_\",'Line Table'!A3,\" switch\",CHAR(13),CHAR(10),\"      no shutdown\")","v":"  port fxo 0 1\r\n      use profile fxo us\r\n     encapsulation cc-fxo\r\n      bind interface IF_FXO_2 switch\r\n      no shutdown"}]
[428,{"$f":"+IF(Data!$C$5>ROW('3CX'!B429)-ROW('3CX'!$B$427),\"\",\"#\")","v":""},{"$f":"+CONCATENATE(\"  port fxo 0 \",ROW()-ROW($C$427),CHAR(13),CHAR(10),\"      \",Data!$C$31,CHAR(13),CHAR(10),\"     encapsulation cc-fxo\",CHAR(13),CHAR(10),\"      bind interface IF_FXO_\",'Line Table'!A4,\" switch\",CHAR(13),CHAR(10),\"      no shutdown\")","v":"  port fxo 0 2\r\n      use profile fxo us\r\n     encapsulation cc-fxo\r\n      bind interface IF_FXO_3 switch\r\n      no shutdown"}]
[429,{"$f":"+IF(Data!$C$5>ROW('3CX'!B430)-ROW('3CX'!$B$427),\"\",\"#\")","v":""},{"$f":"+CONCATENATE(\"  port fxo 0 \",ROW()-ROW($C$427),CHAR(13),CHAR(10),\"      \",Data!$C$31,CHAR(13),CHAR(10),\"     encapsulation cc-fxo\",CHAR(13),CHAR(10),\"      bind interface IF_FXO_\",'Line Table'!A5,\" switch\",CHAR(13),CHAR(10),\"      no shutdown\")","v":"  port fxo 0 3\r\n      use profile fxo us\r\n     encapsulation cc-fxo\r\n      bind interface IF_FXO_4 switch\r\n      no shutdown"}]
[430,{"$f":"+IF(Data!$C$5>ROW('3CX'!B431)-ROW('3CX'!$B$427),\"\",\"#\")","v":""},{"$f":"+CONCATENATE(\"  port fxo 0 \",ROW()-ROW($C$427),CHAR(13),CHAR(10),\"      \",Data!$C$31,CHAR(13),CHAR(10),\"     encapsulation cc-fxo\",CHAR(13),CHAR(10),\"      bind interface IF_FXO_\",'Line Table'!A6,\" switch\",CHAR(13),CHAR(10),\"      no shutdown\")","v":"  port fxo 0 4\r\n      use profile fxo us\r\n     encapsulation cc-fxo\r\n      bind interface IF_FXO_5 switch\r\n      no shutdown"}]
[431,{"$f":"+IF(Data!$C$5>ROW('3CX'!B432)-ROW('3CX'!$B$427),\"\",\"#\")","v":""},{"$f":"+CONCATENATE(\"  port fxo 0 \",ROW()-ROW($C$427),CHAR(13),CHAR(10),\"      \",Data!$C$31,CHAR(13),CHAR(10),\"     encapsulation cc-fxo\",CHAR(13),CHAR(10),\"      bind interface IF_FXO_\",'Line Table'!A7,\" switch\",CHAR(13),CHAR(10),\"      no shutdown\")","v":"  port fxo 0 5\r\n      use profile fxo us\r\n     encapsulation cc-fxo\r\n      bind interface IF_FXO_6 switch\r\n      no shutdown"}]
[432,{"$f":"+IF(Data!$C$5>ROW('3CX'!B433)-ROW('3CX'!$B$427),\"\",\"#\")","v":""},{"$f":"+CONCATENATE(\"  port fxo 0 \",ROW()-ROW($C$427),CHAR(13),CHAR(10),\"      \",Data!$C$31,CHAR(13),CHAR(10),\"     encapsulation cc-fxo\",CHAR(13),CHAR(10),\"      bind interface IF_FXO_\",'Line Table'!A8,\" switch\",CHAR(13),CHAR(10),\"      no shutdown\")","v":"  port fxo 0 6\r\n      use profile fxo us\r\n     encapsulation cc-fxo\r\n      bind interface IF_FXO_7 switch\r\n      no shutdown"}]
[433,{"$f":"+IF(Data!$C$5>ROW('3CX'!B434)-ROW('3CX'!$B$427),\"\",\"#\")","v":""},{"$f":"+CONCATENATE(\"  port fxo 0 \",ROW()-ROW($C$427),CHAR(13),CHAR(10),\"      \",Data!$C$31,CHAR(13),CHAR(10),\"     encapsulation cc-fxo\",CHAR(13),CHAR(10),\"      bind interface IF_FXO_\",'Line Table'!A9,\" switch\",CHAR(13),CHAR(10),\"      no shutdown\")","v":"  port fxo 0 7\r\n      use profile fxo us\r\n     encapsulation cc-fxo\r\n      bind interface IF_FXO_8 switch\r\n      no shutdown"}]
[434,{"$f":"+IF(Data!$C$5>ROW('3CX'!B435)-ROW('3CX'!$B$427),\"\",\"#\")","v":""},{"$f":"+CONCATENATE(\"  port fxo 0 \",ROW()-ROW($C$427),CHAR(13),CHAR(10),\"      \",Data!$C$31,CHAR(13),CHAR(10),\"     encapsulation cc-fxo\",CHAR(13),CHAR(10),\"      bind interface IF_FXO_\",'Line Table'!A10,\" switch\",CHAR(13),CHAR(10),\"      no shutdown\")","v":"  port fxo 0 8\r\n      use profile fxo us\r\n     encapsulation cc-fxo\r\n      bind interface IF_FXO_9 switch\r\n      no shutdown"}]
[435,{"$f":"+IF(Data!$C$5>ROW('3CX'!B436)-ROW('3CX'!$B$427),\"\",\"#\")","v":""},{"$f":"+CONCATENATE(\"  port fxo 0 \",ROW()-ROW($C$427),CHAR(13),CHAR(10),\"      \",Data!$C$31,CHAR(13),CHAR(10),\"     encapsulation cc-fxo\",CHAR(13),CHAR(10),\"      bind interface IF_FXO_\",'Line Table'!A11,\" switch\",CHAR(13),CHAR(10),\"      no shutdown\")","v":"  port fxo 0 9\r\n      use profile fxo us\r\n     encapsulation cc-fxo\r\n      bind interface IF_FXO_10 switch\r\n      no shutdown"}]
[436,{"$f":"+IF(Data!$C$5>ROW('3CX'!B437)-ROW('3CX'!$B$427),\"\",\"#\")","v":""},{"$f":"+CONCATENATE(\"  port fxo 0 \",ROW()-ROW($C$427),CHAR(13),CHAR(10),\"      \",Data!$C$31,CHAR(13),CHAR(10),\"     encapsulation cc-fxo\",CHAR(13),CHAR(10),\"      bind interface IF_FXO_\",'Line Table'!A12,\" switch\",CHAR(13),CHAR(10),\"      no shutdown\")","v":"  port fxo 0 10\r\n      use profile fxo us\r\n     encapsulation cc-fxo\r\n      bind interface IF_FXO_11 switch\r\n      no shutdown"}]
[437,{"$f":"+IF(Data!$C$5>ROW('3CX'!B438)-ROW('3CX'!$B$427),\"\",\"#\")","v":""},{"$f":"+CONCATENATE(\"  port fxo 0 \",ROW()-ROW($C$427),CHAR(13),CHAR(10),\"      \",Data!$C$31,CHAR(13),CHAR(10),\"     encapsulation cc-fxo\",CHAR(13),CHAR(10),\"      bind interface IF_FXO_\",'Line Table'!A13,\" switch\",CHAR(13),CHAR(10),\"      no shutdown\")","v":"  port fxo 0 11\r\n      use profile fxo us\r\n     encapsulation cc-fxo\r\n      bind interface IF_FXO_12 switch\r\n      no shutdown"}]
[438,{"$f":"+IF(Data!$C$5>ROW('3CX'!B439)-ROW('3CX'!$B$427),\"\",\"#\")","v":"#"},{"$f":"+CONCATENATE(\"  port fxo 0 \",ROW()-ROW($C$427),CHAR(13),CHAR(10),\"      \",Data!$C$31,CHAR(13),CHAR(10),\"     encapsulation cc-fxo\",CHAR(13),CHAR(10),\"      bind interface IF_FXO_\",'Line Table'!A14,\" switch\",CHAR(13),CHAR(10),\"      no shutdown\")","v":"  port fxo 0 12\r\n      use profile fxo us\r\n     encapsulation cc-fxo\r\n      bind interface IF_FXO_13 switch\r\n      no shutdown"}]
[439,{"$f":"+IF(Data!$C$5>ROW('3CX'!B440)-ROW('3CX'!$B$427),\"\",\"#\")","v":"#"},{"$f":"+CONCATENATE(\"  port fxo 0 \",ROW()-ROW($C$427),CHAR(13),CHAR(10),\"      \",Data!$C$31,CHAR(13),CHAR(10),\"     encapsulation cc-fxo\",CHAR(13),CHAR(10),\"      bind interface IF_FXO_\",'Line Table'!A15,\" switch\",CHAR(13),CHAR(10),\"      no shutdown\")","v":"  port fxo 0 13\r\n      use profile fxo us\r\n     encapsulation cc-fxo\r\n      bind interface IF_FXO_14 switch\r\n      no shutdown"}]
[440,{"$f":"+IF(Data!$C$5>ROW('3CX'!B441)-ROW('3CX'!$B$427),\"\",\"#\")","v":"#"},{"$f":"+CONCATENATE(\"  port fxo 0 \",ROW()-ROW($C$427),CHAR(13),CHAR(10),\"      \",Data!$C$31,CHAR(13),CHAR(10),\"     encapsulation cc-fxo\",CHAR(13),CHAR(10),\"      bind interface IF_FXO_\",'Line Table'!A16,\" switch\",CHAR(13),CHAR(10),\"      no shutdown\")","v":"  port fxo 0 14\r\n      use profile fxo us\r\n     encapsulation cc-fxo\r\n      bind interface IF_FXO_15 switch\r\n      no shutdown"}]
[441,{"$f":"+IF(Data!$C$5>ROW('3CX'!B442)-ROW('3CX'!$B$427),\"\",\"#\")","v":"#"},{"$f":"+CONCATENATE(\"  port fxo 0 \",ROW()-ROW($C$427),CHAR(13),CHAR(10),\"      \",Data!$C$31,CHAR(13),CHAR(10),\"     encapsulation cc-fxo\",CHAR(13),CHAR(10),\"      bind interface IF_FXO_\",'Line Table'!A17,\" switch\",CHAR(13),CHAR(10),\"      no shutdown\")","v":"  port fxo 0 15\r\n      use profile fxo us\r\n     encapsulation cc-fxo\r\n      bind interface IF_FXO_16 switch\r\n      no shutdown"}]
[442,{"$f":"+IF(Data!$C$5>ROW('3CX'!B443)-ROW('3CX'!$B$427),\"\",\"#\")","v":"#"},{"$f":"+CONCATENATE(\"  port fxo 0 \",ROW()-ROW($C$427),CHAR(13),CHAR(10),\"      \",Data!$C$31,CHAR(13),CHAR(10),\"     encapsulation cc-fxo\",CHAR(13),CHAR(10),\"      bind interface IF_FXO_\",'Line Table'!A18,\" switch\",CHAR(13),CHAR(10),\"      no shutdown\")","v":"  port fxo 0 16\r\n      use profile fxo us\r\n     encapsulation cc-fxo\r\n      bind interface IF_FXO_17 switch\r\n      no shutdown"}]
[443,{"$f":"+IF(Data!$C$5>ROW('3CX'!B444)-ROW('3CX'!$B$427),\"\",\"#\")","v":"#"},{"$f":"+CONCATENATE(\"  port fxo 0 \",ROW()-ROW($C$427),CHAR(13),CHAR(10),\"      \",Data!$C$31,CHAR(13),CHAR(10),\"     encapsulation cc-fxo\",CHAR(13),CHAR(10),\"      bind interface IF_FXO_\",'Line Table'!A19,\" switch\",CHAR(13),CHAR(10),\"      no shutdown\")","v":"  port fxo 0 17\r\n      use profile fxo us\r\n     encapsulation cc-fxo\r\n      bind interface IF_FXO_18 switch\r\n      no shutdown"}]
[444,{"$f":"+IF(Data!$C$5>ROW('3CX'!B445)-ROW('3CX'!$B$427),\"\",\"#\")","v":"#"},{"$f":"+CONCATENATE(\"  port fxo 0 \",ROW()-ROW($C$427),CHAR(13),CHAR(10),\"      \",Data!$C$31,CHAR(13),CHAR(10),\"     encapsulation cc-fxo\",CHAR(13),CHAR(10),\"      bind interface IF_FXO_\",'Line Table'!A20,\" switch\",CHAR(13),CHAR(10),\"      no shutdown\")","v":"  port fxo 0 18\r\n      use profile fxo us\r\n     encapsulation cc-fxo\r\n      bind interface IF_FXO_19 switch\r\n      no shutdown"}]
[445,{"$f":"+IF(Data!$C$5>ROW('3CX'!B446)-ROW('3CX'!$B$427),\"\",\"#\")","v":"#"},{"$f":"+CONCATENATE(\"  port fxo 0 \",ROW()-ROW($C$427),CHAR(13),CHAR(10),\"      \",Data!$C$31,CHAR(13),CHAR(10),\"     encapsulation cc-fxo\",CHAR(13),CHAR(10),\"      bind interface IF_FXO_\",'Line Table'!A21,\" switch\",CHAR(13),CHAR(10),\"      no shutdown\")","v":"  port fxo 0 19\r\n      use profile fxo us\r\n     encapsulation cc-fxo\r\n      bind interface IF_FXO_20 switch\r\n      no shutdown"}]
[446,{"$f":"+IF(Data!$C$5>ROW('3CX'!B447)-ROW('3CX'!$B$427),\"\",\"#\")","v":"#"},{"$f":"+CONCATENATE(\"  port fxo 0 \",ROW()-ROW($C$427),CHAR(13),CHAR(10),\"      \",Data!$C$31,CHAR(13),CHAR(10),\"     encapsulation cc-fxo\",CHAR(13),CHAR(10),\"      bind interface IF_FXO_\",'Line Table'!A22,\" switch\",CHAR(13),CHAR(10),\"      no shutdown\")","v":"  port fxo 0 20\r\n      use profile fxo us\r\n     encapsulation cc-fxo\r\n      bind interface IF_FXO_21 switch\r\n      no shutdown"}]
[447,{"$f":"+IF(Data!$C$5>ROW('3CX'!B448)-ROW('3CX'!$B$427),\"\",\"#\")","v":"#"},{"$f":"+CONCATENATE(\"  port fxo 0 \",ROW()-ROW($C$427),CHAR(13),CHAR(10),\"      \",Data!$C$31,CHAR(13),CHAR(10),\"     encapsulation cc-fxo\",CHAR(13),CHAR(10),\"      bind interface IF_FXO_\",'Line Table'!A23,\" switch\",CHAR(13),CHAR(10),\"      no shutdown\")","v":"  port fxo 0 21\r\n      use profile fxo us\r\n     encapsulation cc-fxo\r\n      bind interface IF_FXO_22 switch\r\n      no shutdown"}]
[448,{"$f":"+IF(Data!$C$5>ROW('3CX'!B449)-ROW('3CX'!$B$427),\"\",\"#\")","v":"#"},{"$f":"+CONCATENATE(\"  port fxo 0 \",ROW()-ROW($C$427),CHAR(13),CHAR(10),\"      \",Data!$C$31,CHAR(13),CHAR(10),\"     encapsulation cc-fxo\",CHAR(13),CHAR(10),\"      bind interface IF_FXO_\",'Line Table'!A24,\" switch\",CHAR(13),CHAR(10),\"      no shutdown\")","v":"  port fxo 0 22\r\n      use profile fxo us\r\n     encapsulation cc-fxo\r\n      bind interface IF_FXO_23 switch\r\n      no shutdown"}]
[449,{"$f":"+IF(Data!$C$5>ROW('3CX'!B450)-ROW('3CX'!$B$427),\"\",\"#\")","v":"#"},{"$f":"+CONCATENATE(\"  port fxo 0 \",ROW()-ROW($C$427),CHAR(13),CHAR(10),\"      \",Data!$C$31,CHAR(13),CHAR(10),\"     encapsulation cc-fxo\",CHAR(13),CHAR(10),\"      bind interface IF_FXO_\",'Line Table'!A25,\" switch\",CHAR(13),CHAR(10),\"      no shutdown\")","v":"  port fxo 0 23\r\n      use profile fxo us\r\n     encapsulation cc-fxo\r\n      bind interface IF_FXO_24 switch\r\n      no shutdown"}]
[450,{"$f":"+IF(Data!$C$5>ROW('3CX'!B451)-ROW('3CX'!$B$427),\"\",\"#\")","v":"#"},{"$f":"+CONCATENATE(\"  port fxo 0 \",ROW()-ROW($C$427),CHAR(13),CHAR(10),\"      \",Data!$C$31,CHAR(13),CHAR(10),\"     encapsulation cc-fxo\",CHAR(13),CHAR(10),\"      bind interface IF_FXO_\",'Line Table'!A26,\" switch\",CHAR(13),CHAR(10),\"      no shutdown\")","v":"  port fxo 0 24\r\n      use profile fxo us\r\n     encapsulation cc-fxo\r\n      bind interface IF_FXO_25 switch\r\n      no shutdown"}]
[451,{"$f":"+IF(Data!$C$5>ROW('3CX'!B452)-ROW('3CX'!$B$427),\"\",\"#\")","v":"#"},{"$f":"+CONCATENATE(\"  port fxo 0 \",ROW()-ROW($C$427),CHAR(13),CHAR(10),\"      \",Data!$C$31,CHAR(13),CHAR(10),\"     encapsulation cc-fxo\",CHAR(13),CHAR(10),\"      bind interface IF_FXO_\",'Line Table'!A27,\" switch\",CHAR(13),CHAR(10),\"      no shutdown\")","v":"  port fxo 0 25\r\n      use profile fxo us\r\n     encapsulation cc-fxo\r\n      bind interface IF_FXO_26 switch\r\n      no shutdown"}]
[452,{"$f":"+IF(Data!$C$5>ROW('3CX'!B453)-ROW('3CX'!$B$427),\"\",\"#\")","v":"#"},{"$f":"+CONCATENATE(\"  port fxo 0 \",ROW()-ROW($C$427),CHAR(13),CHAR(10),\"      \",Data!$C$31,CHAR(13),CHAR(10),\"     encapsulation cc-fxo\",CHAR(13),CHAR(10),\"      bind interface IF_FXO_\",'Line Table'!A28,\" switch\",CHAR(13),CHAR(10),\"      no shutdown\")","v":"  port fxo 0 26\r\n      use profile fxo us\r\n     encapsulation cc-fxo\r\n      bind interface IF_FXO_27 switch\r\n      no shutdown"}]
[453,{"$f":"+IF(Data!$C$5>ROW('3CX'!B454)-ROW('3CX'!$B$427),\"\",\"#\")","v":"#"},{"$f":"+CONCATENATE(\"  port fxo 0 \",ROW()-ROW($C$427),CHAR(13),CHAR(10),\"      \",Data!$C$31,CHAR(13),CHAR(10),\"     encapsulation cc-fxo\",CHAR(13),CHAR(10),\"      bind interface IF_FXO_\",'Line Table'!A29,\" switch\",CHAR(13),CHAR(10),\"      no shutdown\")","v":"  port fxo 0 27\r\n      use profile fxo us\r\n     encapsulation cc-fxo\r\n      bind interface IF_FXO_28 switch\r\n      no shutdown"}]
[454,{"$f":"+IF(Data!$C$5>ROW('3CX'!B455)-ROW('3CX'!$B$427),\"\",\"#\")","v":"#"},{"$f":"+CONCATENATE(\"  port fxo 0 \",ROW()-ROW($C$427),CHAR(13),CHAR(10),\"      \",Data!$C$31,CHAR(13),CHAR(10),\"     encapsulation cc-fxo\",CHAR(13),CHAR(10),\"      bind interface IF_FXO_\",'Line Table'!A30,\" switch\",CHAR(13),CHAR(10),\"      no shutdown\")","v":"  port fxo 0 28\r\n      use profile fxo us\r\n     encapsulation cc-fxo\r\n      bind interface IF_FXO_29 switch\r\n      no shutdown"}]
[455,{"$f":"+IF(Data!$C$5>ROW('3CX'!B456)-ROW('3CX'!$B$427),\"\",\"#\")","v":"#"},{"$f":"+CONCATENATE(\"  port fxo 0 \",ROW()-ROW($C$427),CHAR(13),CHAR(10),\"      \",Data!$C$31,CHAR(13),CHAR(10),\"     encapsulation cc-fxo\",CHAR(13),CHAR(10),\"      bind interface IF_FXO_\",'Line Table'!A31,\" switch\",CHAR(13),CHAR(10),\"      no shutdown\")","v":"  port fxo 0 29\r\n      use profile fxo us\r\n     encapsulation cc-fxo\r\n      bind interface IF_FXO_30 switch\r\n      no shutdown"}]
[456,{"$f":"+IF(Data!$C$5>ROW('3CX'!B457)-ROW('3CX'!$B$427),\"\",\"#\")","v":"#"},{"$f":"+CONCATENATE(\"  port fxo 0 \",ROW()-ROW($C$427),CHAR(13),CHAR(10),\"      \",Data!$C$31,CHAR(13),CHAR(10),\"     encapsulation cc-fxo\",CHAR(13),CHAR(10),\"      bind interface IF_FXO_\",'Line Table'!A32,\" switch\",CHAR(13),CHAR(10),\"      no shutdown\")","v":"  port fxo 0 30\r\n      use profile fxo us\r\n     encapsulation cc-fxo\r\n      bind interface IF_FXO_31 switch\r\n      no shutdown"}]
[457,{"$f":"+IF(Data!$C$5>ROW('3CX'!B458)-ROW('3CX'!$B$427),\"\",\"#\")","v":"#"},{"$f":"+CONCATENATE(\"  port fxo 0 \",ROW()-ROW($C$427),CHAR(13),CHAR(10),\"      \",Data!$C$31,CHAR(13),CHAR(10),\"     encapsulation cc-fxo\",CHAR(13),CHAR(10),\"      bind interface IF_FXO_\",'Line Table'!A33,\" switch\",CHAR(13),CHAR(10),\"      no shutdown\")","v":"  port fxo 0 31\r\n      use profile fxo us\r\n     encapsulation cc-fxo\r\n      bind interface IF_FXO_32 switch\r\n      no shutdown"}]
[458]
[459,{"$f":"+IF(Data!$C$6>0,\" \",\"#\")","v":"#"},"context sip-gateway GW_SIP_ALL_EXTENSIONS"]
[460,{"$f":"+IF(Data!$C$6>0,\" \",\"#\")","v":"#"},{"$f":"+CONCATENATE(\"      interface \",Data!C8)","v":"      interface LAN"}]
[461,{"$f":"+IF(Data!$C$6>0,\" \",\"#\")","v":"#"},{"$f":"+CONCATENATE(\"        bind interface IF_IP_\",Data!C8,\" context router port \",Data!C36)","v":"        bind interface IF_IP_LAN context router port 5060"}]
[462]
[463,{"$f":"+IF(Data!$C$6>0,\" \",\"#\")","v":"#"},"context sip-gateway GW_SIP_ALL_EXTENSIONS"]
[464,{"$f":"+IF(Data!$C$6>0,\" \",\"#\")","v":"#"},"        bind location-service LS_ALL_EXTENSIONS"]
[465,{"$f":"+IF(Data!$C$6>0,\" \",\"#\")","v":"#"},"        no shutdown"]
[466]
[467,null,"port ethernet 0 0"]
[468,null,"  medium auto"]
[469,null,"  encapsulation ip"]
[470,null,"  bind interface IF_IP_LAN router"]
[471,null,"  no shutdown"]
[472]
[473,{"$f":"+IF(Data!$C$7=\"N\",\"#\",\"\")","v":"#"},"port ethernet 0 1"]
[474,{"$f":"+IF(Data!$C$7=\"N\",\"#\",\"\")","v":"#"},"  medium auto"]
[475,{"$f":"+IF(Data!$C$7=\"N\",\"#\",\"\")","v":"#"},"  encapsulation ip"]
[476,{"$f":"+IF(Data!$C$7=\"N\",\"#\",\"\")","v":"#"},"  bind interface IF_IP_WAN router"]
[477,{"$f":"+IF(Data!$C$7=\"N\",\"#\",\"\")","v":"#"},"  no shutdown"]
[478]
[479,{"$f":"+IF(Data!$C$6>ROW('3CX'!B480)-ROW('3CX'!$B$480),\"\",\"#\")","v":"#"},{"$f":"+CONCATENATE(\"  port fxs 0 \",ROW()-ROW($E$480),CHAR(13),CHAR(10),\"        caller-id format \", Data!$C$41,CHAR(13),CHAR(10),\"         \",Data!$C$32,CHAR(13),CHAR(10),\"      encapsulation cc-fxs\",CHAR(13),CHAR(10),\"       bind interface IF_FXS_\",'Extension Table'!C2,\" switch \",CHAR(13),CHAR(10),\"     no shutdown\")","v":"  port fxs 0 0\r\n        caller-id format etsi\r\n         use profile fxs us\r\n      encapsulation cc-fxs\r\n       bind interface IF_FXS_1 switch \r\n     no shutdown"}]
[480,{"$f":"+IF(Data!$C$6>ROW('3CX'!B481)-ROW('3CX'!$B$480),\"\",\"#\")","v":"#"},{"$f":"+CONCATENATE(\"  port fxs 0 \",ROW()-ROW($E$480),CHAR(13),CHAR(10),\"        caller-id format \", Data!$C$41,CHAR(13),CHAR(10),\"         \",Data!$C$32,CHAR(13),CHAR(10),\"      encapsulation cc-fxs\",CHAR(13),CHAR(10),\"       bind interface IF_FXS_\",'Extension Table'!C3,\" switch \",CHAR(13),CHAR(10),\"     no shutdown\")","v":"  port fxs 0 1\r\n        caller-id format etsi\r\n         use profile fxs us\r\n      encapsulation cc-fxs\r\n       bind interface IF_FXS_2 switch \r\n     no shutdown"}]
[481,{"$f":"+IF(Data!$C$6>ROW('3CX'!B482)-ROW('3CX'!$B$480),\"\",\"#\")","v":"#"},{"$f":"+CONCATENATE(\"  port fxs 0 \",ROW()-ROW($E$480),CHAR(13),CHAR(10),\"        caller-id format \", Data!$C$41,CHAR(13),CHAR(10),\"         \",Data!$C$32,CHAR(13),CHAR(10),\"      encapsulation cc-fxs\",CHAR(13),CHAR(10),\"       bind interface IF_FXS_\",'Extension Table'!C4,\" switch \",CHAR(13),CHAR(10),\"     no shutdown\")","v":"  port fxs 0 2\r\n        caller-id format etsi\r\n         use profile fxs us\r\n      encapsulation cc-fxs\r\n       bind interface IF_FXS_3 switch \r\n     no shutdown"}]
[482,{"$f":"+IF(Data!$C$6>ROW('3CX'!B483)-ROW('3CX'!$B$480),\"\",\"#\")","v":"#"},{"$f":"+CONCATENATE(\"  port fxs 0 \",ROW()-ROW($E$480),CHAR(13),CHAR(10),\"        caller-id format \", Data!$C$41,CHAR(13),CHAR(10),\"         \",Data!$C$32,CHAR(13),CHAR(10),\"      encapsulation cc-fxs\",CHAR(13),CHAR(10),\"       bind interface IF_FXS_\",'Extension Table'!C5,\" switch \",CHAR(13),CHAR(10),\"     no shutdown\")","v":"  port fxs 0 3\r\n        caller-id format etsi\r\n         use profile fxs us\r\n      encapsulation cc-fxs\r\n       bind interface IF_FXS_4 switch \r\n     no shutdown"}]
[483,{"$f":"+IF(Data!$C$6>ROW('3CX'!B484)-ROW('3CX'!$B$480),\"\",\"#\")","v":"#"},{"$f":"+CONCATENATE(\"  port fxs 0 \",ROW()-ROW($E$480),CHAR(13),CHAR(10),\"        caller-id format \", Data!$C$41,CHAR(13),CHAR(10),\"         \",Data!$C$32,CHAR(13),CHAR(10),\"      encapsulation cc-fxs\",CHAR(13),CHAR(10),\"       bind interface IF_FXS_\",'Extension Table'!C6,\" switch \",CHAR(13),CHAR(10),\"     no shutdown\")","v":"  port fxs 0 4\r\n        caller-id format etsi\r\n         use profile fxs us\r\n      encapsulation cc-fxs\r\n       bind interface IF_FXS_5 switch \r\n     no shutdown"}]
[484,{"$f":"+IF(Data!$C$6>ROW('3CX'!B485)-ROW('3CX'!$B$480),\"\",\"#\")","v":"#"},{"$f":"+CONCATENATE(\"  port fxs 0 \",ROW()-ROW($E$480),CHAR(13),CHAR(10),\"        caller-id format \", Data!$C$41,CHAR(13),CHAR(10),\"         \",Data!$C$32,CHAR(13),CHAR(10),\"      encapsulation cc-fxs\",CHAR(13),CHAR(10),\"       bind interface IF_FXS_\",'Extension Table'!C7,\" switch \",CHAR(13),CHAR(10),\"     no shutdown\")","v":"  port fxs 0 5\r\n        caller-id format etsi\r\n         use profile fxs us\r\n      encapsulation cc-fxs\r\n       bind interface IF_FXS_6 switch \r\n     no shutdown"}]
[485,{"$f":"+IF(Data!$C$6>ROW('3CX'!B486)-ROW('3CX'!$B$480),\"\",\"#\")","v":"#"},{"$f":"+CONCATENATE(\"  port fxs 0 \",ROW()-ROW($E$480),CHAR(13),CHAR(10),\"        caller-id format \", Data!$C$41,CHAR(13),CHAR(10),\"         \",Data!$C$32,CHAR(13),CHAR(10),\"      encapsulation cc-fxs\",CHAR(13),CHAR(10),\"       bind interface IF_FXS_\",'Extension Table'!C8,\" switch \",CHAR(13),CHAR(10),\"     no shutdown\")","v":"  port fxs 0 6\r\n        caller-id format etsi\r\n         use profile fxs us\r\n      encapsulation cc-fxs\r\n       bind interface IF_FXS_7 switch \r\n     no shutdown"}]
[486,{"$f":"+IF(Data!$C$6>ROW('3CX'!B487)-ROW('3CX'!$B$480),\"\",\"#\")","v":"#"},{"$f":"+CONCATENATE(\"  port fxs 0 \",ROW()-ROW($E$480),CHAR(13),CHAR(10),\"        caller-id format \", Data!$C$41,CHAR(13),CHAR(10),\"         \",Data!$C$32,CHAR(13),CHAR(10),\"      encapsulation cc-fxs\",CHAR(13),CHAR(10),\"       bind interface IF_FXS_\",'Extension Table'!C9,\" switch \",CHAR(13),CHAR(10),\"     no shutdown\")","v":"  port fxs 0 7\r\n        caller-id format etsi\r\n         use profile fxs us\r\n      encapsulation cc-fxs\r\n       bind interface IF_FXS_8 switch \r\n     no shutdown"}]
[487,{"$f":"+IF(Data!$C$6>ROW('3CX'!B488)-ROW('3CX'!$B$480),\"\",\"#\")","v":"#"},{"$f":"+CONCATENATE(\"  port fxs 0 \",ROW()-ROW($E$480),CHAR(13),CHAR(10),\"        caller-id format \", Data!$C$41,CHAR(13),CHAR(10),\"         \",Data!$C$32,CHAR(13),CHAR(10),\"      encapsulation cc-fxs\",CHAR(13),CHAR(10),\"       bind interface IF_FXS_\",'Extension Table'!C10,\" switch \",CHAR(13),CHAR(10),\"     no shutdown\")","v":"  port fxs 0 8\r\n        caller-id format etsi\r\n         use profile fxs us\r\n      encapsulation cc-fxs\r\n       bind interface IF_FXS_9 switch \r\n     no shutdown"}]
[488,{"$f":"+IF(Data!$C$6>ROW('3CX'!B489)-ROW('3CX'!$B$480),\"\",\"#\")","v":"#"},{"$f":"+CONCATENATE(\"  port fxs 0 \",ROW()-ROW($E$480),CHAR(13),CHAR(10),\"        caller-id format \", Data!$C$41,CHAR(13),CHAR(10),\"         \",Data!$C$32,CHAR(13),CHAR(10),\"      encapsulation cc-fxs\",CHAR(13),CHAR(10),\"       bind interface IF_FXS_\",'Extension Table'!C11,\" switch \",CHAR(13),CHAR(10),\"     no shutdown\")","v":"  port fxs 0 9\r\n        caller-id format etsi\r\n         use profile fxs us\r\n      encapsulation cc-fxs\r\n       bind interface IF_FXS_10 switch \r\n     no shutdown"}]
[489,{"$f":"+IF(Data!$C$6>ROW('3CX'!B490)-ROW('3CX'!$B$480),\"\",\"#\")","v":"#"},{"$f":"+CONCATENATE(\"  port fxs 0 \",ROW()-ROW($E$480),CHAR(13),CHAR(10),\"        caller-id format \", Data!$C$41,CHAR(13),CHAR(10),\"         \",Data!$C$32,CHAR(13),CHAR(10),\"      encapsulation cc-fxs\",CHAR(13),CHAR(10),\"       bind interface IF_FXS_\",'Extension Table'!C12,\" switch \",CHAR(13),CHAR(10),\"     no shutdown\")","v":"  port fxs 0 10\r\n        caller-id format etsi\r\n         use profile fxs us\r\n      encapsulation cc-fxs\r\n       bind interface IF_FXS_11 switch \r\n     no shutdown"}]
[490,{"$f":"+IF(Data!$C$6>ROW('3CX'!B491)-ROW('3CX'!$B$480),\"\",\"#\")","v":"#"},{"$f":"+CONCATENATE(\"  port fxs 0 \",ROW()-ROW($E$480),CHAR(13),CHAR(10),\"        caller-id format \", Data!$C$41,CHAR(13),CHAR(10),\"         \",Data!$C$32,CHAR(13),CHAR(10),\"      encapsulation cc-fxs\",CHAR(13),CHAR(10),\"       bind interface IF_FXS_\",'Extension Table'!C13,\" switch \",CHAR(13),CHAR(10),\"     no shutdown\")","v":"  port fxs 0 11\r\n        caller-id format etsi\r\n         use profile fxs us\r\n      encapsulation cc-fxs\r\n       bind interface IF_FXS_12 switch \r\n     no shutdown"}]
[491,{"$f":"+IF(Data!$C$6>ROW('3CX'!B492)-ROW('3CX'!$B$480),\"\",\"#\")","v":"#"},{"$f":"+CONCATENATE(\"  port fxs 0 \",ROW()-ROW($E$480),CHAR(13),CHAR(10),\"        caller-id format \", Data!$C$41,CHAR(13),CHAR(10),\"         \",Data!$C$32,CHAR(13),CHAR(10),\"      encapsulation cc-fxs\",CHAR(13),CHAR(10),\"       bind interface IF_FXS_\",'Extension Table'!C14,\" switch \",CHAR(13),CHAR(10),\"     no shutdown\")","v":"  port fxs 0 12\r\n        caller-id format etsi\r\n         use profile fxs us\r\n      encapsulation cc-fxs\r\n       bind interface IF_FXS_13 switch \r\n     no shutdown"}]
[492,{"$f":"+IF(Data!$C$6>ROW('3CX'!B493)-ROW('3CX'!$B$480),\"\",\"#\")","v":"#"},{"$f":"+CONCATENATE(\"  port fxs 0 \",ROW()-ROW($E$480),CHAR(13),CHAR(10),\"        caller-id format \", Data!$C$41,CHAR(13),CHAR(10),\"         \",Data!$C$32,CHAR(13),CHAR(10),\"      encapsulation cc-fxs\",CHAR(13),CHAR(10),\"       bind interface IF_FXS_\",'Extension Table'!C15,\" switch \",CHAR(13),CHAR(10),\"     no shutdown\")","v":"  port fxs 0 13\r\n        caller-id format etsi\r\n         use profile fxs us\r\n      encapsulation cc-fxs\r\n       bind interface IF_FXS_14 switch \r\n     no shutdown"}]
[493,{"$f":"+IF(Data!$C$6>ROW('3CX'!B494)-ROW('3CX'!$B$480),\"\",\"#\")","v":"#"},{"$f":"+CONCATENATE(\"  port fxs 0 \",ROW()-ROW($E$480),CHAR(13),CHAR(10),\"        caller-id format \", Data!$C$41,CHAR(13),CHAR(10),\"         \",Data!$C$32,CHAR(13),CHAR(10),\"      encapsulation cc-fxs\",CHAR(13),CHAR(10),\"       bind interface IF_FXS_\",'Extension Table'!C16,\" switch \",CHAR(13),CHAR(10),\"     no shutdown\")","v":"  port fxs 0 14\r\n        caller-id format etsi\r\n         use profile fxs us\r\n      encapsulation cc-fxs\r\n       bind interface IF_FXS_15 switch \r\n     no shutdown"}]
[494,{"$f":"+IF(Data!$C$6>ROW('3CX'!B495)-ROW('3CX'!$B$480),\"\",\"#\")","v":"#"},{"$f":"+CONCATENATE(\"  port fxs 0 \",ROW()-ROW($E$480),CHAR(13),CHAR(10),\"        caller-id format \", Data!$C$41,CHAR(13),CHAR(10),\"         \",Data!$C$32,CHAR(13),CHAR(10),\"      encapsulation cc-fxs\",CHAR(13),CHAR(10),\"       bind interface IF_FXS_\",'Extension Table'!C17,\" switch \",CHAR(13),CHAR(10),\"     no shutdown\")","v":"  port fxs 0 15\r\n        caller-id format etsi\r\n         use profile fxs us\r\n      encapsulation cc-fxs\r\n       bind interface IF_FXS_16 switch \r\n     no shutdown"}]
[495,{"$f":"+IF(Data!$C$6>ROW('3CX'!B496)-ROW('3CX'!$B$480),\"\",\"#\")","v":"#"},{"$f":"+CONCATENATE(\"  port fxs 0 \",ROW()-ROW($E$480),CHAR(13),CHAR(10),\"        caller-id format \", Data!$C$41,CHAR(13),CHAR(10),\"         \",Data!$C$32,CHAR(13),CHAR(10),\"      encapsulation cc-fxs\",CHAR(13),CHAR(10),\"       bind interface IF_FXS_\",'Extension Table'!C18,\" switch \",CHAR(13),CHAR(10),\"     no shutdown\")","v":"  port fxs 0 16\r\n        caller-id format etsi\r\n         use profile fxs us\r\n      encapsulation cc-fxs\r\n       bind interface IF_FXS_17 switch \r\n     no shutdown"}]
[496,{"$f":"+IF(Data!$C$6>ROW('3CX'!B497)-ROW('3CX'!$B$480),\"\",\"#\")","v":"#"},{"$f":"+CONCATENATE(\"  port fxs 0 \",ROW()-ROW($E$480),CHAR(13),CHAR(10),\"        caller-id format \", Data!$C$41,CHAR(13),CHAR(10),\"         \",Data!$C$32,CHAR(13),CHAR(10),\"      encapsulation cc-fxs\",CHAR(13),CHAR(10),\"       bind interface IF_FXS_\",'Extension Table'!C19,\" switch \",CHAR(13),CHAR(10),\"     no shutdown\")","v":"  port fxs 0 17\r\n        caller-id format etsi\r\n         use profile fxs us\r\n      encapsulation cc-fxs\r\n       bind interface IF_FXS_18 switch \r\n     no shutdown"}]
[497,{"$f":"+IF(Data!$C$6>ROW('3CX'!B498)-ROW('3CX'!$B$480),\"\",\"#\")","v":"#"},{"$f":"+CONCATENATE(\"  port fxs 0 \",ROW()-ROW($E$480),CHAR(13),CHAR(10),\"        caller-id format \", Data!$C$41,CHAR(13),CHAR(10),\"         \",Data!$C$32,CHAR(13),CHAR(10),\"      encapsulation cc-fxs\",CHAR(13),CHAR(10),\"       bind interface IF_FXS_\",'Extension Table'!C20,\" switch \",CHAR(13),CHAR(10),\"     no shutdown\")","v":"  port fxs 0 18\r\n        caller-id format etsi\r\n         use profile fxs us\r\n      encapsulation cc-fxs\r\n       bind interface IF_FXS_19 switch \r\n     no shutdown"}]
[498,{"$f":"+IF(Data!$C$6>ROW('3CX'!B499)-ROW('3CX'!$B$480),\"\",\"#\")","v":"#"},{"$f":"+CONCATENATE(\"  port fxs 0 \",ROW()-ROW($E$480),CHAR(13),CHAR(10),\"        caller-id format \", Data!$C$41,CHAR(13),CHAR(10),\"         \",Data!$C$32,CHAR(13),CHAR(10),\"      encapsulation cc-fxs\",CHAR(13),CHAR(10),\"       bind interface IF_FXS_\",'Extension Table'!C21,\" switch \",CHAR(13),CHAR(10),\"     no shutdown\")","v":"  port fxs 0 19\r\n        caller-id format etsi\r\n         use profile fxs us\r\n      encapsulation cc-fxs\r\n       bind interface IF_FXS_20 switch \r\n     no shutdown"}]
[499,{"$f":"+IF(Data!$C$6>ROW('3CX'!B500)-ROW('3CX'!$B$480),\"\",\"#\")","v":"#"},{"$f":"+CONCATENATE(\"  port fxs 0 \",ROW()-ROW($E$480),CHAR(13),CHAR(10),\"        caller-id format \", Data!$C$41,CHAR(13),CHAR(10),\"         \",Data!$C$32,CHAR(13),CHAR(10),\"      encapsulation cc-fxs\",CHAR(13),CHAR(10),\"       bind interface IF_FXS_\",'Extension Table'!C22,\" switch \",CHAR(13),CHAR(10),\"     no shutdown\")","v":"  port fxs 0 20\r\n        caller-id format etsi\r\n         use profile fxs us\r\n      encapsulation cc-fxs\r\n       bind interface IF_FXS_21 switch \r\n     no shutdown"}]
[500,{"$f":"+IF(Data!$C$6>ROW('3CX'!B501)-ROW('3CX'!$B$480),\"\",\"#\")","v":"#"},{"$f":"+CONCATENATE(\"  port fxs 0 \",ROW()-ROW($E$480),CHAR(13),CHAR(10),\"        caller-id format \", Data!$C$41,CHAR(13),CHAR(10),\"         \",Data!$C$32,CHAR(13),CHAR(10),\"      encapsulation cc-fxs\",CHAR(13),CHAR(10),\"       bind interface IF_FXS_\",'Extension Table'!C23,\" switch \",CHAR(13),CHAR(10),\"     no shutdown\")","v":"  port fxs 0 21\r\n        caller-id format etsi\r\n         use profile fxs us\r\n      encapsulation cc-fxs\r\n       bind interface IF_FXS_22 switch \r\n     no shutdown"}]
[501,{"$f":"+IF(Data!$C$6>ROW('3CX'!B502)-ROW('3CX'!$B$480),\"\",\"#\")","v":"#"},{"$f":"+CONCATENATE(\"  port fxs 0 \",ROW()-ROW($E$480),CHAR(13),CHAR(10),\"        caller-id format \", Data!$C$41,CHAR(13),CHAR(10),\"         \",Data!$C$32,CHAR(13),CHAR(10),\"      encapsulation cc-fxs\",CHAR(13),CHAR(10),\"       bind interface IF_FXS_\",'Extension Table'!C24,\" switch \",CHAR(13),CHAR(10),\"     no shutdown\")","v":"  port fxs 0 22\r\n        caller-id format etsi\r\n         use profile fxs us\r\n      encapsulation cc-fxs\r\n       bind interface IF_FXS_23 switch \r\n     no shutdown"}]
[502,{"$f":"+IF(Data!$C$6>ROW('3CX'!B503)-ROW('3CX'!$B$480),\"\",\"#\")","v":"#"},{"$f":"+CONCATENATE(\"  port fxs 0 \",ROW()-ROW($E$480),CHAR(13),CHAR(10),\"        caller-id format \", Data!$C$41,CHAR(13),CHAR(10),\"         \",Data!$C$32,CHAR(13),CHAR(10),\"      encapsulation cc-fxs\",CHAR(13),CHAR(10),\"       bind interface IF_FXS_\",'Extension Table'!C25,\" switch \",CHAR(13),CHAR(10),\"     no shutdown\")","v":"  port fxs 0 23\r\n        caller-id format etsi\r\n         use profile fxs us\r\n      encapsulation cc-fxs\r\n       bind interface IF_FXS_24 switch \r\n     no shutdown"}]
[503,{"$f":"+IF(Data!$C$6>ROW('3CX'!B504)-ROW('3CX'!$B$480),\"\",\"#\")","v":"#"},{"$f":"+CONCATENATE(\"  port fxs 0 \",ROW()-ROW($E$480),CHAR(13),CHAR(10),\"        caller-id format \", Data!$C$41,CHAR(13),CHAR(10),\"         \",Data!$C$32,CHAR(13),CHAR(10),\"      encapsulation cc-fxs\",CHAR(13),CHAR(10),\"       bind interface IF_FXS_\",'Extension Table'!C26,\" switch \",CHAR(13),CHAR(10),\"     no shutdown\")","v":"  port fxs 0 24\r\n        caller-id format etsi\r\n         use profile fxs us\r\n      encapsulation cc-fxs\r\n       bind interface IF_FXS_25 switch \r\n     no shutdown"}]
[504,{"$f":"+IF(Data!$C$6>ROW('3CX'!B505)-ROW('3CX'!$B$480),\"\",\"#\")","v":"#"},{"$f":"+CONCATENATE(\"  port fxs 0 \",ROW()-ROW($E$480),CHAR(13),CHAR(10),\"        caller-id format \", Data!$C$41,CHAR(13),CHAR(10),\"         \",Data!$C$32,CHAR(13),CHAR(10),\"      encapsulation cc-fxs\",CHAR(13),CHAR(10),\"       bind interface IF_FXS_\",'Extension Table'!C27,\" switch \",CHAR(13),CHAR(10),\"     no shutdown\")","v":"  port fxs 0 25\r\n        caller-id format etsi\r\n         use profile fxs us\r\n      encapsulation cc-fxs\r\n       bind interface IF_FXS_26 switch \r\n     no shutdown"}]
[505,{"$f":"+IF(Data!$C$6>ROW('3CX'!B506)-ROW('3CX'!$B$480),\"\",\"#\")","v":"#"},{"$f":"+CONCATENATE(\"  port fxs 0 \",ROW()-ROW($E$480),CHAR(13),CHAR(10),\"        caller-id format \", Data!$C$41,CHAR(13),CHAR(10),\"         \",Data!$C$32,CHAR(13),CHAR(10),\"      encapsulation cc-fxs\",CHAR(13),CHAR(10),\"       bind interface IF_FXS_\",'Extension Table'!C28,\" switch \",CHAR(13),CHAR(10),\"     no shutdown\")","v":"  port fxs 0 26\r\n        caller-id format etsi\r\n         use profile fxs us\r\n      encapsulation cc-fxs\r\n       bind interface IF_FXS_27 switch \r\n     no shutdown"}]
[506,{"$f":"+IF(Data!$C$6>ROW('3CX'!B507)-ROW('3CX'!$B$480),\"\",\"#\")","v":"#"},{"$f":"+CONCATENATE(\"  port fxs 0 \",ROW()-ROW($E$480),CHAR(13),CHAR(10),\"        caller-id format \", Data!$C$41,CHAR(13),CHAR(10),\"         \",Data!$C$32,CHAR(13),CHAR(10),\"      encapsulation cc-fxs\",CHAR(13),CHAR(10),\"       bind interface IF_FXS_\",'Extension Table'!C29,\" switch \",CHAR(13),CHAR(10),\"     no shutdown\")","v":"  port fxs 0 27\r\n        caller-id format etsi\r\n         use profile fxs us\r\n      encapsulation cc-fxs\r\n       bind interface IF_FXS_28 switch \r\n     no shutdown"}]
[507,{"$f":"+IF(Data!$C$6>ROW('3CX'!B508)-ROW('3CX'!$B$480),\"\",\"#\")","v":"#"},{"$f":"+CONCATENATE(\"  port fxs 0 \",ROW()-ROW($E$480),CHAR(13),CHAR(10),\"        caller-id format \", Data!$C$41,CHAR(13),CHAR(10),\"         \",Data!$C$32,CHAR(13),CHAR(10),\"      encapsulation cc-fxs\",CHAR(13),CHAR(10),\"       bind interface IF_FXS_\",'Extension Table'!C30,\" switch \",CHAR(13),CHAR(10),\"     no shutdown\")","v":"  port fxs 0 28\r\n        caller-id format etsi\r\n         use profile fxs us\r\n      encapsulation cc-fxs\r\n       bind interface IF_FXS_29 switch \r\n     no shutdown"}]
[508,{"$f":"+IF(Data!$C$6>ROW('3CX'!B509)-ROW('3CX'!$B$480),\"\",\"#\")","v":"#"},{"$f":"+CONCATENATE(\"  port fxs 0 \",ROW()-ROW($E$480),CHAR(13),CHAR(10),\"        caller-id format \", Data!$C$41,CHAR(13),CHAR(10),\"         \",Data!$C$32,CHAR(13),CHAR(10),\"      encapsulation cc-fxs\",CHAR(13),CHAR(10),\"       bind interface IF_FXS_\",'Extension Table'!C31,\" switch \",CHAR(13),CHAR(10),\"     no shutdown\")","v":"  port fxs 0 29\r\n        caller-id format etsi\r\n         use profile fxs us\r\n      encapsulation cc-fxs\r\n       bind interface IF_FXS_30 switch \r\n     no shutdown"}]
[509,{"$f":"+IF(Data!$C$6>ROW('3CX'!B510)-ROW('3CX'!$B$480),\"\",\"#\")","v":"#"},{"$f":"+CONCATENATE(\"  port fxs 0 \",ROW()-ROW($E$480),CHAR(13),CHAR(10),\"        caller-id format \", Data!$C$41,CHAR(13),CHAR(10),\"         \",Data!$C$32,CHAR(13),CHAR(10),\"      encapsulation cc-fxs\",CHAR(13),CHAR(10),\"       bind interface IF_FXS_\",'Extension Table'!C32,\" switch \",CHAR(13),CHAR(10),\"     no shutdown\")","v":"  port fxs 0 30\r\n        caller-id format etsi\r\n         use profile fxs us\r\n      encapsulation cc-fxs\r\n       bind interface IF_FXS_31 switch \r\n     no shutdown"}]
[510,{"$f":"+IF(Data!$C$6>ROW('3CX'!B511)-ROW('3CX'!$B$480),\"\",\"#\")","v":"#"},{"$f":"+CONCATENATE(\"  port fxs 0 \",ROW()-ROW($E$480),CHAR(13),CHAR(10),\"        caller-id format \", Data!$C$41,CHAR(13),CHAR(10),\"         \",Data!$C$32,CHAR(13),CHAR(10),\"      encapsulation cc-fxs\",CHAR(13),CHAR(10),\"       bind interface IF_FXS_\",'Extension Table'!C33,\" switch \",CHAR(13),CHAR(10),\"     no shutdown\")","v":"  port fxs 0 31\r\n        caller-id format etsi\r\n         use profile fxs us\r\n      encapsulation cc-fxs\r\n       bind interface IF_FXS_32 switch \r\n     no shutdown"}]
[511,null,"################################################# END ##################################################"]

{"sheet":"SNOMONE","index":9,"n_rows":531,"n_cols":4,"rows_kept":531,"cut":false,"hidden":true,"merged":[]}
["LINE #","DISCARD (#)","COMMAND","Column1"]
[1,null,"####################################################################################"]
[2,null,{"$f":"+CONCATENATE(\"# Configuration file for SmartNode with: \",Data!C5,\" FXO and \", Data!C6,\" FXS\")","v":"# Configuration file for SmartNode with: 12 FXO and 0 FXS"}]
[3,null,{"$f":"+IF(Data!C7=\"Y\",\"# With 2 ethernet ports\",\"# With one ethernet port\")","v":"# With one ethernet port"}]
[4,null,{"$f":"+CONCATENATE(\"# Configuration file name is \",Data!C11)","v":"# Configuration file name is PattonSample"}]
[5,null,"#      Snome One IPPBX"]
[6,null,"####################################################################################"]
[7,null,{"$f":"+CONCATENATE(\"# \",Data!B14,\" \",Data!C14)","v":"# LAN Interface Data "}]
[8,null,{"$f":"+CONCATENATE(\"# \",Data!B15,\" \",Data!C15)","v":"# IP Address 10.10.1.10"}]
[9,null,{"$f":"+CONCATENATE(\"# \",Data!B16,\" \",Data!C16)","v":"# IP Mask 255.255.255.0"}]
[10,null,"####################################################################################"]
[11,null,{"$f":"+CONCATENATE(\"# \",Data!B18,\" \",Data!C18)","v":"# WAN Interface Data "}]
[12,null,{"$f":"+CONCATENATE(\"# \",Data!B19,\" \",Data!C19)","v":"# IP Address dhcp"}]
[13,null,{"$f":"+CONCATENATE(\"# \",Data!B20,\" \",Data!C20)","v":"# IP Mask "}]
[14,null,"####################################################################################"]
[15,null,{"$f":"+CONCATENATE(\"# \",Data!B22,\" \",Data!C22)","v":"# Default Gateway "}]
[16,null,"####################################################################################"]
[17,null,{"$f":"+CONCATENATE(\"# \",Data!B23,\" \",Data!C23)","v":"# IP-PBX/SIP PROXY DATA "}]
[18,null,{"$f":"+CONCATENATE(\"# \",Data!B24,\" \",Data!C24)","v":"# IP-PBX Ip Address /  Name / Domain 10.10.50.23"}]
[19,null,{"$f":"+CONCATENATE(\"# \",Data!B25,\" \",Data!C25)","v":"# IP-PBX SIP Port 5060"}]
[20,null,"####################################################################################"]
[21,null,{"$f":"+CONCATENATE(\"# \",Data!B27,\" \",Data!C27)","v":"# LOCALIZATION DATA "}]
[22,null,{"$f":"+CONCATENATE(\"# \",Data!B28,\" \",Data!C28)","v":"# Country United States"}]
[23,null,"####################################################################################"]
[24,null,"# Supported firmware versions R5.x"]
[25,null,{"$f":"+CONCATENATE(\"# Tool version \",Data!$C$4)","v":"# Tool version V2_1 06222011"}]
[26,null,"# Adapted: Ernesto Casas "]
[27,null,"# for comments, feedback or suggestions please send an email to: ecasas@patton.com"]
[28,null,"####################################################################################"]
[29,null,"####################################################################################"]
[30,null,"webserver port 80 language en"]
[31,null,{"$f":"+CONCATENATE(\"sntp-client server \",Data!C9)","v":"sntp-client server 1.1.1.1"}]
[32,{"$f":"+IF(Data!C10=\"\",\"#\",\"\")","v":""},{"$f":"+CONCATENATE(\"dns-client server \",Data!C10)","v":"dns-client server 8.8.8.8"}]
[33]
[34,null,"system"]
[35,null,"ic voice 0"]
[36,null,"low-bitrate-codec g729"]
[37,null,"profile ppp default"]
[38]
[39,{"$f":"+IF(Data!$C$5>ROW(SNOMONE!B40)-ROW(SNOMONE!$B$444),\"\",\"#\")","v":""},{"$f":"+CONCATENATE(\"# Call Progress tones based on country selection. Your selected country is: \",Data!$C$28)","v":"# Call Progress tones based on country selection. Your selected country is: United States"}]
[40]
[41,null,{"$f":"+Data!$C$30","v":"profile call-progress-tone defaultDialtone\r\nflush-play-list \r\nplay 1 1000 350 -13 440 -13 \r\nprofile call-progress-tone defaultAlertingtone \r\nflush-play-list \r\nplay 1 1000 440 -19 480 -19 \r\npause 2 3000 \r\nprofile call-progress-tone defaultBusytone \r\nflush-play-list \r\nplay 1 500 480 -24 620 -24 \r\npause 2 500 \r\nprofile call-progress-tone defaultReleasetone \r\nflush-play-list \r\nplay 1 250 480 -24 620 -24 \r\npause 2 250 \r\nprofile call-progress-tone defaultCongestiontone \r\nflush-play-list \r\nplay 1 250 480 -24 620 -24 \r\npause 2 250\r\n"}]
[42,{"$f":"+IF(Data!$C$5>ROW(SNOMONE!B43)-ROW(SNOMONE!$B$444),\"\",\"#\")","v":""}]
[43,null,"profile tone-set default"]
[44,null,"profile voip default"]
[45,null,"  codec 1 g711alaw64k rx-length 20 tx-length 20"]
[46,null,"  codec 2 g711ulaw64k rx-length 20 tx-length 20"]
[47,null,"  fax transmission 1 relay t38-udp"]
[48,null,"  fax transmission 2 bypass g711alaw64k"]
[49,null,"profile pstn default"]
[50,null,"profile sip default"]
[51,null,"profile aaa default"]
[52,null,"  method 1 local"]
[53,null,"  method 2 none"]
[54]
[55,null,"context ip router"]
[56,null,"interface IF_IP_LAN"]
[57,null,{"$f":"+CONCATENATE(\"     ipaddress \",Data!C15,\" \",Data!C16)","v":"     ipaddress 10.10.1.10 255.255.255.0"}]
[58,null,"    tcp adjust-mss rx mtu"]
[59,null,"    tcp adjust-mss tx mtu"]
[60]
[61,null,"interface IF_IP_WAN"]
[62,null,{"$f":"+CONCATENATE(\"     ipaddress \",Data!C19,\" \",Data!C20)","v":"     ipaddress dhcp "}]
[63,null,"    tcp adjust-mss rx mtu"]
[64,null,"    tcp adjust-mss tx mtu"]
[65]
[66,null,"context ip router"]
[67,null,{"$f":"+CONCATENATE(\"     route 0.0.0.0 0.0.0.0  \",Data!C22)","v":"     route 0.0.0.0 0.0.0.0  "}]
[68,null,"context cs switch"]
[69,null,{"$f":"+IF(Data!C38=\"\",\"     no digit-collection timeout\",+CONCATENATE(\"     digit-collection timeout \",Data!C38))","v":"     digit-collection timeout 2"}]
[70]
[71,{"$f":"+IF(Data!$C$6>0,\" \",\"#\")","v":"#"},"routing-table called-e164 RT_DIGITCOLLECTION"]
[72,{"$f":"+IF(Data!$C$6>0,\" \",\"#\")","v":"#"},"      route .T dest-interface IF_SIP_PBX MT_EXT_TO_NAME"]
[73]
[74,{"$f":"+IF(Data!$C$6>0,\" \",\"#\")","v":"#"},"routing-table called-e164 RT_TO_FXS"]
[75,{"$f":"+IF(Data!$C$6>ROW(SNOMONE!B76)-ROW(SNOMONE!$B$76),\"\",\"#\")","v":"#"},{"$f":"+CONCATENATE(\"        route \",'Extension Table'!A2,\" dest-interface IF_FXS_\",'Extension Table'!C2)","v":"        route 101 dest-interface IF_FXS_1"}]
[76,{"$f":"+IF(Data!$C$6>ROW(SNOMONE!B77)-ROW(SNOMONE!$B$76),\"\",\"#\")","v":"#"},{"$f":"+CONCATENATE(\"        route \",'Extension Table'!A3,\" dest-interface IF_FXS_\",'Extension Table'!C3)","v":"        route 102 dest-interface IF_FXS_2"}]
[77,{"$f":"+IF(Data!$C$6>ROW(SNOMONE!B78)-ROW(SNOMONE!$B$76),\"\",\"#\")","v":"#"},{"$f":"+CONCATENATE(\"        route \",'Extension Table'!A4,\" dest-interface IF_FXS_\",'Extension Table'!C4)","v":"        route 103 dest-interface IF_FXS_3"}]
[78,{"$f":"+IF(Data!$C$6>ROW(SNOMONE!B79)-ROW(SNOMONE!$B$76),\"\",\"#\")","v":"#"},{"$f":"+CONCATENATE(\"        route \",'Extension Table'!A5,\" dest-interface IF_FXS_\",'Extension Table'!C5)","v":"        route 104 dest-interface IF_FXS_4"}]
[79,{"$f":"+IF(Data!$C$6>ROW(SNOMONE!B80)-ROW(SNOMONE!$B$76),\"\",\"#\")","v":"#"},{"$f":"+CONCATENATE(\"        route \",'Extension Table'!A6,\" dest-interface IF_FXS_\",'Extension Table'!C6)","v":"        route 105 dest-interface IF_FXS_5"}]
[80,{"$f":"+IF(Data!$C$6>ROW(SNOMONE!B81)-ROW(SNOMONE!$B$76),\"\",\"#\")","v":"#"},{"$f":"+CONCATENATE(\"        route \",'Extension Table'!A7,\" dest-interface IF_FXS_\",'Extension Table'!C7)","v":"        route 106 dest-interface IF_FXS_6"}]
[81,{"$f":"+IF(Data!$C$6>ROW(SNOMONE!B82)-ROW(SNOMONE!$B$76),\"\",\"#\")","v":"#"},{"$f":"+CONCATENATE(\"        route \",'Extension Table'!A8,\" dest-interface IF_FXS_\",'Extension Table'!C8)","v":"        route 107 dest-interface IF_FXS_7"}]
[82,{"$f":"+IF(Data!$C$6>ROW(SNOMONE!B83)-ROW(SNOMONE!$B$76),\"\",\"#\")","v":"#"},{"$f":"+CONCATENATE(\"        route \",'Extension Table'!A9,\" dest-interface IF_FXS_\",'Extension Table'!C9)","v":"        route 108 dest-interface IF_FXS_8"}]
[83,{"$f":"+IF(Data!$C$6>ROW(SNOMONE!B84)-ROW(SNOMONE!$B$76),\"\",\"#\")","v":"#"},{"$f":"+CONCATENATE(\"        route \",'Extension Table'!A10,\" dest-interface IF_FXS_\",'Extension Table'!C10)","v":"        route 109 dest-interface IF_FXS_9"}]
[84,{"$f":"+IF(Data!$C$6>ROW(SNOMONE!B85)-ROW(SNOMONE!$B$76),\"\",\"#\")","v":"#"},{"$f":"+CONCATENATE(\"        route \",'Extension Table'!A11,\" dest-interface IF_FXS_\",'Extension Table'!C11)","v":"        route 110 dest-interface IF_FXS_10"}]
[85,{"$f":"+IF(Data!$C$6>ROW(SNOMONE!B86)-ROW(SNOMONE!$B$76),\"\",\"#\")","v":"#"},{"$f":"+CONCATENATE(\"        route \",'Extension Table'!A12,\" dest-interface IF_FXS_\",'Extension Table'!C12)","v":"        route 111 dest-interface IF_FXS_11"}]
[86,{"$f":"+IF(Data!$C$6>ROW(SNOMONE!B87)-ROW(SNOMONE!$B$76),\"\",\"#\")","v":"#"},{"$f":"+CONCATENATE(\"        route \",'Extension Table'!A13,\" dest-interface IF_FXS_\",'Extension Table'!C13)","v":"        route 112 dest-interface IF_FXS_12"}]
[87,{"$f":"+IF(Data!$C$6>ROW(SNOMONE!B88)-ROW(SNOMONE!$B$76),\"\",\"#\")","v":"#"},{"$f":"+CONCATENATE(\"        route \",'Extension Table'!A14,\" dest-interface IF_FXS_\",'Extension Table'!C14)","v":"        route 113 dest-interface IF_FXS_13"}]
[88,{"$f":"+IF(Data!$C$6>ROW(SNOMONE!B89)-ROW(SNOMONE!$B$76),\"\",\"#\")","v":"#"},{"$f":"+CONCATENATE(\"        route \",'Extension Table'!A15,\" dest-interface IF_FXS_\",'Extension Table'!C15)","v":"        route 114 dest-interface IF_FXS_14"}]
[89,{"$f":"+IF(Data!$C$6>ROW(SNOMONE!B90)-ROW(SNOMONE!$B$76),\"\",\"#\")","v":"#"},{"$f":"+CONCATENATE(\"        route \",'Extension Table'!A16,\" dest-interface IF_FXS_\",'Extension Table'!C16)","v":"        route 115 dest-interface IF_FXS_15"}]
[90,{"$f":"+IF(Data!$C$6>ROW(SNOMONE!B91)-ROW(SNOMONE!$B$76),\"\",\"#\")","v":"#"},{"$f":"+CONCATENATE(\"        route \",'Extension Table'!A17,\" dest-interface IF_FXS_\",'Extension Table'!C17)","v":"        route 116 dest-interface IF_FXS_16"}]
[91,{"$f":"+IF(Data!$C$6>ROW(SNOMONE!B92)-ROW(SNOMONE!$B$76),\"\",\"#\")","v":"#"},{"$f":"+CONCATENATE(\"        route \",'Extension Table'!A18,\" dest-interface IF_FXS_\",'Extension Table'!C18)","v":"        route 117 dest-interface IF_FXS_17"}]
[92,{"$f":"+IF(Data!$C$6>ROW(SNOMONE!B93)-ROW(SNOMONE!$B$76),\"\",\"#\")","v":"#"},{"$f":"+CONCATENATE(\"        route \",'Extension Table'!A19,\" dest-interface IF_FXS_\",'Extension Table'!C19)","v":"        route 118 dest-interface IF_FXS_18"}]
[93,{"$f":"+IF(Data!$C$6>ROW(SNOMONE!B94)-ROW(SNOMONE!$B$76),\"\",\"#\")","v":"#"},{"$f":"+CONCATENATE(\"        route \",'Extension Table'!A20,\" dest-interface IF_FXS_\",'Extension Table'!C20)","v":"        route 119 dest-interface IF_FXS_19"}]
[94,{"$f":"+IF(Data!$C$6>ROW(SNOMONE!B95)-ROW(SNOMONE!$B$76),\"\",\"#\")","v":"#"},{"$f":"+CONCATENATE(\"        route \",'Extension Table'!A21,\" dest-interface IF_FXS_\",'Extension Table'!C21)","v":"        route 120 dest-interface IF_FXS_20"}]
[95,{"$f":"+IF(Data!$C$6>ROW(SNOMONE!B96)-ROW(SNOMONE!$B$76),\"\",\"#\")","v":"#"},{"$f":"+CONCATENATE(\"        route \",'Extension Table'!A22,\" dest-interface IF_FXS_\",'Extension Table'!C22)","v":"        route 121 dest-interface IF_FXS_21"}]
[96,{"$f":"+IF(Data!$C$6>ROW(SNOMONE!B97)-ROW(SNOMONE!$B$76),\"\",\"#\")","v":"#"},{"$f":"+CONCATENATE(\"        route \",'Extension Table'!A23,\" dest-interface IF_FXS_\",'Extension Table'!C23)","v":"        route 122 dest-interface IF_FXS_22"}]
[97,{"$f":"+IF(Data!$C$6>ROW(SNOMONE!B98)-ROW(SNOMONE!$B$76),\"\",\"#\")","v":"#"},{"$f":"+CONCATENATE(\"        route \",'Extension Table'!A24,\" dest-interface IF_FXS_\",'Extension Table'!C24)","v":"        route 123 dest-interface IF_FXS_23"}]
[98,{"$f":"+IF(Data!$C$6>ROW(SNOMONE!B99)-ROW(SNOMONE!$B$76),\"\",\"#\")","v":"#"},{"$f":"+CONCATENATE(\"        route \",'Extension Table'!A25,\" dest-interface IF_FXS_\",'Extension Table'!C25)","v":"        route 124 dest-interface IF_FXS_24"}]
[99,{"$f":"+IF(Data!$C$6>ROW(SNOMONE!B100)-ROW(SNOMONE!$B$76),\"\",\"#\")","v":"#"},{"$f":"+CONCATENATE(\"        route \",'Extension Table'!A26,\" dest-interface IF_FXS_\",'Extension Table'!C26)","v":"        route 125 dest-interface IF_FXS_25"}]
[100,{"$f":"+IF(Data!$C$6>ROW(SNOMONE!B101)-ROW(SNOMONE!$B$76),\"\",\"#\")","v":"#"},{"$f":"+CONCATENATE(\"        route \",'Extension Table'!A27,\" dest-interface IF_FXS_\",'Extension Table'!C27)","v":"        route 126 dest-interface IF_FXS_26"}]
[101,{"$f":"+IF(Data!$C$6>ROW(SNOMONE!B102)-ROW(SNOMONE!$B$76),\"\",\"#\")","v":"#"},{"$f":"+CONCATENATE(\"        route \",'Extension Table'!A28,\" dest-interface IF_FXS_\",'Extension Table'!C28)","v":"        route 127 dest-interface IF_FXS_27"}]
[102,{"$f":"+IF(Data!$C$6>ROW(SNOMONE!B103)-ROW(SNOMONE!$B$76),\"\",\"#\")","v":"#"},{"$f":"+CONCATENATE(\"        route \",'Extension Table'!A29,\" dest-interface IF_FXS_\",'Extension Table'!C29)","v":"        route 128 dest-interface IF_FXS_28"}]
[103,{"$f":"+IF(Data!$C$6>ROW(SNOMONE!B104)-ROW(SNOMONE!$B$76),\"\",\"#\")","v":"#"},{"$f":"+CONCATENATE(\"        route \",'Extension Table'!A30,\" dest-interface IF_FXS_\",'Extension Table'!C30)","v":"        route 129 dest-interface IF_FXS_29"}]
[104,{"$f":"+IF(Data!$C$6>ROW(SNOMONE!B105)-ROW(SNOMONE!$B$76),\"\",\"#\")","v":"#"},{"$f":"+CONCATENATE(\"        route \",'Extension Table'!A31,\" dest-interface IF_FXS_\",'Extension Table'!C31)","v":"        route 130 dest-interface IF_FXS_30"}]
[105,{"$f":"+IF(Data!$C$6>ROW(SNOMONE!B106)-ROW(SNOMONE!$B$76),\"\",\"#\")","v":"#"},{"$f":"+CONCATENATE(\"        route \",'Extension Table'!A32,\" dest-interface IF_FXS_\",'Extension Table'!C32)","v":"        route 131 dest-interface IF_FXS_31"}]
[106,{"$f":"+IF(Data!$C$6>ROW(SNOMONE!B107)-ROW(SNOMONE!$B$76),\"\",\"#\")","v":"#"},{"$f":"+CONCATENATE(\"        route \",'Extension Table'!A33,\" dest-interface IF_FXS_\",'Extension Table'!C33)","v":"        route 132 dest-interface IF_FXS_32"}]
[107,null," "]
[108,{"$f":"+IF(Data!$C$5>ROW(SNOMONE!B109)-ROW(SNOMONE!$B$444),\"\",\"#\")","v":""}]
[109,{"$f":"+IF(Data!$C$6>0,\" \",\"#\")","v":"#"},"mapping-table calling-e164 to calling-name MT_EXT_TO_NAME"]
[110,{"$f":"+IF(Data!$C$6>ROW(SNOMONE!B110)-ROW(SNOMONE!$B$110),\"\",\"#\")","v":"#"},{"$f":"+CONCATENATE(\"        map \",'Extension Table'!A2,\" to \"\"\",'Extension Table'!D2,\" \",'Extension Table'!E2,\"\"\"\")","v":"        map 101 to \"Fname user 1 Lname user 1\""}]
[111,{"$f":"+IF(Data!$C$6>ROW(SNOMONE!B111)-ROW(SNOMONE!$B$110),\"\",\"#\")","v":"#"},{"$f":"+CONCATENATE(\"        map \",'Extension Table'!A3,\" to \"\"\",'Extension Table'!D3,\" \",'Extension Table'!E3,\"\"\"\")","v":"        map 102 to \"Fname user 2 Lname user 2\""}]
[112,{"$f":"+IF(Data!$C$6>ROW(SNOMONE!B112)-ROW(SNOMONE!$B$110),\"\",\"#\")","v":"#"},{"$f":"+CONCATENATE(\"        map \",'Extension Table'!A4,\" to \"\"\",'Extension Table'!D4,\" \",'Extension Table'!E4,\"\"\"\")","v":"        map 103 to \" \""}]
[113,{"$f":"+IF(Data!$C$6>ROW(SNOMONE!B113)-ROW(SNOMONE!$B$110),\"\",\"#\")","v":"#"},{"$f":"+CONCATENATE(\"        map \",'Extension Table'!A5,\" to \"\"\",'Extension Table'!D5,\" \",'Extension Table'!E5,\"\"\"\")","v":"        map 104 to \" \""}]
[114,{"$f":"+IF(Data!$C$6>ROW(SNOMONE!B114)-ROW(SNOMONE!$B$110),\"\",\"#\")","v":"#"},{"$f":"+CONCATENATE(\"        map \",'Extension Table'!A6,\" to \"\"\",'Extension Table'!D6,\" \",'Extension Table'!E6,\"\"\"\")","v":"        map 105 to \" \""}]
[115,{"$f":"+IF(Data!$C$6>ROW(SNOMONE!B115)-ROW(SNOMONE!$B$110),\"\",\"#\")","v":"#"},{"$f":"+CONCATENATE(\"        map \",'Extension Table'!A7,\" to \"\"\",'Extension Table'!D7,\" \",'Extension Table'!E7,\"\"\"\")","v":"        map 106 to \" \""}]
[116,{"$f":"+IF(Data!$C$6>ROW(SNOMONE!B116)-ROW(SNOMONE!$B$110),\"\",\"#\")","v":"#"},{"$f":"+CONCATENATE(\"        map \",'Extension Table'!A8,\" to \"\"\",'Extension Table'!D8,\" \",'Extension Table'!E8,\"\"\"\")","v":"        map 107 to \" \""}]
[117,{"$f":"+IF(Data!$C$6>ROW(SNOMONE!B117)-ROW(SNOMONE!$B$110),\"\",\"#\")","v":"#"},{"$f":"+CONCATENATE(\"        map \",'Extension Table'!A9,\" to \"\"\",'Extension Table'!D9,\" \",'Extension Table'!E9,\"\"\"\")","v":"        map 108 to \" \""}]
[118,{"$f":"+IF(Data!$C$6>ROW(SNOMONE!B118)-ROW(SNOMONE!$B$110),\"\",\"#\")","v":"#"},{"$f":"+CONCATENATE(\"        map \",'Extension Table'!A10,\" to \"\"\",'Extension Table'!D10,\" \",'Extension Table'!E10,\"\"\"\")","v":"        map 109 to \" \""}]
[119,{"$f":"+IF(Data!$C$6>ROW(SNOMONE!B119)-ROW(SNOMONE!$B$110),\"\",\"#\")","v":"#"},{"$f":"+CONCATENATE(\"        map \",'Extension Table'!A11,\" to \"\"\",'Extension Table'!D11,\" \",'Extension Table'!E11,\"\"\"\")","v":"        map 110 to \" \""}]
[120,{"$f":"+IF(Data!$C$6>ROW(SNOMONE!B120)-ROW(SNOMONE!$B$110),\"\",\"#\")","v":"#"},{"$f":"+CONCATENATE(\"        map \",'Extension Table'!A12,\" to \"\"\",'Extension Table'!D12,\" \",'Extension Table'!E12,\"\"\"\")","v":"        map 111 to \" \""}]
[121,{"$f":"+IF(Data!$C$6>ROW(SNOMONE!B121)-ROW(SNOMONE!$B$110),\"\",\"#\")","v":"#"},{"$f":"+CONCATENATE(\"        map \",'Extension Table'!A13,\" to \"\"\",'Extension Table'!D13,\" \",'Extension Table'!E13,\"\"\"\")","v":"        map 112 to \" \""}]
[122,{"$f":"+IF(Data!$C$6>ROW(SNOMONE!B122)-ROW(SNOMONE!$B$110),\"\",\"#\")","v":"#"},{"$f":"+CONCATENATE(\"        map \",'Extension Table'!A14,\" to \"\"\",'Extension Table'!D14,\" \",'Extension Table'!E14,\"\"\"\")","v":"        map 113 to \" \""}]
[123,{"$f":"+IF(Data!$C$6>ROW(SNOMONE!B123)-ROW(SNOMONE!$B$110),\"\",\"#\")","v":"#"},{"$f":"+CONCATENATE(\"        map \",'Extension Table'!A15,\" to \"\"\",'Extension Table'!D15,\" \",'Extension Table'!E15,\"\"\"\")","v":"        map 114 to \" \""}]
[124,{"$f":"+IF(Data!$C$6>ROW(SNOMONE!B124)-ROW(SNOMONE!$B$110),\"\",\"#\")","v":"#"},{"$f":"+CONCATENATE(\"        map \",'Extension Table'!A16,\" to \"\"\",'Extension Table'!D16,\" \",'Extension Table'!E16,\"\"\"\")","v":"        map 115 to \" \""}]
[125,{"$f":"+IF(Data!$C$6>ROW(SNOMONE!B125)-ROW(SNOMONE!$B$110),\"\",\"#\")","v":"#"},{"$f":"+CONCATENATE(\"        map \",'Extension Table'!A17,\" to \"\"\",'Extension Table'!D17,\" \",'Extension Table'!E17,\"\"\"\")","v":"        map 116 to \" \""}]
[126,{"$f":"+IF(Data!$C$6>ROW(SNOMONE!B126)-ROW(SNOMONE!$B$110),\"\",\"#\")","v":"#"},{"$f":"+CONCATENATE(\"        map \",'Extension Table'!A18,\" to \"\"\",'Extension Table'!D18,\" \",'Extension Table'!E18,\"\"\"\")","v":"        map 117 to \" \""}]
[127,{"$f":"+IF(Data!$C$6>ROW(SNOMONE!B127)-ROW(SNOMONE!$B$110),\"\",\"#\")","v":"#"},{"$f":"+CONCATENATE(\"        map \",'Extension Table'!A19,\" to \"\"\",'Extension Table'!D19,\" \",'Extension Table'!E19,\"\"\"\")","v":"        map 118 to \" \""}]
[128,{"$f":"+IF(Data!$C$6>ROW(SNOMONE!B128)-ROW(SNOMONE!$B$110),\"\",\"#\")","v":"#"},{"$f":"+CONCATENATE(\"        map \",'Extension Table'!A20,\" to \"\"\",'Extension Table'!D20,\" \",'Extension Table'!E20,\"\"\"\")","v":"        map 119 to \" \""}]
[129,{"$f":"+IF(Data!$C$6>ROW(SNOMONE!B129)-ROW(SNOMONE!$B$110),\"\",\"#\")","v":"#"},{"$f":"+CONCATENATE(\"        map \",'Extension Table'!A21,\" to \"\"\",'Extension Table'!D21,\" \",'Extension Table'!E21,\"\"\"\")","v":"        map 120 to \" \""}]
[130,{"$f":"+IF(Data!$C$6>ROW(SNOMONE!B130)-ROW(SNOMONE!$B$110),\"\",\"#\")","v":"#"},{"$f":"+CONCATENATE(\"        map \",'Extension Table'!A22,\" to \"\"\",'Extension Table'!D22,\" \",'Extension Table'!E22,\"\"\"\")","v":"        map 121 to \" \""}]
[131,{"$f":"+IF(Data!$C$6>ROW(SNOMONE!B131)-ROW(SNOMONE!$B$110),\"\",\"#\")","v":"#"},{"$f":"+CONCATENATE(\"        map \",'Extension Table'!A23,\" to \"\"\",'Extension Table'!D23,\" \",'Extension Table'!E23,\"\"\"\")","v":"        map 122 to \" \""}]
[132,{"$f":"+IF(Data!$C$6>ROW(SNOMONE!B132)-ROW(SNOMONE!$B$110),\"\",\"#\")","v":"#"},{"$f":"+CONCATENATE(\"        map \",'Extension Table'!A24,\" to \"\"\",'Extension Table'!D24,\" \",'Extension Table'!E24,\"\"\"\")","v":"        map 123 to \" \""}]
[133,{"$f":"+IF(Data!$C$6>ROW(SNOMONE!B133)-ROW(SNOMONE!$B$110),\"\",\"#\")","v":"#"},{"$f":"+CONCATENATE(\"        map \",'Extension Table'!A25,\" to \"\"\",'Extension Table'!D25,\" \",'Extension Table'!E25,\"\"\"\")","v":"        map 124 to \" \""}]
[134,{"$f":"+IF(Data!$C$6>ROW(SNOMONE!B134)-ROW(SNOMONE!$B$110),\"\",\"#\")","v":"#"},{"$f":"+CONCATENATE(\"        map \",'Extension Table'!A26,\" to \"\"\",'Extension Table'!D26,\" \",'Extension Table'!E26,\"\"\"\")","v":"        map 125 to \" \""}]
[135,{"$f":"+IF(Data!$C$6>ROW(SNOMONE!B135)-ROW(SNOMONE!$B$110),\"\",\"#\")","v":"#"},{"$f":"+CONCATENATE(\"        map \",'Extension Table'!A27,\" to \"\"\",'Extension Table'!D27,\" \",'Extension Table'!E27,\"\"\"\")","v":"        map 126 to \" \""}]
[136,{"$f":"+IF(Data!$C$6>ROW(SNOMONE!B136)-ROW(SNOMONE!$B$110),\"\",\"#\")","v":"#"},{"$f":"+CONCATENATE(\"        map \",'Extension Table'!A28,\" to \"\"\",'Extension Table'!D28,\" \",'Extension Table'!E28,\"\"\"\")","v":"        map 127 to \" \""}]
[137,{"$f":"+IF(Data!$C$6>ROW(SNOMONE!B137)-ROW(SNOMONE!$B$110),\"\",\"#\")","v":"#"},{"$f":"+CONCATENATE(\"        map \",'Extension Table'!A29,\" to \"\"\",'Extension Table'!D29,\" \",'Extension Table'!E29,\"\"\"\")","v":"        map 128 to \" \""}]
[138,{"$f":"+IF(Data!$C$6>ROW(SNOMONE!B138)-ROW(SNOMONE!$B$110),\"\",\"#\")","v":"#"},{"$f":"+CONCATENATE(\"        map \",'Extension Table'!A30,\" to \"\"\",'Extension Table'!D30,\" \",'Extension Table'!E30,\"\"\"\")","v":"        map 129 to \" \""}]
[139,{"$f":"+IF(Data!$C$6>ROW(SNOMONE!B139)-ROW(SNOMONE!$B$110),\"\",\"#\")","v":"#"},{"$f":"+CONCATENATE(\"        map \",'Extension Table'!A31,\" to \"\"\",'Extension Table'!D31,\" \",'Extension Table'!E31,\"\"\"\")","v":"        map 130 to \" \""}]
[140,{"$f":"+IF(Data!$C$6>ROW(SNOMONE!B140)-ROW(SNOMONE!$B$110),\"\",\"#\")","v":"#"},{"$f":"+CONCATENATE(\"        map \",'Extension Table'!A32,\" to \"\"\",'Extension Table'!D32,\" \",'Extension Table'!E32,\"\"\"\")","v":"        map 131 to \" \""}]
[141,{"$f":"+IF(Data!$C$6>ROW(SNOMONE!B141)-ROW(SNOMONE!$B$110),\"\",\"#\")","v":"#"},{"$f":"+CONCATENATE(\"        map \",'Extension Table'!A33,\" to \"\"\",'Extension Table'!D33,\" \",'Extension Table'!E33,\"\"\"\")","v":"        map 132 to \" \""}]
[142]
[143,{"$f":"+IF(Data!$C$5>ROW(SNOMONE!B144)-ROW(SNOMONE!$B$144),\"\",\"#\")","v":""},{"$f":"+CONCATENATE(\"  interface sip IF_SIP_\",'Line Table'!A2,CHAR(13),CHAR(10),,\"        bind context sip-gateway GW_SIP_ALL_LINES\",CHAR(13),CHAR(10),,\"        \",+'Line Table'!C2,CHAR(13),CHAR(10),,\"        early-disconnect\",CHAR(13),CHAR(10),,\"        route call dest-service HUNT_FXO\",CHAR(13),CHAR(10),,\"        remote \",Data!$C$24,\" \",Data!$C$25,CHAR(13),CHAR(10),,\"        address-translation outgoing-call request-uri user-part fix \",'Line Table'!B2,\" host-part to-header target-param none\",CHAR(13),CHAR(10),,\"        address-translation incoming-call called-e164 request-uri\",CHAR(13),CHAR(10),,CHAR(13),CHAR(10),)","v":"  interface sip IF_SIP_1\r\n        bind context sip-gateway GW_SIP_ALL_LINES\r\n        early-connect \r\n        early-disconnect\r\n        route call dest-service HUNT_FXO\r\n        remote 10.10.50.23 5060\r\n        address-translation outgoing-call request-uri user-part fix 10002 host-part to-header target-param none\r\n        address-translation incoming-call called-e164 request-uri\r\n\r\n"}]
[144,{"$f":"+IF(Data!$C$5>ROW(SNOMONE!B145)-ROW(SNOMONE!$B$144),\"\",\"#\")","v":""},{"$f":"+CONCATENATE(\"  interface sip IF_SIP_\",'Line Table'!A3,CHAR(13),CHAR(10),,\"        bind context sip-gateway GW_SIP_ALL_LINES\",CHAR(13),CHAR(10),,\"        \",+'Line Table'!C3,CHAR(13),CHAR(10),,\"        early-disconnect\",CHAR(13),CHAR(10),,\"        route call dest-service HUNT_FXO\",CHAR(13),CHAR(10),,\"        remote \",Data!$C$24,\" \",Data!$C$25,CHAR(13),CHAR(10),,\"        address-translation outgoing-call request-uri user-part fix \",'Line Table'!B3,\" host-part to-header target-param none\",CHAR(13),CHAR(10),,\"        address-translation incoming-call called-e164 request-uri\",CHAR(13),CHAR(10),,CHAR(13),CHAR(10),)","v":"  interface sip IF_SIP_2\r\n        bind context sip-gateway GW_SIP_ALL_LINES\r\n        early-connect \r\n        early-disconnect\r\n        route call dest-service HUNT_FXO\r\n        remote 10.10.50.23 5060\r\n        address-translation outgoing-call request-uri user-part fix 10003 host-part to-header target-param none\r\n        address-translation incoming-call called-e164 request-uri\r\n\r\n"}]
[145,{"$f":"+IF(Data!$C$5>ROW(SNOMONE!B146)-ROW(SNOMONE!$B$144),\"\",\"#\")","v":""},{"$f":"+CONCATENATE(\"  interface sip IF_SIP_\",'Line Table'!A4,CHAR(13),CHAR(10),,\"        bind context sip-gateway GW_SIP_ALL_LINES\",CHAR(13),CHAR(10),,\"        \",+'Line Table'!C4,CHAR(13),CHAR(10),,\"        early-disconnect\",CHAR(13),CHAR(10),,\"        route call dest-service HUNT_FXO\",CHAR(13),CHAR(10),,\"        remote \",Data!$C$24,\" \",Data!$C$25,CHAR(13),CHAR(10),,\"        address-translation outgoing-call request-uri user-part fix \",'Line Table'!B4,\" host-part to-header target-param none\",CHAR(13),CHAR(10),,\"        address-translation incoming-call called-e164 request-uri\",CHAR(13),CHAR(10),,CHAR(13),CHAR(10),)","v":"  interface sip IF_SIP_3\r\n        bind context sip-gateway GW_SIP_ALL_LINES\r\n        early-connect \r\n        early-disconnect\r\n        route call dest-service HUNT_FXO\r\n        remote 10.10.50.23 5060\r\n        address-translation outgoing-call request-uri user-part fix 10004 host-part to-header target-param none\r\n        address-translation incoming-call called-e164 request-uri\r\n\r\n"}]
[146,{"$f":"+IF(Data!$C$5>ROW(SNOMONE!B147)-ROW(SNOMONE!$B$144),\"\",\"#\")","v":""},{"$f":"+CONCATENATE(\"  interface sip IF_SIP_\",'Line Table'!A5,CHAR(13),CHAR(10),,\"        bind context sip-gateway GW_SIP_ALL_LINES\",CHAR(13),CHAR(10),,\"        \",+'Line Table'!C5,CHAR(13),CHAR(10),,\"        early-disconnect\",CHAR(13),CHAR(10),,\"        route call dest-service HUNT_FXO\",CHAR(13),CHAR(10),,\"        remote \",Data!$C$24,\" \",Data!$C$25,CHAR(13),CHAR(10),,\"        address-translation outgoing-call request-uri user-part fix \",'Line Table'!B5,\" host-part to-header target-param none\",CHAR(13),CHAR(10),,\"        address-translation incoming-call called-e164 request-uri\",CHAR(13),CHAR(10),,CHAR(13),CHAR(10),)","v":"  interface sip IF_SIP_4\r\n        bind context sip-gateway GW_SIP_ALL_LINES\r\n        early-connect \r\n        early-disconnect\r\n        route call dest-service HUNT_FXO\r\n        remote 10.10.50.23 5060\r\n        address-translation outgoing-call request-uri user-part fix 10005 host-part to-header target-param none\r\n        address-translation incoming-call called-e164 request-uri\r\n\r\n"}]
[147,{"$f":"+IF(Data!$C$5>ROW(SNOMONE!B148)-ROW(SNOMONE!$B$144),\"\",\"#\")","v":""},{"$f":"+CONCATENATE(\"  interface sip IF_SIP_\",'Line Table'!A6,CHAR(13),CHAR(10),,\"        bind context sip-gateway GW_SIP_ALL_LINES\",CHAR(13),CHAR(10),,\"        \",+'Line Table'!C6,CHAR(13),CHAR(10),,\"        early-disconnect\",CHAR(13),CHAR(10),,\"        route call dest-service HUNT_FXO\",CHAR(13),CHAR(10),,\"        remote \",Data!$C$24,\" \",Data!$C$25,CHAR(13),CHAR(10),,\"        address-translation outgoing-call request-uri user-part fix \",'Line Table'!B6,\" host-part to-header target-param none\",CHAR(13),CHAR(10),,\"        address-translation incoming-call called-e164 request-uri\",CHAR(13),CHAR(10),,CHAR(13),CHAR(10),)","v":"  interface sip IF_SIP_5\r\n        bind context sip-gateway GW_SIP_ALL_LINES\r\n        early-connect \r\n        early-disconnect\r\n        route call dest-service HUNT_FXO\r\n        remote 10.10.50.23 5060\r\n        address-translation outgoing-call request-uri user-part fix 10006 host-part to-header target-param none\r\n        address-translation incoming-call called-e164 request-uri\r\n\r\n"}]
[148,{"$f":"+IF(Data!$C$5>ROW(SNOMONE!B149)-ROW(SNOMONE!$B$144),\"\",\"#\")","v":""},{"$f":"+CONCATENATE(\"  interface sip IF_SIP_\",'Line Table'!A7,CHAR(13),CHAR(10),,\"        bind context sip-gateway GW_SIP_ALL_LINES\",CHAR(13),CHAR(10),,\"        \",+'Line Table'!C7,CHAR(13),CHAR(10),,\"        early-disconnect\",CHAR(13),CHAR(10),,\"        route call dest-service HUNT_FXO\",CHAR(13),CHAR(10),,\"        remote \",Data!$C$24,\" \",Data!$C$25,CHAR(13),CHAR(10),,\"        address-translation outgoing-call request-uri user-part fix \",'Line Table'!B7,\" host-part to-header target-param none\",CHAR(13),CHAR(10),,\"        address-translation incoming-call called-e164 request-uri\",CHAR(13),CHAR(10),,CHAR(13),CHAR(10),)","v":"  interface sip IF_SIP_6\r\n        bind context sip-gateway GW_SIP_ALL_LINES\r\n        early-connect \r\n        early-disconnect\r\n        route call dest-service HUNT_FXO\r\n        remote 10.10.50.23 5060\r\n        address-translation outgoing-call request-uri user-part fix 10007 host-part to-header target-param none\r\n        address-translation incoming-call called-e164 request-uri\r\n\r\n"}]
[149,{"$f":"+IF(Data!$C$5>ROW(SNOMONE!B150)-ROW(SNOMONE!$B$144),\"\",\"#\")","v":""},{"$f":"+CONCATENATE(\"  interface sip IF_SIP_\",'Line Table'!A8,CHAR(13),CHAR(10),,\"        bind context sip-gateway GW_SIP_ALL_LINES\",CHAR(13),CHAR(10),,\"        \",+'Line Table'!C8,CHAR(13),CHAR(10),,\"        early-disconnect\",CHAR(13),CHAR(10),,\"        route call dest-service HUNT_FXO\",CHAR(13),CHAR(10),,\"        remote \",Data!$C$24,\" \",Data!$C$25,CHAR(13),CHAR(10),,\"        address-translation outgoing-call request-uri user-part fix \",'Line Table'!B8,\" host-part to-header target-param none\",CHAR(13),CHAR(10),,\"        address-translation incoming-call called-e164 request-uri\",CHAR(13),CHAR(10),,CHAR(13),CHAR(10),)","v":"  interface sip IF_SIP_7\r\n        bind context sip-gateway GW_SIP_ALL_LINES\r\n        early-connect \r\n        early-disconnect\r\n        route call dest-service HUNT_FXO\r\n        remote 10.10.50.23 5060\r\n        address-translation outgoing-call request-uri user-part fix 10008 host-part to-header target-param none\r\n        address-translation incoming-call called-e164 request-uri\r\n\r\n"}]
[150,{"$f":"+IF(Data!$C$5>ROW(SNOMONE!B151)-ROW(SNOMONE!$B$144),\"\",\"#\")","v":""},{"$f":"+CONCATENATE(\"  interface sip IF_SIP_\",'Line Table'!A9,CHAR(13),CHAR(10),,\"        bind context sip-gateway GW_SIP_ALL_LINES\",CHAR(13),CHAR(10),,\"        \",+'Line Table'!C9,CHAR(13),CHAR(10),,\"        early-disconnect\",CHAR(13),CHAR(10),,\"        route call dest-service HUNT_FXO\",CHAR(13),CHAR(10),,\"        remote \",Data!$C$24,\" \",Data!$C$25,CHAR(13),CHAR(10),,\"        address-translation outgoing-call request-uri user-part fix \",'Line Table'!B9,\" host-part to-header target-param none\",CHAR(13),CHAR(10),,\"        address-translation incoming-call called-e164 request-uri\",CHAR(13),CHAR(10),,CHAR(13),CHAR(10),)","v":"  interface sip IF_SIP_8\r\n        bind context sip-gateway GW_SIP_ALL_LINES\r\n        early-connect \r\n        early-disconnect\r\n        route call dest-service HUNT_FXO\r\n        remote 10.10.50.23 5060\r\n        address-translation outgoing-call request-uri user-part fix 10009 host-part to-header target-param none\r\n        address-translation incoming-call called-e164 request-uri\r\n\r\n"}]
[151,{"$f":"+IF(Data!$C$5>ROW(SNOMONE!B152)-ROW(SNOMONE!$B$144),\"\",\"#\")","v":""},{"$f":"+CONCATENATE(\"  interface sip IF_SIP_\",'Line Table'!A10,CHAR(13),CHAR(10),,\"        bind context sip-gateway GW_SIP_ALL_LINES\",CHAR(13),CHAR(10),,\"        \",+'Line Table'!C10,CHAR(13),CHAR(10),,\"        early-disconnect\",CHAR(13),CHAR(10),,\"        route call dest-service HUNT_FXO\",CHAR(13),CHAR(10),,\"        remote \",Data!$C$24,\" \",Data!$C$25,CHAR(13),CHAR(10),,\"        address-translation outgoing-call request-uri user-part fix \",'Line Table'!B10,\" host-part to-header target-param none\",CHAR(13),CHAR(10),,\"        address-translation incoming-call called-e164 request-uri\",CHAR(13),CHAR(10),,CHAR(13),CHAR(10),)","v":"  interface sip IF_SIP_9\r\n        bind context sip-gateway GW_SIP_ALL_LINES\r\n        early-connect \r\n        early-disconnect\r\n        route call dest-service HUNT_FXO\r\n        remote 10.10.50.23 5060\r\n        address-translation outgoing-call request-uri user-part fix 10010 host-part to-header target-param none\r\n        address-translation incoming-call called-e164 request-uri\r\n\r\n"}]
[152,{"$f":"+IF(Data!$C$5>ROW(SNOMONE!B153)-ROW(SNOMONE!$B$144),\"\",\"#\")","v":""},{"$f":"+CONCATENATE(\"  interface sip IF_SIP_\",'Line Table'!A11,CHAR(13),CHAR(10),,\"        bind context sip-gateway GW_SIP_ALL_LINES\",CHAR(13),CHAR(10),,\"        \",+'Line Table'!C11,CHAR(13),CHAR(10),,\"        early-disconnect\",CHAR(13),CHAR(10),,\"        route call dest-service HUNT_FXO\",CHAR(13),CHAR(10),,\"        remote \",Data!$C$24,\" \",Data!$C$25,CHAR(13),CHAR(10),,\"        address-translation outgoing-call request-uri user-part fix \",'Line Table'!B11,\" host-part to-header target-param none\",CHAR(13),CHAR(10),,\"        address-translation incoming-call called-e164 request-uri\",CHAR(13),CHAR(10),,CHAR(13),CHAR(10),)","v":"  interface sip IF_SIP_10\r\n        bind context sip-gateway GW_SIP_ALL_LINES\r\n        early-connect \r\n        early-disconnect\r\n        route call dest-service HUNT_FXO\r\n        remote 10.10.50.23 5060\r\n        address-translation outgoing-call request-uri user-part fix 10011 host-part to-header target-param none\r\n        address-translation incoming-call called-e164 request-uri\r\n\r\n"}]
[153,{"$f":"+IF(Data!$C$5>ROW(SNOMONE!B154)-ROW(SNOMONE!$B$144),\"\",\"#\")","v":""},{"$f":"+CONCATENATE(\"  interface sip IF_SIP_\",'Line Table'!A12,CHAR(13),CHAR(10),,\"        bind context sip-gateway GW_SIP_ALL_LINES\",CHAR(13),CHAR(10),,\"        \",+'Line Table'!C12,CHAR(13),CHAR(10),,\"        early-disconnect\",CHAR(13),CHAR(10),,\"        route call dest-service HUNT_FXO\",CHAR(13),CHAR(10),,\"        remote \",Data!$C$24,\" \",Data!$C$25,CHAR(13),CHAR(10),,\"        address-translation outgoing-call request-uri user-part fix \",'Line Table'!B12,\" host-part to-header target-param none\",CHAR(13),CHAR(10),,\"        address-translation incoming-call called-e164 request-uri\",CHAR(13),CHAR(10),,CHAR(13),CHAR(10),)","v":"  interface sip IF_SIP_11\r\n        bind context sip-gateway GW_SIP_ALL_LINES\r\n        early-connect \r\n        early-disconnect\r\n        route call dest-service HUNT_FXO\r\n        remote 10.10.50.23 5060\r\n        address-translation outgoing-call request-uri user-part fix 10012 host-part to-header target-param none\r\n        address-translation incoming-call called-e164 request-uri\r\n\r\n"}]
[154,{"$f":"+IF(Data!$C$5>ROW(SNOMONE!B155)-ROW(SNOMONE!$B$144),\"\",\"#\")","v":""},{"$f":"+CONCATENATE(\"  interface sip IF_SIP_\",'Line Table'!A13,CHAR(13),CHAR(10),,\"        bind context sip-gateway GW_SIP_ALL_LINES\",CHAR(13),CHAR(10),,\"        \",+'Line Table'!C13,CHAR(13),CHAR(10),,\"        early-disconnect\",CHAR(13),CHAR(10),,\"        route call dest-service HUNT_FXO\",CHAR(13),CHAR(10),,\"        remote \",Data!$C$24,\" \",Data!$C$25,CHAR(13),CHAR(10),,\"        address-translation outgoing-call request-uri user-part fix \",'Line Table'!B13,\" host-part to-header target-param none\",CHAR(13),CHAR(10),,\"        address-translation incoming-call called-e164 request-uri\",CHAR(13),CHAR(10),,CHAR(13),CHAR(10),)","v":"  interface sip IF_SIP_12\r\n        bind context sip-gateway GW_SIP_ALL_LINES\r\n        early-connect \r\n        early-disconnect\r\n        route call dest-service HUNT_FXO\r\n        remote 10.10.50.23 5060\r\n        address-translation outgoing-call request-uri user-part fix 10013 host-part to-header target-param none\r\n        address-translation incoming-call called-e164 request-uri\r\n\r\n"}]
[155,{"$f":"+IF(Data!$C$5>ROW(SNOMONE!B156)-ROW(SNOMONE!$B$144),\"\",\"#\")","v":"#"},{"$f":"+CONCATENATE(\"  interface sip IF_SIP_\",'Line Table'!A14,CHAR(13),CHAR(10),,\"        bind context sip-gateway GW_SIP_ALL_LINES\",CHAR(13),CHAR(10),,\"        \",+'Line Table'!C14,CHAR(13),CHAR(10),,\"        early-disconnect\",CHAR(13),CHAR(10),,\"        route call dest-service HUNT_FXO\",CHAR(13),CHAR(10),,\"        remote \",Data!$C$24,\" \",Data!$C$25,CHAR(13),CHAR(10),,\"        address-translation outgoing-call request-uri user-part fix \",'Line Table'!B14,\" host-part to-header target-param none\",CHAR(13),CHAR(10),,\"        address-translation incoming-call called-e164 request-uri\",CHAR(13),CHAR(10),,CHAR(13),CHAR(10),)","v":"  interface sip IF_SIP_13\r\n        bind context sip-gateway GW_SIP_ALL_LINES\r\n        early-connect \r\n        early-disconnect\r\n        route call dest-service HUNT_FXO\r\n        remote 10.10.50.23 5060\r\n        address-translation outgoing-call request-uri user-part fix 10014 host-part to-header target-param none\r\n        address-translation incoming-call called-e164 request-uri\r\n\r\n"}]
[156,{"$f":"+IF(Data!$C$5>ROW(SNOMONE!B157)-ROW(SNOMONE!$B$144),\"\",\"#\")","v":"#"},{"$f":"+CONCATENATE(\"  interface sip IF_SIP_\",'Line Table'!A15,CHAR(13),CHAR(10),,\"        bind context sip-gateway GW_SIP_ALL_LINES\",CHAR(13),CHAR(10),,\"        \",+'Line Table'!C15,CHAR(13),CHAR(10),,\"        early-disconnect\",CHAR(13),CHAR(10),,\"        route call dest-service HUNT_FXO\",CHAR(13),CHAR(10),,\"        remote \",Data!$C$24,\" \",Data!$C$25,CHAR(13),CHAR(10),,\"        address-translation outgoing-call request-uri user-part fix \",'Line Table'!B15,\" host-part to-header target-param none\",CHAR(13),CHAR(10),,\"        address-translation incoming-call called-e164 request-uri\",CHAR(13),CHAR(10),,CHAR(13),CHAR(10),)","v":"  interface sip IF_SIP_14\r\n        bind context sip-gateway GW_SIP_ALL_LINES\r\n        early-connect \r\n        early-disconnect\r\n        route call dest-service HUNT_FXO\r\n        remote 10.10.50.23 5060\r\n        address-translation outgoing-call request-uri user-part fix 10015 host-part to-header target-param none\r\n        address-translation incoming-call called-e164 request-uri\r\n\r\n"}]
[157,{"$f":"+IF(Data!$C$5>ROW(SNOMONE!B158)-ROW(SNOMONE!$B$144),\"\",\"#\")","v":"#"},{"$f":"+CONCATENATE(\"  interface sip IF_SIP_\",'Line Table'!A16,CHAR(13),CHAR(10),,\"        bind context sip-gateway GW_SIP_ALL_LINES\",CHAR(13),CHAR(10),,\"        \",+'Line Table'!C16,CHAR(13),CHAR(10),,\"        early-disconnect\",CHAR(13),CHAR(10),,\"        route call dest-service HUNT_FXO\",CHAR(13),CHAR(10),,\"        remote \",Data!$C$24,\" \",Data!$C$25,CHAR(13),CHAR(10),,\"        address-translation outgoing-call request-uri user-part fix \",'Line Table'!B16,\" host-part to-header target-param none\",CHAR(13),CHAR(10),,\"        address-translation incoming-call called-e164 request-uri\",CHAR(13),CHAR(10),,CHAR(13),CHAR(10),)","v":"  interface sip IF_SIP_15\r\n        bind context sip-gateway GW_SIP_ALL_LINES\r\n        early-connect \r\n        early-disconnect\r\n        route call dest-service HUNT_FXO\r\n        remote 10.10.50.23 5060\r\n        address-translation outgoing-call request-uri user-part fix 10016 host-part to-header target-param none\r\n        address-translation incoming-call called-e164 request-uri\r\n\r\n"}]
[158,{"$f":"+IF(Data!$C$5>ROW(SNOMONE!B159)-ROW(SNOMONE!$B$144),\"\",\"#\")","v":"#"},{"$f":"+CONCATENATE(\"  interface sip IF_SIP_\",'Line Table'!A17,CHAR(13),CHAR(10),,\"        bind context sip-gateway GW_SIP_ALL_LINES\",CHAR(13),CHAR(10),,\"        \",+'Line Table'!C17,CHAR(13),CHAR(10),,\"        early-disconnect\",CHAR(13),CHAR(10),,\"        route call dest-service HUNT_FXO\",CHAR(13),CHAR(10),,\"        remote \",Data!$C$24,\" \",Data!$C$25,CHAR(13),CHAR(10),,\"        address-translation outgoing-call request-uri user-part fix \",'Line Table'!B17,\" host-part to-header target-param none\",CHAR(13),CHAR(10),,\"        address-translation incoming-call called-e164 request-uri\",CHAR(13),CHAR(10),,CHAR(13),CHAR(10),)","v":"  interface sip IF_SIP_16\r\n        bind context sip-gateway GW_SIP_ALL_LINES\r\n        early-connect \r\n        early-disconnect\r\n        route call dest-service HUNT_FXO\r\n        remote 10.10.50.23 5060\r\n        address-translation outgoing-call request-uri user-part fix 10017 host-part to-header target-param none\r\n        address-translation incoming-call called-e164 request-uri\r\n\r\n"}]
[159,{"$f":"+IF(Data!$C$5>ROW(SNOMONE!B160)-ROW(SNOMONE!$B$144),\"\",\"#\")","v":"#"},{"$f":"+CONCATENATE(\"  interface sip IF_SIP_\",'Line Table'!A18,CHAR(13),CHAR(10),,\"        bind context sip-gateway GW_SIP_ALL_LINES\",CHAR(13),CHAR(10),,\"        \",+'Line Table'!C18,CHAR(13),CHAR(10),,\"        early-disconnect\",CHAR(13),CHAR(10),,\"        route call dest-service HUNT_FXO\",CHAR(13),CHAR(10),,\"        remote \",Data!$C$24,\" \",Data!$C$25,CHAR(13),CHAR(10),,\"        address-translation outgoing-call request-uri user-part fix \",'Line Table'!B18,\" host-part to-header target-param none\",CHAR(13),CHAR(10),,\"        address-translation incoming-call called-e164 request-uri\",CHAR(13),CHAR(10),,CHAR(13),CHAR(10),)","v":"  interface sip IF_SIP_17\r\n        bind context sip-gateway GW_SIP_ALL_LINES\r\n        early-connect \r\n        early-disconnect\r\n        route call dest-service HUNT_FXO\r\n        remote 10.10.50.23 5060\r\n        address-translation outgoing-call request-uri user-part fix 10018 host-part to-header target-param none\r\n        address-translation incoming-call called-e164 request-uri\r\n\r\n"}]
[160,{"$f":"+IF(Data!$C$5>ROW(SNOMONE!B161)-ROW(SNOMONE!$B$144),\"\",\"#\")","v":"#"},{"$f":"+CONCATENATE(\"  interface sip IF_SIP_\",'Line Table'!A19,CHAR(13),CHAR(10),,\"        bind context sip-gateway GW_SIP_ALL_LINES\",CHAR(13),CHAR(10),,\"        \",+'Line Table'!C19,CHAR(13),CHAR(10),,\"        early-disconnect\",CHAR(13),CHAR(10),,\"        route call dest-service HUNT_FXO\",CHAR(13),CHAR(10),,\"        remote \",Data!$C$24,\" \",Data!$C$25,CHAR(13),CHAR(10),,\"        address-translation outgoing-call request-uri user-part fix \",'Line Table'!B19,\" host-part to-header target-param none\",CHAR(13),CHAR(10),,\"        address-translation incoming-call called-e164 request-uri\",CHAR(13),CHAR(10),,CHAR(13),CHAR(10),)","v":"  interface sip IF_SIP_18\r\n        bind context sip-gateway GW_SIP_ALL_LINES\r\n        early-connect \r\n        early-disconnect\r\n        route call dest-service HUNT_FXO\r\n        remote 10.10.50.23 5060\r\n        address-translation outgoing-call request-uri user-part fix 10019 host-part to-header target-param none\r\n        address-translation incoming-call called-e164 request-uri\r\n\r\n"}]
[161,{"$f":"+IF(Data!$C$5>ROW(SNOMONE!B162)-ROW(SNOMONE!$B$144),\"\",\"#\")","v":"#"},{"$f":"+CONCATENATE(\"  interface sip IF_SIP_\",'Line Table'!A20,CHAR(13),CHAR(10),,\"        bind context sip-gateway GW_SIP_ALL_LINES\",CHAR(13),CHAR(10),,\"        \",+'Line Table'!C20,CHAR(13),CHAR(10),,\"        early-disconnect\",CHAR(13),CHAR(10),,\"        route call dest-service HUNT_FXO\",CHAR(13),CHAR(10),,\"        remote \",Data!$C$24,\" \",Data!$C$25,CHAR(13),CHAR(10),,\"        address-translation outgoing-call request-uri user-part fix \",'Line Table'!B20,\" host-part to-header target-param none\",CHAR(13),CHAR(10),,\"        address-translation incoming-call called-e164 request-uri\",CHAR(13),CHAR(10),,CHAR(13),CHAR(10),)","v":"  interface sip IF_SIP_19\r\n        bind context sip-gateway GW_SIP_ALL_LINES\r\n        early-connect \r\n        early-disconnect\r\n        route call dest-service HUNT_FXO\r\n        remote 10.10.50.23 5060\r\n        address-translation outgoing-call request-uri user-part fix 10020 host-part to-header target-param none\r\n        address-translation incoming-call called-e164 request-uri\r\n\r\n"}]
[162,{"$f":"+IF(Data!$C$5>ROW(SNOMONE!B163)-ROW(SNOMONE!$B$144),\"\",\"#\")","v":"#"},{"$f":"+CONCATENATE(\"  interface sip IF_SIP_\",'Line Table'!A21,CHAR(13),CHAR(10),,\"        bind context sip-gateway GW_SIP_ALL_LINES\",CHAR(13),CHAR(10),,\"        \",+'Line Table'!C21,CHAR(13),CHAR(10),,\"        early-disconnect\",CHAR(13),CHAR(10),,\"        route call dest-service HUNT_FXO\",CHAR(13),CHAR(10),,\"        remote \",Data!$C$24,\" \",Data!$C$25,CHAR(13),CHAR(10),,\"        address-translation outgoing-call request-uri user-part fix \",'Line Table'!B21,\" host-part to-header target-param none\",CHAR(13),CHAR(10),,\"        address-translation incoming-call called-e164 request-uri\",CHAR(13),CHAR(10),,CHAR(13),CHAR(10),)","v":"  interface sip IF_SIP_20\r\n        bind context sip-gateway GW_SIP_ALL_LINES\r\n        early-connect \r\n        early-disconnect\r\n        route call dest-service HUNT_FXO\r\n        remote 10.10.50.23 5060\r\n        address-translation outgoing-call request-uri user-part fix 10021 host-part to-header target-param none\r\n        address-translation incoming-call called-e164 request-uri\r\n\r\n"}]
[163,{"$f":"+IF(Data!$C$5>ROW(SNOMONE!B164)-ROW(SNOMONE!$B$144),\"\",\"#\")","v":"#"},{"$f":"+CONCATENATE(\"  interface sip IF_SIP_\",'Line Table'!A22,CHAR(13),CHAR(10),,\"        bind context sip-gateway GW_SIP_ALL_LINES\",CHAR(13),CHAR(10),,\"        \",+'Line Table'!C22,CHAR(13),CHAR(10),,\"        early-disconnect\",CHAR(13),CHAR(10),,\"        route call dest-service HUNT_FXO\",CHAR(13),CHAR(10),,\"        remote \",Data!$C$24,\" \",Data!$C$25,CHAR(13),CHAR(10),,\"        address-translation outgoing-call request-uri user-part fix \",'Line Table'!B22,\" host-part to-header target-param none\",CHAR(13),CHAR(10),,\"        address-translation incoming-call called-e164 request-uri\",CHAR(13),CHAR(10),,CHAR(13),CHAR(10),)","v":"  interface sip IF_SIP_21\r\n        bind context sip-gateway GW_SIP_ALL_LINES\r\n        early-connect \r\n        early-disconnect\r\n        route call dest-service HUNT_FXO\r\n        remote 10.10.50.23 5060\r\n        address-translation outgoing-call request-uri user-part fix 10022 host-part to-header target-param none\r\n        address-translation incoming-call called-e164 request-uri\r\n\r\n"}]
[164,{"$f":"+IF(Data!$C$5>ROW(SNOMONE!B165)-ROW(SNOMONE!$B$144),\"\",\"#\")","v":"#"},{"$f":"+CONCATENATE(\"  interface sip IF_SIP_\",'Line Table'!A23,CHAR(13),CHAR(10),,\"        bind context sip-gateway GW_SIP_ALL_LINES\",CHAR(13),CHAR(10),,\"        \",+'Line Table'!C23,CHAR(13),CHAR(10),,\"        early-disconnect\",CHAR(13),CHAR(10),,\"        route call dest-service HUNT_FXO\",CHAR(13),CHAR(10),,\"        remote \",Data!$C$24,\" \",Data!$C$25,CHAR(13),CHAR(10),,\"        address-translation outgoing-call request-uri user-part fix \",'Line Table'!B23,\" host-part to-header target-param none\",CHAR(13),CHAR(10),,\"        address-translation incoming-call called-e164 request-uri\",CHAR(13),CHAR(10),,CHAR(13),CHAR(10),)","v":"  interface sip IF_SIP_22\r\n        bind context sip-gateway GW_SIP_ALL_LINES\r\n        early-connect \r\n        early-disconnect\r\n        route call dest-service HUNT_FXO\r\n        remote 10.10.50.23 5060\r\n        address-translation outgoing-call request-uri user-part fix 10023 host-part to-header target-param none\r\n        address-translation incoming-call called-e164 request-uri\r\n\r\n"}]
[165,{"$f":"+IF(Data!$C$5>ROW(SNOMONE!B166)-ROW(SNOMONE!$B$144),\"\",\"#\")","v":"#"},{"$f":"+CONCATENATE(\"  interface sip IF_SIP_\",'Line Table'!A24,CHAR(13),CHAR(10),,\"        bind context sip-gateway GW_SIP_ALL_LINES\",CHAR(13),CHAR(10),,\"        \",+'Line Table'!C24,CHAR(13),CHAR(10),,\"        early-disconnect\",CHAR(13),CHAR(10),,\"        route call dest-service HUNT_FXO\",CHAR(13),CHAR(10),,\"        remote \",Data!$C$24,\" \",Data!$C$25,CHAR(13),CHAR(10),,\"        address-translation outgoing-call request-uri user-part fix \",'Line Table'!B24,\" host-part to-header target-param none\",CHAR(13),CHAR(10),,\"        address-translation incoming-call called-e164 request-uri\",CHAR(13),CHAR(10),,CHAR(13),CHAR(10),)","v":"  interface sip IF_SIP_23\r\n        bind context sip-gateway GW_SIP_ALL_LINES\r\n        early-connect \r\n        early-disconnect\r\n        route call dest-service HUNT_FXO\r\n        remote 10.10.50.23 5060\r\n        address-translation outgoing-call request-uri user-part fix 10024 host-part to-header target-param none\r\n        address-translation incoming-call called-e164 request-uri\r\n\r\n"}]
[166,{"$f":"+IF(Data!$C$5>ROW(SNOMONE!B167)-ROW(SNOMONE!$B$144),\"\",\"#\")","v":"#"},{"$f":"+CONCATENATE(\"  interface sip IF_SIP_\",'Line Table'!A25,CHAR(13),CHAR(10),,\"        bind context sip-gateway GW_SIP_ALL_LINES\",CHAR(13),CHAR(10),,\"        \",+'Line Table'!C25,CHAR(13),CHAR(10),,\"        early-disconnect\",CHAR(13),CHAR(10),,\"        route call dest-service HUNT_FXO\",CHAR(13),CHAR(10),,\"        remote \",Data!$C$24,\" \",Data!$C$25,CHAR(13),CHAR(10),,\"        address-translation outgoing-call request-uri user-part fix \",'Line Table'!B25,\" host-part to-header target-param none\",CHAR(13),CHAR(10),,\"        address-translation incoming-call called-e164 request-uri\",CHAR(13),CHAR(10),,CHAR(13),CHAR(10),)","v":"  interface sip IF_SIP_24\r\n        bind context sip-gateway GW_SIP_ALL_LINES\r\n        early-connect \r\n        early-disconnect\r\n        route call dest-service HUNT_FXO\r\n        remote 10.10.50.23 5060\r\n        address-translation outgoing-call request-uri user-part fix 10025 host-part to-header target-param none\r\n        address-translation incoming-call called-e164 request-uri\r\n\r\n"}]
[167,{"$f":"+IF(Data!$C$5>ROW(SNOMONE!B168)-ROW(SNOMONE!$B$144),\"\",\"#\")","v":"#"},{"$f":"+CONCATENATE(\"  interface sip IF_SIP_\",'Line Table'!A26,CHAR(13),CHAR(10),,\"        bind context sip-gateway GW_SIP_ALL_LINES\",CHAR(13),CHAR(10),,\"        \",+'Line Table'!C26,CHAR(13),CHAR(10),,\"        early-disconnect\",CHAR(13),CHAR(10),,\"        route call dest-service HUNT_FXO\",CHAR(13),CHAR(10),,\"        remote \",Data!$C$24,\" \",Data!$C$25,CHAR(13),CHAR(10),,\"        address-translation outgoing-call request-uri user-part fix \",'Line Table'!B26,\" host-part to-header target-param none\",CHAR(13),CHAR(10),,\"        address-translation incoming-call called-e164 request-uri\",CHAR(13),CHAR(10),,CHAR(13),CHAR(10),)","v":"  interface sip IF_SIP_25\r\n        bind context sip-gateway GW_SIP_ALL_LINES\r\n        early-connect \r\n        early-disconnect\r\n        route call dest-service HUNT_FXO\r\n        remote 10.10.50.23 5060\r\n        address-translation outgoing-call request-uri user-part fix 10026 host-part to-header target-param none\r\n        address-translation incoming-call called-e164 request-uri\r\n\r\n"}]
[168,{"$f":"+IF(Data!$C$5>ROW(SNOMONE!B169)-ROW(SNOMONE!$B$144),\"\",\"#\")","v":"#"},{"$f":"+CONCATENATE(\"  interface sip IF_SIP_\",'Line Table'!A27,CHAR(13),CHAR(10),,\"        bind context sip-gateway GW_SIP_ALL_LINES\",CHAR(13),CHAR(10),,\"        \",+'Line Table'!C27,CHAR(13),CHAR(10),,\"        early-disconnect\",CHAR(13),CHAR(10),,\"        route call dest-service HUNT_FXO\",CHAR(13),CHAR(10),,\"        remote \",Data!$C$24,\" \",Data!$C$25,CHAR(13),CHAR(10),,\"        address-translation outgoing-call request-uri user-part fix \",'Line Table'!B27,\" host-part to-header target-param none\",CHAR(13),CHAR(10),,\"        address-translation incoming-call called-e164 request-uri\",CHAR(13),CHAR(10),,CHAR(13),CHAR(10),)","v":"  interface sip IF_SIP_26\r\n        bind context sip-gateway GW_SIP_ALL_LINES\r\n        early-connect \r\n        early-disconnect\r\n        route call dest-service HUNT_FXO\r\n        remote 10.10.50.23 5060\r\n        address-translation outgoing-call request-uri user-part fix 10027 host-part to-header target-param none\r\n        address-translation incoming-call called-e164 request-uri\r\n\r\n"}]
[169,{"$f":"+IF(Data!$C$5>ROW(SNOMONE!B170)-ROW(SNOMONE!$B$144),\"\",\"#\")","v":"#"},{"$f":"+CONCATENATE(\"  interface sip IF_SIP_\",'Line Table'!A28,CHAR(13),CHAR(10),,\"        bind context sip-gateway GW_SIP_ALL_LINES\",CHAR(13),CHAR(10),,\"        \",+'Line Table'!C28,CHAR(13),CHAR(10),,\"        early-disconnect\",CHAR(13),CHAR(10),,\"        route call dest-service HUNT_FXO\",CHAR(13),CHAR(10),,\"        remote \",Data!$C$24,\" \",Data!$C$25,CHAR(13),CHAR(10),,\"        address-translation outgoing-call request-uri user-part fix \",'Line Table'!B28,\" host-part to-header target-param none\",CHAR(13),CHAR(10),,\"        address-translation incoming-call called-e164 request-uri\",CHAR(13),CHAR(10),,CHAR(13),CHAR(10),)","v":"  interface sip IF_SIP_27\r\n        bind context sip-gateway GW_SIP_ALL_LINES\r\n        early-connect \r\n        early-disconnect\r\n        route call dest-service HUNT_FXO\r\n        remote 10.10.50.23 5060\r\n        address-translation outgoing-call request-uri user-part fix 10028 host-part to-header target-param none\r\n        address-translation incoming-call called-e164 request-uri\r\n\r\n"}]
[170,{"$f":"+IF(Data!$C$5>ROW(SNOMONE!B171)-ROW(SNOMONE!$B$144),\"\",\"#\")","v":"#"},{"$f":"+CONCATENATE(\"  interface sip IF_SIP_\",'Line Table'!A29,CHAR(13),CHAR(10),,\"        bind context sip-gateway GW_SIP_ALL_LINES\",CHAR(13),CHAR(10),,\"        \",+'Line Table'!C29,CHAR(13),CHAR(10),,\"        early-disconnect\",CHAR(13),CHAR(10),,\"        route call dest-service HUNT_FXO\",CHAR(13),CHAR(10),,\"        remote \",Data!$C$24,\" \",Data!$C$25,CHAR(13),CHAR(10),,\"        address-translation outgoing-call request-uri user-part fix \",'Line Table'!B29,\" host-part to-header target-param none\",CHAR(13),CHAR(10),,\"        address-translation incoming-call called-e164 request-uri\",CHAR(13),CHAR(10),,CHAR(13),CHAR(10),)","v":"  interface sip IF_SIP_28\r\n        bind context sip-gateway GW_SIP_ALL_LINES\r\n        early-connect \r\n        early-disconnect\r\n        route call dest-service HUNT_FXO\r\n        remote 10.10.50.23 5060\r\n        address-translation outgoing-call request-uri user-part fix 10029 host-part to-header target-param none\r\n        address-translation incoming-call called-e164 request-uri\r\n\r\n"}]
[171,{"$f":"+IF(Data!$C$5>ROW(SNOMONE!B172)-ROW(SNOMONE!$B$144),\"\",\"#\")","v":"#"},{"$f":"+CONCATENATE(\"  interface sip IF_SIP_\",'Line Table'!A30,CHAR(13),CHAR(10),,\"        bind context sip-gateway GW_SIP_ALL_LINES\",CHAR(13),CHAR(10),,\"        \",+'Line Table'!C30,CHAR(13),CHAR(10),,\"        early-disconnect\",CHAR(13),CHAR(10),,\"        route call dest-service HUNT_FXO\",CHAR(13),CHAR(10),,\"        remote \",Data!$C$24,\" \",Data!$C$25,CHAR(13),CHAR(10),,\"        address-translation outgoing-call request-uri user-part fix \",'Line Table'!B30,\" host-part to-header target-param none\",CHAR(13),CHAR(10),,\"        address-translation incoming-call called-e164 request-uri\",CHAR(13),CHAR(10),,CHAR(13),CHAR(10),)","v":"  interface sip IF_SIP_29\r\n        bind context sip-gateway GW_SIP_ALL_LINES\r\n        early-connect \r\n        early-disconnect\r\n        route call dest-service HUNT_FXO\r\n        remote 10.10.50.23 5060\r\n        address-translation outgoing-call request-uri user-part fix 10030 host-part to-header target-param none\r\n        address-translation incoming-call called-e164 request-uri\r\n\r\n"}]
[172,{"$f":"+IF(Data!$C$5>ROW(SNOMONE!B173)-ROW(SNOMONE!$B$144),\"\",\"#\")","v":"#"},{"$f":"+CONCATENATE(\"  interface sip IF_SIP_\",'Line Table'!A31,CHAR(13),CHAR(10),,\"        bind context sip-gateway GW_SIP_ALL_LINES\",CHAR(13),CHAR(10),,\"        \",+'Line Table'!C31,CHAR(13),CHAR(10),,\"        early-disconnect\",CHAR(13),CHAR(10),,\"        route call dest-service HUNT_FXO\",CHAR(13),CHAR(10),,\"        remote \",Data!$C$24,\" \",Data!$C$25,CHAR(13),CHAR(10),,\"        address-translation outgoing-call request-uri user-part fix \",'Line Table'!B31,\" host-part to-header target-param none\",CHAR(13),CHAR(10),,\"        address-translation incoming-call called-e164 request-uri\",CHAR(13),CHAR(10),,CHAR(13),CHAR(10),)","v":"  interface sip IF_SIP_30\r\n        bind context sip-gateway GW_SIP_ALL_LINES\r\n        early-connect \r\n        early-disconnect\r\n        route call dest-service HUNT_FXO\r\n        remote 10.10.50.23 5060\r\n        address-translation outgoing-call request-uri user-part fix 10031 host-part to-header target-param none\r\n        address-translation incoming-call called-e164 request-uri\r\n\r\n"}]
[173,{"$f":"+IF(Data!$C$5>ROW(SNOMONE!B174)-ROW(SNOMONE!$B$144),\"\",\"#\")","v":"#"},{"$f":"+CONCATENATE(\"  interface sip IF_SIP_\",'Line Table'!A32,CHAR(13),CHAR(10),,\"        bind context sip-gateway GW_SIP_ALL_LINES\",CHAR(13),CHAR(10),,\"        \",+'Line Table'!C32,CHAR(13),CHAR(10),,\"        early-disconnect\",CHAR(13),CHAR(10),,\"        route call dest-service HUNT_FXO\",CHAR(13),CHAR(10),,\"        remote \",Data!$C$24,\" \",Data!$C$25,CHAR(13),CHAR(10),,\"        address-translation outgoing-call request-uri user-part fix \",'Line Table'!B32,\" host-part to-header target-param none\",CHAR(13),CHAR(10),,\"        address-translation incoming-call called-e164 request-uri\",CHAR(13),CHAR(10),,CHAR(13),CHAR(10),)","v":"  interface sip IF_SIP_31\r\n        bind context sip-gateway GW_SIP_ALL_LINES\r\n        early-connect \r\n        early-disconnect\r\n        route call dest-service HUNT_FXO\r\n        remote 10.10.50.23 5060\r\n        address-translation outgoing-call request-uri user-part fix 10032 host-part to-header target-param none\r\n        address-translation incoming-call called-e164 request-uri\r\n\r\n"}]
[174,{"$f":"+IF(Data!$C$5>ROW(SNOMONE!B175)-ROW(SNOMONE!$B$144),\"\",\"#\")","v":"#"},{"$f":"+CONCATENATE(\"  interface sip IF_SIP_\",'Line Table'!A33,CHAR(13),CHAR(10),,\"        bind context sip-gateway GW_SIP_ALL_LINES\",CHAR(13),CHAR(10),,\"        \",+'Line Table'!C33,CHAR(13),CHAR(10),,\"        early-disconnect\",CHAR(13),CHAR(10),,\"        route call dest-service HUNT_FXO\",CHAR(13),CHAR(10),,\"        remote \",Data!$C$24,\" \",Data!$C$25,CHAR(13),CHAR(10),,\"        address-translation outgoing-call request-uri user-part fix \",'Line Table'!B33,\" host-part to-header target-param none\",CHAR(13),CHAR(10),,\"        address-translation incoming-call called-e164 request-uri\",CHAR(13),CHAR(10),,CHAR(13),CHAR(10),)","v":"  interface sip IF_SIP_32\r\n        bind context sip-gateway GW_SIP_ALL_LINES\r\n        early-connect \r\n        early-disconnect\r\n        route call dest-service HUNT_FXO\r\n        remote 10.10.50.23 5060\r\n        address-translation outgoing-call request-uri user-part fix 10033 host-part to-header target-param none\r\n        address-translation incoming-call called-e164 request-uri\r\n\r\n"}]
[175]
[176,{"$f":"+IF(Data!$C$5>ROW(SNOMONE!B177)-ROW(SNOMONE!$B$177),\"\",\"#\")","v":""},{"$f":"+CONCATENATE(\" interface fxo IF_FXO_\",'Line Table'!A2,CHAR(13),CHAR(10),\"          route call dest-interface IF_SIP_\",'Line Table'!A2,CHAR(13),CHAR(10),\"         loop-break-duration min 200 max 1000\",CHAR(13),CHAR(10),\"          \",'Line Table'!D2,CHAR(13),CHAR(10),\"         mute-dialing\",CHAR(13),CHAR(10),\"           disconnect-signal loop-break\",CHAR(13),CHAR(10),\"         disconnect-signal busy-tone\",CHAR(13),CHAR(10),\"         dial-after timeout 1\")","v":" interface fxo IF_FXO_1\r\n          route call dest-interface IF_SIP_1\r\n         loop-break-duration min 200 max 1000\r\n          ring-number on-caller-id \r\n         mute-dialing\r\n           disconnect-signal loop-break\r\n         disconnect-signal busy-tone\r\n         dial-after timeout 1"}]
[177,{"$f":"+IF(Data!$C$5>ROW(SNOMONE!B178)-ROW(SNOMONE!$B$177),\"\",\"#\")","v":""},{"$f":"+CONCATENATE(\" interface fxo IF_FXO_\",'Line Table'!A3,CHAR(13),CHAR(10),\"          route call dest-interface IF_SIP_\",'Line Table'!A3,CHAR(13),CHAR(10),\"         loop-break-duration min 200 max 1000\",CHAR(13),CHAR(10),\"          \",'Line Table'!D3,CHAR(13),CHAR(10),\"         mute-dialing\",CHAR(13),CHAR(10),\"           disconnect-signal loop-break\",CHAR(13),CHAR(10),\"         disconnect-signal busy-tone\",CHAR(13),CHAR(10),\"         dial-after timeout 1\")","v":" interface fxo IF_FXO_2\r\n          route call dest-interface IF_SIP_2\r\n         loop-break-duration min 200 max 1000\r\n          ring-number on-caller-id \r\n         mute-dialing\r\n           disconnect-signal loop-break\r\n         disconnect-signal busy-tone\r\n         dial-after timeout 1"}]
[178,{"$f":"+IF(Data!$C$5>ROW(SNOMONE!B179)-ROW(SNOMONE!$B$177),\"\",\"#\")","v":""},{"$f":"+CONCATENATE(\" interface fxo IF_FXO_\",'Line Table'!A4,CHAR(13),CHAR(10),\"          route call dest-interface IF_SIP_\",'Line Table'!A4,CHAR(13),CHAR(10),\"         loop-break-duration min 200 max 1000\",CHAR(13),CHAR(10),\"          \",'Line Table'!D4,CHAR(13),CHAR(10),\"         mute-dialing\",CHAR(13),CHAR(10),\"           disconnect-signal loop-break\",CHAR(13),CHAR(10),\"         disconnect-signal busy-tone\",CHAR(13),CHAR(10),\"         dial-after timeout 1\")","v":" interface fxo IF_FXO_3\r\n          route call dest-interface IF_SIP_3\r\n         loop-break-duration min 200 max 1000\r\n          ring-number on-caller-id \r\n         mute-dialing\r\n           disconnect-signal loop-break\r\n         disconnect-signal busy-tone\r\n         dial-after timeout 1"}]
[179,{"$f":"+IF(Data!$C$5>ROW(SNOMONE!B180)-ROW(SNOMONE!$B$177),\"\",\"#\")","v":""},{"$f":"+CONCATENATE(\" interface fxo IF_FXO_\",'Line Table'!A5,CHAR(13),CHAR(10),\"          route call dest-interface IF_SIP_\",'Line Table'!A5,CHAR(13),CHAR(10),\"         loop-break-duration min 200 max 1000\",CHAR(13),CHAR(10),\"          \",'Line Table'!D5,CHAR(13),CHAR(10),\"         mute-dialing\",CHAR(13),CHAR(10),\"           disconnect-signal loop-break\",CHAR(13),CHAR(10),\"         disconnect-signal busy-tone\",CHAR(13),CHAR(10),\"         dial-after timeout 1\")","v":" interface fxo IF_FXO_4\r\n          route call dest-interface IF_SIP_4\r\n         loop-break-duration min 200 max 1000\r\n          ring-number on-caller-id \r\n         mute-dialing\r\n           disconnect-signal loop-break\r\n         disconnect-signal busy-tone\r\n         dial-after timeout 1"}]
[180,{"$f":"+IF(Data!$C$5>ROW(SNOMONE!B181)-ROW(SNOMONE!$B$177),\"\",\"#\")","v":""},{"$f":"+CONCATENATE(\" interface fxo IF_FXO_\",'Line Table'!A6,CHAR(13),CHAR(10),\"          route call dest-interface IF_SIP_\",'Line Table'!A6,CHAR(13),CHAR(10),\"         loop-break-duration min 200 max 1000\",CHAR(13),CHAR(10),\"          \",'Line Table'!D6,CHAR(13),CHAR(10),\"         mute-dialing\",CHAR(13),CHAR(10),\"           disconnect-signal loop-break\",CHAR(13),CHAR(10),\"         disconnect-signal busy-tone\",CHAR(13),CHAR(10),\"         dial-after timeout 1\")","v":" interface fxo IF_FXO_5\r\n          route call dest-interface IF_SIP_5\r\n         loop-break-duration min 200 max 1000\r\n          ring-number on-caller-id \r\n         mute-dialing\r\n           disconnect-signal loop-break\r\n         disconnect-signal busy-tone\r\n         dial-after timeout 1"}]
[181,{"$f":"+IF(Data!$C$5>ROW(SNOMONE!B182)-ROW(SNOMONE!$B$177),\"\",\"#\")","v":""},{"$f":"+CONCATENATE(\" interface fxo IF_FXO_\",'Line Table'!A7,CHAR(13),CHAR(10),\"          route call dest-interface IF_SIP_\",'Line Table'!A7,CHAR(13),CHAR(10),\"         loop-break-duration min 200 max 1000\",CHAR(13),CHAR(10),\"          \",'Line Table'!D7,CHAR(13),CHAR(10),\"         mute-dialing\",CHAR(13),CHAR(10),\"           disconnect-signal loop-break\",CHAR(13),CHAR(10),\"         disconnect-signal busy-tone\",CHAR(13),CHAR(10),\"         dial-after timeout 1\")","v":" interface fxo IF_FXO_6\r\n          route call dest-interface IF_SIP_6\r\n         loop-break-duration min 200 max 1000\r\n          ring-number on-caller-id \r\n         mute-dialing\r\n           disconnect-signal loop-break\r\n         disconnect-signal busy-tone\r\n         dial-after timeout 1"}]
[182,{"$f":"+IF(Data!$C$5>ROW(SNOMONE!B183)-ROW(SNOMONE!$B$177),\"\",\"#\")","v":""},{"$f":"+CONCATENATE(\" interface fxo IF_FXO_\",'Line Table'!A8,CHAR(13),CHAR(10),\"          route call dest-interface IF_SIP_\",'Line Table'!A8,CHAR(13),CHAR(10),\"         loop-break-duration min 200 max 1000\",CHAR(13),CHAR(10),\"          \",'Line Table'!D8,CHAR(13),CHAR(10),\"         mute-dialing\",CHAR(13),CHAR(10),\"           disconnect-signal loop-break\",CHAR(13),CHAR(10),\"         disconnect-signal busy-tone\",CHAR(13),CHAR(10),\"         dial-after timeout 1\")","v":" interface fxo IF_FXO_7\r\n          route call dest-interface IF_SIP_7\r\n         loop-break-duration min 200 max 1000\r\n          ring-number on-caller-id \r\n         mute-dialing\r\n           disconnect-signal loop-break\r\n         disconnect-signal busy-tone\r\n         dial-after timeout 1"}]
[183,{"$f":"+IF(Data!$C$5>ROW(SNOMONE!B184)-ROW(SNOMONE!$B$177),\"\",\"#\")","v":""},{"$f":"+CONCATENATE(\" interface fxo IF_FXO_\",'Line Table'!A9,CHAR(13),CHAR(10),\"          route call dest-interface IF_SIP_\",'Line Table'!A9,CHAR(13),CHAR(10),\"         loop-break-duration min 200 max 1000\",CHAR(13),CHAR(10),\"          \",'Line Table'!D9,CHAR(13),CHAR(10),\"         mute-dialing\",CHAR(13),CHAR(10),\"           disconnect-signal loop-break\",CHAR(13),CHAR(10),\"         disconnect-signal busy-tone\",CHAR(13),CHAR(10),\"         dial-after timeout 1\")","v":" interface fxo IF_FXO_8\r\n          route call dest-interface IF_SIP_8\r\n         loop-break-duration min 200 max 1000\r\n          ring-number on-caller-id \r\n         mute-dialing\r\n           disconnect-signal loop-break\r\n         disconnect-signal busy-tone\r\n         dial-after timeout 1"}]
[184,{"$f":"+IF(Data!$C$5>ROW(SNOMONE!B185)-ROW(SNOMONE!$B$177),\"\",\"#\")","v":""},{"$f":"+CONCATENATE(\" interface fxo IF_FXO_\",'Line Table'!A10,CHAR(13),CHAR(10),\"          route call dest-interface IF_SIP_\",'Line Table'!A10,CHAR(13),CHAR(10),\"         loop-break-duration min 200 max 1000\",CHAR(13),CHAR(10),\"          \",'Line Table'!D10,CHAR(13),CHAR(10),\"         mute-dialing\",CHAR(13),CHAR(10),\"           disconnect-signal loop-break\",CHAR(13),CHAR(10),\"         disconnect-signal busy-tone\",CHAR(13),CHAR(10),\"         dial-after timeout 1\")","v":" interface fxo IF_FXO_9\r\n          route call dest-interface IF_SIP_9\r\n         loop-break-duration min 200 max 1000\r\n          ring-number on-caller-id \r\n         mute-dialing\r\n           disconnect-signal loop-break\r\n         disconnect-signal busy-tone\r\n         dial-after timeout 1"}]
[185,{"$f":"+IF(Data!$C$5>ROW(SNOMONE!B186)-ROW(SNOMONE!$B$177),\"\",\"#\")","v":""},{"$f":"+CONCATENATE(\" interface fxo IF_FXO_\",'Line Table'!A11,CHAR(13),CHAR(10),\"          route call dest-interface IF_SIP_\",'Line Table'!A11,CHAR(13),CHAR(10),\"         loop-break-duration min 200 max 1000\",CHAR(13),CHAR(10),\"          \",'Line Table'!D11,CHAR(13),CHAR(10),\"         mute-dialing\",CHAR(13),CHAR(10),\"           disconnect-signal loop-break\",CHAR(13),CHAR(10),\"         disconnect-signal busy-tone\",CHAR(13),CHAR(10),\"         dial-after timeout 1\")","v":" interface fxo IF_FXO_10\r\n          route call dest-interface IF_SIP_10\r\n         loop-break-duration min 200 max 1000\r\n          ring-number on-caller-id \r\n         mute-dialing\r\n           disconnect-signal loop-break\r\n         disconnect-signal busy-tone\r\n         dial-after timeout 1"}]
[186,{"$f":"+IF(Data!$C$5>ROW(SNOMONE!B187)-ROW(SNOMONE!$B$177),\"\",\"#\")","v":""},{"$f":"+CONCATENATE(\" interface fxo IF_FXO_\",'Line Table'!A12,CHAR(13),CHAR(10),\"          route call dest-interface IF_SIP_\",'Line Table'!A12,CHAR(13),CHAR(10),\"         loop-break-duration min 200 max 1000\",CHAR(13),CHAR(10),\"          \",'Line Table'!D12,CHAR(13),CHAR(10),\"         mute-dialing\",CHAR(13),CHAR(10),\"           disconnect-signal loop-break\",CHAR(13),CHAR(10),\"         disconnect-signal busy-tone\",CHAR(13),CHAR(10),\"         dial-after timeout 1\")","v":" interface fxo IF_FXO_11\r\n          route call dest-interface IF_SIP_11\r\n         loop-break-duration min 200 max 1000\r\n          ring-number on-caller-id \r\n         mute-dialing\r\n           disconnect-signal loop-break\r\n         disconnect-signal busy-tone\r\n         dial-after timeout 1"}]
[187,{"$f":"+IF(Data!$C$5>ROW(SNOMONE!B188)-ROW(SNOMONE!$B$177),\"\",\"#\")","v":""},{"$f":"+CONCATENATE(\" interface fxo IF_FXO_\",'Line Table'!A13,CHAR(13),CHAR(10),\"          route call dest-interface IF_SIP_\",'Line Table'!A13,CHAR(13),CHAR(10),\"         loop-break-duration min 200 max 1000\",CHAR(13),CHAR(10),\"          \",'Line Table'!D13,CHAR(13),CHAR(10),\"         mute-dialing\",CHAR(13),CHAR(10),\"           disconnect-signal loop-break\",CHAR(13),CHAR(10),\"         disconnect-signal busy-tone\",CHAR(13),CHAR(10),\"         dial-after timeout 1\")","v":" interface fxo IF_FXO_12\r\n          route call dest-interface IF_SIP_12\r\n         loop-break-duration min 200 max 1000\r\n          ring-number on-caller-id \r\n         mute-dialing\r\n           disconnect-signal loop-break\r\n         disconnect-signal busy-tone\r\n         dial-after timeout 1"}]
[188,{"$f":"+IF(Data!$C$5>ROW(SNOMONE!B189)-ROW(SNOMONE!$B$177),\"\",\"#\")","v":"#"},{"$f":"+CONCATENATE(\" interface fxo IF_FXO_\",'Line Table'!A14,CHAR(13),CHAR(10),\"          route call dest-interface IF_SIP_\",'Line Table'!A14,CHAR(13),CHAR(10),\"         loop-break-duration min 200 max 1000\",CHAR(13),CHAR(10),\"          \",'Line Table'!D14,CHAR(13),CHAR(10),\"         mute-dialing\",CHAR(13),CHAR(10),\"           disconnect-signal loop-break\",CHAR(13),CHAR(10),\"         disconnect-signal busy-tone\",CHAR(13),CHAR(10),\"         dial-after timeout 1\")","v":" interface fxo IF_FXO_13\r\n          route call dest-interface IF_SIP_13\r\n         loop-break-duration min 200 max 1000\r\n          ring-number on-caller-id \r\n         mute-dialing\r\n           disconnect-signal loop-break\r\n         disconnect-signal busy-tone\r\n         dial-after timeout 1"}]
[189,{"$f":"+IF(Data!$C$5>ROW(SNOMONE!B190)-ROW(SNOMONE!$B$177),\"\",\"#\")","v":"#"},{"$f":"+CONCATENATE(\" interface fxo IF_FXO_\",'Line Table'!A15,CHAR(13),CHAR(10),\"          route call dest-interface IF_SIP_\",'Line Table'!A15,CHAR(13),CHAR(10),\"         loop-break-duration min 200 max 1000\",CHAR(13),CHAR(10),\"          \",'Line Table'!D15,CHAR(13),CHAR(10),\"         mute-dialing\",CHAR(13),CHAR(10),\"           disconnect-signal loop-break\",CHAR(13),CHAR(10),\"         disconnect-signal busy-tone\",CHAR(13),CHAR(10),\"         dial-after timeout 1\")","v":" interface fxo IF_FXO_14\r\n          route call dest-interface IF_SIP_14\r\n         loop-break-duration min 200 max 1000\r\n          ring-number on-caller-id \r\n         mute-dialing\r\n           disconnect-signal loop-break\r\n         disconnect-signal busy-tone\r\n         dial-after timeout 1"}]
[190,{"$f":"+IF(Data!$C$5>ROW(SNOMONE!B191)-ROW(SNOMONE!$B$177),\"\",\"#\")","v":"#"},{"$f":"+CONCATENATE(\" interface fxo IF_FXO_\",'Line Table'!A16,CHAR(13),CHAR(10),\"          route call dest-interface IF_SIP_\",'Line Table'!A16,CHAR(13),CHAR(10),\"         loop-break-duration min 200 max 1000\",CHAR(13),CHAR(10),\"          \",'Line Table'!D16,CHAR(13),CHAR(10),\"         mute-dialing\",CHAR(13),CHAR(10),\"           disconnect-signal loop-break\",CHAR(13),CHAR(10),\"         disconnect-signal busy-tone\",CHAR(13),CHAR(10),\"         dial-after timeout 1\")","v":" interface fxo IF_FXO_15\r\n          route call dest-interface IF_SIP_15\r\n         loop-break-duration min 200 max 1000\r\n          ring-number on-caller-id \r\n         mute-dialing\r\n           disconnect-signal loop-break\r\n         disconnect-signal busy-tone\r\n         dial-after timeout 1"}]
[191,{"$f":"+IF(Data!$C$5>ROW(SNOMONE!B192)-ROW(SNOMONE!$B$177),\"\",\"#\")","v":"#"},{"$f":"+CONCATENATE(\" interface fxo IF_FXO_\",'Line Table'!A17,CHAR(13),CHAR(10),\"          route call dest-interface IF_SIP_\",'Line Table'!A17,CHAR(13),CHAR(10),\"         loop-break-duration min 200 max 1000\",CHAR(13),CHAR(10),\"          \",'Line Table'!D17,CHAR(13),CHAR(10),\"         mute-dialing\",CHAR(13),CHAR(10),\"           disconnect-signal loop-break\",CHAR(13),CHAR(10),\"         disconnect-signal busy-tone\",CHAR(13),CHAR(10),\"         dial-after timeout 1\")","v":" interface fxo IF_FXO_16\r\n          route call dest-interface IF_SIP_16\r\n         loop-break-duration min 200 max 1000\r\n          ring-number on-caller-id \r\n         mute-dialing\r\n           disconnect-signal loop-break\r\n         disconnect-signal busy-tone\r\n         dial-after timeout 1"}]
[192,{"$f":"+IF(Data!$C$5>ROW(SNOMONE!B193)-ROW(SNOMONE!$B$177),\"\",\"#\")","v":"#"},{"$f":"+CONCATENATE(\" interface fxo IF_FXO_\",'Line Table'!A18,CHAR(13),CHAR(10),\"          route call dest-interface IF_SIP_\",'Line Table'!A18,CHAR(13),CHAR(10),\"         loop-break-duration min 200 max 1000\",CHAR(13),CHAR(10),\"          \",'Line Table'!D18,CHAR(13),CHAR(10),\"         mute-dialing\",CHAR(13),CHAR(10),\"           disconnect-signal loop-break\",CHAR(13),CHAR(10),\"         disconnect-signal busy-tone\",CHAR(13),CHAR(10),\"         dial-after timeout 1\")","v":" interface fxo IF_FXO_17\r\n          route call dest-interface IF_SIP_17\r\n         loop-break-duration min 200 max 1000\r\n          ring-number on-caller-id \r\n         mute-dialing\r\n           disconnect-signal loop-break\r\n         disconnect-signal busy-tone\r\n         dial-after timeout 1"}]
[193,{"$f":"+IF(Data!$C$5>ROW(SNOMONE!B194)-ROW(SNOMONE!$B$177),\"\",\"#\")","v":"#"},{"$f":"+CONCATENATE(\" interface fxo IF_FXO_\",'Line Table'!A19,CHAR(13),CHAR(10),\"          route call dest-interface IF_SIP_\",'Line Table'!A19,CHAR(13),CHAR(10),\"         loop-break-duration min 200 max 1000\",CHAR(13),CHAR(10),\"          \",'Line Table'!D19,CHAR(13),CHAR(10),\"         mute-dialing\",CHAR(13),CHAR(10),\"           disconnect-signal loop-break\",CHAR(13),CHAR(10),\"         disconnect-signal busy-tone\",CHAR(13),CHAR(10),\"         dial-after timeout 1\")","v":" interface fxo IF_FXO_18\r\n          route call dest-interface IF_SIP_18\r\n         loop-break-duration min 200 max 1000\r\n          ring-number on-caller-id \r\n         mute-dialing\r\n           disconnect-signal loop-break\r\n         disconnect-signal busy-tone\r\n         dial-after timeout 1"}]
[194,{"$f":"+IF(Data!$C$5>ROW(SNOMONE!B195)-ROW(SNOMONE!$B$177),\"\",\"#\")","v":"#"},{"$f":"+CONCATENATE(\" interface fxo IF_FXO_\",'Line Table'!A20,CHAR(13),CHAR(10),\"          route call dest-interface IF_SIP_\",'Line Table'!A20,CHAR(13),CHAR(10),\"         loop-break-duration min 200 max 1000\",CHAR(13),CHAR(10),\"          \",'Line Table'!D20,CHAR(13),CHAR(10),\"         mute-dialing\",CHAR(13),CHAR(10),\"           disconnect-signal loop-break\",CHAR(13),CHAR(10),\"         disconnect-signal busy-tone\",CHAR(13),CHAR(10),\"         dial-after timeout 1\")","v":" interface fxo IF_FXO_19\r\n          route call dest-interface IF_SIP_19\r\n         loop-break-duration min 200 max 1000\r\n          ring-number on-caller-id \r\n         mute-dialing\r\n           disconnect-signal loop-break\r\n         disconnect-signal busy-tone\r\n         dial-after timeout 1"}]
[195,{"$f":"+IF(Data!$C$5>ROW(SNOMONE!B196)-ROW(SNOMONE!$B$177),\"\",\"#\")","v":"#"},{"$f":"+CONCATENATE(\" interface fxo IF_FXO_\",'Line Table'!A21,CHAR(13),CHAR(10),\"          route call dest-interface IF_SIP_\",'Line Table'!A21,CHAR(13),CHAR(10),\"         loop-break-duration min 200 max 1000\",CHAR(13),CHAR(10),\"          \",'Line Table'!D21,CHAR(13),CHAR(10),\"         mute-dialing\",CHAR(13),CHAR(10),\"           disconnect-signal loop-break\",CHAR(13),CHAR(10),\"         disconnect-signal busy-tone\",CHAR(13),CHAR(10),\"         dial-after timeout 1\")","v":" interface fxo IF_FXO_20\r\n          route call dest-interface IF_SIP_20\r\n         loop-break-duration min 200 max 1000\r\n          ring-number on-caller-id \r\n         mute-dialing\r\n           disconnect-signal loop-break\r\n         disconnect-signal busy-tone\r\n         dial-after timeout 1"}]
[196,{"$f":"+IF(Data!$C$5>ROW(SNOMONE!B197)-ROW(SNOMONE!$B$177),\"\",\"#\")","v":"#"},{"$f":"+CONCATENATE(\" interface fxo IF_FXO_\",'Line Table'!A22,CHAR(13),CHAR(10),\"          route call dest-interface IF_SIP_\",'Line Table'!A22,CHAR(13),CHAR(10),\"         loop-break-duration min 200 max 1000\",CHAR(13),CHAR(10),\"          \",'Line Table'!D22,CHAR(13),CHAR(10),\"         mute-dialing\",CHAR(13),CHAR(10),\"           disconnect-signal loop-break\",CHAR(13),CHAR(10),\"         disconnect-signal busy-tone\",CHAR(13),CHAR(10),\"         dial-after timeout 1\")","v":" interface fxo IF_FXO_21\r\n          route call dest-interface IF_SIP_21\r\n         loop-break-duration min 200 max 1000\r\n          ring-number on-caller-id \r\n         mute-dialing\r\n           disconnect-signal loop-break\r\n         disconnect-signal busy-tone\r\n         dial-after timeout 1"}]
[197,{"$f":"+IF(Data!$C$5>ROW(SNOMONE!B198)-ROW(SNOMONE!$B$177),\"\",\"#\")","v":"#"},{"$f":"+CONCATENATE(\" interface fxo IF_FXO_\",'Line Table'!A23,CHAR(13),CHAR(10),\"          route call dest-interface IF_SIP_\",'Line Table'!A23,CHAR(13),CHAR(10),\"         loop-break-duration min 200 max 1000\",CHAR(13),CHAR(10),\"          \",'Line Table'!D23,CHAR(13),CHAR(10),\"         mute-dialing\",CHAR(13),CHAR(10),\"           disconnect-signal loop-break\",CHAR(13),CHAR(10),\"         disconnect-signal busy-tone\",CHAR(13),CHAR(10),\"         dial-after timeout 1\")","v":" interface fxo IF_FXO_22\r\n          route call dest-interface IF_SIP_22\r\n         loop-break-duration min 200 max 1000\r\n          ring-number on-caller-id \r\n         mute-dialing\r\n           disconnect-signal loop-break\r\n         disconnect-signal busy-tone\r\n         dial-after timeout 1"}]
[198,{"$f":"+IF(Data!$C$5>ROW(SNOMONE!B199)-ROW(SNOMONE!$B$177),\"\",\"#\")","v":"#"},{"$f":"+CONCATENATE(\" interface fxo IF_FXO_\",'Line Table'!A24,CHAR(13),CHAR(10),\"          route call dest-interface IF_SIP_\",'Line Table'!A24,CHAR(13),CHAR(10),\"         loop-break-duration min 200 max 1000\",CHAR(13),CHAR(10),\"          \",'Line Table'!D24,CHAR(13),CHAR(10),\"         mute-dialing\",CHAR(13),CHAR(10),\"           disconnect-signal loop-break\",CHAR(13),CHAR(10),\"         disconnect-signal busy-tone\",CHAR(13),CHAR(10),\"         dial-after timeout 1\")","v":" interface fxo IF_FXO_23\r\n          route call dest-interface IF_SIP_23\r\n         loop-break-duration min 200 max 1000\r\n          ring-number on-caller-id \r\n         mute-dialing\r\n           disconnect-signal loop-break\r\n         disconnect-signal busy-tone\r\n         dial-after timeout 1"}]
[199,{"$f":"+IF(Data!$C$5>ROW(SNOMONE!B200)-ROW(SNOMONE!$B$177),\"\",\"#\")","v":"#"},{"$f":"+CONCATENATE(\" interface fxo IF_FXO_\",'Line Table'!A25,CHAR(13),CHAR(10),\"          route call dest-interface IF_SIP_\",'Line Table'!A25,CHAR(13),CHAR(10),\"         loop-break-duration min 200 max 1000\",CHAR(13),CHAR(10),\"          \",'Line Table'!D25,CHAR(13),CHAR(10),\"         mute-dialing\",CHAR(13),CHAR(10),\"           disconnect-signal loop-break\",CHAR(13),CHAR(10),\"         disconnect-signal busy-tone\",CHAR(13),CHAR(10),\"         dial-after timeout 1\")","v":" interface fxo IF_FXO_24\r\n          route call dest-interface IF_SIP_24\r\n         loop-break-duration min 200 max 1000\r\n          ring-number on-caller-id \r\n         mute-dialing\r\n           disconnect-signal loop-break\r\n         disconnect-signal busy-tone\r\n         dial-after timeout 1"}]
[200,{"$f":"+IF(Data!$C$5>ROW(SNOMONE!B201)-ROW(SNOMONE!$B$177),\"\",\"#\")","v":"#"},{"$f":"+CONCATENATE(\" interface fxo IF_FXO_\",'Line Table'!A26,CHAR(13),CHAR(10),\"          route call dest-interface IF_SIP_\",'Line Table'!A26,CHAR(13),CHAR(10),\"         loop-break-duration min 200 max 1000\",CHAR(13),CHAR(10),\"          \",'Line Table'!D26,CHAR(13),CHAR(10),\"         mute-dialing\",CHAR(13),CHAR(10),\"           disconnect-signal loop-break\",CHAR(13),CHAR(10),\"         disconnect-signal busy-tone\",CHAR(13),CHAR(10),\"         dial-after timeout 1\")","v":" interface fxo IF_FXO_25\r\n          route call dest-interface IF_SIP_25\r\n         loop-break-duration min 200 max 1000\r\n          ring-number on-caller-id \r\n         mute-dialing\r\n           disconnect-signal loop-break\r\n         disconnect-signal busy-tone\r\n         dial-after timeout 1"}]
[201,{"$f":"+IF(Data!$C$5>ROW(SNOMONE!B202)-ROW(SNOMONE!$B$177),\"\",\"#\")","v":"#"},{"$f":"+CONCATENATE(\" interface fxo IF_FXO_\",'Line Table'!A27,CHAR(13),CHAR(10),\"          route call dest-interface IF_SIP_\",'Line Table'!A27,CHAR(13),CHAR(10),\"         loop-break-duration min 200 max 1000\",CHAR(13),CHAR(10),\"          \",'Line Table'!D27,CHAR(13),CHAR(10),\"         mute-dialing\",CHAR(13),CHAR(10),\"           disconnect-signal loop-break\",CHAR(13),CHAR(10),\"         disconnect-signal busy-tone\",CHAR(13),CHAR(10),\"         dial-after timeout 1\")","v":" interface fxo IF_FXO_26\r\n          route call dest-interface IF_SIP_26\r\n         loop-break-duration min 200 max 1000\r\n          ring-number on-caller-id \r\n         mute-dialing\r\n           disconnect-signal loop-break\r\n         disconnect-signal busy-tone\r\n         dial-after timeout 1"}]
[202,{"$f":"+IF(Data!$C$5>ROW(SNOMONE!B203)-ROW(SNOMONE!$B$177),\"\",\"#\")","v":"#"},{"$f":"+CONCATENATE(\" interface fxo IF_FXO_\",'Line Table'!A28,CHAR(13),CHAR(10),\"          route call dest-interface IF_SIP_\",'Line Table'!A28,CHAR(13),CHAR(10),\"         loop-break-duration min 200 max 1000\",CHAR(13),CHAR(10),\"          \",'Line Table'!D28,CHAR(13),CHAR(10),\"         mute-dialing\",CHAR(13),CHAR(10),\"           disconnect-signal loop-break\",CHAR(13),CHAR(10),\"         disconnect-signal busy-tone\",CHAR(13),CHAR(10),\"         dial-after timeout 1\")","v":" interface fxo IF_FXO_27\r\n          route call dest-interface IF_SIP_27\r\n         loop-break-duration min 200 max 1000\r\n          ring-number on-caller-id \r\n         mute-dialing\r\n           disconnect-signal loop-break\r\n         disconnect-signal busy-tone\r\n         dial-after timeout 1"}]
[203,{"$f":"+IF(Data!$C$5>ROW(SNOMONE!B204)-ROW(SNOMONE!$B$177),\"\",\"#\")","v":"#"},{"$f":"+CONCATENATE(\" interface fxo IF_FXO_\",'Line Table'!A29,CHAR(13),CHAR(10),\"          route call dest-interface IF_SIP_\",'Line Table'!A29,CHAR(13),CHAR(10),\"         loop-break-duration min 200 max 1000\",CHAR(13),CHAR(10),\"          \",'Line Table'!D29,CHAR(13),CHAR(10),\"         mute-dialing\",CHAR(13),CHAR(10),\"           disconnect-signal loop-break\",CHAR(13),CHAR(10),\"         disconnect-signal busy-tone\",CHAR(13),CHAR(10),\"         dial-after timeout 1\")","v":" interface fxo IF_FXO_28\r\n          route call dest-interface IF_SIP_28\r\n         loop-break-duration min 200 max 1000\r\n          ring-number on-caller-id \r\n         mute-dialing\r\n           disconnect-signal loop-break\r\n         disconnect-signal busy-tone\r\n         dial-after timeout 1"}]
[204,{"$f":"+IF(Data!$C$5>ROW(SNOMONE!B205)-ROW(SNOMONE!$B$177),\"\",\"#\")","v":"#"},{"$f":"+CONCATENATE(\" interface fxo IF_FXO_\",'Line Table'!A30,CHAR(13),CHAR(10),\"          route call dest-interface IF_SIP_\",'Line Table'!A30,CHAR(13),CHAR(10),\"         loop-break-duration min 200 max 1000\",CHAR(13),CHAR(10),\"          \",'Line Table'!D30,CHAR(13),CHAR(10),\"         mute-dialing\",CHAR(13),CHAR(10),\"           disconnect-signal loop-break\",CHAR(13),CHAR(10),\"         disconnect-signal busy-tone\",CHAR(13),CHAR(10),\"         dial-after timeout 1\")","v":" interface fxo IF_FXO_29\r\n          route call dest-interface IF_SIP_29\r\n         loop-break-duration min 200 max 1000\r\n          ring-number on-caller-id \r\n         mute-dialing\r\n           disconnect-signal loop-break\r\n         disconnect-signal busy-tone\r\n         dial-after timeout 1"}]
[205,{"$f":"+IF(Data!$C$5>ROW(SNOMONE!B206)-ROW(SNOMONE!$B$177),\"\",\"#\")","v":"#"},{"$f":"+CONCATENATE(\" interface fxo IF_FXO_\",'Line Table'!A31,CHAR(13),CHAR(10),\"          route call dest-interface IF_SIP_\",'Line Table'!A31,CHAR(13),CHAR(10),\"         loop-break-duration min 200 max 1000\",CHAR(13),CHAR(10),\"          \",'Line Table'!D31,CHAR(13),CHAR(10),\"         mute-dialing\",CHAR(13),CHAR(10),\"           disconnect-signal loop-break\",CHAR(13),CHAR(10),\"         disconnect-signal busy-tone\",CHAR(13),CHAR(10),\"         dial-after timeout 1\")","v":" interface fxo IF_FXO_30\r\n          route call dest-interface IF_SIP_30\r\n         loop-break-duration min 200 max 1000\r\n          ring-number on-caller-id \r\n         mute-dialing\r\n           disconnect-signal loop-break\r\n         disconnect-signal busy-tone\r\n         dial-after timeout 1"}]
[206,{"$f":"+IF(Data!$C$5>ROW(SNOMONE!B207)-ROW(SNOMONE!$B$177),\"\",\"#\")","v":"#"},{"$f":"+CONCATENATE(\" interface fxo IF_FXO_\",'Line Table'!A32,CHAR(13),CHAR(10),\"          route call dest-interface IF_SIP_\",'Line Table'!A32,CHAR(13),CHAR(10),\"         loop-break-duration min 200 max 1000\",CHAR(13),CHAR(10),\"          \",'Line Table'!D32,CHAR(13),CHAR(10),\"         mute-dialing\",CHAR(13),CHAR(10),\"           disconnect-signal loop-break\",CHAR(13),CHAR(10),\"         disconnect-signal busy-tone\",CHAR(13),CHAR(10),\"         dial-after timeout 1\")","v":" interface fxo IF_FXO_31\r\n          route call dest-interface IF_SIP_31\r\n         loop-break-duration min 200 max 1000\r\n          ring-number on-caller-id \r\n         mute-dialing\r\n           disconnect-signal loop-break\r\n         disconnect-signal busy-tone\r\n         dial-after timeout 1"}]
[207,{"$f":"+IF(Data!$C$5>ROW(SNOMONE!B208)-ROW(SNOMONE!$B$177),\"\",\"#\")","v":"#"},{"$f":"+CONCATENATE(\" interface fxo IF_FXO_\",'Line Table'!A33,CHAR(13),CHAR(10),\"          route call dest-interface IF_SIP_\",'Line Table'!A33,CHAR(13),CHAR(10),\"         loop-break-duration min 200 max 1000\",CHAR(13),CHAR(10),\"          \",'Line Table'!D33,CHAR(13),CHAR(10),\"         mute-dialing\",CHAR(13),CHAR(10),\"           disconnect-signal loop-break\",CHAR(13),CHAR(10),\"         disconnect-signal busy-tone\",CHAR(13),CHAR(10),\"         dial-after timeout 1\")","v":" interface fxo IF_FXO_32\r\n          route call dest-interface IF_SIP_32\r\n         loop-break-duration min 200 max 1000\r\n          ring-number on-caller-id \r\n         mute-dialing\r\n           disconnect-signal loop-break\r\n         disconnect-signal busy-tone\r\n         dial-after timeout 1"}]
[208]
[209,{"$f":"+IF(Data!$C$6>0,\" \",\"#\")","v":"#"},"interface sip IF_SIP_PBX"]
[210,{"$f":"+IF(Data!$C$6>0,\" \",\"#\")","v":"#"},"        bind context sip-gateway GW_SIP_ALL_EXTENSIONS"]
[211,{"$f":"+IF(Data!$C$6>0,\" \",\"#\")","v":"#"},"        route call dest-table RT_TO_FXS"]
[212,{"$f":"+IF(Data!$C$6>0,\" \",\"#\")","v":"#"},{"$f":"+CONCATENATE(\"              remote \",Data!C24,\" \",Data!C25)","v":"              remote 10.10.50.23 5060"}]
[213,{"$f":"+IF(Data!$C$6>0,\" \",\"#\")","v":"#"},{"$f":"+IF(OR(AND(UPPER(Data!C15)=\"DHCP\",Data!$C$8=\"LAN\"),AND(UPPER(Data!C19)=\"DHCP\",Data!$C$8=\"WAN\")),\" \",+CONCATENATE(\"              local \",Data!C15))","v":"              local 10.10.1.10"},"Agregar Early connect / Disconnect"]
[214]
[215,{"$f":"+IF(Data!$C$6>ROW(SNOMONE!B215)-ROW(SNOMONE!$B$215),\"\",\"#\")","v":"#"},{"$f":"+CONCATENATE(\"    interface fxs IF_FXS_\",'Extension Table'!C2,CHAR(13),CHAR(10),IF(Data!$C$42=\"(none)\",\"\",CONCATENATE(\"        caller-id-presentation \",Data!$C$42)),CHAR(13),CHAR(10),\"             route call dest-table RT_DIGITCOLLECTION\",CHAR(13),CHAR(10),\"             message-waiting-indication stutter-dial-tone\",CHAR(13),CHAR(10),\"             message-waiting-indication frequency-shift-keying\",CHAR(13),CHAR(10),\"             call-transfer\",CHAR(13),CHAR(10),\"             subscriber-number \",'Extension Table'!A2)","v":"    interface fxs IF_FXS_1\r\n        caller-id-presentation pre-ring\r\n             route call dest-table RT_DIGITCOLLECTION\r\n             message-waiting-indication stutter-dial-tone\r\n             message-waiting-indication frequency-shift-keying\r\n             call-transfer\r\n             subscriber-number 101"}]
[216,{"$f":"+IF(Data!$C$6>ROW(SNOMONE!B216)-ROW(SNOMONE!$B$215),\"\",\"#\")","v":"#"},{"$f":"+CONCATENATE(\"    interface fxs IF_FXS_\",'Extension Table'!C3,CHAR(13),CHAR(10),IF(Data!$C$42=\"(none)\",\"\",CONCATENATE(\"        caller-id-presentation \",Data!$C$42)),CHAR(13),CHAR(10),\"             route call dest-table RT_DIGITCOLLECTION\",CHAR(13),CHAR(10),\"             message-waiting-indication stutter-dial-tone\",CHAR(13),CHAR(10),\"             message-waiting-indication frequency-shift-keying\",CHAR(13),CHAR(10),\"             call-transfer\",CHAR(13),CHAR(10),\"             subscriber-number \",'Extension Table'!A3)","v":"    interface fxs IF_FXS_2\r\n        caller-id-presentation pre-ring\r\n             route call dest-table RT_DIGITCOLLECTION\r\n             message-waiting-indication stutter-dial-tone\r\n             message-waiting-indication frequency-shift-keying\r\n             call-transfer\r\n             subscriber-number 102"}]
[217,{"$f":"+IF(Data!$C$6>ROW(SNOMONE!B217)-ROW(SNOMONE!$B$215),\"\",\"#\")","v":"#"},{"$f":"+CONCATENATE(\"    interface fxs IF_FXS_\",'Extension Table'!C4,CHAR(13),CHAR(10),IF(Data!$C$42=\"(none)\",\"\",CONCATENATE(\"        caller-id-presentation \",Data!$C$42)),CHAR(13),CHAR(10),\"             route call dest-table RT_DIGITCOLLECTION\",CHAR(13),CHAR(10),\"             message-waiting-indication stutter-dial-tone\",CHAR(13),CHAR(10),\"             message-waiting-indication frequency-shift-keying\",CHAR(13),CHAR(10),\"             call-transfer\",CHAR(13),CHAR(10),\"             subscriber-number \",'Extension Table'!A4)","v":"    interface fxs IF_FXS_3\r\n        caller-id-presentation pre-ring\r\n             route call dest-table RT_DIGITCOLLECTION\r\n             message-waiting-indication stutter-dial-tone\r\n             message-waiting-indication frequency-shift-keying\r\n             call-transfer\r\n             subscriber-number 103"}]
[218,{"$f":"+IF(Data!$C$6>ROW(SNOMONE!B218)-ROW(SNOMONE!$B$215),\"\",\"#\")","v":"#"},{"$f":"+CONCATENATE(\"    interface fxs IF_FXS_\",'Extension Table'!C5,CHAR(13),CHAR(10),IF(Data!$C$42=\"(none)\",\"\",CONCATENATE(\"        caller-id-presentation \",Data!$C$42)),CHAR(13),CHAR(10),\"             route call dest-table RT_DIGITCOLLECTION\",CHAR(13),CHAR(10),\"             message-waiting-indication stutter-dial-tone\",CHAR(13),CHAR(10),\"             message-waiting-indication frequency-shift-keying\",CHAR(13),CHAR(10),\"             call-transfer\",CHAR(13),CHAR(10),\"             subscriber-number \",'Extension Table'!A5)","v":"    interface fxs IF_FXS_4\r\n        caller-id-presentation pre-ring\r\n             route call dest-table RT_DIGITCOLLECTION\r\n             message-waiting-indication stutter-dial-tone\r\n             message-waiting-indication frequency-shift-keying\r\n             call-transfer\r\n             subscriber-number 104"}]
[219,{"$f":"+IF(Data!$C$6>ROW(SNOMONE!B219)-ROW(SNOMONE!$B$215),\"\",\"#\")","v":"#"},{"$f":"+CONCATENATE(\"    interface fxs IF_FXS_\",'Extension Table'!C6,CHAR(13),CHAR(10),IF(Data!$C$42=\"(none)\",\"\",CONCATENATE(\"        caller-id-presentation \",Data!$C$42)),CHAR(13),CHAR(10),\"             route call dest-table RT_DIGITCOLLECTION\",CHAR(13),CHAR(10),\"             message-waiting-indication stutter-dial-tone\",CHAR(13),CHAR(10),\"             message-waiting-indication frequency-shift-keying\",CHAR(13),CHAR(10),\"             call-transfer\",CHAR(13),CHAR(10),\"             subscriber-number \",'Extension Table'!A6)","v":"    interface fxs IF_FXS_5\r\n        caller-id-presentation pre-ring\r\n             route call dest-table RT_DIGITCOLLECTION\r\n             message-waiting-indication stutter-dial-tone\r\n             message-waiting-indication frequency-shift-keying\r\n             call-transfer\r\n             subscriber-number 105"}]
[220,{"$f":"+IF(Data!$C$6>ROW(SNOMONE!B220)-ROW(SNOMONE!$B$215),\"\",\"#\")","v":"#"},{"$f":"+CONCATENATE(\"    interface fxs IF_FXS_\",'Extension Table'!C7,CHAR(13),CHAR(10),IF(Data!$C$42=\"(none)\",\"\",CONCATENATE(\"        caller-id-presentation \",Data!$C$42)),CHAR(13),CHAR(10),\"             route call dest-table RT_DIGITCOLLECTION\",CHAR(13),CHAR(10),\"             message-waiting-indication stutter-dial-tone\",CHAR(13),CHAR(10),\"             message-waiting-indication frequency-shift-keying\",CHAR(13),CHAR(10),\"             call-transfer\",CHAR(13),CHAR(10),\"             subscriber-number \",'Extension Table'!A7)","v":"    interface fxs IF_FXS_6\r\n        caller-id-presentation pre-ring\r\n             route call dest-table RT_DIGITCOLLECTION\r\n             message-waiting-indication stutter-dial-tone\r\n             message-waiting-indication frequency-shift-keying\r\n             call-transfer\r\n             subscriber-number 106"}]
[221,{"$f":"+IF(Data!$C$6>ROW(SNOMONE!B221)-ROW(SNOMONE!$B$215),\"\",\"#\")","v":"#"},{"$f":"+CONCATENATE(\"    interface fxs IF_FXS_\",'Extension Table'!C8,CHAR(13),CHAR(10),IF(Data!$C$42=\"(none)\",\"\",CONCATENATE(\"        caller-id-presentation \",Data!$C$42)),CHAR(13),CHAR(10),\"             route call dest-table RT_DIGITCOLLECTION\",CHAR(13),CHAR(10),\"             message-waiting-indication stutter-dial-tone\",CHAR(13),CHAR(10),\"             message-waiting-indication frequency-shift-keying\",CHAR(13),CHAR(10),\"             call-transfer\",CHAR(13),CHAR(10),\"             subscriber-number \",'Extension Table'!A8)","v":"    interface fxs IF_FXS_7\r\n        caller-id-presentation pre-ring\r\n             route call dest-table RT_DIGITCOLLECTION\r\n             message-waiting-indication stutter-dial-tone\r\n             message-waiting-indication frequency-shift-keying\r\n             call-transfer\r\n             subscriber-number 107"}]
[222,{"$f":"+IF(Data!$C$6>ROW(SNOMONE!B222)-ROW(SNOMONE!$B$215),\"\",\"#\")","v":"#"},{"$f":"+CONCATENATE(\"    interface fxs IF_FXS_\",'Extension Table'!C9,CHAR(13),CHAR(10),IF(Data!$C$42=\"(none)\",\"\",CONCATENATE(\"        caller-id-presentation \",Data!$C$42)),CHAR(13),CHAR(10),\"             route call dest-table RT_DIGITCOLLECTION\",CHAR(13),CHAR(10),\"             message-waiting-indication stutter-dial-tone\",CHAR(13),CHAR(10),\"             message-waiting-indication frequency-shift-keying\",CHAR(13),CHAR(10),\"             call-transfer\",CHAR(13),CHAR(10),\"             subscriber-number \",'Extension Table'!A9)","v":"    interface fxs IF_FXS_8\r\n        caller-id-presentation pre-ring\r\n             route call dest-table RT_DIGITCOLLECTION\r\n             message-waiting-indication stutter-dial-tone\r\n             message-waiting-indication frequency-shift-keying\r\n             call-transfer\r\n             subscriber-number 108"}]
[223,{"$f":"+IF(Data!$C$6>ROW(SNOMONE!B223)-ROW(SNOMONE!$B$215),\"\",\"#\")","v":"#"},{"$f":"+CONCATENATE(\"    interface fxs IF_FXS_\",'Extension Table'!C10,CHAR(13),CHAR(10),IF(Data!$C$42=\"(none)\",\"\",CONCATENATE(\"        caller-id-presentation \",Data!$C$42)),CHAR(13),CHAR(10),\"             route call dest-table RT_DIGITCOLLECTION\",CHAR(13),CHAR(10),\"             message-waiting-indication stutter-dial-tone\",CHAR(13),CHAR(10),\"             message-waiting-indication frequency-shift-keying\",CHAR(13),CHAR(10),\"             call-transfer\",CHAR(13),CHAR(10),\"             subscriber-number \",'Extension Table'!A10)","v":"    interface fxs IF_FXS_9\r\n        caller-id-presentation pre-ring\r\n             route call dest-table RT_DIGITCOLLECTION\r\n             message-waiting-indication stutter-dial-tone\r\n             message-waiting-indication frequency-shift-keying\r\n             call-transfer\r\n             subscriber-number 109"}]
[224,{"$f":"+IF(Data!$C$6>ROW(SNOMONE!B224)-ROW(SNOMONE!$B$215),\"\",\"#\")","v":"#"},{"$f":"+CONCATENATE(\"    interface fxs IF_FXS_\",'Extension Table'!C11,CHAR(13),CHAR(10),IF(Data!$C$42=\"(none)\",\"\",CONCATENATE(\"        caller-id-presentation \",Data!$C$42)),CHAR(13),CHAR(10),\"             route call dest-table RT_DIGITCOLLECTION\",CHAR(13),CHAR(10),\"             message-waiting-indication stutter-dial-tone\",CHAR(13),CHAR(10),\"             message-waiting-indication frequency-shift-keying\",CHAR(13),CHAR(10),\"             call-transfer\",CHAR(13),CHAR(10),\"             subscriber-number \",'Extension Table'!A11)","v":"    interface fxs IF_FXS_10\r\n        caller-id-presentation pre-ring\r\n             route call dest-table RT_DIGITCOLLECTION\r\n             message-waiting-indication stutter-dial-tone\r\n             message-waiting-indication frequency-shift-keying\r\n             call-transfer\r\n             subscriber-number 110"}]
[225,{"$f":"+IF(Data!$C$6>ROW(SNOMONE!B225)-ROW(SNOMONE!$B$215),\"\",\"#\")","v":"#"},{"$f":"+CONCATENATE(\"    interface fxs IF_FXS_\",'Extension Table'!C12,CHAR(13),CHAR(10),IF(Data!$C$42=\"(none)\",\"\",CONCATENATE(\"        caller-id-presentation \",Data!$C$42)),CHAR(13),CHAR(10),\"             route call dest-table RT_DIGITCOLLECTION\",CHAR(13),CHAR(10),\"             message-waiting-indication stutter-dial-tone\",CHAR(13),CHAR(10),\"             message-waiting-indication frequency-shift-keying\",CHAR(13),CHAR(10),\"             call-transfer\",CHAR(13),CHAR(10),\"             subscriber-number \",'Extension Table'!A12)","v":"    interface fxs IF_FXS_11\r\n        caller-id-presentation pre-ring\r\n             route call dest-table RT_DIGITCOLLECTION\r\n             message-waiting-indication stutter-dial-tone\r\n             message-waiting-indication frequency-shift-keying\r\n             call-transfer\r\n             subscriber-number 111"}]
[226,{"$f":"+IF(Data!$C$6>ROW(SNOMONE!B226)-ROW(SNOMONE!$B$215),\"\",\"#\")","v":"#"},{"$f":"+CONCATENATE(\"    interface fxs IF_FXS_\",'Extension Table'!C13,CHAR(13),CHAR(10),IF(Data!$C$42=\"(none)\",\"\",CONCATENATE(\"        caller-id-presentation \",Data!$C$42)),CHAR(13),CHAR(10),\"             route call dest-table RT_DIGITCOLLECTION\",CHAR(13),CHAR(10),\"             message-waiting-indication stutter-dial-tone\",CHAR(13),CHAR(10),\"             message-waiting-indication frequency-shift-keying\",CHAR(13),CHAR(10),\"             call-transfer\",CHAR(13),CHAR(10),\"             subscriber-number \",'Extension Table'!A13)","v":"    interface fxs IF_FXS_12\r\n        caller-id-presentation pre-ring\r\n             route call dest-table RT_DIGITCOLLECTION\r\n             message-waiting-indication stutter-dial-tone\r\n             message-waiting-indication frequency-shift-keying\r\n             call-transfer\r\n             subscriber-number 112"}]
[227,{"$f":"+IF(Data!$C$6>ROW(SNOMONE!B227)-ROW(SNOMONE!$B$215),\"\",\"#\")","v":"#"},{"$f":"+CONCATENATE(\"    interface fxs IF_FXS_\",'Extension Table'!C14,CHAR(13),CHAR(10),IF(Data!$C$42=\"(none)\",\"\",CONCATENATE(\"        caller-id-presentation \",Data!$C$42)),CHAR(13),CHAR(10),\"             route call dest-table RT_DIGITCOLLECTION\",CHAR(13),CHAR(10),\"             message-waiting-indication stutter-dial-tone\",CHAR(13),CHAR(10),\"             message-waiting-indication frequency-shift-keying\",CHAR(13),CHAR(10),\"             call-transfer\",CHAR(13),CHAR(10),\"             subscriber-number \",'Extension Table'!A14)","v":"    interface fxs IF_FXS_13\r\n        caller-id-presentation pre-ring\r\n             route call dest-table RT_DIGITCOLLECTION\r\n             message-waiting-indication stutter-dial-tone\r\n             message-waiting-indication frequency-shift-keying\r\n             call-transfer\r\n             subscriber-number 113"}]
[228,{"$f":"+IF(Data!$C$6>ROW(SNOMONE!B228)-ROW(SNOMONE!$B$215),\"\",\"#\")","v":"#"},{"$f":"+CONCATENATE(\"    interface fxs IF_FXS_\",'Extension Table'!C15,CHAR(13),CHAR(10),IF(Data!$C$42=\"(none)\",\"\",CONCATENATE(\"        caller-id-presentation \",Data!$C$42)),CHAR(13),CHAR(10),\"             route call dest-table RT_DIGITCOLLECTION\",CHAR(13),CHAR(10),\"             message-waiting-indication stutter-dial-tone\",CHAR(13),CHAR(10),\"             message-waiting-indication frequency-shift-keying\",CHAR(13),CHAR(10),\"             call-transfer\",CHAR(13),CHAR(10),\"             subscriber-number \",'Extension Table'!A15)","v":"    interface fxs IF_FXS_14\r\n        caller-id-presentation pre-ring\r\n             route call dest-table RT_DIGITCOLLECTION\r\n             message-waiting-indication stutter-dial-tone\r\n             message-waiting-indication frequency-shift-keying\r\n             call-transfer\r\n             subscriber-number 114"}]
[229,{"$f":"+IF(Data!$C$6>ROW(SNOMONE!B229)-ROW(SNOMONE!$B$215),\"\",\"#\")","v":"#"},{"$f":"+CONCATENATE(\"    interface fxs IF_FXS_\",'Extension Table'!C16,CHAR(13),CHAR(10),IF(Data!$C$42=\"(none)\",\"\",CONCATENATE(\"        caller-id-presentation \",Data!$C$42)),CHAR(13),CHAR(10),\"             route call dest-table RT_DIGITCOLLECTION\",CHAR(13),CHAR(10),\"             message-waiting-indication stutter-dial-tone\",CHAR(13),CHAR(10),\"             message-waiting-indication frequency-shift-keying\",CHAR(13),CHAR(10),\"             call-transfer\",CHAR(13),CHAR(10),\"             subscriber-number \",'Extension Table'!A16)","v":"    interface fxs IF_FXS_15\r\n        caller-id-presentation pre-ring\r\n             route call dest-table RT_DIGITCOLLECTION\r\n             message-waiting-indication stutter-dial-tone\r\n             message-waiting-indication frequency-shift-keying\r\n             call-transfer\r\n             subscriber-number 115"}]
[230,{"$f":"+IF(Data!$C$6>ROW(SNOMONE!B230)-ROW(SNOMONE!$B$215),\"\",\"#\")","v":"#"},{"$f":"+CONCATENATE(\"    interface fxs IF_FXS_\",'Extension Table'!C17,CHAR(13),CHAR(10),IF(Data!$C$42=\"(none)\",\"\",CONCATENATE(\"        caller-id-presentation \",Data!$C$42)),CHAR(13),CHAR(10),\"             route call dest-table RT_DIGITCOLLECTION\",CHAR(13),CHAR(10),\"             message-waiting-indication stutter-dial-tone\",CHAR(13),CHAR(10),\"             message-waiting-indication frequency-shift-keying\",CHAR(13),CHAR(10),\"             call-transfer\",CHAR(13),CHAR(10),\"             subscriber-number \",'Extension Table'!A17)","v":"    interface fxs IF_FXS_16\r\n        caller-id-presentation pre-ring\r\n             route call dest-table RT_DIGITCOLLECTION\r\n             message-waiting-indication stutter-dial-tone\r\n             message-waiting-indication frequency-shift-keying\r\n             call-transfer\r\n             subscriber-number 116"}]
[231,{"$f":"+IF(Data!$C$6>ROW(SNOMONE!B231)-ROW(SNOMONE!$B$215),\"\",\"#\")","v":"#"},{"$f":"+CONCATENATE(\"    interface fxs IF_FXS_\",'Extension Table'!C18,CHAR(13),CHAR(10),IF(Data!$C$42=\"(none)\",\"\",CONCATENATE(\"        caller-id-presentation \",Data!$C$42)),CHAR(13),CHAR(10),\"             route call dest-table RT_DIGITCOLLECTION\",CHAR(13),CHAR(10),\"             message-waiting-indication stutter-dial-tone\",CHAR(13),CHAR(10),\"             message-waiting-indication frequency-shift-keying\",CHAR(13),CHAR(10),\"             call-transfer\",CHAR(13),CHAR(10),\"             subscriber-number \",'Extension Table'!A18)","v":"    interface fxs IF_FXS_17\r\n        caller-id-presentation pre-ring\r\n             route call dest-table RT_DIGITCOLLECTION\r\n             message-waiting-indication stutter-dial-tone\r\n             message-waiting-indication frequency-shift-keying\r\n             call-transfer\r\n             subscriber-number 117"}]
[232,{"$f":"+IF(Data!$C$6>ROW(SNOMONE!B232)-ROW(SNOMONE!$B$215),\"\",\"#\")","v":"#"},{"$f":"+CONCATENATE(\"    interface fxs IF_FXS_\",'Extension Table'!C19,CHAR(13),CHAR(10),IF(Data!$C$42=\"(none)\",\"\",CONCATENATE(\"        caller-id-presentation \",Data!$C$42)),CHAR(13),CHAR(10),\"             route call dest-table RT_DIGITCOLLECTION\",CHAR(13),CHAR(10),\"             message-waiting-indication stutter-dial-tone\",CHAR(13),CHAR(10),\"             message-waiting-indication frequency-shift-keying\",CHAR(13),CHAR(10),\"             call-transfer\",CHAR(13),CHAR(10),\"             subscriber-number \",'Extension Table'!A19)","v":"    interface fxs IF_FXS_18\r\n        caller-id-presentation pre-ring\r\n             route call dest-table RT_DIGITCOLLECTION\r\n             message-waiting-indication stutter-dial-tone\r\n             message-waiting-indication frequency-shift-keying\r\n             call-transfer\r\n             subscriber-number 118"}]
[233,{"$f":"+IF(Data!$C$6>ROW(SNOMONE!B233)-ROW(SNOMONE!$B$215),\"\",\"#\")","v":"#"},{"$f":"+CONCATENATE(\"    interface fxs IF_FXS_\",'Extension Table'!C20,CHAR(13),CHAR(10),IF(Data!$C$42=\"(none)\",\"\",CONCATENATE(\"        caller-id-presentation \",Data!$C$42)),CHAR(13),CHAR(10),\"             route call dest-table RT_DIGITCOLLECTION\",CHAR(13),CHAR(10),\"             message-waiting-indication stutter-dial-tone\",CHAR(13),CHAR(10),\"             message-waiting-indication frequency-shift-keying\",CHAR(13),CHAR(10),\"             call-transfer\",CHAR(13),CHAR(10),\"             subscriber-number \",'Extension Table'!A20)","v":"    interface fxs IF_FXS_19\r\n        caller-id-presentation pre-ring\r\n             route call dest-table RT_DIGITCOLLECTION\r\n             message-waiting-indication stutter-dial-tone\r\n             message-waiting-indication frequency-shift-keying\r\n             call-transfer\r\n             subscriber-number 119"}]
[234,{"$f":"+IF(Data!$C$6>ROW(SNOMONE!B234)-ROW(SNOMONE!$B$215),\"\",\"#\")","v":"#"},{"$f":"+CONCATENATE(\"    interface fxs IF_FXS_\",'Extension Table'!C21,CHAR(13),CHAR(10),IF(Data!$C$42=\"(none)\",\"\",CONCATENATE(\"        caller-id-presentation \",Data!$C$42)),CHAR(13),CHAR(10),\"             route call dest-table RT_DIGITCOLLECTION\",CHAR(13),CHAR(10),\"             message-waiting-indication stutter-dial-tone\",CHAR(13),CHAR(10),\"             message-waiting-indication frequency-shift-keying\",CHAR(13),CHAR(10),\"             call-transfer\",CHAR(13),CHAR(10),\"             subscriber-number \",'Extension Table'!A21)","v":"    interface fxs IF_FXS_20\r\n        caller-id-presentation pre-ring\r\n             route call dest-table RT_DIGITCOLLECTION\r\n             message-waiting-indication stutter-dial-tone\r\n             message-waiting-indication frequency-shift-keying\r\n             call-transfer\r\n             subscriber-number 120"}]
[235,{"$f":"+IF(Data!$C$6>ROW(SNOMONE!B235)-ROW(SNOMONE!$B$215),\"\",\"#\")","v":"#"},{"$f":"+CONCATENATE(\"    interface fxs IF_FXS_\",'Extension Table'!C22,CHAR(13),CHAR(10),IF(Data!$C$42=\"(none)\",\"\",CONCATENATE(\"        caller-id-presentation \",Data!$C$42)),CHAR(13),CHAR(10),\"             route call dest-table RT_DIGITCOLLECTION\",CHAR(13),CHAR(10),\"             message-waiting-indication stutter-dial-tone\",CHAR(13),CHAR(10),\"             message-waiting-indication frequency-shift-keying\",CHAR(13),CHAR(10),\"             call-transfer\",CHAR(13),CHAR(10),\"             subscriber-number \",'Extension Table'!A22)","v":"    interface fxs IF_FXS_21\r\n        caller-id-presentation pre-ring\r\n             route call dest-table RT_DIGITCOLLECTION\r\n             message-waiting-indication stutter-dial-tone\r\n             message-waiting-indication frequency-shift-keying\r\n             call-transfer\r\n             subscriber-number 121"}]
[236,{"$f":"+IF(Data!$C$6>ROW(SNOMONE!B236)-ROW(SNOMONE!$B$215),\"\",\"#\")","v":"#"},{"$f":"+CONCATENATE(\"    interface fxs IF_FXS_\",'Extension Table'!C23,CHAR(13),CHAR(10),IF(Data!$C$42=\"(none)\",\"\",CONCATENATE(\"        caller-id-presentation \",Data!$C$42)),CHAR(13),CHAR(10),\"             route call dest-table RT_DIGITCOLLECTION\",CHAR(13),CHAR(10),\"             message-waiting-indication stutter-dial-tone\",CHAR(13),CHAR(10),\"             message-waiting-indication frequency-shift-keying\",CHAR(13),CHAR(10),\"             call-transfer\",CHAR(13),CHAR(10),\"             subscriber-number \",'Extension Table'!A23)","v":"    interface fxs IF_FXS_22\r\n        caller-id-presentation pre-ring\r\n             route call dest-table RT_DIGITCOLLECTION\r\n             message-waiting-indication stutter-dial-tone\r\n             message-waiting-indication frequency-shift-keying\r\n             call-transfer\r\n             subscriber-number 122"}]
[237,{"$f":"+IF(Data!$C$6>ROW(SNOMONE!B237)-ROW(SNOMONE!$B$215),\"\",\"#\")","v":"#"},{"$f":"+CONCATENATE(\"    interface fxs IF_FXS_\",'Extension Table'!C24,CHAR(13),CHAR(10),IF(Data!$C$42=\"(none)\",\"\",CONCATENATE(\"        caller-id-presentation \",Data!$C$42)),CHAR(13),CHAR(10),\"             route call dest-table RT_DIGITCOLLECTION\",CHAR(13),CHAR(10),\"             message-waiting-indication stutter-dial-tone\",CHAR(13),CHAR(10),\"             message-waiting-indication frequency-shift-keying\",CHAR(13),CHAR(10),\"             call-transfer\",CHAR(13),CHAR(10),\"             subscriber-number \",'Extension Table'!A24)","v":"    interface fxs IF_FXS_23\r\n        caller-id-presentation pre-ring\r\n             route call dest-table RT_DIGITCOLLECTION\r\n             message-waiting-indication stutter-dial-tone\r\n             message-waiting-indication frequency-shift-keying\r\n             call-transfer\r\n             subscriber-number 123"}]
[238,{"$f":"+IF(Data!$C$6>ROW(SNOMONE!B238)-ROW(SNOMONE!$B$215),\"\",\"#\")","v":"#"},{"$f":"+CONCATENATE(\"    interface fxs IF_FXS_\",'Extension Table'!C25,CHAR(13),CHAR(10),IF(Data!$C$42=\"(none)\",\"\",CONCATENATE(\"        caller-id-presentation \",Data!$C$42)),CHAR(13),CHAR(10),\"             route call dest-table RT_DIGITCOLLECTION\",CHAR(13),CHAR(10),\"             message-waiting-indication stutter-dial-tone\",CHAR(13),CHAR(10),\"             message-waiting-indication frequency-shift-keying\",CHAR(13),CHAR(10),\"             call-transfer\",CHAR(13),CHAR(10),\"             subscriber-number \",'Extension Table'!A25)","v":"    interface fxs IF_FXS_24\r\n        caller-id-presentation pre-ring\r\n             route call dest-table RT_DIGITCOLLECTION\r\n             message-waiting-indication stutter-dial-tone\r\n             message-waiting-indication frequency-shift-keying\r\n             call-transfer\r\n             subscriber-number 124"}]
[239,{"$f":"+IF(Data!$C$6>ROW(SNOMONE!B239)-ROW(SNOMONE!$B$215),\"\",\"#\")","v":"#"},{"$f":"+CONCATENATE(\"    interface fxs IF_FXS_\",'Extension Table'!C26,CHAR(13),CHAR(10),IF(Data!$C$42=\"(none)\",\"\",CONCATENATE(\"        caller-id-presentation \",Data!$C$42)),CHAR(13),CHAR(10),\"             route call dest-table RT_DIGITCOLLECTION\",CHAR(13),CHAR(10),\"             message-waiting-indication stutter-dial-tone\",CHAR(13),CHAR(10),\"             message-waiting-indication frequency-shift-keying\",CHAR(13),CHAR(10),\"             call-transfer\",CHAR(13),CHAR(10),\"             subscriber-number \",'Extension Table'!A26)","v":"    interface fxs IF_FXS_25\r\n        caller-id-presentation pre-ring\r\n             route call dest-table RT_DIGITCOLLECTION\r\n             message-waiting-indication stutter-dial-tone\r\n             message-waiting-indication frequency-shift-keying\r\n             call-transfer\r\n             subscriber-number 125"}]
[240,{"$f":"+IF(Data!$C$6>ROW(SNOMONE!B240)-ROW(SNOMONE!$B$215),\"\",\"#\")","v":"#"},{"$f":"+CONCATENATE(\"    interface fxs IF_FXS_\",'Extension Table'!C27,CHAR(13),CHAR(10),IF(Data!$C$42=\"(none)\",\"\",CONCATENATE(\"        caller-id-presentation \",Data!$C$42)),CHAR(13),CHAR(10),\"             route call dest-table RT_DIGITCOLLECTION\",CHAR(13),CHAR(10),\"             message-waiting-indication stutter-dial-tone\",CHAR(13),CHAR(10),\"             message-waiting-indication frequency-shift-keying\",CHAR(13),CHAR(10),\"             call-transfer\",CHAR(13),CHAR(10),\"             subscriber-number \",'Extension Table'!A27)","v":"    interface fxs IF_FXS_26\r\n        caller-id-presentation pre-ring\r\n             route call dest-table RT_DIGITCOLLECTION\r\n             message-waiting-indication stutter-dial-tone\r\n             message-waiting-indication frequency-shift-keying\r\n             call-transfer\r\n             subscriber-number 126"}]
[241,{"$f":"+IF(Data!$C$6>ROW(SNOMONE!B241)-ROW(SNOMONE!$B$215),\"\",\"#\")","v":"#"},{"$f":"+CONCATENATE(\"    interface fxs IF_FXS_\",'Extension Table'!C28,CHAR(13),CHAR(10),IF(Data!$C$42=\"(none)\",\"\",CONCATENATE(\"        caller-id-presentation \",Data!$C$42)),CHAR(13),CHAR(10),\"             route call dest-table RT_DIGITCOLLECTION\",CHAR(13),CHAR(10),\"             message-waiting-indication stutter-dial-tone\",CHAR(13),CHAR(10),\"             message-waiting-indication frequency-shift-keying\",CHAR(13),CHAR(10),\"             call-transfer\",CHAR(13),CHAR(10),\"             subscriber-number \",'Extension Table'!A28)","v":"    interface fxs IF_FXS_27\r\n        caller-id-presentation pre-ring\r\n             route call dest-table RT_DIGITCOLLECTION\r\n             message-waiting-indication stutter-dial-tone\r\n             message-waiting-indication frequency-shift-keying\r\n             call-transfer\r\n             subscriber-number 127"}]
[242,{"$f":"+IF(Data!$C$6>ROW(SNOMONE!B242)-ROW(SNOMONE!$B$215),\"\",\"#\")","v":"#"},{"$f":"+CONCATENATE(\"    interface fxs IF_FXS_\",'Extension Table'!C29,CHAR(13),CHAR(10),IF(Data!$C$42=\"(none)\",\"\",CONCATENATE(\"        caller-id-presentation \",Data!$C$42)),CHAR(13),CHAR(10),\"             route call dest-table RT_DIGITCOLLECTION\",CHAR(13),CHAR(10),\"             message-waiting-indication stutter-dial-tone\",CHAR(13),CHAR(10),\"             message-waiting-indication frequency-shift-keying\",CHAR(13),CHAR(10),\"             call-transfer\",CHAR(13),CHAR(10),\"             subscriber-number \",'Extension Table'!A29)","v":"    interface fxs IF_FXS_28\r\n        caller-id-presentation pre-ring\r\n             route call dest-table RT_DIGITCOLLECTION\r\n             message-waiting-indication stutter-dial-tone\r\n             message-waiting-indication frequency-shift-keying\r\n             call-transfer\r\n             subscriber-number 128"}]
[243,{"$f":"+IF(Data!$C$6>ROW(SNOMONE!B243)-ROW(SNOMONE!$B$215),\"\",\"#\")","v":"#"},{"$f":"+CONCATENATE(\"    interface fxs IF_FXS_\",'Extension Table'!C30,CHAR(13),CHAR(10),IF(Data!$C$42=\"(none)\",\"\",CONCATENATE(\"        caller-id-presentation \",Data!$C$42)),CHAR(13),CHAR(10),\"             route call dest-table RT_DIGITCOLLECTION\",CHAR(13),CHAR(10),\"             message-waiting-indication stutter-dial-tone\",CHAR(13),CHAR(10),\"             message-waiting-indication frequency-shift-keying\",CHAR(13),CHAR(10),\"             call-transfer\",CHAR(13),CHAR(10),\"             subscriber-number \",'Extension Table'!A30)","v":"    interface fxs IF_FXS_29\r\n        caller-id-presentation pre-ring\r\n             route call dest-table RT_DIGITCOLLECTION\r\n             message-waiting-indication stutter-dial-tone\r\n             message-waiting-indication frequency-shift-keying\r\n             call-transfer\r\n             subscriber-number 129"}]
[244,{"$f":"+IF(Data!$C$6>ROW(SNOMONE!B244)-ROW(SNOMONE!$B$215),\"\",\"#\")","v":"#"},{"$f":"+CONCATENATE(\"    interface fxs IF_FXS_\",'Extension Table'!C31,CHAR(13),CHAR(10),IF(Data!$C$42=\"(none)\",\"\",CONCATENATE(\"        caller-id-presentation \",Data!$C$42)),CHAR(13),CHAR(10),\"             route call dest-table RT_DIGITCOLLECTION\",CHAR(13),CHAR(10),\"             message-waiting-indication stutter-dial-tone\",CHAR(13),CHAR(10),\"             message-waiting-indication frequency-shift-keying\",CHAR(13),CHAR(10),\"             call-transfer\",CHAR(13),CHAR(10),\"             subscriber-number \",'Extension Table'!A31)","v":"    interface fxs IF_FXS_30\r\n        caller-id-presentation pre-ring\r\n             route call dest-table RT_DIGITCOLLECTION\r\n             message-waiting-indication stutter-dial-tone\r\n             message-waiting-indication frequency-shift-keying\r\n             call-transfer\r\n             subscriber-number 130"}]
[245,{"$f":"+IF(Data!$C$6>ROW(SNOMONE!B245)-ROW(SNOMONE!$B$215),\"\",\"#\")","v":"#"},{"$f":"+CONCATENATE(\"    interface fxs IF_FXS_\",'Extension Table'!C32,CHAR(13),CHAR(10),IF(Data!$C$42=\"(none)\",\"\",CONCATENATE(\"        caller-id-presentation \",Data!$C$42)),CHAR(13),CHAR(10),\"             route call dest-table RT_DIGITCOLLECTION\",CHAR(13),CHAR(10),\"             message-waiting-indication stutter-dial-tone\",CHAR(13),CHAR(10),\"             message-waiting-indication frequency-shift-keying\",CHAR(13),CHAR(10),\"             call-transfer\",CHAR(13),CHAR(10),\"             subscriber-number \",'Extension Table'!A32)","v":"    interface fxs IF_FXS_31\r\n        caller-id-presentation pre-ring\r\n             route call dest-table RT_DIGITCOLLECTION\r\n             message-waiting-indication stutter-dial-tone\r\n             message-waiting-indication frequency-shift-keying\r\n             call-transfer\r\n             subscriber-number 131"}]
[246,{"$f":"+IF(Data!$C$6>ROW(SNOMONE!B246)-ROW(SNOMONE!$B$215),\"\",\"#\")","v":"#"},{"$f":"+CONCATENATE(\"    interface fxs IF_FXS_\",'Extension Table'!C33,CHAR(13),CHAR(10),IF(Data!$C$42=\"(none)\",\"\",CONCATENATE(\"        caller-id-presentation \",Data!$C$42)),CHAR(13),CHAR(10),\"             route call dest-table RT_DIGITCOLLECTION\",CHAR(13),CHAR(10),\"             message-waiting-indication stutter-dial-tone\",CHAR(13),CHAR(10),\"             message-waiting-indication frequency-shift-keying\",CHAR(13),CHAR(10),\"             call-transfer\",CHAR(13),CHAR(10),\"             subscriber-number \",'Extension Table'!A33)","v":"    interface fxs IF_FXS_32\r\n        caller-id-presentation pre-ring\r\n             route call dest-table RT_DIGITCOLLECTION\r\n             message-waiting-indication stutter-dial-tone\r\n             message-waiting-indication frequency-shift-keying\r\n             call-transfer\r\n             subscriber-number 132"}]
[247,null,"                "]
[248,{"$f":"+IF(Data!$C$5>ROW(SNOMONE!B249)-ROW(SNOMONE!$B$444),\"\",\"#\")","v":""},"service hunt-group HUNT_FXO"]
[249,{"$f":"+IF(Data!$C$5>ROW(SNOMONE!B250)-ROW(SNOMONE!$B$444),\"\",\"#\")","v":""},"cyclic"]
[250,{"$f":"+IF(Data!$C$5>ROW(SNOMONE!B251)-ROW(SNOMONE!$B$444),\"\",\"#\")","v":""},"drop-cause normal-unspecified"]
[251,{"$f":"+IF(Data!$C$5>ROW(SNOMONE!B252)-ROW(SNOMONE!$B$444),\"\",\"#\")","v":""},"    drop-cause no-circuit-channel-available"]
[252,{"$f":"+IF(Data!$C$5>ROW(SNOMONE!B253)-ROW(SNOMONE!$B$444),\"\",\"#\")","v":""},"    drop-cause network-out-of-order"]
[253,{"$f":"+IF(Data!$C$5>ROW(SNOMONE!B254)-ROW(SNOMONE!$B$444),\"\",\"#\")","v":""},"    drop-cause temporary-failure"]
[254,{"$f":"+IF(Data!$C$5>ROW(SNOMONE!B255)-ROW(SNOMONE!$B$444),\"\",\"#\")","v":""},"    drop-cause switching-equipment-congestion"]
[255,{"$f":"+IF(Data!$C$5>ROW(SNOMONE!B256)-ROW(SNOMONE!$B$444),\"\",\"#\")","v":""},"    drop-cause access-info-discarded"]
[256,{"$f":"+IF(Data!$C$5>ROW(SNOMONE!B257)-ROW(SNOMONE!$B$444),\"\",\"#\")","v":""},"    drop-cause circuit-channel-not-available"]
[257,{"$f":"+IF(Data!$C$5>ROW(SNOMONE!B258)-ROW(SNOMONE!$B$444),\"\",\"#\")","v":""},"    drop-cause resources-unavailable"]
[258,{"$f":"+IF(Data!$C$5>ROW(SNOMONE!B259)-ROW(SNOMONE!$B$259),\"\",\"#\")","v":""},{"$f":"+CONCATENATE(\"    route call \",'Line Table'!A2,\" dest-interface IF_FXO_\",'Line Table'!A2)","v":"    route call 1 dest-interface IF_FXO_1"}]
[259,{"$f":"+IF(Data!$C$5>ROW(SNOMONE!B260)-ROW(SNOMONE!$B$259),\"\",\"#\")","v":""},{"$f":"+CONCATENATE(\"    route call \",'Line Table'!A3,\" dest-interface IF_FXO_\",'Line Table'!A3)","v":"    route call 2 dest-interface IF_FXO_2"}]
[260,{"$f":"+IF(Data!$C$5>ROW(SNOMONE!B261)-ROW(SNOMONE!$B$259),\"\",\"#\")","v":""},{"$f":"+CONCATENATE(\"    route call \",'Line Table'!A4,\" dest-interface IF_FXO_\",'Line Table'!A4)","v":"    route call 3 dest-interface IF_FXO_3"}]
[261,{"$f":"+IF(Data!$C$5>ROW(SNOMONE!B262)-ROW(SNOMONE!$B$259),\"\",\"#\")","v":""},{"$f":"+CONCATENATE(\"    route call \",'Line Table'!A5,\" dest-interface IF_FXO_\",'Line Table'!A5)","v":"    route call 4 dest-interface IF_FXO_4"}]
[262,{"$f":"+IF(Data!$C$5>ROW(SNOMONE!B263)-ROW(SNOMONE!$B$259),\"\",\"#\")","v":""},{"$f":"+CONCATENATE(\"    route call \",'Line Table'!A6,\" dest-interface IF_FXO_\",'Line Table'!A6)","v":"    route call 5 dest-interface IF_FXO_5"}]
[263,{"$f":"+IF(Data!$C$5>ROW(SNOMONE!B264)-ROW(SNOMONE!$B$259),\"\",\"#\")","v":""},{"$f":"+CONCATENATE(\"    route call \",'Line Table'!A7,\" dest-interface IF_FXO_\",'Line Table'!A7)","v":"    route call 6 dest-interface IF_FXO_6"}]
[264,{"$f":"+IF(Data!$C$5>ROW(SNOMONE!B265)-ROW(SNOMONE!$B$259),\"\",\"#\")","v":""},{"$f":"+CONCATENATE(\"    route call \",'Line Table'!A8,\" dest-interface IF_FXO_\",'Line Table'!A8)","v":"    route call 7 dest-interface IF_FXO_7"}]
[265,{"$f":"+IF(Data!$C$5>ROW(SNOMONE!B266)-ROW(SNOMONE!$B$259),\"\",\"#\")","v":""},{"$f":"+CONCATENATE(\"    route call \",'Line Table'!A9,\" dest-interface IF_FXO_\",'Line Table'!A9)","v":"    route call 8 dest-interface IF_FXO_8"}]
[266,{"$f":"+IF(Data!$C$5>ROW(SNOMONE!B267)-ROW(SNOMONE!$B$259),\"\",\"#\")","v":""},{"$f":"+CONCATENATE(\"    route call \",'Line Table'!A10,\" dest-interface IF_FXO_\",'Line Table'!A10)","v":"    route call 9 dest-interface IF_FXO_9"}]
[267,{"$f":"+IF(Data!$C$5>ROW(SNOMONE!B268)-ROW(SNOMONE!$B$259),\"\",\"#\")","v":""},{"$f":"+CONCATENATE(\"    route call \",'Line Table'!A11,\" dest-interface IF_FXO_\",'Line Table'!A11)","v":"    route call 10 dest-interface IF_FXO_10"}]
[268,{"$f":"+IF(Data!$C$5>ROW(SNOMONE!B269)-ROW(SNOMONE!$B$259),\"\",\"#\")","v":""},{"$f":"+CONCATENATE(\"    route call \",'Line Table'!A12,\" dest-interface IF_FXO_\",'Line Table'!A12)","v":"    route call 11 dest-interface IF_FXO_11"}]
[269,{"$f":"+IF(Data!$C$5>ROW(SNOMONE!B270)-ROW(SNOMONE!$B$259),\"\",\"#\")","v":""},{"$f":"+CONCATENATE(\"    route call \",'Line Table'!A13,\" dest-interface IF_FXO_\",'Line Table'!A13)","v":"    route call 12 dest-interface IF_FXO_12"}]
[270,{"$f":"+IF(Data!$C$5>ROW(SNOMONE!B271)-ROW(SNOMONE!$B$259),\"\",\"#\")","v":"#"},{"$f":"+CONCATENATE(\"    route call \",'Line Table'!A14,\" dest-interface IF_FXO_\",'Line Table'!A14)","v":"    route call 13 dest-interface IF_FXO_13"}]
[271,{"$f":"+IF(Data!$C$5>ROW(SNOMONE!B272)-ROW(SNOMONE!$B$259),\"\",\"#\")","v":"#"},{"$f":"+CONCATENATE(\"    route call \",'Line Table'!A15,\" dest-interface IF_FXO_\",'Line Table'!A15)","v":"    route call 14 dest-interface IF_FXO_14"}]
[272,{"$f":"+IF(Data!$C$5>ROW(SNOMONE!B273)-ROW(SNOMONE!$B$259),\"\",\"#\")","v":"#"},{"$f":"+CONCATENATE(\"    route call \",'Line Table'!A16,\" dest-interface IF_FXO_\",'Line Table'!A16)","v":"    route call 15 dest-interface IF_FXO_15"}]
[273,{"$f":"+IF(Data!$C$5>ROW(SNOMONE!B274)-ROW(SNOMONE!$B$259),\"\",\"#\")","v":"#"},{"$f":"+CONCATENATE(\"    route call \",'Line Table'!A17,\" dest-interface IF_FXO_\",'Line Table'!A17)","v":"    route call 16 dest-interface IF_FXO_16"}]
[274,{"$f":"+IF(Data!$C$5>ROW(SNOMONE!B275)-ROW(SNOMONE!$B$259),\"\",\"#\")","v":"#"},{"$f":"+CONCATENATE(\"    route call \",'Line Table'!A18,\" dest-interface IF_FXO_\",'Line Table'!A18)","v":"    route call 17 dest-interface IF_FXO_17"}]
[275,{"$f":"+IF(Data!$C$5>ROW(SNOMONE!B276)-ROW(SNOMONE!$B$259),\"\",\"#\")","v":"#"},{"$f":"+CONCATENATE(\"    route call \",'Line Table'!A19,\" dest-interface IF_FXO_\",'Line Table'!A19)","v":"    route call 18 dest-interface IF_FXO_18"}]
[276,{"$f":"+IF(Data!$C$5>ROW(SNOMONE!B277)-ROW(SNOMONE!$B$259),\"\",\"#\")","v":"#"},{"$f":"+CONCATENATE(\"    route call \",'Line Table'!A20,\" dest-interface IF_FXO_\",'Line Table'!A20)","v":"    route call 19 dest-interface IF_FXO_19"}]
[277,{"$f":"+IF(Data!$C$5>ROW(SNOMONE!B278)-ROW(SNOMONE!$B$259),\"\",\"#\")","v":"#"},{"$f":"+CONCATENATE(\"    route call \",'Line Table'!A21,\" dest-interface IF_FXO_\",'Line Table'!A21)","v":"    route call 20 dest-interface IF_FXO_20"}]
[278,{"$f":"+IF(Data!$C$5>ROW(SNOMONE!B279)-ROW(SNOMONE!$B$259),\"\",\"#\")","v":"#"},{"$f":"+CONCATENATE(\"    route call \",'Line Table'!A22,\" dest-interface IF_FXO_\",'Line Table'!A22)","v":"    route call 21 dest-interface IF_FXO_21"}]
[279,{"$f":"+IF(Data!$C$5>ROW(SNOMONE!B280)-ROW(SNOMONE!$B$259),\"\",\"#\")","v":"#"},{"$f":"+CONCATENATE(\"    route call \",'Line Table'!A23,\" dest-interface IF_FXO_\",'Line Table'!A23)","v":"    route call 22 dest-interface IF_FXO_22"}]
[280,{"$f":"+IF(Data!$C$5>ROW(SNOMONE!B281)-ROW(SNOMONE!$B$259),\"\",\"#\")","v":"#"},{"$f":"+CONCATENATE(\"    route call \",'Line Table'!A24,\" dest-interface IF_FXO_\",'Line Table'!A24)","v":"    route call 23 dest-interface IF_FXO_23"}]
[281,{"$f":"+IF(Data!$C$5>ROW(SNOMONE!B282)-ROW(SNOMONE!$B$259),\"\",\"#\")","v":"#"},{"$f":"+CONCATENATE(\"    route call \",'Line Table'!A25,\" dest-interface IF_FXO_\",'Line Table'!A25)","v":"    route call 24 dest-interface IF_FXO_24"}]
[282,{"$f":"+IF(Data!$C$5>ROW(SNOMONE!B283)-ROW(SNOMONE!$B$259),\"\",\"#\")","v":"#"},{"$f":"+CONCATENATE(\"    route call \",'Line Table'!A26,\" dest-interface IF_FXO_\",'Line Table'!A26)","v":"    route call 25 dest-interface IF_FXO_25"}]
[283,{"$f":"+IF(Data!$C$5>ROW(SNOMONE!B284)-ROW(SNOMONE!$B$259),\"\",\"#\")","v":"#"},{"$f":"+CONCATENATE(\"    route call \",'Line Table'!A27,\" dest-interface IF_FXO_\",'Line Table'!A27)","v":"    route call 26 dest-interface IF_FXO_26"}]
[284,{"$f":"+IF(Data!$C$5>ROW(SNOMONE!B285)-ROW(SNOMONE!$B$259),\"\",\"#\")","v":"#"},{"$f":"+CONCATENATE(\"    route call \",'Line Table'!A28,\" dest-interface IF_FXO_\",'Line Table'!A28)","v":"    route call 27 dest-interface IF_FXO_27"}]
[285,{"$f":"+IF(Data!$C$5>ROW(SNOMONE!B286)-ROW(SNOMONE!$B$259),\"\",\"#\")","v":"#"},{"$f":"+CONCATENATE(\"    route call \",'Line Table'!A29,\" dest-interface IF_FXO_\",'Line Table'!A29)","v":"    route call 28 dest-interface IF_FXO_28"}]
[286,{"$f":"+IF(Data!$C$5>ROW(SNOMONE!B287)-ROW(SNOMONE!$B$259),\"\",\"#\")","v":"#"},{"$f":"+CONCATENATE(\"    route call \",'Line Table'!A30,\" dest-interface IF_FXO_\",'Line Table'!A30)","v":"    route call 29 dest-interface IF_FXO_29"}]
[287,{"$f":"+IF(Data!$C$5>ROW(SNOMONE!B288)-ROW(SNOMONE!$B$259),\"\",\"#\")","v":"#"},{"$f":"+CONCATENATE(\"    route call \",'Line Table'!A31,\" dest-interface IF_FXO_\",'Line Table'!A31)","v":"    route call 30 dest-interface IF_FXO_30"}]
[288,{"$f":"+IF(Data!$C$5>ROW(SNOMONE!B289)-ROW(SNOMONE!$B$259),\"\",\"#\")","v":"#"},{"$f":"+CONCATENATE(\"    route call \",'Line Table'!A32,\" dest-interface IF_FXO_\",'Line Table'!A32)","v":"    route call 31 dest-interface IF_FXO_31"}]
[289,{"$f":"+IF(Data!$C$5>ROW(SNOMONE!B290)-ROW(SNOMONE!$B$259),\"\",\"#\")","v":"#"},{"$f":"+CONCATENATE(\"    route call \",'Line Table'!A33,\" dest-interface IF_FXO_\",'Line Table'!A33)","v":"    route call 32 dest-interface IF_FXO_32"}]
[290,{"$f":"+IF(Data!$C$5>ROW(SNOMONE!B267)-ROW(SNOMONE!$B$444),\"\",\"#\")","v":""}]
[291,{"$f":"+IF(Data!$C$5>ROW(SNOMONE!B268)-ROW(SNOMONE!$B$444),\"\",\"#\")","v":""}]
[292,null,"context cs switch"]
[293,null,"  no shutdown"]
[294]
[295,{"$f":"+IF(Data!$C$6>0,\" \",\"#\")","v":"#"},"authentication-service AS_ALL_EXTENSIONS"]
[296]
[297,{"$f":"+IF(Data!$C$6>ROW(SNOMONE!B298)-ROW(SNOMONE!$B$298),\"\",\"#\")","v":"#"},{"$f":"+CONCATENATE(\"      username \",'Extension Table'!F2,\" password \",'Extension Table'!G2)","v":"      username 101 password 101"}]
[298,{"$f":"+IF(Data!$C$6>ROW(SNOMONE!B299)-ROW(SNOMONE!$B$298),\"\",\"#\")","v":"#"},{"$f":"+CONCATENATE(\"      username \",'Extension Table'!F3,\" password \",'Extension Table'!G3)","v":"      username 102 password 102"}]
[299,{"$f":"+IF(Data!$C$6>ROW(SNOMONE!B300)-ROW(SNOMONE!$B$298),\"\",\"#\")","v":"#"},{"$f":"+CONCATENATE(\"      username \",'Extension Table'!F4,\" password \",'Extension Table'!G4)","v":"      username 103 password 103"}]
[300,{"$f":"+IF(Data!$C$6>ROW(SNOMONE!B301)-ROW(SNOMONE!$B$298),\"\",\"#\")","v":"#"},{"$f":"+CONCATENATE(\"      username \",'Extension Table'!F5,\" password \",'Extension Table'!G5)","v":"      username 104 password 104"}]
[301,{"$f":"+IF(Data!$C$6>ROW(SNOMONE!B302)-ROW(SNOMONE!$B$298),\"\",\"#\")","v":"#"},{"$f":"+CONCATENATE(\"      username \",'Extension Table'!F6,\" password \",'Extension Table'!G6)","v":"      username 105 password 105"}]
[302,{"$f":"+IF(Data!$C$6>ROW(SNOMONE!B303)-ROW(SNOMONE!$B$298),\"\",\"#\")","v":"#"},{"$f":"+CONCATENATE(\"      username \",'Extension Table'!F7,\" password \",'Extension Table'!G7)","v":"      username 106 password 106"}]
[303,{"$f":"+IF(Data!$C$6>ROW(SNOMONE!B304)-ROW(SNOMONE!$B$298),\"\",\"#\")","v":"#"},{"$f":"+CONCATENATE(\"      username \",'Extension Table'!F8,\" password \",'Extension Table'!G8)","v":"      username 107 password 107"}]
[304,{"$f":"+IF(Data!$C$6>ROW(SNOMONE!B305)-ROW(SNOMONE!$B$298),\"\",\"#\")","v":"#"},{"$f":"+CONCATENATE(\"      username \",'Extension Table'!F9,\" password \",'Extension Table'!G9)","v":"      username 108 password 108"}]
[305,{"$f":"+IF(Data!$C$6>ROW(SNOMONE!B306)-ROW(SNOMONE!$B$298),\"\",\"#\")","v":"#"},{"$f":"+CONCATENATE(\"      username \",'Extension Table'!F10,\" password \",'Extension Table'!G10)","v":"      username 109 password 109"}]
[306,{"$f":"+IF(Data!$C$6>ROW(SNOMONE!B307)-ROW(SNOMONE!$B$298),\"\",\"#\")","v":"#"},{"$f":"+CONCATENATE(\"      username \",'Extension Table'!F11,\" password \",'Extension Table'!G11)","v":"      username 110 password 110"}]
[307,{"$f":"+IF(Data!$C$6>ROW(SNOMONE!B308)-ROW(SNOMONE!$B$298),\"\",\"#\")","v":"#"},{"$f":"+CONCATENATE(\"      username \",'Extension Table'!F12,\" password \",'Extension Table'!G12)","v":"      username 111 password 111"}]
[308,{"$f":"+IF(Data!$C$6>ROW(SNOMONE!B309)-ROW(SNOMONE!$B$298),\"\",\"#\")","v":"#"},{"$f":"+CONCATENATE(\"      username \",'Extension Table'!F13,\" password \",'Extension Table'!G13)","v":"      username 112 password 112"}]
[309,{"$f":"+IF(Data!$C$6>ROW(SNOMONE!B310)-ROW(SNOMONE!$B$298),\"\",\"#\")","v":"#"},{"$f":"+CONCATENATE(\"      username \",'Extension Table'!F14,\" password \",'Extension Table'!G14)","v":"      username 113 password 113"}]
[310,{"$f":"+IF(Data!$C$6>ROW(SNOMONE!B311)-ROW(SNOMONE!$B$298),\"\",\"#\")","v":"#"},{"$f":"+CONCATENATE(\"      username \",'Extension Table'!F15,\" password \",'Extension Table'!G15)","v":"      username 114 password 114"}]
[311,{"$f":"+IF(Data!$C$6>ROW(SNOMONE!B312)-ROW(SNOMONE!$B$298),\"\",\"#\")","v":"#"},{"$f":"+CONCATENATE(\"      username \",'Extension Table'!F16,\" password \",'Extension Table'!G16)","v":"      username 115 password 115"}]
[312,{"$f":"+IF(Data!$C$6>ROW(SNOMONE!B313)-ROW(SNOMONE!$B$298),\"\",\"#\")","v":"#"},{"$f":"+CONCATENATE(\"      username \",'Extension Table'!F17,\" password \",'Extension Table'!G17)","v":"      username 116 password 116"}]
[313,{"$f":"+IF(Data!$C$6>ROW(SNOMONE!B314)-ROW(SNOMONE!$B$298),\"\",\"#\")","v":"#"},{"$f":"+CONCATENATE(\"      username \",'Extension Table'!F18,\" password \",'Extension Table'!G18)","v":"      username 117 password 117"}]
[314,{"$f":"+IF(Data!$C$6>ROW(SNOMONE!B315)-ROW(SNOMONE!$B$298),\"\",\"#\")","v":"#"},{"$f":"+CONCATENATE(\"      username \",'Extension Table'!F19,\" password \",'Extension Table'!G19)","v":"      username 118 password 118"}]
[315,{"$f":"+IF(Data!$C$6>ROW(SNOMONE!B316)-ROW(SNOMONE!$B$298),\"\",\"#\")","v":"#"},{"$f":"+CONCATENATE(\"      username \",'Extension Table'!F20,\" password \",'Extension Table'!G20)","v":"      username 119 password 119"}]
[316,{"$f":"+IF(Data!$C$6>ROW(SNOMONE!B317)-ROW(SNOMONE!$B$298),\"\",\"#\")","v":"#"},{"$f":"+CONCATENATE(\"      username \",'Extension Table'!F21,\" password \",'Extension Table'!G21)","v":"      username 120 password 120"}]
[317,{"$f":"+IF(Data!$C$6>ROW(SNOMONE!B318)-ROW(SNOMONE!$B$298),\"\",\"#\")","v":"#"},{"$f":"+CONCATENATE(\"      username \",'Extension Table'!F22,\" password \",'Extension Table'!G22)","v":"      username 121 password 121"}]
[318,{"$f":"+IF(Data!$C$6>ROW(SNOMONE!B319)-ROW(SNOMONE!$B$298),\"\",\"#\")","v":"#"},{"$f":"+CONCATENATE(\"      username \",'Extension Table'!F23,\" password \",'Extension Table'!G23)","v":"      username 122 password 122"}]
[319,{"$f":"+IF(Data!$C$6>ROW(SNOMONE!B320)-ROW(SNOMONE!$B$298),\"\",\"#\")","v":"#"},{"$f":"+CONCATENATE(\"      username \",'Extension Table'!F24,\" password \",'Extension Table'!G24)","v":"      username 123 password 123"}]
[320,{"$f":"+IF(Data!$C$6>ROW(SNOMONE!B321)-ROW(SNOMONE!$B$298),\"\",\"#\")","v":"#"},{"$f":"+CONCATENATE(\"      username \",'Extension Table'!F25,\" password \",'Extension Table'!G25)","v":"      username 124 password 124"}]
[321,{"$f":"+IF(Data!$C$6>ROW(SNOMONE!B322)-ROW(SNOMONE!$B$298),\"\",\"#\")","v":"#"},{"$f":"+CONCATENATE(\"      username \",'Extension Table'!F26,\" password \",'Extension Table'!G26)","v":"      username 125 password 125"}]
[322,{"$f":"+IF(Data!$C$6>ROW(SNOMONE!B323)-ROW(SNOMONE!$B$298),\"\",\"#\")","v":"#"},{"$f":"+CONCATENATE(\"      username \",'Extension Table'!F27,\" password \",'Extension Table'!G27)","v":"      username 126 password 126"}]
[323,{"$f":"+IF(Data!$C$6>ROW(SNOMONE!B324)-ROW(SNOMONE!$B$298),\"\",\"#\")","v":"#"},{"$f":"+CONCATENATE(\"      username \",'Extension Table'!F28,\" password \",'Extension Table'!G28)","v":"      username 127 password 127"}]
[324,{"$f":"+IF(Data!$C$6>ROW(SNOMONE!B325)-ROW(SNOMONE!$B$298),\"\",\"#\")","v":"#"},{"$f":"+CONCATENATE(\"      username \",'Extension Table'!F29,\" password \",'Extension Table'!G29)","v":"      username 128 password 128"}]
[325,{"$f":"+IF(Data!$C$6>ROW(SNOMONE!B326)-ROW(SNOMONE!$B$298),\"\",\"#\")","v":"#"},{"$f":"+CONCATENATE(\"      username \",'Extension Table'!F30,\" password \",'Extension Table'!G30)","v":"      username 129 password 129"}]
[326,{"$f":"+IF(Data!$C$6>ROW(SNOMONE!B327)-ROW(SNOMONE!$B$298),\"\",\"#\")","v":"#"},{"$f":"+CONCATENATE(\"      username \",'Extension Table'!F31,\" password \",'Extension Table'!G31)","v":"      username 130 password 130"}]
[327,{"$f":"+IF(Data!$C$6>ROW(SNOMONE!B328)-ROW(SNOMONE!$B$298),\"\",\"#\")","v":"#"},{"$f":"+CONCATENATE(\"      username \",'Extension Table'!F32,\" password \",'Extension Table'!G32)","v":"      username 131 password 131"}]
[328,{"$f":"+IF(Data!$C$6>ROW(SNOMONE!B329)-ROW(SNOMONE!$B$298),\"\",\"#\")","v":"#"},{"$f":"+CONCATENATE(\"      username \",'Extension Table'!F33,\" password \",'Extension Table'!G33)","v":"      username 132 password 132"}]
[329,null,"  "]
[330,{"$f":"+IF(Data!$C$5>0,\" \",\"#\")","v":" "},"authentication-service AS_ALL_LINES"]
[331]
[332]
[333,{"$f":"+IF(Data!$C$5>ROW(SNOMONE!B333)-ROW(SNOMONE!$B$333),\"\",\"#\")","v":""},{"$f":"+CONCATENATE(\"      username \",'Line Table'!E2,\" password \",'Line Table'!F2)","v":"      username 10002 password 10002"}]
[334,{"$f":"+IF(Data!$C$5>ROW(SNOMONE!B334)-ROW(SNOMONE!$B$333),\"\",\"#\")","v":""},{"$f":"+CONCATENATE(\"      username \",'Line Table'!E3,\" password \",'Line Table'!F3)","v":"      username 10003 password 10003"}]
[335,{"$f":"+IF(Data!$C$5>ROW(SNOMONE!B335)-ROW(SNOMONE!$B$333),\"\",\"#\")","v":""},{"$f":"+CONCATENATE(\"      username \",'Line Table'!E4,\" password \",'Line Table'!F4)","v":"      username 10004 password 10004"}]
[336,{"$f":"+IF(Data!$C$5>ROW(SNOMONE!B336)-ROW(SNOMONE!$B$333),\"\",\"#\")","v":""},{"$f":"+CONCATENATE(\"      username \",'Line Table'!E5,\" password \",'Line Table'!F5)","v":"      username 10005 password 10005"}]
[337,{"$f":"+IF(Data!$C$5>ROW(SNOMONE!B337)-ROW(SNOMONE!$B$333),\"\",\"#\")","v":""},{"$f":"+CONCATENATE(\"      username \",'Line Table'!E6,\" password \",'Line Table'!F6)","v":"      username 10006 password 10006"}]
[338,{"$f":"+IF(Data!$C$5>ROW(SNOMONE!B338)-ROW(SNOMONE!$B$333),\"\",\"#\")","v":""},{"$f":"+CONCATENATE(\"      username \",'Line Table'!E7,\" password \",'Line Table'!F7)","v":"      username 10007 password 10007"}]
[339,{"$f":"+IF(Data!$C$5>ROW(SNOMONE!B339)-ROW(SNOMONE!$B$333),\"\",\"#\")","v":""},{"$f":"+CONCATENATE(\"      username \",'Line Table'!E8,\" password \",'Line Table'!F8)","v":"      username 10008 password 10008"}]
[340,{"$f":"+IF(Data!$C$5>ROW(SNOMONE!B340)-ROW(SNOMONE!$B$333),\"\",\"#\")","v":""},{"$f":"+CONCATENATE(\"      username \",'Line Table'!E9,\" password \",'Line Table'!F9)","v":"      username 10009 password 10009"}]
[341,{"$f":"+IF(Data!$C$5>ROW(SNOMONE!B341)-ROW(SNOMONE!$B$333),\"\",\"#\")","v":""},{"$f":"+CONCATENATE(\"      username \",'Line Table'!E10,\" password \",'Line Table'!F10)","v":"      username 10010 password 10010"}]
[342,{"$f":"+IF(Data!$C$5>ROW(SNOMONE!B342)-ROW(SNOMONE!$B$333),\"\",\"#\")","v":""},{"$f":"+CONCATENATE(\"      username \",'Line Table'!E11,\" password \",'Line Table'!F11)","v":"      username 10011 password 10011"}]
[343,{"$f":"+IF(Data!$C$5>ROW(SNOMONE!B343)-ROW(SNOMONE!$B$333),\"\",\"#\")","v":""},{"$f":"+CONCATENATE(\"      username \",'Line Table'!E12,\" password \",'Line Table'!F12)","v":"      username 10012 password 10012"}]
[344,{"$f":"+IF(Data!$C$5>ROW(SNOMONE!B344)-ROW(SNOMONE!$B$333),\"\",\"#\")","v":""},{"$f":"+CONCATENATE(\"      username \",'Line Table'!E13,\" password \",'Line Table'!F13)","v":"      username 10013 password 10013"}]
[345,{"$f":"+IF(Data!$C$5>ROW(SNOMONE!B345)-ROW(SNOMONE!$B$333),\"\",\"#\")","v":"#"},{"$f":"+CONCATENATE(\"      username \",'Line Table'!E14,\" password \",'Line Table'!F14)","v":"      username 10014 password 10014"}]
[346,{"$f":"+IF(Data!$C$5>ROW(SNOMONE!B346)-ROW(SNOMONE!$B$333),\"\",\"#\")","v":"#"},{"$f":"+CONCATENATE(\"      username \",'Line Table'!E15,\" password \",'Line Table'!F15)","v":"      username 10015 password 10015"}]
[347,{"$f":"+IF(Data!$C$5>ROW(SNOMONE!B347)-ROW(SNOMONE!$B$333),\"\",\"#\")","v":"#"},{"$f":"+CONCATENATE(\"      username \",'Line Table'!E16,\" password \",'Line Table'!F16)","v":"      username 10016 password 10016"}]
[348,{"$f":"+IF(Data!$C$5>ROW(SNOMONE!B348)-ROW(SNOMONE!$B$333),\"\",\"#\")","v":"#"},{"$f":"+CONCATENATE(\"      username \",'Line Table'!E17,\" password \",'Line Table'!F17)","v":"      username 10017 password 10017"}]
[349,{"$f":"+IF(Data!$C$5>ROW(SNOMONE!B349)-ROW(SNOMONE!$B$333),\"\",\"#\")","v":"#"},{"$f":"+CONCATENATE(\"      username \",'Line Table'!E18,\" password \",'Line Table'!F18)","v":"      username 10018 password 10018"}]
[350,{"$f":"+IF(Data!$C$5>ROW(SNOMONE!B350)-ROW(SNOMONE!$B$333),\"\",\"#\")","v":"#"},{"$f":"+CONCATENATE(\"      username \",'Line Table'!E19,\" password \",'Line Table'!F19)","v":"      username 10019 password 10019"}]
[351,{"$f":"+IF(Data!$C$5>ROW(SNOMONE!B351)-ROW(SNOMONE!$B$333),\"\",\"#\")","v":"#"},{"$f":"+CONCATENATE(\"      username \",'Line Table'!E20,\" password \",'Line Table'!F20)","v":"      username 10020 password 10020"}]
[352,{"$f":"+IF(Data!$C$5>ROW(SNOMONE!B352)-ROW(SNOMONE!$B$333),\"\",\"#\")","v":"#"},{"$f":"+CONCATENATE(\"      username \",'Line Table'!E21,\" password \",'Line Table'!F21)","v":"      username 10021 password 10021"}]
[353,{"$f":"+IF(Data!$C$5>ROW(SNOMONE!B353)-ROW(SNOMONE!$B$333),\"\",\"#\")","v":"#"},{"$f":"+CONCATENATE(\"      username \",'Line Table'!E22,\" password \",'Line Table'!F22)","v":"      username 10022 password 10022"}]
[354,{"$f":"+IF(Data!$C$5>ROW(SNOMONE!B354)-ROW(SNOMONE!$B$333),\"\",\"#\")","v":"#"},{"$f":"+CONCATENATE(\"      username \",'Line Table'!E23,\" password \",'Line Table'!F23)","v":"      username 10023 password 10023"}]
[355,{"$f":"+IF(Data!$C$5>ROW(SNOMONE!B355)-ROW(SNOMONE!$B$333),\"\",\"#\")","v":"#"},{"$f":"+CONCATENATE(\"      username \",'Line Table'!E24,\" password \",'Line Table'!F24)","v":"      username 10024 password 10024"}]
[356,{"$f":"+IF(Data!$C$5>ROW(SNOMONE!B356)-ROW(SNOMONE!$B$333),\"\",\"#\")","v":"#"},{"$f":"+CONCATENATE(\"      username \",'Line Table'!E25,\" password \",'Line Table'!F25)","v":"      username 10025 password 10025"}]
[357,{"$f":"+IF(Data!$C$5>ROW(SNOMONE!B357)-ROW(SNOMONE!$B$333),\"\",\"#\")","v":"#"},{"$f":"+CONCATENATE(\"      username \",'Line Table'!E26,\" password \",'Line Table'!F26)","v":"      username 10026 password 10026"}]
[358,{"$f":"+IF(Data!$C$5>ROW(SNOMONE!B358)-ROW(SNOMONE!$B$333),\"\",\"#\")","v":"#"},{"$f":"+CONCATENATE(\"      username \",'Line Table'!E27,\" password \",'Line Table'!F27)","v":"      username 10027 password 10027"}]
[359,{"$f":"+IF(Data!$C$5>ROW(SNOMONE!B359)-ROW(SNOMONE!$B$333),\"\",\"#\")","v":"#"},{"$f":"+CONCATENATE(\"      username \",'Line Table'!E28,\" password \",'Line Table'!F28)","v":"      username 10028 password 10028"}]
[360,{"$f":"+IF(Data!$C$5>ROW(SNOMONE!B360)-ROW(SNOMONE!$B$333),\"\",\"#\")","v":"#"},{"$f":"+CONCATENATE(\"      username \",'Line Table'!E29,\" password \",'Line Table'!F29)","v":"      username 10029 password 10029"}]
[361,{"$f":"+IF(Data!$C$5>ROW(SNOMONE!B361)-ROW(SNOMONE!$B$333),\"\",\"#\")","v":"#"},{"$f":"+CONCATENATE(\"      username \",'Line Table'!E30,\" password \",'Line Table'!F30)","v":"      username 10030 password 10030"}]
[362,{"$f":"+IF(Data!$C$5>ROW(SNOMONE!B362)-ROW(SNOMONE!$B$333),\"\",\"#\")","v":"#"},{"$f":"+CONCATENATE(\"      username \",'Line Table'!E31,\" password \",'Line Table'!F31)","v":"      username 10031 password 10031"}]
[363,{"$f":"+IF(Data!$C$5>ROW(SNOMONE!B363)-ROW(SNOMONE!$B$333),\"\",\"#\")","v":"#"},{"$f":"+CONCATENATE(\"      username \",'Line Table'!E32,\" password \",'Line Table'!F32)","v":"      username 10032 password 10032"}]
[364,{"$f":"+IF(Data!$C$5>ROW(SNOMONE!B364)-ROW(SNOMONE!$B$333),\"\",\"#\")","v":"#"},{"$f":"+CONCATENATE(\"      username \",'Line Table'!E33,\" password \",'Line Table'!F33)","v":"      username 10033 password 10033"}]
[365]
[366,{"$f":"+IF(Data!$C$6>0,\" \",\"#\")","v":"#"},"location-service LS_ALL_EXTENSIONS"]
[367,{"$f":"+IF(Data!$C$6>0,\" \",\"#\")","v":"#"},{"$f":"+CONCATENATE(\"     domain 1 \",Data!C24,\" \",Data!C25)","v":"     domain 1 10.10.50.23 5060"}]
[368,{"$f":"+IF(Data!$C$6>0,\" \",\"#\")","v":"#"},"     identity-group default"]
[369,{"$f":"+IF(Data!$C$6>ROW(SNOMONE!B370)-ROW(SNOMONE!$B$370),\"\",\"#\")","v":"#"},{"$f":"+CONCATENATE(\"     identity \",'Extension Table'!A2,CHAR(13),CHAR(10),,\"          authentication outbound\",CHAR(13),CHAR(10),,\"              authenticate 1 authentication-service AS_ALL_EXTENSIONS username \",'Extension Table'!F2,CHAR(13),CHAR(10),\"          registration outbound\",CHAR(13),CHAR(10),\"             registrar \",Data!$C$24,\" \",Data!$C$25,CHAR(13),CHAR(10),\"             lifetime 300\",CHAR(13),CHAR(10),\"             register auto\",CHAR(13),CHAR(10),\"             retry-timeout on-system-error 10\",CHAR(13),CHAR(10),\"             retry-timeout on-client-error 10\",CHAR(13),CHAR(10),\"             retry-timeout on-server-error 10\")","v":"     identity 101\r\n          authentication outbound\r\n              authenticate 1 authentication-service AS_ALL_EXTENSIONS username 101\r\n          registration outbound\r\n             registrar 10.10.50.23 5060\r\n             lifetime 300\r\n             register auto\r\n             retry-timeout on-system-error 10\r\n             retry-timeout on-client-error 10\r\n             retry-timeout on-server-error 10"}]
[370,{"$f":"+IF(Data!$C$6>ROW(SNOMONE!B371)-ROW(SNOMONE!$B$370),\"\",\"#\")","v":"#"},{"$f":"+CONCATENATE(\"     identity \",'Extension Table'!A3,CHAR(13),CHAR(10),,\"          authentication outbound\",CHAR(13),CHAR(10),,\"              authenticate 1 authentication-service AS_ALL_EXTENSIONS username \",'Extension Table'!F3,CHAR(13),CHAR(10),\"          registration outbound\",CHAR(13),CHAR(10),\"             registrar \",Data!$C$24,\" \",Data!$C$25,CHAR(13),CHAR(10),\"             lifetime 300\",CHAR(13),CHAR(10),\"             register auto\",CHAR(13),CHAR(10),\"             retry-timeout on-system-error 10\",CHAR(13),CHAR(10),\"             retry-timeout on-client-error 10\",CHAR(13),CHAR(10),\"             retry-timeout on-server-error 10\")","v":"     identity 102\r\n          authentication outbound\r\n              authenticate 1 authentication-service AS_ALL_EXTENSIONS username 102\r\n          registration outbound\r\n             registrar 10.10.50.23 5060\r\n             lifetime 300\r\n             register auto\r\n             retry-timeout on-system-error 10\r\n             retry-timeout on-client-error 10\r\n             retry-timeout on-server-error 10"}]
[371,{"$f":"+IF(Data!$C$6>ROW(SNOMONE!B372)-ROW(SNOMONE!$B$370),\"\",\"#\")","v":"#"},{"$f":"+CONCATENATE(\"     identity \",'Extension Table'!A4,CHAR(13),CHAR(10),,\"          authentication outbound\",CHAR(13),CHAR(10),,\"              authenticate 1 authentication-service AS_ALL_EXTENSIONS username \",'Extension Table'!F4,CHAR(13),CHAR(10),\"          registration outbound\",CHAR(13),CHAR(10),\"             registrar \",Data!$C$24,\" \",Data!$C$25,CHAR(13),CHAR(10),\"             lifetime 300\",CHAR(13),CHAR(10),\"             register auto\",CHAR(13),CHAR(10),\"             retry-timeout on-system-error 10\",CHAR(13),CHAR(10),\"             retry-timeout on-client-error 10\",CHAR(13),CHAR(10),\"             retry-timeout on-server-error 10\")","v":"     identity 103\r\n          authentication outbound\r\n              authenticate 1 authentication-service AS_ALL_EXTENSIONS username 103\r\n          registration outbound\r\n             registrar 10.10.50.23 5060\r\n             lifetime 300\r\n             register auto\r\n             retry-timeout on-system-error 10\r\n             retry-timeout on-client-error 10\r\n             retry-timeout on-server-error 10"}]
[372,{"$f":"+IF(Data!$C$6>ROW(SNOMONE!B373)-ROW(SNOMONE!$B$370),\"\",\"#\")","v":"#"},{"$f":"+CONCATENATE(\"     identity \",'Extension Table'!A5,CHAR(13),CHAR(10),,\"          authentication outbound\",CHAR(13),CHAR(10),,\"              authenticate 1 authentication-service AS_ALL_EXTENSIONS username \",'Extension Table'!F5,CHAR(13),CHAR(10),\"          registration outbound\",CHAR(13),CHAR(10),\"             registrar \",Data!$C$24,\" \",Data!$C$25,CHAR(13),CHAR(10),\"             lifetime 300\",CHAR(13),CHAR(10),\"             register auto\",CHAR(13),CHAR(10),\"             retry-timeout on-system-error 10\",CHAR(13),CHAR(10),\"             retry-timeout on-client-error 10\",CHAR(13),CHAR(10),\"             retry-timeout on-server-error 10\")","v":"     identity 104\r\n          authentication outbound\r\n              authenticate 1 authentication-service AS_ALL_EXTENSIONS username 104\r\n          registration outbound\r\n             registrar 10.10.50.23 5060\r\n             lifetime 300\r\n             register auto\r\n             retry-timeout on-system-error 10\r\n             retry-timeout on-client-error 10\r\n             retry-timeout on-server-error 10"}]
[373,{"$f":"+IF(Data!$C$6>ROW(SNOMONE!B374)-ROW(SNOMONE!$B$370),\"\",\"#\")","v":"#"},{"$f":"+CONCATENATE(\"     identity \",'Extension Table'!A6,CHAR(13),CHAR(10),,\"          authentication outbound\",CHAR(13),CHAR(10),,\"              authenticate 1 authentication-service AS_ALL_EXTENSIONS username \",'Extension Table'!F6,CHAR(13),CHAR(10),\"          registration outbound\",CHAR(13),CHAR(10),\"             registrar \",Data!$C$24,\" \",Data!$C$25,CHAR(13),CHAR(10),\"             lifetime 300\",CHAR(13),CHAR(10),\"             register auto\",CHAR(13),CHAR(10),\"             retry-timeout on-system-error 10\",CHAR(13),CHAR(10),\"             retry-timeout on-client-error 10\",CHAR(13),CHAR(10),\"             retry-timeout on-server-error 10\")","v":"     identity 105\r\n          authentication outbound\r\n              authenticate 1 authentication-service AS_ALL_EXTENSIONS username 105\r\n          registration outbound\r\n             registrar 10.10.50.23 5060\r\n             lifetime 300\r\n             register auto\r\n             retry-timeout on-system-error 10\r\n             retry-timeout on-client-error 10\r\n             retry-timeout on-server-error 10"}]
[374,{"$f":"+IF(Data!$C$6>ROW(SNOMONE!B375)-ROW(SNOMONE!$B$370),\"\",\"#\")","v":"#"},{"$f":"+CONCATENATE(\"     identity \",'Extension Table'!A7,CHAR(13),CHAR(10),,\"          authentication outbound\",CHAR(13),CHAR(10),,\"              authenticate 1 authentication-service AS_ALL_EXTENSIONS username \",'Extension Table'!F7,CHAR(13),CHAR(10),\"          registration outbound\",CHAR(13),CHAR(10),\"             registrar \",Data!$C$24,\" \",Data!$C$25,CHAR(13),CHAR(10),\"             lifetime 300\",CHAR(13),CHAR(10),\"             register auto\",CHAR(13),CHAR(10),\"             retry-timeout on-system-error 10\",CHAR(13),CHAR(10),\"             retry-timeout on-client-error 10\",CHAR(13),CHAR(10),\"             retry-timeout on-server-error 10\")","v":"     identity 106\r\n          authentication outbound\r\n              authenticate 1 authentication-service AS_ALL_EXTENSIONS username 106\r\n          registration outbound\r\n             registrar 10.10.50.23 5060\r\n             lifetime 300\r\n             register auto\r\n             retry-timeout on-system-error 10\r\n             retry-timeout on-client-error 10\r\n             retry-timeout on-server-error 10"}]
[375,{"$f":"+IF(Data!$C$6>ROW(SNOMONE!B376)-ROW(SNOMONE!$B$370),\"\",\"#\")","v":"#"},{"$f":"+CONCATENATE(\"     identity \",'Extension Table'!A8,CHAR(13),CHAR(10),,\"          authentication outbound\",CHAR(13),CHAR(10),,\"              authenticate 1 authentication-service AS_ALL_EXTENSIONS username \",'Extension Table'!F8,CHAR(13),CHAR(10),\"          registration outbound\",CHAR(13),CHAR(10),\"             registrar \",Data!$C$24,\" \",Data!$C$25,CHAR(13),CHAR(10),\"             lifetime 300\",CHAR(13),CHAR(10),\"             register auto\",CHAR(13),CHAR(10),\"             retry-timeout on-system-error 10\",CHAR(13),CHAR(10),\"             retry-timeout on-client-error 10\",CHAR(13),CHAR(10),\"             retry-timeout on-server-error 10\")","v":"     identity 107\r\n          authentication outbound\r\n              authenticate 1 authentication-service AS_ALL_EXTENSIONS username 107\r\n          registration outbound\r\n             registrar 10.10.50.23 5060\r\n             lifetime 300\r\n             register auto\r\n             retry-timeout on-system-error 10\r\n             retry-timeout on-client-error 10\r\n             retry-timeout on-server-error 10"}]
[376,{"$f":"+IF(Data!$C$6>ROW(SNOMONE!B377)-ROW(SNOMONE!$B$370),\"\",\"#\")","v":"#"},{"$f":"+CONCATENATE(\"     identity \",'Extension Table'!A9,CHAR(13),CHAR(10),,\"          authentication outbound\",CHAR(13),CHAR(10),,\"              authenticate 1 authentication-service AS_ALL_EXTENSIONS username \",'Extension Table'!F9,CHAR(13),CHAR(10),\"          registration outbound\",CHAR(13),CHAR(10),\"             registrar \",Data!$C$24,\" \",Data!$C$25,CHAR(13),CHAR(10),\"             lifetime 300\",CHAR(13),CHAR(10),\"             register auto\",CHAR(13),CHAR(10),\"             retry-timeout on-system-error 10\",CHAR(13),CHAR(10),\"             retry-timeout on-client-error 10\",CHAR(13),CHAR(10),\"             retry-timeout on-server-error 10\")","v":"     identity 108\r\n          authentication outbound\r\n              authenticate 1 authentication-service AS_ALL_EXTENSIONS username 108\r\n          registration outbound\r\n             registrar 10.10.50.23 5060\r\n             lifetime 300\r\n             register auto\r\n             retry-timeout on-system-error 10\r\n             retry-timeout on-client-error 10\r\n             retry-timeout on-server-error 10"}]
[377,{"$f":"+IF(Data!$C$6>ROW(SNOMONE!B378)-ROW(SNOMONE!$B$370),\"\",\"#\")","v":"#"},{"$f":"+CONCATENATE(\"     identity \",'Extension Table'!A10,CHAR(13),CHAR(10),,\"          authentication outbound\",CHAR(13),CHAR(10),,\"              authenticate 1 authentication-service AS_ALL_EXTENSIONS username \",'Extension Table'!F10,CHAR(13),CHAR(10),\"          registration outbound\",CHAR(13),CHAR(10),\"             registrar \",Data!$C$24,\" \",Data!$C$25,CHAR(13),CHAR(10),\"             lifetime 300\",CHAR(13),CHAR(10),\"             register auto\",CHAR(13),CHAR(10),\"             retry-timeout on-system-error 10\",CHAR(13),CHAR(10),\"             retry-timeout on-client-error 10\",CHAR(13),CHAR(10),\"             retry-timeout on-server-error 10\")","v":"     identity 109\r\n          authentication outbound\r\n              authenticate 1 authentication-service AS_ALL_EXTENSIONS username 109\r\n          registration outbound\r\n             registrar 10.10.50.23 5060\r\n             lifetime 300\r\n             register auto\r\n             retry-timeout on-system-error 10\r\n             retry-timeout on-client-error 10\r\n             retry-timeout on-server-error 10"}]
[378,{"$f":"+IF(Data!$C$6>ROW(SNOMONE!B379)-ROW(SNOMONE!$B$370),\"\",\"#\")","v":"#"},{"$f":"+CONCATENATE(\"     identity \",'Extension Table'!A11,CHAR(13),CHAR(10),,\"          authentication outbound\",CHAR(13),CHAR(10),,\"              authenticate 1 authentication-service AS_ALL_EXTENSIONS username \",'Extension Table'!F11,CHAR(13),CHAR(10),\"          registration outbound\",CHAR(13),CHAR(10),\"             registrar \",Data!$C$24,\" \",Data!$C$25,CHAR(13),CHAR(10),\"             lifetime 300\",CHAR(13),CHAR(10),\"             register auto\",CHAR(13),CHAR(10),\"             retry-timeout on-system-error 10\",CHAR(13),CHAR(10),\"             retry-timeout on-client-error 10\",CHAR(13),CHAR(10),\"             retry-timeout on-server-error 10\")","v":"     identity 110\r\n          authentication outbound\r\n              authenticate 1 authentication-service AS_ALL_EXTENSIONS username 110\r\n          registration outbound\r\n             registrar 10.10.50.23 5060\r\n             lifetime 300\r\n             register auto\r\n             retry-timeout on-system-error 10\r\n             retry-timeout on-client-error 10\r\n             retry-timeout on-server-error 10"}]
[379,{"$f":"+IF(Data!$C$6>ROW(SNOMONE!B380)-ROW(SNOMONE!$B$370),\"\",\"#\")","v":"#"},{"$f":"+CONCATENATE(\"     identity \",'Extension Table'!A12,CHAR(13),CHAR(10),,\"          authentication outbound\",CHAR(13),CHAR(10),,\"              authenticate 1 authentication-service AS_ALL_EXTENSIONS username \",'Extension Table'!F12,CHAR(13),CHAR(10),\"          registration outbound\",CHAR(13),CHAR(10),\"             registrar \",Data!$C$24,\" \",Data!$C$25,CHAR(13),CHAR(10),\"             lifetime 300\",CHAR(13),CHAR(10),\"             register auto\",CHAR(13),CHAR(10),\"             retry-timeout on-system-error 10\",CHAR(13),CHAR(10),\"             retry-timeout on-client-error 10\",CHAR(13),CHAR(10),\"             retry-timeout on-server-error 10\")","v":"     identity 111\r\n          authentication outbound\r\n              authenticate 1 authentication-service AS_ALL_EXTENSIONS username 111\r\n          registration outbound\r\n             registrar 10.10.50.23 5060\r\n             lifetime 300\r\n             register auto\r\n             retry-timeout on-system-error 10\r\n             retry-timeout on-client-error 10\r\n             retry-timeout on-server-error 10"}]
[380,{"$f":"+IF(Data!$C$6>ROW(SNOMONE!B381)-ROW(SNOMONE!$B$370),\"\",\"#\")","v":"#"},{"$f":"+CONCATENATE(\"     identity \",'Extension Table'!A13,CHAR(13),CHAR(10),,\"          authentication outbound\",CHAR(13),CHAR(10),,\"              authenticate 1 authentication-service AS_ALL_EXTENSIONS username \",'Extension Table'!F13,CHAR(13),CHAR(10),\"          registration outbound\",CHAR(13),CHAR(10),\"             registrar \",Data!$C$24,\" \",Data!$C$25,CHAR(13),CHAR(10),\"             lifetime 300\",CHAR(13),CHAR(10),\"             register auto\",CHAR(13),CHAR(10),\"             retry-timeout on-system-error 10\",CHAR(13),CHAR(10),\"             retry-timeout on-client-error 10\",CHAR(13),CHAR(10),\"             retry-timeout on-server-error 10\")","v":"     identity 112\r\n          authentication outbound\r\n              authenticate 1 authentication-service AS_ALL_EXTENSIONS username 112\r\n          registration outbound\r\n             registrar 10.10.50.23 5060\r\n             lifetime 300\r\n             register auto\r\n             retry-timeout on-system-error 10\r\n             retry-timeout on-client-error 10\r\n             retry-timeout on-server-error 10"}]
[381,{"$f":"+IF(Data!$C$6>ROW(SNOMONE!B382)-ROW(SNOMONE!$B$370),\"\",\"#\")","v":"#"},{"$f":"+CONCATENATE(\"     identity \",'Extension Table'!A14,CHAR(13),CHAR(10),,\"          authentication outbound\",CHAR(13),CHAR(10),,\"              authenticate 1 authentication-service AS_ALL_EXTENSIONS username \",'Extension Table'!F14,CHAR(13),CHAR(10),\"          registration outbound\",CHAR(13),CHAR(10),\"             registrar \",Data!$C$24,\" \",Data!$C$25,CHAR(13),CHAR(10),\"             lifetime 300\",CHAR(13),CHAR(10),\"             register auto\",CHAR(13),CHAR(10),\"             retry-timeout on-system-error 10\",CHAR(13),CHAR(10),\"             retry-timeout on-client-error 10\",CHAR(13),CHAR(10),\"             retry-timeout on-server-error 10\")","v":"     identity 113\r\n          authentication outbound\r\n              authenticate 1 authentication-service AS_ALL_EXTENSIONS username 113\r\n          registration outbound\r\n             registrar 10.10.50.23 5060\r\n             lifetime 300\r\n             register auto\r\n             retry-timeout on-system-error 10\r\n             retry-timeout on-client-error 10\r\n             retry-timeout on-server-error 10"}]
[382,{"$f":"+IF(Data!$C$6>ROW(SNOMONE!B383)-ROW(SNOMONE!$B$370),\"\",\"#\")","v":"#"},{"$f":"+CONCATENATE(\"     identity \",'Extension Table'!A15,CHAR(13),CHAR(10),,\"          authentication outbound\",CHAR(13),CHAR(10),,\"              authenticate 1 authentication-service AS_ALL_EXTENSIONS username \",'Extension Table'!F15,CHAR(13),CHAR(10),\"          registration outbound\",CHAR(13),CHAR(10),\"             registrar \",Data!$C$24,\" \",Data!$C$25,CHAR(13),CHAR(10),\"             lifetime 300\",CHAR(13),CHAR(10),\"             register auto\",CHAR(13),CHAR(10),\"             retry-timeout on-system-error 10\",CHAR(13),CHAR(10),\"             retry-timeout on-client-error 10\",CHAR(13),CHAR(10),\"             retry-timeout on-server-error 10\")","v":"     identity 114\r\n          authentication outbound\r\n              authenticate 1 authentication-service AS_ALL_EXTENSIONS username 114\r\n          registration outbound\r\n             registrar 10.10.50.23 5060\r\n             lifetime 300\r\n             register auto\r\n             retry-timeout on-system-error 10\r\n             retry-timeout on-client-error 10\r\n             retry-timeout on-server-error 10"}]
[383,{"$f":"+IF(Data!$C$6>ROW(SNOMONE!B384)-ROW(SNOMONE!$B$370),\"\",\"#\")","v":"#"},{"$f":"+CONCATENATE(\"     identity \",'Extension Table'!A16,CHAR(13),CHAR(10),,\"          authentication outbound\",CHAR(13),CHAR(10),,\"              authenticate 1 authentication-service AS_ALL_EXTENSIONS username \",'Extension Table'!F16,CHAR(13),CHAR(10),\"          registration outbound\",CHAR(13),CHAR(10),\"             registrar \",Data!$C$24,\" \",Data!$C$25,CHAR(13),CHAR(10),\"             lifetime 300\",CHAR(13),CHAR(10),\"             register auto\",CHAR(13),CHAR(10),\"             retry-timeout on-system-error 10\",CHAR(13),CHAR(10),\"             retry-timeout on-client-error 10\",CHAR(13),CHAR(10),\"             retry-timeout on-server-error 10\")","v":"     identity 115\r\n          authentication outbound\r\n              authenticate 1 authentication-service AS_ALL_EXTENSIONS username 115\r\n          registration outbound\r\n             registrar 10.10.50.23 5060\r\n             lifetime 300\r\n             register auto\r\n             retry-timeout on-system-error 10\r\n             retry-timeout on-client-error 10\r\n             retry-timeout on-server-error 10"}]
[384,{"$f":"+IF(Data!$C$6>ROW(SNOMONE!B385)-ROW(SNOMONE!$B$370),\"\",\"#\")","v":"#"},{"$f":"+CONCATENATE(\"     identity \",'Extension Table'!A17,CHAR(13),CHAR(10),,\"          authentication outbound\",CHAR(13),CHAR(10),,\"              authenticate 1 authentication-service AS_ALL_EXTENSIONS username \",'Extension Table'!F17,CHAR(13),CHAR(10),\"          registration outbound\",CHAR(13),CHAR(10),\"             registrar \",Data!$C$24,\" \",Data!$C$25,CHAR(13),CHAR(10),\"             lifetime 300\",CHAR(13),CHAR(10),\"             register auto\",CHAR(13),CHAR(10),\"             retry-timeout on-system-error 10\",CHAR(13),CHAR(10),\"             retry-timeout on-client-error 10\",CHAR(13),CHAR(10),\"             retry-timeout on-server-error 10\")","v":"     identity 116\r\n          authentication outbound\r\n              authenticate 1 authentication-service AS_ALL_EXTENSIONS username 116\r\n          registration outbound\r\n             registrar 10.10.50.23 5060\r\n             lifetime 300\r\n             register auto\r\n             retry-timeout on-system-error 10\r\n             retry-timeout on-client-error 10\r\n             retry-timeout on-server-error 10"}]
[385,{"$f":"+IF(Data!$C$6>ROW(SNOMONE!B386)-ROW(SNOMONE!$B$370),\"\",\"#\")","v":"#"},{"$f":"+CONCATENATE(\"     identity \",'Extension Table'!A18,CHAR(13),CHAR(10),,\"          authentication outbound\",CHAR(13),CHAR(10),,\"              authenticate 1 authentication-service AS_ALL_EXTENSIONS username \",'Extension Table'!F18,CHAR(13),CHAR(10),\"          registration outbound\",CHAR(13),CHAR(10),\"             registrar \",Data!$C$24,\" \",Data!$C$25,CHAR(13),CHAR(10),\"             lifetime 300\",CHAR(13),CHAR(10),\"             register auto\",CHAR(13),CHAR(10),\"             retry-timeout on-system-error 10\",CHAR(13),CHAR(10),\"             retry-timeout on-client-error 10\",CHAR(13),CHAR(10),\"             retry-timeout on-server-error 10\")","v":"     identity 117\r\n          authentication outbound\r\n              authenticate 1 authentication-service AS_ALL_EXTENSIONS username 117\r\n          registration outbound\r\n             registrar 10.10.50.23 5060\r\n             lifetime 300\r\n             register auto\r\n             retry-timeout on-system-error 10\r\n             retry-timeout on-client-error 10\r\n             retry-timeout on-server-error 10"}]
[386,{"$f":"+IF(Data!$C$6>ROW(SNOMONE!B387)-ROW(SNOMONE!$B$370),\"\",\"#\")","v":"#"},{"$f":"+CONCATENATE(\"     identity \",'Extension Table'!A19,CHAR(13),CHAR(10),,\"          authentication outbound\",CHAR(13),CHAR(10),,\"              authenticate 1 authentication-service AS_ALL_EXTENSIONS username \",'Extension Table'!F19,CHAR(13),CHAR(10),\"          registration outbound\",CHAR(13),CHAR(10),\"             registrar \",Data!$C$24,\" \",Data!$C$25,CHAR(13),CHAR(10),\"             lifetime 300\",CHAR(13),CHAR(10),\"             register auto\",CHAR(13),CHAR(10),\"             retry-timeout on-system-error 10\",CHAR(13),CHAR(10),\"             retry-timeout on-client-error 10\",CHAR(13),CHAR(10),\"             retry-timeout on-server-error 10\")","v":"     identity 118\r\n          authentication outbound\r\n              authenticate 1 authentication-service AS_ALL_EXTENSIONS username 118\r\n          registration outbound\r\n             registrar 10.10.50.23 5060\r\n             lifetime 300\r\n             register auto\r\n             retry-timeout on-system-error 10\r\n             retry-timeout on-client-error 10\r\n             retry-timeout on-server-error 10"}]
[387,{"$f":"+IF(Data!$C$6>ROW(SNOMONE!B388)-ROW(SNOMONE!$B$370),\"\",\"#\")","v":"#"},{"$f":"+CONCATENATE(\"     identity \",'Extension Table'!A20,CHAR(13),CHAR(10),,\"          authentication outbound\",CHAR(13),CHAR(10),,\"              authenticate 1 authentication-service AS_ALL_EXTENSIONS username \",'Extension Table'!F20,CHAR(13),CHAR(10),\"          registration outbound\",CHAR(13),CHAR(10),\"             registrar \",Data!$C$24,\" \",Data!$C$25,CHAR(13),CHAR(10),\"             lifetime 300\",CHAR(13),CHAR(10),\"             register auto\",CHAR(13),CHAR(10),\"             retry-timeout on-system-error 10\",CHAR(13),CHAR(10),\"             retry-timeout on-client-error 10\",CHAR(13),CHAR(10),\"             retry-timeout on-server-error 10\")","v":"     identity 119\r\n          authentication outbound\r\n              authenticate 1 authentication-service AS_ALL_EXTENSIONS username 119\r\n          registration outbound\r\n             registrar 10.10.50.23 5060\r\n             lifetime 300\r\n             register auto\r\n             retry-timeout on-system-error 10\r\n             retry-timeout on-client-error 10\r\n             retry-timeout on-server-error 10"}]
[388,{"$f":"+IF(Data!$C$6>ROW(SNOMONE!B389)-ROW(SNOMONE!$B$370),\"\",\"#\")","v":"#"},{"$f":"+CONCATENATE(\"     identity \",'Extension Table'!A21,CHAR(13),CHAR(10),,\"          authentication outbound\",CHAR(13),CHAR(10),,\"              authenticate 1 authentication-service AS_ALL_EXTENSIONS username \",'Extension Table'!F21,CHAR(13),CHAR(10),\"          registration outbound\",CHAR(13),CHAR(10),\"             registrar \",Data!$C$24,\" \",Data!$C$25,CHAR(13),CHAR(10),\"             lifetime 300\",CHAR(13),CHAR(10),\"             register auto\",CHAR(13),CHAR(10),\"             retry-timeout on-system-error 10\",CHAR(13),CHAR(10),\"             retry-timeout on-client-error 10\",CHAR(13),CHAR(10),\"             retry-timeout on-server-error 10\")","v":"     identity 120\r\n          authentication outbound\r\n              authenticate 1 authentication-service AS_ALL_EXTENSIONS username 120\r\n          registration outbound\r\n             registrar 10.10.50.23 5060\r\n             lifetime 300\r\n             register auto\r\n             retry-timeout on-system-error 10\r\n             retry-timeout on-client-error 10\r\n             retry-timeout on-server-error 10"}]
[389,{"$f":"+IF(Data!$C$6>ROW(SNOMONE!B390)-ROW(SNOMONE!$B$370),\"\",\"#\")","v":"#"},{"$f":"+CONCATENATE(\"     identity \",'Extension Table'!A22,CHAR(13),CHAR(10),,\"          authentication outbound\",CHAR(13),CHAR(10),,\"              authenticate 1 authentication-service AS_ALL_EXTENSIONS username \",'Extension Table'!F22,CHAR(13),CHAR(10),\"          registration outbound\",CHAR(13),CHAR(10),\"             registrar \",Data!$C$24,\" \",Data!$C$25,CHAR(13),CHAR(10),\"             lifetime 300\",CHAR(13),CHAR(10),\"             register auto\",CHAR(13),CHAR(10),\"             retry-timeout on-system-error 10\",CHAR(13),CHAR(10),\"             retry-timeout on-client-error 10\",CHAR(13),CHAR(10),\"             retry-timeout on-server-error 10\")","v":"     identity 121\r\n          authentication outbound\r\n              authenticate 1 authentication-service AS_ALL_EXTENSIONS username 121\r\n          registration outbound\r\n             registrar 10.10.50.23 5060\r\n             lifetime 300\r\n             register auto\r\n             retry-timeout on-system-error 10\r\n             retry-timeout on-client-error 10\r\n             retry-timeout on-server-error 10"}]
[390,{"$f":"+IF(Data!$C$6>ROW(SNOMONE!B391)-ROW(SNOMONE!$B$370),\"\",\"#\")","v":"#"},{"$f":"+CONCATENATE(\"     identity \",'Extension Table'!A23,CHAR(13),CHAR(10),,\"          authentication outbound\",CHAR(13),CHAR(10),,\"              authenticate 1 authentication-service AS_ALL_EXTENSIONS username \",'Extension Table'!F23,CHAR(13),CHAR(10),\"          registration outbound\",CHAR(13),CHAR(10),\"             registrar \",Data!$C$24,\" \",Data!$C$25,CHAR(13),CHAR(10),\"             lifetime 300\",CHAR(13),CHAR(10),\"             register auto\",CHAR(13),CHAR(10),\"             retry-timeout on-system-error 10\",CHAR(13),CHAR(10),\"             retry-timeout on-client-error 10\",CHAR(13),CHAR(10),\"             retry-timeout on-server-error 10\")","v":"     identity 122\r\n          authentication outbound\r\n              authenticate 1 authentication-service AS_ALL_EXTENSIONS username 122\r\n          registration outbound\r\n             registrar 10.10.50.23 5060\r\n             lifetime 300\r\n             register auto\r\n             retry-timeout on-system-error 10\r\n             retry-timeout on-client-error 10\r\n             retry-timeout on-server-error 10"}]
[391,{"$f":"+IF(Data!$C$6>ROW(SNOMONE!B392)-ROW(SNOMONE!$B$370),\"\",\"#\")","v":"#"},{"$f":"+CONCATENATE(\"     identity \",'Extension Table'!A24,CHAR(13),CHAR(10),,\"          authentication outbound\",CHAR(13),CHAR(10),,\"              authenticate 1 authentication-service AS_ALL_EXTENSIONS username \",'Extension Table'!F24,CHAR(13),CHAR(10),\"          registration outbound\",CHAR(13),CHAR(10),\"             registrar \",Data!$C$24,\" \",Data!$C$25,CHAR(13),CHAR(10),\"             lifetime 300\",CHAR(13),CHAR(10),\"             register auto\",CHAR(13),CHAR(10),\"             retry-timeout on-system-error 10\",CHAR(13),CHAR(10),\"             retry-timeout on-client-error 10\",CHAR(13),CHAR(10),\"             retry-timeout on-server-error 10\")","v":"     identity 123\r\n          authentication outbound\r\n              authenticate 1 authentication-service AS_ALL_EXTENSIONS username 123\r\n          registration outbound\r\n             registrar 10.10.50.23 5060\r\n             lifetime 300\r\n             register auto\r\n             retry-timeout on-system-error 10\r\n             retry-timeout on-client-error 10\r\n             retry-timeout on-server-error 10"}]
[392,{"$f":"+IF(Data!$C$6>ROW(SNOMONE!B393)-ROW(SNOMONE!$B$370),\"\",\"#\")","v":"#"},{"$f":"+CONCATENATE(\"     identity \",'Extension Table'!A25,CHAR(13),CHAR(10),,\"          authentication outbound\",CHAR(13),CHAR(10),,\"              authenticate 1 authentication-service AS_ALL_EXTENSIONS username \",'Extension Table'!F25,CHAR(13),CHAR(10),\"          registration outbound\",CHAR(13),CHAR(10),\"             registrar \",Data!$C$24,\" \",Data!$C$25,CHAR(13),CHAR(10),\"             lifetime 300\",CHAR(13),CHAR(10),\"             register auto\",CHAR(13),CHAR(10),\"             retry-timeout on-system-error 10\",CHAR(13),CHAR(10),\"             retry-timeout on-client-error 10\",CHAR(13),CHAR(10),\"             retry-timeout on-server-error 10\")","v":"     identity 124\r\n          authentication outbound\r\n              authenticate 1 authentication-service AS_ALL_EXTENSIONS username 124\r\n          registration outbound\r\n             registrar 10.10.50.23 5060\r\n             lifetime 300\r\n             register auto\r\n             retry-timeout on-system-error 10\r\n             retry-timeout on-client-error 10\r\n             retry-timeout on-server-error 10"}]
[393,{"$f":"+IF(Data!$C$6>ROW(SNOMONE!B394)-ROW(SNOMONE!$B$370),\"\",\"#\")","v":"#"},{"$f":"+CONCATENATE(\"     identity \",'Extension Table'!A26,CHAR(13),CHAR(10),,\"          authentication outbound\",CHAR(13),CHAR(10),,\"              authenticate 1 authentication-service AS_ALL_EXTENSIONS username \",'Extension Table'!F26,CHAR(13),CHAR(10),\"          registration outbound\",CHAR(13),CHAR(10),\"             registrar \",Data!$C$24,\" \",Data!$C$25,CHAR(13),CHAR(10),\"             lifetime 300\",CHAR(13),CHAR(10),\"             register auto\",CHAR(13),CHAR(10),\"             retry-timeout on-system-error 10\",CHAR(13),CHAR(10),\"             retry-timeout on-client-error 10\",CHAR(13),CHAR(10),\"             retry-timeout on-server-error 10\")","v":"     identity 125\r\n          authentication outbound\r\n              authenticate 1 authentication-service AS_ALL_EXTENSIONS username 125\r\n          registration outbound\r\n             registrar 10.10.50.23 5060\r\n             lifetime 300\r\n             register auto\r\n             retry-timeout on-system-error 10\r\n             retry-timeout on-client-error 10\r\n             retry-timeout on-server-error 10"}]
[394,{"$f":"+IF(Data!$C$6>ROW(SNOMONE!B395)-ROW(SNOMONE!$B$370),\"\",\"#\")","v":"#"},{"$f":"+CONCATENATE(\"     identity \",'Extension Table'!A27,CHAR(13),CHAR(10),,\"          authentication outbound\",CHAR(13),CHAR(10),,\"              authenticate 1 authentication-service AS_ALL_EXTENSIONS username \",'Extension Table'!F27,CHAR(13),CHAR(10),\"          registration outbound\",CHAR(13),CHAR(10),\"             registrar \",Data!$C$24,\" \",Data!$C$25,CHAR(13),CHAR(10),\"             lifetime 300\",CHAR(13),CHAR(10),\"             register auto\",CHAR(13),CHAR(10),\"             retry-timeout on-system-error 10\",CHAR(13),CHAR(10),\"             retry-timeout on-client-error 10\",CHAR(13),CHAR(10),\"             retry-timeout on-server-error 10\")","v":"     identity 126\r\n          authentication outbound\r\n              authenticate 1 authentication-service AS_ALL_EXTENSIONS username 126\r\n          registration outbound\r\n             registrar 10.10.50.23 5060\r\n             lifetime 300\r\n             register auto\r\n             retry-timeout on-system-error 10\r\n             retry-timeout on-client-error 10\r\n             retry-timeout on-server-error 10"}]
[395,{"$f":"+IF(Data!$C$6>ROW(SNOMONE!B396)-ROW(SNOMONE!$B$370),\"\",\"#\")","v":"#"},{"$f":"+CONCATENATE(\"     identity \",'Extension Table'!A28,CHAR(13),CHAR(10),,\"          authentication outbound\",CHAR(13),CHAR(10),,\"              authenticate 1 authentication-service AS_ALL_EXTENSIONS username \",'Extension Table'!F28,CHAR(13),CHAR(10),\"          registration outbound\",CHAR(13),CHAR(10),\"             registrar \",Data!$C$24,\" \",Data!$C$25,CHAR(13),CHAR(10),\"             lifetime 300\",CHAR(13),CHAR(10),\"             register auto\",CHAR(13),CHAR(10),\"             retry-timeout on-system-error 10\",CHAR(13),CHAR(10),\"             retry-timeout on-client-error 10\",CHAR(13),CHAR(10),\"             retry-timeout on-server-error 10\")","v":"     identity 127\r\n          authentication outbound\r\n              authenticate 1 authentication-service AS_ALL_EXTENSIONS username 127\r\n          registration outbound\r\n             registrar 10.10.50.23 5060\r\n             lifetime 300\r\n             register auto\r\n             retry-timeout on-system-error 10\r\n             retry-timeout on-client-error 10\r\n             retry-timeout on-server-error 10"}]
[396,{"$f":"+IF(Data!$C$6>ROW(SNOMONE!B397)-ROW(SNOMONE!$B$370),\"\",\"#\")","v":"#"},{"$f":"+CONCATENATE(\"     identity \",'Extension Table'!A29,CHAR(13),CHAR(10),,\"          authentication outbound\",CHAR(13),CHAR(10),,\"              authenticate 1 authentication-service AS_ALL_EXTENSIONS username \",'Extension Table'!F29,CHAR(13),CHAR(10),\"          registration outbound\",CHAR(13),CHAR(10),\"             registrar \",Data!$C$24,\" \",Data!$C$25,CHAR(13),CHAR(10),\"             lifetime 300\",CHAR(13),CHAR(10),\"             register auto\",CHAR(13),CHAR(10),\"             retry-timeout on-system-error 10\",CHAR(13),CHAR(10),\"             retry-timeout on-client-error 10\",CHAR(13),CHAR(10),\"             retry-timeout on-server-error 10\")","v":"     identity 128\r\n          authentication outbound\r\n              authenticate 1 authentication-service AS_ALL_EXTENSIONS username 128\r\n          registration outbound\r\n             registrar 10.10.50.23 5060\r\n             lifetime 300\r\n             register auto\r\n             retry-timeout on-system-error 10\r\n             retry-timeout on-client-error 10\r\n             retry-timeout on-server-error 10"}]
[397,{"$f":"+IF(Data!$C$6>ROW(SNOMONE!B398)-ROW(SNOMONE!$B$370),\"\",\"#\")","v":"#"},{"$f":"+CONCATENATE(\"     identity \",'Extension Table'!A30,CHAR(13),CHAR(10),,\"          authentication outbound\",CHAR(13),CHAR(10),,\"              authenticate 1 authentication-service AS_ALL_EXTENSIONS username \",'Extension Table'!F30,CHAR(13),CHAR(10),\"          registration outbound\",CHAR(13),CHAR(10),\"             registrar \",Data!$C$24,\" \",Data!$C$25,CHAR(13),CHAR(10),\"             lifetime 300\",CHAR(13),CHAR(10),\"             register auto\",CHAR(13),CHAR(10),\"             retry-timeout on-system-error 10\",CHAR(13),CHAR(10),\"             retry-timeout on-client-error 10\",CHAR(13),CHAR(10),\"             retry-timeout on-server-error 10\")","v":"     identity 129\r\n          authentication outbound\r\n              authenticate 1 authentication-service AS_ALL_EXTENSIONS username 129\r\n          registration outbound\r\n             registrar 10.10.50.23 5060\r\n             lifetime 300\r\n             register auto\r\n             retry-timeout on-system-error 10\r\n             retry-timeout on-client-error 10\r\n             retry-timeout on-server-error 10"}]
[398,{"$f":"+IF(Data!$C$6>ROW(SNOMONE!B399)-ROW(SNOMONE!$B$370),\"\",\"#\")","v":"#"},{"$f":"+CONCATENATE(\"     identity \",'Extension Table'!A31,CHAR(13),CHAR(10),,\"          authentication outbound\",CHAR(13),CHAR(10),,\"              authenticate 1 authentication-service AS_ALL_EXTENSIONS username \",'Extension Table'!F31,CHAR(13),CHAR(10),\"          registration outbound\",CHAR(13),CHAR(10),\"             registrar \",Data!$C$24,\" \",Data!$C$25,CHAR(13),CHAR(10),\"             lifetime 300\",CHAR(13),CHAR(10),\"             register auto\",CHAR(13),CHAR(10),\"             retry-timeout on-system-error 10\",CHAR(13),CHAR(10),\"             retry-timeout on-client-error 10\",CHAR(13),CHAR(10),\"             retry-timeout on-server-error 10\")","v":"     identity 130\r\n          authentication outbound\r\n              authenticate 1 authentication-service AS_ALL_EXTENSIONS username 130\r\n          registration outbound\r\n             registrar 10.10.50.23 5060\r\n             lifetime 300\r\n             register auto\r\n             retry-timeout on-system-error 10\r\n             retry-timeout on-client-error 10\r\n             retry-timeout on-server-error 10"}]
[399,{"$f":"+IF(Data!$C$6>ROW(SNOMONE!B400)-ROW(SNOMONE!$B$370),\"\",\"#\")","v":"#"},{"$f":"+CONCATENATE(\"     identity \",'Extension Table'!A32,CHAR(13),CHAR(10),,\"          authentication outbound\",CHAR(13),CHAR(10),,\"              authenticate 1 authentication-service AS_ALL_EXTENSIONS username \",'Extension Table'!F32,CHAR(13),CHAR(10),\"          registration outbound\",CHAR(13),CHAR(10),\"             registrar \",Data!$C$24,\" \",Data!$C$25,CHAR(13),CHAR(10),\"             lifetime 300\",CHAR(13),CHAR(10),\"             register auto\",CHAR(13),CHAR(10),\"             retry-timeout on-system-error 10\",CHAR(13),CHAR(10),\"             retry-timeout on-client-error 10\",CHAR(13),CHAR(10),\"             retry-timeout on-server-error 10\")","v":"     identity 131\r\n          authentication outbound\r\n              authenticate 1 authentication-service AS_ALL_EXTENSIONS username 131\r\n          registration outbound\r\n             registrar 10.10.50.23 5060\r\n             lifetime 300\r\n             register auto\r\n             retry-timeout on-system-error 10\r\n             retry-timeout on-client-error 10\r\n             retry-timeout on-server-error 10"}]
[400,{"$f":"+IF(Data!$C$6>ROW(SNOMONE!B401)-ROW(SNOMONE!$B$370),\"\",\"#\")","v":"#"},{"$f":"+CONCATENATE(\"     identity \",'Extension Table'!A33,CHAR(13),CHAR(10),,\"          authentication outbound\",CHAR(13),CHAR(10),,\"              authenticate 1 authentication-service AS_ALL_EXTENSIONS username \",'Extension Table'!F33,CHAR(13),CHAR(10),\"          registration outbound\",CHAR(13),CHAR(10),\"             registrar \",Data!$C$24,\" \",Data!$C$25,CHAR(13),CHAR(10),\"             lifetime 300\",CHAR(13),CHAR(10),\"             register auto\",CHAR(13),CHAR(10),\"             retry-timeout on-system-error 10\",CHAR(13),CHAR(10),\"             retry-timeout on-client-error 10\",CHAR(13),CHAR(10),\"             retry-timeout on-server-error 10\")","v":"     identity 132\r\n          authentication outbound\r\n              authenticate 1 authentication-service AS_ALL_EXTENSIONS username 132\r\n          registration outbound\r\n             registrar 10.10.50.23 5060\r\n             lifetime 300\r\n             register auto\r\n             retry-timeout on-system-error 10\r\n             retry-timeout on-client-error 10\r\n             retry-timeout on-server-error 10"}]
[401]
[402,{"$f":"+IF(Data!$C$5>0,\" \",\"#\")","v":" "},"location-services LS_ALL_LINES"]
[403]
[404]
[405,{"$f":"+IF(Data!$C$5>ROW(SNOMONE!B406)-ROW(SNOMONE!$B$406),\"\",\"#\")","v":""},{"$f":"+CONCATENATE(\"     identity \",'Line Table'!B2)","v":"     identity 10002"}]
[406,{"$f":"+IF(Data!$C$5>ROW(SNOMONE!B407)-ROW(SNOMONE!$B$406),\"\",\"#\")","v":""},{"$f":"+CONCATENATE(\"     identity \",'Line Table'!B3)","v":"     identity 10003"}]
[407,{"$f":"+IF(Data!$C$5>ROW(SNOMONE!B408)-ROW(SNOMONE!$B$406),\"\",\"#\")","v":""},{"$f":"+CONCATENATE(\"     identity \",'Line Table'!B4)","v":"     identity 10004"}]
[408,{"$f":"+IF(Data!$C$5>ROW(SNOMONE!B409)-ROW(SNOMONE!$B$406),\"\",\"#\")","v":""},{"$f":"+CONCATENATE(\"     identity \",'Line Table'!B5)","v":"     identity 10005"}]
[409,{"$f":"+IF(Data!$C$5>ROW(SNOMONE!B410)-ROW(SNOMONE!$B$406),\"\",\"#\")","v":""},{"$f":"+CONCATENATE(\"     identity \",'Line Table'!B6)","v":"     identity 10006"}]
[410,{"$f":"+IF(Data!$C$5>ROW(SNOMONE!B411)-ROW(SNOMONE!$B$406),\"\",\"#\")","v":""},{"$f":"+CONCATENATE(\"     identity \",'Line Table'!B7)","v":"     identity 10007"}]
[411,{"$f":"+IF(Data!$C$5>ROW(SNOMONE!B412)-ROW(SNOMONE!$B$406),\"\",\"#\")","v":""},{"$f":"+CONCATENATE(\"     identity \",'Line Table'!B8)","v":"     identity 10008"}]
[412,{"$f":"+IF(Data!$C$5>ROW(SNOMONE!B413)-ROW(SNOMONE!$B$406),\"\",\"#\")","v":""},{"$f":"+CONCATENATE(\"     identity \",'Line Table'!B9)","v":"     identity 10009"}]
[413,{"$f":"+IF(Data!$C$5>ROW(SNOMONE!B414)-ROW(SNOMONE!$B$406),\"\",\"#\")","v":""},{"$f":"+CONCATENATE(\"     identity \",'Line Table'!B10)","v":"     identity 10010"}]
[414,{"$f":"+IF(Data!$C$5>ROW(SNOMONE!B415)-ROW(SNOMONE!$B$406),\"\",\"#\")","v":""},{"$f":"+CONCATENATE(\"     identity \",'Line Table'!B11)","v":"     identity 10011"}]
[415,{"$f":"+IF(Data!$C$5>ROW(SNOMONE!B416)-ROW(SNOMONE!$B$406),\"\",\"#\")","v":""},{"$f":"+CONCATENATE(\"     identity \",'Line Table'!B12)","v":"     identity 10012"}]
[416,{"$f":"+IF(Data!$C$5>ROW(SNOMONE!B417)-ROW(SNOMONE!$B$406),\"\",\"#\")","v":""},{"$f":"+CONCATENATE(\"     identity \",'Line Table'!B13)","v":"     identity 10013"}]
[417,{"$f":"+IF(Data!$C$5>ROW(SNOMONE!B418)-ROW(SNOMONE!$B$406),\"\",\"#\")","v":"#"},{"$f":"+CONCATENATE(\"     identity \",'Line Table'!B14)","v":"     identity 10014"}]
[418,{"$f":"+IF(Data!$C$5>ROW(SNOMONE!B419)-ROW(SNOMONE!$B$406),\"\",\"#\")","v":"#"},{"$f":"+CONCATENATE(\"     identity \",'Line Table'!B15)","v":"     identity 10015"}]
[419,{"$f":"+IF(Data!$C$5>ROW(SNOMONE!B420)-ROW(SNOMONE!$B$406),\"\",\"#\")","v":"#"},{"$f":"+CONCATENATE(\"     identity \",'Line Table'!B16)","v":"     identity 10016"}]
[420,{"$f":"+IF(Data!$C$5>ROW(SNOMONE!B421)-ROW(SNOMONE!$B$406),\"\",\"#\")","v":"#"},{"$f":"+CONCATENATE(\"     identity \",'Line Table'!B17)","v":"     identity 10017"}]
[421,{"$f":"+IF(Data!$C$5>ROW(SNOMONE!B422)-ROW(SNOMONE!$B$406),\"\",\"#\")","v":"#"},{"$f":"+CONCATENATE(\"     identity \",'Line Table'!B18)","v":"     identity 10018"}]
[422,{"$f":"+IF(Data!$C$5>ROW(SNOMONE!B423)-ROW(SNOMONE!$B$406),\"\",\"#\")","v":"#"},{"$f":"+CONCATENATE(\"     identity \",'Line Table'!B19)","v":"     identity 10019"}]
[423,{"$f":"+IF(Data!$C$5>ROW(SNOMONE!B424)-ROW(SNOMONE!$B$406),\"\",\"#\")","v":"#"},{"$f":"+CONCATENATE(\"     identity \",'Line Table'!B20)","v":"     identity 10020"}]
[424,{"$f":"+IF(Data!$C$5>ROW(SNOMONE!B425)-ROW(SNOMONE!$B$406),\"\",\"#\")","v":"#"},{"$f":"+CONCATENATE(\"     identity \",'Line Table'!B21)","v":"     identity 10021"}]
[425,{"$f":"+IF(Data!$C$5>ROW(SNOMONE!B426)-ROW(SNOMONE!$B$406),\"\",\"#\")","v":"#"},{"$f":"+CONCATENATE(\"     identity \",'Line Table'!B22)","v":"     identity 10022"}]
[426,{"$f":"+IF(Data!$C$5>ROW(SNOMONE!B427)-ROW(SNOMONE!$B$406),\"\",\"#\")","v":"#"},{"$f":"+CONCATENATE(\"     identity \",'Line Table'!B23)","v":"     identity 10023"}]
[427,{"$f":"+IF(Data!$C$5>ROW(SNOMONE!B428)-ROW(SNOMONE!$B$406),\"\",\"#\")","v":"#"},{"$f":"+CONCATENATE(\"     identity \",'Line Table'!B24)","v":"     identity 10024"}]
[428,{"$f":"+IF(Data!$C$5>ROW(SNOMONE!B429)-ROW(SNOMONE!$B$406),\"\",\"#\")","v":"#"},{"$f":"+CONCATENATE(\"     identity \",'Line Table'!B25)","v":"     identity 10025"}]
[429,{"$f":"+IF(Data!$C$5>ROW(SNOMONE!B430)-ROW(SNOMONE!$B$406),\"\",\"#\")","v":"#"},{"$f":"+CONCATENATE(\"     identity \",'Line Table'!B26)","v":"     identity 10026"}]
[430,{"$f":"+IF(Data!$C$5>ROW(SNOMONE!B431)-ROW(SNOMONE!$B$406),\"\",\"#\")","v":"#"},{"$f":"+CONCATENATE(\"     identity \",'Line Table'!B27)","v":"     identity 10027"}]
[431,{"$f":"+IF(Data!$C$5>ROW(SNOMONE!B432)-ROW(SNOMONE!$B$406),\"\",\"#\")","v":"#"},{"$f":"+CONCATENATE(\"     identity \",'Line Table'!B28)","v":"     identity 10028"}]
[432,{"$f":"+IF(Data!$C$5>ROW(SNOMONE!B433)-ROW(SNOMONE!$B$406),\"\",\"#\")","v":"#"},{"$f":"+CONCATENATE(\"     identity \",'Line Table'!B29)","v":"     identity 10029"}]
[433,{"$f":"+IF(Data!$C$5>ROW(SNOMONE!B434)-ROW(SNOMONE!$B$406),\"\",\"#\")","v":"#"},{"$f":"+CONCATENATE(\"     identity \",'Line Table'!B30)","v":"     identity 10030"}]
[434,{"$f":"+IF(Data!$C$5>ROW(SNOMONE!B435)-ROW(SNOMONE!$B$406),\"\",\"#\")","v":"#"},{"$f":"+CONCATENATE(\"     identity \",'Line Table'!B31)","v":"     identity 10031"}]
[435,{"$f":"+IF(Data!$C$5>ROW(SNOMONE!B436)-ROW(SNOMONE!$B$406),\"\",\"#\")","v":"#"},{"$f":"+CONCATENATE(\"     identity \",'Line Table'!B32)","v":"     identity 10032"}]
[436,{"$f":"+IF(Data!$C$5>ROW(SNOMONE!B437)-ROW(SNOMONE!$B$406),\"\",\"#\")","v":"#"},{"$f":"+CONCATENATE(\"     identity \",'Line Table'!B33)","v":"     identity 10033"}]
[437,null,"          "]
[438,null,"        "]
[439,{"$f":"+IF(Data!$C$5>ROW(SNOMONE!B439)-ROW(SNOMONE!$B$439),\"\",\"#\")","v":""},{"$f":"+CONCATENATE(\"  port fxo 0 \",ROW()-ROW($C$440),CHAR(13),CHAR(10),\"      \",Data!$C$31,CHAR(13),CHAR(10),\"     encapsulation cc-fxo\",CHAR(13),CHAR(10),\"      bind interface IF_FXO_\",'Line Table'!A2,\" switch\",CHAR(13),CHAR(10),\"      no shutdown\")","v":"  port fxo 0 0\r\n      use profile fxo us\r\n     encapsulation cc-fxo\r\n      bind interface IF_FXO_1 switch\r\n      no shutdown"}]
[440,{"$f":"+IF(Data!$C$5>ROW(SNOMONE!B440)-ROW(SNOMONE!$B$439),\"\",\"#\")","v":""},{"$f":"+CONCATENATE(\"  port fxo 0 \",ROW()-ROW($C$440),CHAR(13),CHAR(10),\"      \",Data!$C$31,CHAR(13),CHAR(10),\"     encapsulation cc-fxo\",CHAR(13),CHAR(10),\"      bind interface IF_FXO_\",'Line Table'!A3,\" switch\",CHAR(13),CHAR(10),\"      no shutdown\")","v":"  port fxo 0 1\r\n      use profile fxo us\r\n     encapsulation cc-fxo\r\n      bind interface IF_FXO_2 switch\r\n      no shutdown"}]
[441,{"$f":"+IF(Data!$C$5>ROW(SNOMONE!B441)-ROW(SNOMONE!$B$439),\"\",\"#\")","v":""},{"$f":"+CONCATENATE(\"  port fxo 0 \",ROW()-ROW($C$440),CHAR(13),CHAR(10),\"      \",Data!$C$31,CHAR(13),CHAR(10),\"     encapsulation cc-fxo\",CHAR(13),CHAR(10),\"      bind interface IF_FXO_\",'Line Table'!A4,\" switch\",CHAR(13),CHAR(10),\"      no shutdown\")","v":"  port fxo 0 2\r\n      use profile fxo us\r\n     encapsulation cc-fxo\r\n      bind interface IF_FXO_3 switch\r\n      no shutdown"}]
[442,{"$f":"+IF(Data!$C$5>ROW(SNOMONE!B442)-ROW(SNOMONE!$B$439),\"\",\"#\")","v":""},{"$f":"+CONCATENATE(\"  port fxo 0 \",ROW()-ROW($C$440),CHAR(13),CHAR(10),\"      \",Data!$C$31,CHAR(13),CHAR(10),\"     encapsulation cc-fxo\",CHAR(13),CHAR(10),\"      bind interface IF_FXO_\",'Line Table'!A5,\" switch\",CHAR(13),CHAR(10),\"      no shutdown\")","v":"  port fxo 0 3\r\n      use profile fxo us\r\n     encapsulation cc-fxo\r\n      bind interface IF_FXO_4 switch\r\n      no shutdown"}]
[443,{"$f":"+IF(Data!$C$5>ROW(SNOMONE!B443)-ROW(SNOMONE!$B$439),\"\",\"#\")","v":""},{"$f":"+CONCATENATE(\"  port fxo 0 \",ROW()-ROW($C$440),CHAR(13),CHAR(10),\"      \",Data!$C$31,CHAR(13),CHAR(10),\"     encapsulation cc-fxo\",CHAR(13),CHAR(10),\"      bind interface IF_FXO_\",'Line Table'!A6,\" switch\",CHAR(13),CHAR(10),\"      no shutdown\")","v":"  port fxo 0 4\r\n      use profile fxo us\r\n     encapsulation cc-fxo\r\n      bind interface IF_FXO_5 switch\r\n      no shutdown"}]
[444,{"$f":"+IF(Data!$C$5>ROW(SNOMONE!B444)-ROW(SNOMONE!$B$439),\"\",\"#\")","v":""},{"$f":"+CONCATENATE(\"  port fxo 0 \",ROW()-ROW($C$440),CHAR(13),CHAR(10),\"      \",Data!$C$31,CHAR(13),CHAR(10),\"     encapsulation cc-fxo\",CHAR(13),CHAR(10),\"      bind interface IF_FXO_\",'Line Table'!A7,\" switch\",CHAR(13),CHAR(10),\"      no shutdown\")","v":"  port fxo 0 5\r\n      use profile fxo us\r\n     encapsulation cc-fxo\r\n      bind interface IF_FXO_6 switch\r\n      no shutdown"}]
[445,{"$f":"+IF(Data!$C$5>ROW(SNOMONE!B445)-ROW(SNOMONE!$B$439),\"\",\"#\")","v":""},{"$f":"+CONCATENATE(\"  port fxo 0 \",ROW()-ROW($C$440),CHAR(13),CHAR(10),\"      \",Data!$C$31,CHAR(13),CHAR(10),\"     encapsulation cc-fxo\",CHAR(13),CHAR(10),\"      bind interface IF_FXO_\",'Line Table'!A8,\" switch\",CHAR(13),CHAR(10),\"      no shutdown\")","v":"  port fxo 0 6\r\n      use profile fxo us\r\n     encapsulation cc-fxo\r\n      bind interface IF_FXO_7 switch\r\n      no shutdown"}]
[446,{"$f":"+IF(Data!$C$5>ROW(SNOMONE!B446)-ROW(SNOMONE!$B$439),\"\",\"#\")","v":""},{"$f":"+CONCATENATE(\"  port fxo 0 \",ROW()-ROW($C$440),CHAR(13),CHAR(10),\"      \",Data!$C$31,CHAR(13),CHAR(10),\"     encapsulation cc-fxo\",CHAR(13),CHAR(10),\"      bind interface IF_FXO_\",'Line Table'!A9,\" switch\",CHAR(13),CHAR(10),\"      no shutdown\")","v":"  port fxo 0 7\r\n      use profile fxo us\r\n     encapsulation cc-fxo\r\n      bind interface IF_FXO_8 switch\r\n      no shutdown"}]
[447,{"$f":"+IF(Data!$C$5>ROW(SNOMONE!B447)-ROW(SNOMONE!$B$439),\"\",\"#\")","v":""},{"$f":"+CONCATENATE(\"  port fxo 0 \",ROW()-ROW($C$440),CHAR(13),CHAR(10),\"      \",Data!$C$31,CHAR(13),CHAR(10),\"     encapsulation cc-fxo\",CHAR(13),CHAR(10),\"      bind interface IF_FXO_\",'Line Table'!A10,\" switch\",CHAR(13),CHAR(10),\"      no shutdown\")","v":"  port fxo 0 8\r\n      use profile fxo us\r\n     encapsulation cc-fxo\r\n      bind interface IF_FXO_9 switch\r\n      no shutdown"}]
[448,{"$f":"+IF(Data!$C$5>ROW(SNOMONE!B448)-ROW(SNOMONE!$B$439),\"\",\"#\")","v":""},{"$f":"+CONCATENATE(\"  port fxo 0 \",ROW()-ROW($C$440),CHAR(13),CHAR(10),\"      \",Data!$C$31,CHAR(13),CHAR(10),\"     encapsulation cc-fxo\",CHAR(13),CHAR(10),\"      bind interface IF_FXO_\",'Line Table'!A11,\" switch\",CHAR(13),CHAR(10),\"      no shutdown\")","v":"  port fxo 0 9\r\n      use profile fxo us\r\n     encapsulation cc-fxo\r\n      bind interface IF_FXO_10 switch\r\n      no shutdown"}]
[449,{"$f":"+IF(Data!$C$5>ROW(SNOMONE!B449)-ROW(SNOMONE!$B$439),\"\",\"#\")","v":""},{"$f":"+CONCATENATE(\"  port fxo 0 \",ROW()-ROW($C$440),CHAR(13),CHAR(10),\"      \",Data!$C$31,CHAR(13),CHAR(10),\"     encapsulation cc-fxo\",CHAR(13),CHAR(10),\"      bind interface IF_FXO_\",'Line Table'!A12,\" switch\",CHAR(13),CHAR(10),\"      no shutdown\")","v":"  port fxo 0 10\r\n      use profile fxo us\r\n     encapsulation cc-fxo\r\n      bind interface IF_FXO_11 switch\r\n      no shutdown"}]
[450,{"$f":"+IF(Data!$C$5>ROW(SNOMONE!B450)-ROW(SNOMONE!$B$439),\"\",\"#\")","v":""},{"$f":"+CONCATENATE(\"  port fxo 0 \",ROW()-ROW($C$440),CHAR(13),CHAR(10),\"      \",Data!$C$31,CHAR(13),CHAR(10),\"     encapsulation cc-fxo\",CHAR(13),CHAR(10),\"      bind interface IF_FXO_\",'Line Table'!A13,\" switch\",CHAR(13),CHAR(10),\"      no shutdown\")","v":"  port fxo 0 11\r\n      use profile fxo us\r\n     encapsulation cc-fxo\r\n      bind interface IF_FXO_12 switch\r\n      no shutdown"}]
[451,{"$f":"+IF(Data!$C$5>ROW(SNOMONE!B451)-ROW(SNOMONE!$B$439),\"\",\"#\")","v":"#"},{"$f":"+CONCATENATE(\"  port fxo 0 \",ROW()-ROW($C$440),CHAR(13),CHAR(10),\"      \",Data!$C$31,CHAR(13),CHAR(10),\"     encapsulation cc-fxo\",CHAR(13),CHAR(10),\"      bind interface IF_FXO_\",'Line Table'!A14,\" switch\",CHAR(13),CHAR(10),\"      no shutdown\")","v":"  port fxo 0 12\r\n      use profile fxo us\r\n     encapsulation cc-fxo\r\n      bind interface IF_FXO_13 switch\r\n      no shutdown"}]
[452,{"$f":"+IF(Data!$C$5>ROW(SNOMONE!B452)-ROW(SNOMONE!$B$439),\"\",\"#\")","v":"#"},{"$f":"+CONCATENATE(\"  port fxo 0 \",ROW()-ROW($C$440),CHAR(13),CHAR(10),\"      \",Data!$C$31,CHAR(13),CHAR(10),\"     encapsulation cc-fxo\",CHAR(13),CHAR(10),\"      bind interface IF_FXO_\",'Line Table'!A15,\" switch\",CHAR(13),CHAR(10),\"      no shutdown\")","v":"  port fxo 0 13\r\n      use profile fxo us\r\n     encapsulation cc-fxo\r\n      bind interface IF_FXO_14 switch\r\n      no shutdown"}]
[453,{"$f":"+IF(Data!$C$5>ROW(SNOMONE!B453)-ROW(SNOMONE!$B$439),\"\",\"#\")","v":"#"},{"$f":"+CONCATENATE(\"  port fxo 0 \",ROW()-ROW($C$440),CHAR(13),CHAR(10),\"      \",Data!$C$31,CHAR(13),CHAR(10),\"     encapsulation cc-fxo\",CHAR(13),CHAR(10),\"      bind interface IF_FXO_\",'Line Table'!A16,\" switch\",CHAR(13),CHAR(10),\"      no shutdown\")","v":"  port fxo 0 14\r\n      use profile fxo us\r\n     encapsulation cc-fxo\r\n      bind interface IF_FXO_15 switch\r\n      no shutdown"}]
[454,{"$f":"+IF(Data!$C$5>ROW(SNOMONE!B454)-ROW(SNOMONE!$B$439),\"\",\"#\")","v":"#"},{"$f":"+CONCATENATE(\"  port fxo 0 \",ROW()-ROW($C$440),CHAR(13),CHAR(10),\"      \",Data!$C$31,CHAR(13),CHAR(10),\"     encapsulation cc-fxo\",CHAR(13),CHAR(10),\"      bind interface IF_FXO_\",'Line Table'!A17,\" switch\",CHAR(13),CHAR(10),\"      no shutdown\")","v":"  port fxo 0 15\r\n      use profile fxo us\r\n     encapsulation cc-fxo\r\n      bind interface IF_FXO_16 switch\r\n      no shutdown"}]
[455,{"$f":"+IF(Data!$C$5>ROW(SNOMONE!B455)-ROW(SNOMONE!$B$439),\"\",\"#\")","v":"#"},{"$f":"+CONCATENATE(\"  port fxo 0 \",ROW()-ROW($C$440),CHAR(13),CHAR(10),\"      \",Data!$C$31,CHAR(13),CHAR(10),\"     encapsulation cc-fxo\",CHAR(13),CHAR(10),\"      bind interface IF_FXO_\",'Line Table'!A18,\" switch\",CHAR(13),CHAR(10),\"      no shutdown\")","v":"  port fxo 0 16\r\n      use profile fxo us\r\n     encapsulation cc-fxo\r\n      bind interface IF_FXO_17 switch\r\n      no shutdown"}]
[456,{"$f":"+IF(Data!$C$5>ROW(SNOMONE!B456)-ROW(SNOMONE!$B$439),\"\",\"#\")","v":"#"},{"$f":"+CONCATENATE(\"  port fxo 0 \",ROW()-ROW($C$440),CHAR(13),CHAR(10),\"      \",Data!$C$31,CHAR(13),CHAR(10),\"     encapsulation cc-fxo\",CHAR(13),CHAR(10),\"      bind interface IF_FXO_\",'Line Table'!A19,\" switch\",CHAR(13),CHAR(10),\"      no shutdown\")","v":"  port fxo 0 17\r\n      use profile fxo us\r\n     encapsulation cc-fxo\r\n      bind interface IF_FXO_18 switch\r\n      no shutdown"}]
[457,{"$f":"+IF(Data!$C$5>ROW(SNOMONE!B457)-ROW(SNOMONE!$B$439),\"\",\"#\")","v":"#"},{"$f":"+CONCATENATE(\"  port fxo 0 \",ROW()-ROW($C$440),CHAR(13),CHAR(10),\"      \",Data!$C$31,CHAR(13),CHAR(10),\"     encapsulation cc-fxo\",CHAR(13),CHAR(10),\"      bind interface IF_FXO_\",'Line Table'!A20,\" switch\",CHAR(13),CHAR(10),\"      no shutdown\")","v":"  port fxo 0 18\r\n      use profile fxo us\r\n     encapsulation cc-fxo\r\n      bind interface IF_FXO_19 switch\r\n      no shutdown"}]
[458,{"$f":"+IF(Data!$C$5>ROW(SNOMONE!B458)-ROW(SNOMONE!$B$439),\"\",\"#\")","v":"#"},{"$f":"+CONCATENATE(\"  port fxo 0 \",ROW()-ROW($C$440),CHAR(13),CHAR(10),\"      \",Data!$C$31,CHAR(13),CHAR(10),\"     encapsulation cc-fxo\",CHAR(13),CHAR(10),\"      bind interface IF_FXO_\",'Line Table'!A21,\" switch\",CHAR(13),CHAR(10),\"      no shutdown\")","v":"  port fxo 0 19\r\n      use profile fxo us\r\n     encapsulation cc-fxo\r\n      bind interface IF_FXO_20 switch\r\n      no shutdown"}]
[459,{"$f":"+IF(Data!$C$5>ROW(SNOMONE!B459)-ROW(SNOMONE!$B$439),\"\",\"#\")","v":"#"},{"$f":"+CONCATENATE(\"  port fxo 0 \",ROW()-ROW($C$440),CHAR(13),CHAR(10),\"      \",Data!$C$31,CHAR(13),CHAR(10),\"     encapsulation cc-fxo\",CHAR(13),CHAR(10),\"      bind interface IF_FXO_\",'Line Table'!A22,\" switch\",CHAR(13),CHAR(10),\"      no shutdown\")","v":"  port fxo 0 20\r\n      use profile fxo us\r\n     encapsulation cc-fxo\r\n      bind interface IF_FXO_21 switch\r\n      no shutdown"}]
[460,{"$f":"+IF(Data!$C$5>ROW(SNOMONE!B460)-ROW(SNOMONE!$B$439),\"\",\"#\")","v":"#"},{"$f":"+CONCATENATE(\"  port fxo 0 \",ROW()-ROW($C$440),CHAR(13),CHAR(10),\"      \",Data!$C$31,CHAR(13),CHAR(10),\"     encapsulation cc-fxo\",CHAR(13),CHAR(10),\"      bind interface IF_FXO_\",'Line Table'!A23,\" switch\",CHAR(13),CHAR(10),\"      no shutdown\")","v":"  port fxo 0 21\r\n      use profile fxo us\r\n     encapsulation cc-fxo\r\n      bind interface IF_FXO_22 switch\r\n      no shutdown"}]
[461,{"$f":"+IF(Data!$C$5>ROW(SNOMONE!B461)-ROW(SNOMONE!$B$439),\"\",\"#\")","v":"#"},{"$f":"+CONCATENATE(\"  port fxo 0 \",ROW()-ROW($C$440),CHAR(13),CHAR(10),\"      \",Data!$C$31,CHAR(13),CHAR(10),\"     encapsulation cc-fxo\",CHAR(13),CHAR(10),\"      bind interface IF_FXO_\",'Line Table'!A24,\" switch\",CHAR(13),CHAR(10),\"      no shutdown\")","v":"  port fxo 0 22\r\n      use profile fxo us\r\n     encapsulation cc-fxo\r\n      bind interface IF_FXO_23 switch\r\n      no shutdown"}]
[462,{"$f":"+IF(Data!$C$5>ROW(SNOMONE!B462)-ROW(SNOMONE!$B$439),\"\",\"#\")","v":"#"},{"$f":"+CONCATENATE(\"  port fxo 0 \",ROW()-ROW($C$440),CHAR(13),CHAR(10),\"      \",Data!$C$31,CHAR(13),CHAR(10),\"     encapsulation cc-fxo\",CHAR(13),CHAR(10),\"      bind interface IF_FXO_\",'Line Table'!A25,\" switch\",CHAR(13),CHAR(10),\"      no shutdown\")","v":"  port fxo 0 23\r\n      use profile fxo us\r\n     encapsulation cc-fxo\r\n      bind interface IF_FXO_24 switch\r\n      no shutdown"}]
[463,{"$f":"+IF(Data!$C$5>ROW(SNOMONE!B463)-ROW(SNOMONE!$B$439),\"\",\"#\")","v":"#"},{"$f":"+CONCATENATE(\"  port fxo 0 \",ROW()-ROW($C$440),CHAR(13),CHAR(10),\"      \",Data!$C$31,CHAR(13),CHAR(10),\"     encapsulation cc-fxo\",CHAR(13),CHAR(10),\"      bind interface IF_FXO_\",'Line Table'!A26,\" switch\",CHAR(13),CHAR(10),\"      no shutdown\")","v":"  port fxo 0 24\r\n      use profile fxo us\r\n     encapsulation cc-fxo\r\n      bind interface IF_FXO_25 switch\r\n      no shutdown"}]
[464,{"$f":"+IF(Data!$C$5>ROW(SNOMONE!B464)-ROW(SNOMONE!$B$439),\"\",\"#\")","v":"#"},{"$f":"+CONCATENATE(\"  port fxo 0 \",ROW()-ROW($C$440),CHAR(13),CHAR(10),\"      \",Data!$C$31,CHAR(13),CHAR(10),\"     encapsulation cc-fxo\",CHAR(13),CHAR(10),\"      bind interface IF_FXO_\",'Line Table'!A27,\" switch\",CHAR(13),CHAR(10),\"      no shutdown\")","v":"  port fxo 0 25\r\n      use profile fxo us\r\n     encapsulation cc-fxo\r\n      bind interface IF_FXO_26 switch\r\n      no shutdown"}]
[465,{"$f":"+IF(Data!$C$5>ROW(SNOMONE!B465)-ROW(SNOMONE!$B$439),\"\",\"#\")","v":"#"},{"$f":"+CONCATENATE(\"  port fxo 0 \",ROW()-ROW($C$440),CHAR(13),CHAR(10),\"      \",Data!$C$31,CHAR(13),CHAR(10),\"     encapsulation cc-fxo\",CHAR(13),CHAR(10),\"      bind interface IF_FXO_\",'Line Table'!A28,\" switch\",CHAR(13),CHAR(10),\"      no shutdown\")","v":"  port fxo 0 26\r\n      use profile fxo us\r\n     encapsulation cc-fxo\r\n      bind interface IF_FXO_27 switch\r\n      no shutdown"}]
[466,{"$f":"+IF(Data!$C$5>ROW(SNOMONE!B466)-ROW(SNOMONE!$B$439),\"\",\"#\")","v":"#"},{"$f":"+CONCATENATE(\"  port fxo 0 \",ROW()-ROW($C$440),CHAR(13),CHAR(10),\"      \",Data!$C$31,CHAR(13),CHAR(10),\"     encapsulation cc-fxo\",CHAR(13),CHAR(10),\"      bind interface IF_FXO_\",'Line Table'!A29,\" switch\",CHAR(13),CHAR(10),\"      no shutdown\")","v":"  port fxo 0 27\r\n      use profile fxo us\r\n     encapsulation cc-fxo\r\n      bind interface IF_FXO_28 switch\r\n      no shutdown"}]
[467,{"$f":"+IF(Data!$C$5>ROW(SNOMONE!B467)-ROW(SNOMONE!$B$439),\"\",\"#\")","v":"#"},{"$f":"+CONCATENATE(\"  port fxo 0 \",ROW()-ROW($C$440),CHAR(13),CHAR(10),\"      \",Data!$C$31,CHAR(13),CHAR(10),\"     encapsulation cc-fxo\",CHAR(13),CHAR(10),\"      bind interface IF_FXO_\",'Line Table'!A30,\" switch\",CHAR(13),CHAR(10),\"      no shutdown\")","v":"  port fxo 0 28\r\n      use profile fxo us\r\n     encapsulation cc-fxo\r\n      bind interface IF_FXO_29 switch\r\n      no shutdown"}]
[468,{"$f":"+IF(Data!$C$5>ROW(SNOMONE!B468)-ROW(SNOMONE!$B$439),\"\",\"#\")","v":"#"},{"$f":"+CONCATENATE(\"  port fxo 0 \",ROW()-ROW($C$440),CHAR(13),CHAR(10),\"      \",Data!$C$31,CHAR(13),CHAR(10),\"     encapsulation cc-fxo\",CHAR(13),CHAR(10),\"      bind interface IF_FXO_\",'Line Table'!A31,\" switch\",CHAR(13),CHAR(10),\"      no shutdown\")","v":"  port fxo 0 29\r\n      use profile fxo us\r\n     encapsulation cc-fxo\r\n      bind interface IF_FXO_30 switch\r\n      no shutdown"}]
[469,{"$f":"+IF(Data!$C$5>ROW(SNOMONE!B469)-ROW(SNOMONE!$B$439),\"\",\"#\")","v":"#"},{"$f":"+CONCATENATE(\"  port fxo 0 \",ROW()-ROW($C$440),CHAR(13),CHAR(10),\"      \",Data!$C$31,CHAR(13),CHAR(10),\"     encapsulation cc-fxo\",CHAR(13),CHAR(10),\"      bind interface IF_FXO_\",'Line Table'!A32,\" switch\",CHAR(13),CHAR(10),\"      no shutdown\")","v":"  port fxo 0 30\r\n      use profile fxo us\r\n     encapsulation cc-fxo\r\n      bind interface IF_FXO_31 switch\r\n      no shutdown"}]
[470,{"$f":"+IF(Data!$C$5>ROW(SNOMONE!B470)-ROW(SNOMONE!$B$439),\"\",\"#\")","v":"#"},{"$f":"+CONCATENATE(\"  port fxo 0 \",ROW()-ROW($C$440),CHAR(13),CHAR(10),\"      \",Data!$C$31,CHAR(13),CHAR(10),\"     encapsulation cc-fxo\",CHAR(13),CHAR(10),\"      bind interface IF_FXO_\",'Line Table'!A33,\" switch\",CHAR(13),CHAR(10),\"      no shutdown\")","v":"  port fxo 0 31\r\n      use profile fxo us\r\n     encapsulation cc-fxo\r\n      bind interface IF_FXO_32 switch\r\n      no shutdown"}]
[471]
[472,null,"context sip-gateway GW_SIP_ALL_LINES"]
[473,null,{"$f":"+CONCATENATE(\"        interface \",Data!C8)","v":"        interface LAN"}]
[474,null,{"$f":"+CONCATENATE(\"        bind interface IF_IP_\",Data!C8,\" context router port \",Data!C37)","v":"        bind interface IF_IP_LAN context router port 5060"}]
[475,null,"context sip-gateway GW_SIP_ALL_LINES"]
[476,null,"    no shutdown"]
[477]
[478,{"$f":"+IF(Data!$C$6>0,\" \",\"#\")","v":"#"},"context sip-gateway GW_SIP_ALL_EXTENSIONS"]
[479,{"$f":"+IF(Data!$C$6>0,\" \",\"#\")","v":"#"},{"$f":"+CONCATENATE(\"        interface \",Data!C8)","v":"        interface LAN"}]
[480,{"$f":"+IF(Data!$C$6>0,\" \",\"#\")","v":"#"},{"$f":"+CONCATENATE(\"        bind interface IF_IP_\",Data!C8,\" context router port \",Data!C36)","v":"        bind interface IF_IP_LAN context router port 5060"}]
[481]
[482,{"$f":"+IF(Data!$C$6>0,\" \",\"#\")","v":"#"},"context sip-gateway GW_SIP_ALL_EXTENSIONS"]
[483,{"$f":"+IF(Data!$C$6>0,\" \",\"#\")","v":"#"},"        bind location-service LS_ALL_EXTENSIONS"]
[484,{"$f":"+IF(Data!$C$6>0,\" \",\"#\")","v":"#"},"        no shutdown"]
[485]
[486,null,"port ethernet 0 0"]
[487,null,"  medium auto"]
[488,null,"  encapsulation ip"]
[489,null,"  bind interface IF_IP_LAN router"]
[490,null,"  no shutdown"]
[491]
[492,{"$f":"+IF(Data!$C$7=\"N\",\"#\",\"\")","v":"#"},"port ethernet 0 1"]
[493,{"$f":"+IF(Data!$C$7=\"N\",\"#\",\"\")","v":"#"},"  medium auto"]
[494,{"$f":"+IF(Data!$C$7=\"N\",\"#\",\"\")","v":"#"},"  encapsulation ip"]
[495,{"$f":"+IF(Data!$C$7=\"N\",\"#\",\"\")","v":"#"},"  bind interface IF_IP_WAN router"]
[496,{"$f":"+IF(Data!$C$7=\"N\",\"#\",\"\")","v":"#"},"  no shutdown"]
[497]
[498,{"$f":"+IF(Data!$C$6>ROW(SNOMONE!B498)-ROW(SNOMONE!$B$498),\"\",\"#\")","v":"#"},{"$f":"+CONCATENATE(\"  port fxs 0 \",ROW()-ROW($E$499),CHAR(13),CHAR(10),\"        caller-id format \", Data!$C$41,CHAR(13),CHAR(10),\"         \",Data!$C$32,CHAR(13),CHAR(10),\"      encapsulation cc-fxs\",CHAR(13),CHAR(10),\"       bind interface IF_FXS_\",'Extension Table'!C2,\" switch \",CHAR(13),CHAR(10),\"     no shutdown\")","v":"  port fxs 0 0\r\n        caller-id format etsi\r\n         use profile fxs us\r\n      encapsulation cc-fxs\r\n       bind interface IF_FXS_1 switch \r\n     no shutdown"}]
[499,{"$f":"+IF(Data!$C$6>ROW(SNOMONE!B499)-ROW(SNOMONE!$B$498),\"\",\"#\")","v":"#"},{"$f":"+CONCATENATE(\"  port fxs 0 \",ROW()-ROW($E$499),CHAR(13),CHAR(10),\"        caller-id format \", Data!$C$41,CHAR(13),CHAR(10),\"         \",Data!$C$32,CHAR(13),CHAR(10),\"      encapsulation cc-fxs\",CHAR(13),CHAR(10),\"       bind interface IF_FXS_\",'Extension Table'!C3,\" switch \",CHAR(13),CHAR(10),\"     no shutdown\")","v":"  port fxs 0 1\r\n        caller-id format etsi\r\n         use profile fxs us\r\n      encapsulation cc-fxs\r\n       bind interface IF_FXS_2 switch \r\n     no shutdown"}]
[500,{"$f":"+IF(Data!$C$6>ROW(SNOMONE!B500)-ROW(SNOMONE!$B$498),\"\",\"#\")","v":"#"},{"$f":"+CONCATENATE(\"  port fxs 0 \",ROW()-ROW($E$499),CHAR(13),CHAR(10),\"        caller-id format \", Data!$C$41,CHAR(13),CHAR(10),\"         \",Data!$C$32,CHAR(13),CHAR(10),\"      encapsulation cc-fxs\",CHAR(13),CHAR(10),\"       bind interface IF_FXS_\",'Extension Table'!C4,\" switch \",CHAR(13),CHAR(10),\"     no shutdown\")","v":"  port fxs 0 2\r\n        caller-id format etsi\r\n         use profile fxs us\r\n      encapsulation cc-fxs\r\n       bind interface IF_FXS_3 switch \r\n     no shutdown"}]
[501,{"$f":"+IF(Data!$C$6>ROW(SNOMONE!B501)-ROW(SNOMONE!$B$498),\"\",\"#\")","v":"#"},{"$f":"+CONCATENATE(\"  port fxs 0 \",ROW()-ROW($E$499),CHAR(13),CHAR(10),\"        caller-id format \", Data!$C$41,CHAR(13),CHAR(10),\"         \",Data!$C$32,CHAR(13),CHAR(10),\"      encapsulation cc-fxs\",CHAR(13),CHAR(10),\"       bind interface IF_FXS_\",'Extension Table'!C5,\" switch \",CHAR(13),CHAR(10),\"     no shutdown\")","v":"  port fxs 0 3\r\n        caller-id format etsi\r\n         use profile fxs us\r\n      encapsulation cc-fxs\r\n       bind interface IF_FXS_4 switch \r\n     no shutdown"}]
[502,{"$f":"+IF(Data!$C$6>ROW(SNOMONE!B502)-ROW(SNOMONE!$B$498),\"\",\"#\")","v":"#"},{"$f":"+CONCATENATE(\"  port fxs 0 \",ROW()-ROW($E$499),CHAR(13),CHAR(10),\"        caller-id format \", Data!$C$41,CHAR(13),CHAR(10),\"         \",Data!$C$32,CHAR(13),CHAR(10),\"      encapsulation cc-fxs\",CHAR(13),CHAR(10),\"       bind interface IF_FXS_\",'Extension Table'!C6,\" switch \",CHAR(13),CHAR(10),\"     no shutdown\")","v":"  port fxs 0 4\r\n        caller-id format etsi\r\n         use profile fxs us\r\n      encapsulation cc-fxs\r\n       bind interface IF_FXS_5 switch \r\n     no shutdown"}]
[503,{"$f":"+IF(Data!$C$6>ROW(SNOMONE!B503)-ROW(SNOMONE!$B$498),\"\",\"#\")","v":"#"},{"$f":"+CONCATENATE(\"  port fxs 0 \",ROW()-ROW($E$499),CHAR(13),CHAR(10),\"        caller-id format \", Data!$C$41,CHAR(13),CHAR(10),\"         \",Data!$C$32,CHAR(13),CHAR(10),\"      encapsulation cc-fxs\",CHAR(13),CHAR(10),\"       bind interface IF_FXS_\",'Extension Table'!C7,\" switch \",CHAR(13),CHAR(10),\"     no shutdown\")","v":"  port fxs 0 5\r\n        caller-id format etsi\r\n         use profile fxs us\r\n      encapsulation cc-fxs\r\n       bind interface IF_FXS_6 switch \r\n     no shutdown"}]
[504,{"$f":"+IF(Data!$C$6>ROW(SNOMONE!B504)-ROW(SNOMONE!$B$498),\"\",\"#\")","v":"#"},{"$f":"+CONCATENATE(\"  port fxs 0 \",ROW()-ROW($E$499),CHAR(13),CHAR(10),\"        caller-id format \", Data!$C$41,CHAR(13),CHAR(10),\"         \",Data!$C$32,CHAR(13),CHAR(10),\"      encapsulation cc-fxs\",CHAR(13),CHAR(10),\"       bind interface IF_FXS_\",'Extension Table'!C8,\" switch \",CHAR(13),CHAR(10),\"     no shutdown\")","v":"  port fxs 0 6\r\n        caller-id format etsi\r\n         use profile fxs us\r\n      encapsulation cc-fxs\r\n       bind interface IF_FXS_7 switch \r\n     no shutdown"}]
[505,{"$f":"+IF(Data!$C$6>ROW(SNOMONE!B505)-ROW(SNOMONE!$B$498),\"\",\"#\")","v":"#"},{"$f":"+CONCATENATE(\"  port fxs 0 \",ROW()-ROW($E$499),CHAR(13),CHAR(10),\"        caller-id format \", Data!$C$41,CHAR(13),CHAR(10),\"         \",Data!$C$32,CHAR(13),CHAR(10),\"      encapsulation cc-fxs\",CHAR(13),CHAR(10),\"       bind interface IF_FXS_\",'Extension Table'!C9,\" switch \",CHAR(13),CHAR(10),\"     no shutdown\")","v":"  port fxs 0 7\r\n        caller-id format etsi\r\n         use profile fxs us\r\n      encapsulation cc-fxs\r\n       bind interface IF_FXS_8 switch \r\n     no shutdown"}]
[506,{"$f":"+IF(Data!$C$6>ROW(SNOMONE!B506)-ROW(SNOMONE!$B$498),\"\",\"#\")","v":"#"},{"$f":"+CONCATENATE(\"  port fxs 0 \",ROW()-ROW($E$499),CHAR(13),CHAR(10),\"        caller-id format \", Data!$C$41,CHAR(13),CHAR(10),\"         \",Data!$C$32,CHAR(13),CHAR(10),\"      encapsulation cc-fxs\",CHAR(13),CHAR(10),\"       bind interface IF_FXS_\",'Extension Table'!C10,\" switch \",CHAR(13),CHAR(10),\"     no shutdown\")","v":"  port fxs 0 8\r\n        caller-id format etsi\r\n         use profile fxs us\r\n      encapsulation cc-fxs\r\n       bind interface IF_FXS_9 switch \r\n     no shutdown"}]
[507,{"$f":"+IF(Data!$C$6>ROW(SNOMONE!B507)-ROW(SNOMONE!$B$498),\"\",\"#\")","v":"#"},{"$f":"+CONCATENATE(\"  port fxs 0 \",ROW()-ROW($E$499),CHAR(13),CHAR(10),\"        caller-id format \", Data!$C$41,CHAR(13),CHAR(10),\"         \",Data!$C$32,CHAR(13),CHAR(10),\"      encapsulation cc-fxs\",CHAR(13),CHAR(10),\"       bind interface IF_FXS_\",'Extension Table'!C11,\" switch \",CHAR(13),CHAR(10),\"     no shutdown\")","v":"  port fxs 0 9\r\n        caller-id format etsi\r\n         use profile fxs us\r\n      encapsulation cc-fxs\r\n       bind interface IF_FXS_10 switch \r\n     no shutdown"}]
[508,{"$f":"+IF(Data!$C$6>ROW(SNOMONE!B508)-ROW(SNOMONE!$B$498),\"\",\"#\")","v":"#"},{"$f":"+CONCATENATE(\"  port fxs 0 \",ROW()-ROW($E$499),CHAR(13),CHAR(10),\"        caller-id format \", Data!$C$41,CHAR(13),CHAR(10),\"         \",Data!$C$32,CHAR(13),CHAR(10),\"      encapsulation cc-fxs\",CHAR(13),CHAR(10),\"       bind interface IF_FXS_\",'Extension Table'!C12,\" switch \",CHAR(13),CHAR(10),\"     no shutdown\")","v":"  port fxs 0 10\r\n        caller-id format etsi\r\n         use profile fxs us\r\n      encapsulation cc-fxs\r\n       bind interface IF_FXS_11 switch \r\n     no shutdown"}]
[509,{"$f":"+IF(Data!$C$6>ROW(SNOMONE!B509)-ROW(SNOMONE!$B$498),\"\",\"#\")","v":"#"},{"$f":"+CONCATENATE(\"  port fxs 0 \",ROW()-ROW($E$499),CHAR(13),CHAR(10),\"        caller-id format \", Data!$C$41,CHAR(13),CHAR(10),\"         \",Data!$C$32,CHAR(13),CHAR(10),\"      encapsulation cc-fxs\",CHAR(13),CHAR(10),\"       bind interface IF_FXS_\",'Extension Table'!C13,\" switch \",CHAR(13),CHAR(10),\"     no shutdown\")","v":"  port fxs 0 11\r\n        caller-id format etsi\r\n         use profile fxs us\r\n      encapsulation cc-fxs\r\n       bind interface IF_FXS_12 switch \r\n     no shutdown"}]
[510,{"$f":"+IF(Data!$C$6>ROW(SNOMONE!B510)-ROW(SNOMONE!$B$498),\"\",\"#\")","v":"#"},{"$f":"+CONCATENATE(\"  port fxs 0 \",ROW()-ROW($E$499),CHAR(13),CHAR(10),\"        caller-id format \", Data!$C$41,CHAR(13),CHAR(10),\"         \",Data!$C$32,CHAR(13),CHAR(10),\"      encapsulation cc-fxs\",CHAR(13),CHAR(10),\"       bind interface IF_FXS_\",'Extension Table'!C14,\" switch \",CHAR(13),CHAR(10),\"     no shutdown\")","v":"  port fxs 0 12\r\n        caller-id format etsi\r\n         use profile fxs us\r\n      encapsulation cc-fxs\r\n       bind interface IF_FXS_13 switch \r\n     no shutdown"}]
[511,{"$f":"+IF(Data!$C$6>ROW(SNOMONE!B511)-ROW(SNOMONE!$B$498),\"\",\"#\")","v":"#"},{"$f":"+CONCATENATE(\"  port fxs 0 \",ROW()-ROW($E$499),CHAR(13),CHAR(10),\"        caller-id format \", Data!$C$41,CHAR(13),CHAR(10),\"         \",Data!$C$32,CHAR(13),CHAR(10),\"      encapsulation cc-fxs\",CHAR(13),CHAR(10),\"       bind interface IF_FXS_\",'Extension Table'!C15,\" switch \",CHAR(13),CHAR(10),\"     no shutdown\")","v":"  port fxs 0 13\r\n        caller-id format etsi\r\n         use profile fxs us\r\n      encapsulation cc-fxs\r\n       bind interface IF_FXS_14 switch \r\n     no shutdown"}]
[512,{"$f":"+IF(Data!$C$6>ROW(SNOMONE!B512)-ROW(SNOMONE!$B$498),\"\",\"#\")","v":"#"},{"$f":"+CONCATENATE(\"  port fxs 0 \",ROW()-ROW($E$499),CHAR(13),CHAR(10),\"        caller-id format \", Data!$C$41,CHAR(13),CHAR(10),\"         \",Data!$C$32,CHAR(13),CHAR(10),\"      encapsulation cc-fxs\",CHAR(13),CHAR(10),\"       bind interface IF_FXS_\",'Extension Table'!C16,\" switch \",CHAR(13),CHAR(10),\"     no shutdown\")","v":"  port fxs 0 14\r\n        caller-id format etsi\r\n         use profile fxs us\r\n      encapsulation cc-fxs\r\n       bind interface IF_FXS_15 switch \r\n     no shutdown"}]
[513,{"$f":"+IF(Data!$C$6>ROW(SNOMONE!B513)-ROW(SNOMONE!$B$498),\"\",\"#\")","v":"#"},{"$f":"+CONCATENATE(\"  port fxs 0 \",ROW()-ROW($E$499),CHAR(13),CHAR(10),\"        caller-id format \", Data!$C$41,CHAR(13),CHAR(10),\"         \",Data!$C$32,CHAR(13),CHAR(10),\"      encapsulation cc-fxs\",CHAR(13),CHAR(10),\"       bind interface IF_FXS_\",'Extension Table'!C17,\" switch \",CHAR(13),CHAR(10),\"     no shutdown\")","v":"  port fxs 0 15\r\n        caller-id format etsi\r\n         use profile fxs us\r\n      encapsulation cc-fxs\r\n       bind interface IF_FXS_16 switch \r\n     no shutdown"}]
[514,{"$f":"+IF(Data!$C$6>ROW(SNOMONE!B514)-ROW(SNOMONE!$B$498),\"\",\"#\")","v":"#"},{"$f":"+CONCATENATE(\"  port fxs 0 \",ROW()-ROW($E$499),CHAR(13),CHAR(10),\"        caller-id format \", Data!$C$41,CHAR(13),CHAR(10),\"         \",Data!$C$32,CHAR(13),CHAR(10),\"      encapsulation cc-fxs\",CHAR(13),CHAR(10),\"       bind interface IF_FXS_\",'Extension Table'!C18,\" switch \",CHAR(13),CHAR(10),\"     no shutdown\")","v":"  port fxs 0 16\r\n        caller-id format etsi\r\n         use profile fxs us\r\n      encapsulation cc-fxs\r\n       bind interface IF_FXS_17 switch \r\n     no shutdown"}]
[515,{"$f":"+IF(Data!$C$6>ROW(SNOMONE!B515)-ROW(SNOMONE!$B$498),\"\",\"#\")","v":"#"},{"$f":"+CONCATENATE(\"  port fxs 0 \",ROW()-ROW($E$499),CHAR(13),CHAR(10),\"        caller-id format \", Data!$C$41,CHAR(13),CHAR(10),\"         \",Data!$C$32,CHAR(13),CHAR(10),\"      encapsulation cc-fxs\",CHAR(13),CHAR(10),\"       bind interface IF_FXS_\",'Extension Table'!C19,\" switch \",CHAR(13),CHAR(10),\"     no shutdown\")","v":"  port fxs 0 17\r\n        caller-id format etsi\r\n         use profile fxs us\r\n      encapsulation cc-fxs\r\n       bind interface IF_FXS_18 switch \r\n     no shutdown"}]
[516,{"$f":"+IF(Data!$C$6>ROW(SNOMONE!B516)-ROW(SNOMONE!$B$498),\"\",\"#\")","v":"#"},{"$f":"+CONCATENATE(\"  port fxs 0 \",ROW()-ROW($E$499),CHAR(13),CHAR(10),\"        caller-id format \", Data!$C$41,CHAR(13),CHAR(10),\"         \",Data!$C$32,CHAR(13),CHAR(10),\"      encapsulation cc-fxs\",CHAR(13),CHAR(10),\"       bind interface IF_FXS_\",'Extension Table'!C20,\" switch \",CHAR(13),CHAR(10),\"     no shutdown\")","v":"  port fxs 0 18\r\n        caller-id format etsi\r\n         use profile fxs us\r\n      encapsulation cc-fxs\r\n       bind interface IF_FXS_19 switch \r\n     no shutdown"}]
[517,{"$f":"+IF(Data!$C$6>ROW(SNOMONE!B517)-ROW(SNOMONE!$B$498),\"\",\"#\")","v":"#"},{"$f":"+CONCATENATE(\"  port fxs 0 \",ROW()-ROW($E$499),CHAR(13),CHAR(10),\"        caller-id format \", Data!$C$41,CHAR(13),CHAR(10),\"         \",Data!$C$32,CHAR(13),CHAR(10),\"      encapsulation cc-fxs\",CHAR(13),CHAR(10),\"       bind interface IF_FXS_\",'Extension Table'!C21,\" switch \",CHAR(13),CHAR(10),\"     no shutdown\")","v":"  port fxs 0 19\r\n        caller-id format etsi\r\n         use profile fxs us\r\n      encapsulation cc-fxs\r\n       bind interface IF_FXS_20 switch \r\n     no shutdown"}]
[518,{"$f":"+IF(Data!$C$6>ROW(SNOMONE!B518)-ROW(SNOMONE!$B$498),\"\",\"#\")","v":"#"},{"$f":"+CONCATENATE(\"  port fxs 0 \",ROW()-ROW($E$499),CHAR(13),CHAR(10),\"        caller-id format \", Data!$C$41,CHAR(13),CHAR(10),\"         \",Data!$C$32,CHAR(13),CHAR(10),\"      encapsulation cc-fxs\",CHAR(13),CHAR(10),\"       bind interface IF_FXS_\",'Extension Table'!C22,\" switch \",CHAR(13),CHAR(10),\"     no shutdown\")","v":"  port fxs 0 20\r\n        caller-id format etsi\r\n         use profile fxs us\r\n      encapsulation cc-fxs\r\n       bind interface IF_FXS_21 switch \r\n     no shutdown"}]
[519,{"$f":"+IF(Data!$C$6>ROW(SNOMONE!B519)-ROW(SNOMONE!$B$498),\"\",\"#\")","v":"#"},{"$f":"+CONCATENATE(\"  port fxs 0 \",ROW()-ROW($E$499),CHAR(13),CHAR(10),\"        caller-id format \", Data!$C$41,CHAR(13),CHAR(10),\"         \",Data!$C$32,CHAR(13),CHAR(10),\"      encapsulation cc-fxs\",CHAR(13),CHAR(10),\"       bind interface IF_FXS_\",'Extension Table'!C23,\" switch \",CHAR(13),CHAR(10),\"     no shutdown\")","v":"  port fxs 0 21\r\n        caller-id format etsi\r\n         use profile fxs us\r\n      encapsulation cc-fxs\r\n       bind interface IF_FXS_22 switch \r\n     no shutdown"}]
[520,{"$f":"+IF(Data!$C$6>ROW(SNOMONE!B520)-ROW(SNOMONE!$B$498),\"\",\"#\")","v":"#"},{"$f":"+CONCATENATE(\"  port fxs 0 \",ROW()-ROW($E$499),CHAR(13),CHAR(10),\"        caller-id format \", Data!$C$41,CHAR(13),CHAR(10),\"         \",Data!$C$32,CHAR(13),CHAR(10),\"      encapsulation cc-fxs\",CHAR(13),CHAR(10),\"       bind interface IF_FXS_\",'Extension Table'!C24,\" switch \",CHAR(13),CHAR(10),\"     no shutdown\")","v":"  port fxs 0 22\r\n        caller-id format etsi\r\n         use profile fxs us\r\n      encapsulation cc-fxs\r\n       bind interface IF_FXS_23 switch \r\n     no shutdown"}]
[521,{"$f":"+IF(Data!$C$6>ROW(SNOMONE!B521)-ROW(SNOMONE!$B$498),\"\",\"#\")","v":"#"},{"$f":"+CONCATENATE(\"  port fxs 0 \",ROW()-ROW($E$499),CHAR(13),CHAR(10),\"        caller-id format \", Data!$C$41,CHAR(13),CHAR(10),\"         \",Data!$C$32,CHAR(13),CHAR(10),\"      encapsulation cc-fxs\",CHAR(13),CHAR(10),\"       bind interface IF_FXS_\",'Extension Table'!C25,\" switch \",CHAR(13),CHAR(10),\"     no shutdown\")","v":"  port fxs 0 23\r\n        caller-id format etsi\r\n         use profile fxs us\r\n      encapsulation cc-fxs\r\n       bind interface IF_FXS_24 switch \r\n     no shutdown"}]
[522,{"$f":"+IF(Data!$C$6>ROW(SNOMONE!B522)-ROW(SNOMONE!$B$498),\"\",\"#\")","v":"#"},{"$f":"+CONCATENATE(\"  port fxs 0 \",ROW()-ROW($E$499),CHAR(13),CHAR(10),\"        caller-id format \", Data!$C$41,CHAR(13),CHAR(10),\"         \",Data!$C$32,CHAR(13),CHAR(10),\"      encapsulation cc-fxs\",CHAR(13),CHAR(10),\"       bind interface IF_FXS_\",'Extension Table'!C26,\" switch \",CHAR(13),CHAR(10),\"     no shutdown\")","v":"  port fxs 0 24\r\n        caller-id format etsi\r\n         use profile fxs us\r\n      encapsulation cc-fxs\r\n       bind interface IF_FXS_25 switch \r\n     no shutdown"}]
[523,{"$f":"+IF(Data!$C$6>ROW(SNOMONE!B523)-ROW(SNOMONE!$B$498),\"\",\"#\")","v":"#"},{"$f":"+CONCATENATE(\"  port fxs 0 \",ROW()-ROW($E$499),CHAR(13),CHAR(10),\"        caller-id format \", Data!$C$41,CHAR(13),CHAR(10),\"         \",Data!$C$32,CHAR(13),CHAR(10),\"      encapsulation cc-fxs\",CHAR(13),CHAR(10),\"       bind interface IF_FXS_\",'Extension Table'!C27,\" switch \",CHAR(13),CHAR(10),\"     no shutdown\")","v":"  port fxs 0 25\r\n        caller-id format etsi\r\n         use profile fxs us\r\n      encapsulation cc-fxs\r\n       bind interface IF_FXS_26 switch \r\n     no shutdown"}]
[524,{"$f":"+IF(Data!$C$6>ROW(SNOMONE!B524)-ROW(SNOMONE!$B$498),\"\",\"#\")","v":"#"},{"$f":"+CONCATENATE(\"  port fxs 0 \",ROW()-ROW($E$499),CHAR(13),CHAR(10),\"        caller-id format \", Data!$C$41,CHAR(13),CHAR(10),\"         \",Data!$C$32,CHAR(13),CHAR(10),\"      encapsulation cc-fxs\",CHAR(13),CHAR(10),\"       bind interface IF_FXS_\",'Extension Table'!C28,\" switch \",CHAR(13),CHAR(10),\"     no shutdown\")","v":"  port fxs 0 26\r\n        caller-id format etsi\r\n         use profile fxs us\r\n      encapsulation cc-fxs\r\n       bind interface IF_FXS_27 switch \r\n     no shutdown"}]
[525,{"$f":"+IF(Data!$C$6>ROW(SNOMONE!B525)-ROW(SNOMONE!$B$498),\"\",\"#\")","v":"#"},{"$f":"+CONCATENATE(\"  port fxs 0 \",ROW()-ROW($E$499),CHAR(13),CHAR(10),\"        caller-id format \", Data!$C$41,CHAR(13),CHAR(10),\"         \",Data!$C$32,CHAR(13),CHAR(10),\"      encapsulation cc-fxs\",CHAR(13),CHAR(10),\"       bind interface IF_FXS_\",'Extension Table'!C29,\" switch \",CHAR(13),CHAR(10),\"     no shutdown\")","v":"  port fxs 0 27\r\n        caller-id format etsi\r\n         use profile fxs us\r\n      encapsulation cc-fxs\r\n       bind interface IF_FXS_28 switch \r\n     no shutdown"}]
[526,{"$f":"+IF(Data!$C$6>ROW(SNOMONE!B526)-ROW(SNOMONE!$B$498),\"\",\"#\")","v":"#"},{"$f":"+CONCATENATE(\"  port fxs 0 \",ROW()-ROW($E$499),CHAR(13),CHAR(10),\"        caller-id format \", Data!$C$41,CHAR(13),CHAR(10),\"         \",Data!$C$32,CHAR(13),CHAR(10),\"      encapsulation cc-fxs\",CHAR(13),CHAR(10),\"       bind interface IF_FXS_\",'Extension Table'!C30,\" switch \",CHAR(13),CHAR(10),\"     no shutdown\")","v":"  port fxs 0 28\r\n        caller-id format etsi\r\n         use profile fxs us\r\n      encapsulation cc-fxs\r\n       bind interface IF_FXS_29 switch \r\n     no shutdown"}]
[527,{"$f":"+IF(Data!$C$6>ROW(SNOMONE!B527)-ROW(SNOMONE!$B$498),\"\",\"#\")","v":"#"},{"$f":"+CONCATENATE(\"  port fxs 0 \",ROW()-ROW($E$499),CHAR(13),CHAR(10),\"        caller-id format \", Data!$C$41,CHAR(13),CHAR(10),\"         \",Data!$C$32,CHAR(13),CHAR(10),\"      encapsulation cc-fxs\",CHAR(13),CHAR(10),\"       bind interface IF_FXS_\",'Extension Table'!C31,\" switch \",CHAR(13),CHAR(10),\"     no shutdown\")","v":"  port fxs 0 29\r\n        caller-id format etsi\r\n         use profile fxs us\r\n      encapsulation cc-fxs\r\n       bind interface IF_FXS_30 switch \r\n     no shutdown"}]
[528,{"$f":"+IF(Data!$C$6>ROW(SNOMONE!B528)-ROW(SNOMONE!$B$498),\"\",\"#\")","v":"#"},{"$f":"+CONCATENATE(\"  port fxs 0 \",ROW()-ROW($E$499),CHAR(13),CHAR(10),\"        caller-id format \", Data!$C$41,CHAR(13),CHAR(10),\"         \",Data!$C$32,CHAR(13),CHAR(10),\"      encapsulation cc-fxs\",CHAR(13),CHAR(10),\"       bind interface IF_FXS_\",'Extension Table'!C32,\" switch \",CHAR(13),CHAR(10),\"     no shutdown\")","v":"  port fxs 0 30\r\n        caller-id format etsi\r\n         use profile fxs us\r\n      encapsulation cc-fxs\r\n       bind interface IF_FXS_31 switch \r\n     no shutdown"}]
[529,{"$f":"+IF(Data!$C$6>ROW(SNOMONE!B529)-ROW(SNOMONE!$B$498),\"\",\"#\")","v":"#"},{"$f":"+CONCATENATE(\"  port fxs 0 \",ROW()-ROW($E$499),CHAR(13),CHAR(10),\"        caller-id format \", Data!$C$41,CHAR(13),CHAR(10),\"         \",Data!$C$32,CHAR(13),CHAR(10),\"      encapsulation cc-fxs\",CHAR(13),CHAR(10),\"       bind interface IF_FXS_\",'Extension Table'!C33,\" switch \",CHAR(13),CHAR(10),\"     no shutdown\")","v":"  port fxs 0 31\r\n        caller-id format etsi\r\n         use profile fxs us\r\n      encapsulation cc-fxs\r\n       bind interface IF_FXS_32 switch \r\n     no shutdown"}]
[530,null,"################################################# END ##################################################"]

{"sheet":"PBXnSIP","index":10,"n_rows":531,"n_cols":4,"rows_kept":531,"cut":false,"hidden":true,"merged":[]}
["LINE #","DISCARD (#)","COMMAND","Column1"]
[1,null,"####################################################################################"]
[2,null,{"$f":"+CONCATENATE(\"# Configuration file for SmartNode with: \",Data!C5,\" FXO and \", Data!C6,\" FXS\")","v":"# Configuration file for SmartNode with: 12 FXO and 0 FXS"}]
[3,null,{"$f":"+IF(Data!C7=\"Y\",\"# With 2 ethernet ports\",\"# With one ethernet port\")","v":"# With one ethernet port"}]
[4,null,{"$f":"+CONCATENATE(\"# Configuration file name is \",Data!C11)","v":"# Configuration file name is PattonSample"}]
[5,null,"#      PBXnSIP IPPBX"]
[6,null,"####################################################################################"]
[7,null,{"$f":"+CONCATENATE(\"# \",Data!B14,\" \",Data!C14)","v":"# LAN Interface Data "}]
[8,null,{"$f":"+CONCATENATE(\"# \",Data!B15,\" \",Data!C15)","v":"# IP Address 10.10.1.10"}]
[9,null,{"$f":"+CONCATENATE(\"# \",Data!B16,\" \",Data!C16)","v":"# IP Mask 255.255.255.0"}]
[10,null,"####################################################################################"]
[11,null,{"$f":"+CONCATENATE(\"# \",Data!B18,\" \",Data!C18)","v":"# WAN Interface Data "}]
[12,null,{"$f":"+CONCATENATE(\"# \",Data!B19,\" \",Data!C19)","v":"# IP Address dhcp"}]
[13,null,{"$f":"+CONCATENATE(\"# \",Data!B20,\" \",Data!C20)","v":"# IP Mask "}]
[14,null,"####################################################################################"]
[15,null,{"$f":"+CONCATENATE(\"# \",Data!B22,\" \",Data!C22)","v":"# Default Gateway "}]
[16,null,"####################################################################################"]
[17,null,{"$f":"+CONCATENATE(\"# \",Data!B23,\" \",Data!C23)","v":"# IP-PBX/SIP PROXY DATA "}]
[18,null,{"$f":"+CONCATENATE(\"# \",Data!B24,\" \",Data!C24)","v":"# IP-PBX Ip Address /  Name / Domain 10.10.50.23"}]
[19,null,{"$f":"+CONCATENATE(\"# \",Data!B25,\" \",Data!C25)","v":"# IP-PBX SIP Port 5060"}]
[20,null,"####################################################################################"]
[21,null,{"$f":"+CONCATENATE(\"# \",Data!B27,\" \",Data!C27)","v":"# LOCALIZATION DATA "}]
[22,null,{"$f":"+CONCATENATE(\"# \",Data!B28,\" \",Data!C28)","v":"# Country United States"}]
[23,null,"####################################################################################"]
[24,null,"# Supported firmware versions R5.x"]
[25,null,{"$f":"+CONCATENATE(\"# Tool version \",Data!$C$4)","v":"# Tool version V2_1 06222011"}]
[26,null,"# Adapted: Ernesto Casas "]
[27,null,"# for comments, feedback or suggestions please send an email to: ecasas@patton.com"]
[28,null,"####################################################################################"]
[29,null,"####################################################################################"]
[30,null,"webserver port 80 language en"]
[31,null,{"$f":"+CONCATENATE(\"sntp-client server \",Data!C9)","v":"sntp-client server 1.1.1.1"}]
[32,{"$f":"+IF(Data!C10=\"\",\"#\",\"\")","v":""},{"$f":"+CONCATENATE(\"dns-client server \",Data!C10)","v":"dns-client server 8.8.8.8"}]
[33]
[34,null,"system"]
[35,null,"ic voice 0"]
[36,null,"low-bitrate-codec g729"]
[37,null,"profile ppp default"]
[38]
[39,{"$f":"+IF(Data!$C$5>ROW(SNOMONE!B40)-ROW(SNOMONE!$B$444),\"\",\"#\")","v":""},{"$f":"+CONCATENATE(\"# Call Progress tones based on country selection. Your selected country is: \",Data!$C$28)","v":"# Call Progress tones based on country selection. Your selected country is: United States"}]
[40]
[41,null,{"$f":"+Data!$C$30","v":"profile call-progress-tone defaultDialtone\r\nflush-play-list \r\nplay 1 1000 350 -13 440 -13 \r\nprofile call-progress-tone defaultAlertingtone \r\nflush-play-list \r\nplay 1 1000 440 -19 480 -19 \r\npause 2 3000 \r\nprofile call-progress-tone defaultBusytone \r\nflush-play-list \r\nplay 1 500 480 -24 620 -24 \r\npause 2 500 \r\nprofile call-progress-tone defaultReleasetone \r\nflush-play-list \r\nplay 1 250 480 -24 620 -24 \r\npause 2 250 \r\nprofile call-progress-tone defaultCongestiontone \r\nflush-play-list \r\nplay 1 250 480 -24 620 -24 \r\npause 2 250\r\n"}]
[42,{"$f":"+IF(Data!$C$5>ROW(SNOMONE!B43)-ROW(SNOMONE!$B$444),\"\",\"#\")","v":""}]
[43,null,"profile tone-set default"]
[44,null,"profile voip default"]
[45,null,"  codec 1 g711alaw64k rx-length 20 tx-length 20"]
[46,null,"  codec 2 g711ulaw64k rx-length 20 tx-length 20"]
[47,null,"  fax transmission 1 relay t38-udp"]
[48,null,"  fax transmission 2 bypass g711alaw64k"]
[49,null,"profile pstn default"]
[50,null,"profile sip default"]
[51,null,"profile aaa default"]
[52,null,"  method 1 local"]
[53,null,"  method 2 none"]
[54]
[55,null,"context ip router"]
[56,null,"interface IF_IP_LAN"]
[57,null,{"$f":"+CONCATENATE(\"     ipaddress \",Data!C15,\" \",Data!C16)","v":"     ipaddress 10.10.1.10 255.255.255.0"}]
[58,null,"    tcp adjust-mss rx mtu"]
[59,null,"    tcp adjust-mss tx mtu"]
[60]
[61,null,"interface IF_IP_WAN"]
[62,null,{"$f":"+CONCATENATE(\"     ipaddress \",Data!C19,\" \",Data!C20)","v":"     ipaddress dhcp "}]
[63,null,"    tcp adjust-mss rx mtu"]
[64,null,"    tcp adjust-mss tx mtu"]
[65]
[66,null,"context ip router"]
[67,null,{"$f":"+CONCATENATE(\"     route 0.0.0.0 0.0.0.0  \",Data!C22)","v":"     route 0.0.0.0 0.0.0.0  "}]
[68,null,"context cs switch"]
[69,null,{"$f":"+IF(Data!C38=\"\",\"     no digit-collection timeout\",+CONCATENATE(\"     digit-collection timeout \",Data!C38))","v":"     digit-collection timeout 2"}]
[70]
[71,{"$f":"+IF(Data!$C$6>0,\" \",\"#\")","v":"#"},"routing-table called-e164 RT_DIGITCOLLECTION"]
[72,{"$f":"+IF(Data!$C$6>0,\" \",\"#\")","v":"#"},"      route .T dest-interface IF_SIP_PBX MT_EXT_TO_NAME"]
[73]
[74,{"$f":"+IF(Data!$C$6>0,\" \",\"#\")","v":"#"},"routing-table called-e164 RT_TO_FXS"]
[75,{"$f":"+IF(Data!$C$6>ROW(SNOMONE!B76)-ROW(SNOMONE!$B$76),\"\",\"#\")","v":"#"},{"$f":"+CONCATENATE(\"        route \",'Extension Table'!A2,\" dest-interface IF_FXS_\",'Extension Table'!C2)","v":"        route 101 dest-interface IF_FXS_1"}]
[76,{"$f":"+IF(Data!$C$6>ROW(SNOMONE!B77)-ROW(SNOMONE!$B$76),\"\",\"#\")","v":"#"},{"$f":"+CONCATENATE(\"        route \",'Extension Table'!A3,\" dest-interface IF_FXS_\",'Extension Table'!C3)","v":"        route 102 dest-interface IF_FXS_2"}]
[77,{"$f":"+IF(Data!$C$6>ROW(SNOMONE!B78)-ROW(SNOMONE!$B$76),\"\",\"#\")","v":"#"},{"$f":"+CONCATENATE(\"        route \",'Extension Table'!A4,\" dest-interface IF_FXS_\",'Extension Table'!C4)","v":"        route 103 dest-interface IF_FXS_3"}]
[78,{"$f":"+IF(Data!$C$6>ROW(SNOMONE!B79)-ROW(SNOMONE!$B$76),\"\",\"#\")","v":"#"},{"$f":"+CONCATENATE(\"        route \",'Extension Table'!A5,\" dest-interface IF_FXS_\",'Extension Table'!C5)","v":"        route 104 dest-interface IF_FXS_4"}]
[79,{"$f":"+IF(Data!$C$6>ROW(SNOMONE!B80)-ROW(SNOMONE!$B$76),\"\",\"#\")","v":"#"},{"$f":"+CONCATENATE(\"        route \",'Extension Table'!A6,\" dest-interface IF_FXS_\",'Extension Table'!C6)","v":"        route 105 dest-interface IF_FXS_5"}]
[80,{"$f":"+IF(Data!$C$6>ROW(SNOMONE!B81)-ROW(SNOMONE!$B$76),\"\",\"#\")","v":"#"},{"$f":"+CONCATENATE(\"        route \",'Extension Table'!A7,\" dest-interface IF_FXS_\",'Extension Table'!C7)","v":"        route 106 dest-interface IF_FXS_6"}]
[81,{"$f":"+IF(Data!$C$6>ROW(SNOMONE!B82)-ROW(SNOMONE!$B$76),\"\",\"#\")","v":"#"},{"$f":"+CONCATENATE(\"        route \",'Extension Table'!A8,\" dest-interface IF_FXS_\",'Extension Table'!C8)","v":"        route 107 dest-interface IF_FXS_7"}]
[82,{"$f":"+IF(Data!$C$6>ROW(SNOMONE!B83)-ROW(SNOMONE!$B$76),\"\",\"#\")","v":"#"},{"$f":"+CONCATENATE(\"        route \",'Extension Table'!A9,\" dest-interface IF_FXS_\",'Extension Table'!C9)","v":"        route 108 dest-interface IF_FXS_8"}]
[83,{"$f":"+IF(Data!$C$6>ROW(SNOMONE!B84)-ROW(SNOMONE!$B$76),\"\",\"#\")","v":"#"},{"$f":"+CONCATENATE(\"        route \",'Extension Table'!A10,\" dest-interface IF_FXS_\",'Extension Table'!C10)","v":"        route 109 dest-interface IF_FXS_9"}]
[84,{"$f":"+IF(Data!$C$6>ROW(SNOMONE!B85)-ROW(SNOMONE!$B$76),\"\",\"#\")","v":"#"},{"$f":"+CONCATENATE(\"        route \",'Extension Table'!A11,\" dest-interface IF_FXS_\",'Extension Table'!C11)","v":"        route 110 dest-interface IF_FXS_10"}]
[85,{"$f":"+IF(Data!$C$6>ROW(SNOMONE!B86)-ROW(SNOMONE!$B$76),\"\",\"#\")","v":"#"},{"$f":"+CONCATENATE(\"        route \",'Extension Table'!A12,\" dest-interface IF_FXS_\",'Extension Table'!C12)","v":"        route 111 dest-interface IF_FXS_11"}]
[86,{"$f":"+IF(Data!$C$6>ROW(SNOMONE!B87)-ROW(SNOMONE!$B$76),\"\",\"#\")","v":"#"},{"$f":"+CONCATENATE(\"        route \",'Extension Table'!A13,\" dest-interface IF_FXS_\",'Extension Table'!C13)","v":"        route 112 dest-interface IF_FXS_12"}]
[87,{"$f":"+IF(Data!$C$6>ROW(SNOMONE!B88)-ROW(SNOMONE!$B$76),\"\",\"#\")","v":"#"},{"$f":"+CONCATENATE(\"        route \",'Extension Table'!A14,\" dest-interface IF_FXS_\",'Extension Table'!C14)","v":"        route 113 dest-interface IF_FXS_13"}]
[88,{"$f":"+IF(Data!$C$6>ROW(SNOMONE!B89)-ROW(SNOMONE!$B$76),\"\",\"#\")","v":"#"},{"$f":"+CONCATENATE(\"        route \",'Extension Table'!A15,\" dest-interface IF_FXS_\",'Extension Table'!C15)","v":"        route 114 dest-interface IF_FXS_14"}]
[89,{"$f":"+IF(Data!$C$6>ROW(SNOMONE!B90)-ROW(SNOMONE!$B$76),\"\",\"#\")","v":"#"},{"$f":"+CONCATENATE(\"        route \",'Extension Table'!A16,\" dest-interface IF_FXS_\",'Extension Table'!C16)","v":"        route 115 dest-interface IF_FXS_15"}]
[90,{"$f":"+IF(Data!$C$6>ROW(SNOMONE!B91)-ROW(SNOMONE!$B$76),\"\",\"#\")","v":"#"},{"$f":"+CONCATENATE(\"        route \",'Extension Table'!A17,\" dest-interface IF_FXS_\",'Extension Table'!C17)","v":"        route 116 dest-interface IF_FXS_16"}]
[91,{"$f":"+IF(Data!$C$6>ROW(SNOMONE!B92)-ROW(SNOMONE!$B$76),\"\",\"#\")","v":"#"},{"$f":"+CONCATENATE(\"        route \",'Extension Table'!A18,\" dest-interface IF_FXS_\",'Extension Table'!C18)","v":"        route 117 dest-interface IF_FXS_17"}]
[92,{"$f":"+IF(Data!$C$6>ROW(SNOMONE!B93)-ROW(SNOMONE!$B$76),\"\",\"#\")","v":"#"},{"$f":"+CONCATENATE(\"        route \",'Extension Table'!A19,\" dest-interface IF_FXS_\",'Extension Table'!C19)","v":"        route 118 dest-interface IF_FXS_18"}]
[93,{"$f":"+IF(Data!$C$6>ROW(SNOMONE!B94)-ROW(SNOMONE!$B$76),\"\",\"#\")","v":"#"},{"$f":"+CONCATENATE(\"        route \",'Extension Table'!A20,\" dest-interface IF_FXS_\",'Extension Table'!C20)","v":"        route 119 dest-interface IF_FXS_19"}]
[94,{"$f":"+IF(Data!$C$6>ROW(SNOMONE!B95)-ROW(SNOMONE!$B$76),\"\",\"#\")","v":"#"},{"$f":"+CONCATENATE(\"        route \",'Extension Table'!A21,\" dest-interface IF_FXS_\",'Extension Table'!C21)","v":"        route 120 dest-interface IF_FXS_20"}]
[95,{"$f":"+IF(Data!$C$6>ROW(SNOMONE!B96)-ROW(SNOMONE!$B$76),\"\",\"#\")","v":"#"},{"$f":"+CONCATENATE(\"        route \",'Extension Table'!A22,\" dest-interface IF_FXS_\",'Extension Table'!C22)","v":"        route 121 dest-interface IF_FXS_21"}]
[96,{"$f":"+IF(Data!$C$6>ROW(SNOMONE!B97)-ROW(SNOMONE!$B$76),\"\",\"#\")","v":"#"},{"$f":"+CONCATENATE(\"        route \",'Extension Table'!A23,\" dest-interface IF_FXS_\",'Extension Table'!C23)","v":"        route 122 dest-interface IF_FXS_22"}]
[97,{"$f":"+IF(Data!$C$6>ROW(SNOMONE!B98)-ROW(SNOMONE!$B$76),\"\",\"#\")","v":"#"},{"$f":"+CONCATENATE(\"        route \",'Extension Table'!A24,\" dest-interface IF_FXS_\",'Extension Table'!C24)","v":"        route 123 dest-interface IF_FXS_23"}]
[98,{"$f":"+IF(Data!$C$6>ROW(SNOMONE!B99)-ROW(SNOMONE!$B$76),\"\",\"#\")","v":"#"},{"$f":"+CONCATENATE(\"        route \",'Extension Table'!A25,\" dest-interface IF_FXS_\",'Extension Table'!C25)","v":"        route 124 dest-interface IF_FXS_24"}]
[99,{"$f":"+IF(Data!$C$6>ROW(SNOMONE!B100)-ROW(SNOMONE!$B$76),\"\",\"#\")","v":"#"},{"$f":"+CONCATENATE(\"        route \",'Extension Table'!A26,\" dest-interface IF_FXS_\",'Extension Table'!C26)","v":"        route 125 dest-interface IF_FXS_25"}]
[100,{"$f":"+IF(Data!$C$6>ROW(SNOMONE!B101)-ROW(SNOMONE!$B$76),\"\",\"#\")","v":"#"},{"$f":"+CONCATENATE(\"        route \",'Extension Table'!A27,\" dest-interface IF_FXS_\",'Extension Table'!C27)","v":"        route 126 dest-interface IF_FXS_26"}]
[101,{"$f":"+IF(Data!$C$6>ROW(SNOMONE!B102)-ROW(SNOMONE!$B$76),\"\",\"#\")","v":"#"},{"$f":"+CONCATENATE(\"        route \",'Extension Table'!A28,\" dest-interface IF_FXS_\",'Extension Table'!C28)","v":"        route 127 dest-interface IF_FXS_27"}]
[102,{"$f":"+IF(Data!$C$6>ROW(SNOMONE!B103)-ROW(SNOMONE!$B$76),\"\",\"#\")","v":"#"},{"$f":"+CONCATENATE(\"        route \",'Extension Table'!A29,\" dest-interface IF_FXS_\",'Extension Table'!C29)","v":"        route 128 dest-interface IF_FXS_28"}]
[103,{"$f":"+IF(Data!$C$6>ROW(SNOMONE!B104)-ROW(SNOMONE!$B$76),\"\",\"#\")","v":"#"},{"$f":"+CONCATENATE(\"        route \",'Extension Table'!A30,\" dest-interface IF_FXS_\",'Extension Table'!C30)","v":"        route 129 dest-interface IF_FXS_29"}]
[104,{"$f":"+IF(Data!$C$6>ROW(SNOMONE!B105)-ROW(SNOMONE!$B$76),\"\",\"#\")","v":"#"},{"$f":"+CONCATENATE(\"        route \",'Extension Table'!A31,\" dest-interface IF_FXS_\",'Extension Table'!C31)","v":"        route 130 dest-interface IF_FXS_30"}]
[105,{"$f":"+IF(Data!$C$6>ROW(SNOMONE!B106)-ROW(SNOMONE!$B$76),\"\",\"#\")","v":"#"},{"$f":"+CONCATENATE(\"        route \",'Extension Table'!A32,\" dest-interface IF_FXS_\",'Extension Table'!C32)","v":"        route 131 dest-interface IF_FXS_31"}]
[106,{"$f":"+IF(Data!$C$6>ROW(SNOMONE!B107)-ROW(SNOMONE!$B$76),\"\",\"#\")","v":"#"},{"$f":"+CONCATENATE(\"        route \",'Extension Table'!A33,\" dest-interface IF_FXS_\",'Extension Table'!C33)","v":"        route 132 dest-interface IF_FXS_32"}]
[107,null," "]
[108,{"$f":"+IF(Data!$C$5>ROW(SNOMONE!B109)-ROW(SNOMONE!$B$444),\"\",\"#\")","v":""}]
[109,{"$f":"+IF(Data!$C$6>0,\" \",\"#\")","v":"#"},"mapping-table calling-e164 to calling-name MT_EXT_TO_NAME"]
[110,{"$f":"+IF(Data!$C$6>ROW(SNOMONE!B110)-ROW(SNOMONE!$B$110),\"\",\"#\")","v":"#"},{"$f":"+CONCATENATE(\"        map \",'Extension Table'!A2,\" to \"\"\",'Extension Table'!D2,\" \",'Extension Table'!E2,\"\"\"\")","v":"        map 101 to \"Fname user 1 Lname user 1\""}]
[111,{"$f":"+IF(Data!$C$6>ROW(SNOMONE!B111)-ROW(SNOMONE!$B$110),\"\",\"#\")","v":"#"},{"$f":"+CONCATENATE(\"        map \",'Extension Table'!A3,\" to \"\"\",'Extension Table'!D3,\" \",'Extension Table'!E3,\"\"\"\")","v":"        map 102 to \"Fname user 2 Lname user 2\""}]
[112,{"$f":"+IF(Data!$C$6>ROW(SNOMONE!B112)-ROW(SNOMONE!$B$110),\"\",\"#\")","v":"#"},{"$f":"+CONCATENATE(\"        map \",'Extension Table'!A4,\" to \"\"\",'Extension Table'!D4,\" \",'Extension Table'!E4,\"\"\"\")","v":"        map 103 to \" \""}]
[113,{"$f":"+IF(Data!$C$6>ROW(SNOMONE!B113)-ROW(SNOMONE!$B$110),\"\",\"#\")","v":"#"},{"$f":"+CONCATENATE(\"        map \",'Extension Table'!A5,\" to \"\"\",'Extension Table'!D5,\" \",'Extension Table'!E5,\"\"\"\")","v":"        map 104 to \" \""}]
[114,{"$f":"+IF(Data!$C$6>ROW(SNOMONE!B114)-ROW(SNOMONE!$B$110),\"\",\"#\")","v":"#"},{"$f":"+CONCATENATE(\"        map \",'Extension Table'!A6,\" to \"\"\",'Extension Table'!D6,\" \",'Extension Table'!E6,\"\"\"\")","v":"        map 105 to \" \""}]
[115,{"$f":"+IF(Data!$C$6>ROW(SNOMONE!B115)-ROW(SNOMONE!$B$110),\"\",\"#\")","v":"#"},{"$f":"+CONCATENATE(\"        map \",'Extension Table'!A7,\" to \"\"\",'Extension Table'!D7,\" \",'Extension Table'!E7,\"\"\"\")","v":"        map 106 to \" \""}]
[116,{"$f":"+IF(Data!$C$6>ROW(SNOMONE!B116)-ROW(SNOMONE!$B$110),\"\",\"#\")","v":"#"},{"$f":"+CONCATENATE(\"        map \",'Extension Table'!A8,\" to \"\"\",'Extension Table'!D8,\" \",'Extension Table'!E8,\"\"\"\")","v":"        map 107 to \" \""}]
[117,{"$f":"+IF(Data!$C$6>ROW(SNOMONE!B117)-ROW(SNOMONE!$B$110),\"\",\"#\")","v":"#"},{"$f":"+CONCATENATE(\"        map \",'Extension Table'!A9,\" to \"\"\",'Extension Table'!D9,\" \",'Extension Table'!E9,\"\"\"\")","v":"        map 108 to \" \""}]
[118,{"$f":"+IF(Data!$C$6>ROW(SNOMONE!B118)-ROW(SNOMONE!$B$110),\"\",\"#\")","v":"#"},{"$f":"+CONCATENATE(\"        map \",'Extension Table'!A10,\" to \"\"\",'Extension Table'!D10,\" \",'Extension Table'!E10,\"\"\"\")","v":"        map 109 to \" \""}]
[119,{"$f":"+IF(Data!$C$6>ROW(SNOMONE!B119)-ROW(SNOMONE!$B$110),\"\",\"#\")","v":"#"},{"$f":"+CONCATENATE(\"        map \",'Extension Table'!A11,\" to \"\"\",'Extension Table'!D11,\" \",'Extension Table'!E11,\"\"\"\")","v":"        map 110 to \" \""}]
[120,{"$f":"+IF(Data!$C$6>ROW(SNOMONE!B120)-ROW(SNOMONE!$B$110),\"\",\"#\")","v":"#"},{"$f":"+CONCATENATE(\"        map \",'Extension Table'!A12,\" to \"\"\",'Extension Table'!D12,\" \",'Extension Table'!E12,\"\"\"\")","v":"        map 111 to \" \""}]
[121,{"$f":"+IF(Data!$C$6>ROW(SNOMONE!B121)-ROW(SNOMONE!$B$110),\"\",\"#\")","v":"#"},{"$f":"+CONCATENATE(\"        map \",'Extension Table'!A13,\" to \"\"\",'Extension Table'!D13,\" \",'Extension Table'!E13,\"\"\"\")","v":"        map 112 to \" \""}]
[122,{"$f":"+IF(Data!$C$6>ROW(SNOMONE!B122)-ROW(SNOMONE!$B$110),\"\",\"#\")","v":"#"},{"$f":"+CONCATENATE(\"        map \",'Extension Table'!A14,\" to \"\"\",'Extension Table'!D14,\" \",'Extension Table'!E14,\"\"\"\")","v":"        map 113 to \" \""}]
[123,{"$f":"+IF(Data!$C$6>ROW(SNOMONE!B123)-ROW(SNOMONE!$B$110),\"\",\"#\")","v":"#"},{"$f":"+CONCATENATE(\"        map \",'Extension Table'!A15,\" to \"\"\",'Extension Table'!D15,\" \",'Extension Table'!E15,\"\"\"\")","v":"        map 114 to \" \""}]
[124,{"$f":"+IF(Data!$C$6>ROW(SNOMONE!B124)-ROW(SNOMONE!$B$110),\"\",\"#\")","v":"#"},{"$f":"+CONCATENATE(\"        map \",'Extension Table'!A16,\" to \"\"\",'Extension Table'!D16,\" \",'Extension Table'!E16,\"\"\"\")","v":"        map 115 to \" \""}]
[125,{"$f":"+IF(Data!$C$6>ROW(SNOMONE!B125)-ROW(SNOMONE!$B$110),\"\",\"#\")","v":"#"},{"$f":"+CONCATENATE(\"        map \",'Extension Table'!A17,\" to \"\"\",'Extension Table'!D17,\" \",'Extension Table'!E17,\"\"\"\")","v":"        map 116 to \" \""}]
[126,{"$f":"+IF(Data!$C$6>ROW(SNOMONE!B126)-ROW(SNOMONE!$B$110),\"\",\"#\")","v":"#"},{"$f":"+CONCATENATE(\"        map \",'Extension Table'!A18,\" to \"\"\",'Extension Table'!D18,\" \",'Extension Table'!E18,\"\"\"\")","v":"        map 117 to \" \""}]
[127,{"$f":"+IF(Data!$C$6>ROW(SNOMONE!B127)-ROW(SNOMONE!$B$110),\"\",\"#\")","v":"#"},{"$f":"+CONCATENATE(\"        map \",'Extension Table'!A19,\" to \"\"\",'Extension Table'!D19,\" \",'Extension Table'!E19,\"\"\"\")","v":"        map 118 to \" \""}]
[128,{"$f":"+IF(Data!$C$6>ROW(SNOMONE!B128)-ROW(SNOMONE!$B$110),\"\",\"#\")","v":"#"},{"$f":"+CONCATENATE(\"        map \",'Extension Table'!A20,\" to \"\"\",'Extension Table'!D20,\" \",'Extension Table'!E20,\"\"\"\")","v":"        map 119 to \" \""}]
[129,{"$f":"+IF(Data!$C$6>ROW(SNOMONE!B129)-ROW(SNOMONE!$B$110),\"\",\"#\")","v":"#"},{"$f":"+CONCATENATE(\"        map \",'Extension Table'!A21,\" to \"\"\",'Extension Table'!D21,\" \",'Extension Table'!E21,\"\"\"\")","v":"        map 120 to \" \""}]
[130,{"$f":"+IF(Data!$C$6>ROW(SNOMONE!B130)-ROW(SNOMONE!$B$110),\"\",\"#\")","v":"#"},{"$f":"+CONCATENATE(\"        map \",'Extension Table'!A22,\" to \"\"\",'Extension Table'!D22,\" \",'Extension Table'!E22,\"\"\"\")","v":"        map 121 to \" \""}]
[131,{"$f":"+IF(Data!$C$6>ROW(SNOMONE!B131)-ROW(SNOMONE!$B$110),\"\",\"#\")","v":"#"},{"$f":"+CONCATENATE(\"        map \",'Extension Table'!A23,\" to \"\"\",'Extension Table'!D23,\" \",'Extension Table'!E23,\"\"\"\")","v":"        map 122 to \" \""}]
[132,{"$f":"+IF(Data!$C$6>ROW(SNOMONE!B132)-ROW(SNOMONE!$B$110),\"\",\"#\")","v":"#"},{"$f":"+CONCATENATE(\"        map \",'Extension Table'!A24,\" to \"\"\",'Extension Table'!D24,\" \",'Extension Table'!E24,\"\"\"\")","v":"        map 123 to \" \""}]
[133,{"$f":"+IF(Data!$C$6>ROW(SNOMONE!B133)-ROW(SNOMONE!$B$110),\"\",\"#\")","v":"#"},{"$f":"+CONCATENATE(\"        map \",'Extension Table'!A25,\" to \"\"\",'Extension Table'!D25,\" \",'Extension Table'!E25,\"\"\"\")","v":"        map 124 to \" \""}]
[134,{"$f":"+IF(Data!$C$6>ROW(SNOMONE!B134)-ROW(SNOMONE!$B$110),\"\",\"#\")","v":"#"},{"$f":"+CONCATENATE(\"        map \",'Extension Table'!A26,\" to \"\"\",'Extension Table'!D26,\" \",'Extension Table'!E26,\"\"\"\")","v":"        map 125 to \" \""}]
[135,{"$f":"+IF(Data!$C$6>ROW(SNOMONE!B135)-ROW(SNOMONE!$B$110),\"\",\"#\")","v":"#"},{"$f":"+CONCATENATE(\"        map \",'Extension Table'!A27,\" to \"\"\",'Extension Table'!D27,\" \",'Extension Table'!E27,\"\"\"\")","v":"        map 126 to \" \""}]
[136,{"$f":"+IF(Data!$C$6>ROW(SNOMONE!B136)-ROW(SNOMONE!$B$110),\"\",\"#\")","v":"#"},{"$f":"+CONCATENATE(\"        map \",'Extension Table'!A28,\" to \"\"\",'Extension Table'!D28,\" \",'Extension Table'!E28,\"\"\"\")","v":"        map 127 to \" \""}]
[137,{"$f":"+IF(Data!$C$6>ROW(SNOMONE!B137)-ROW(SNOMONE!$B$110),\"\",\"#\")","v":"#"},{"$f":"+CONCATENATE(\"        map \",'Extension Table'!A29,\" to \"\"\",'Extension Table'!D29,\" \",'Extension Table'!E29,\"\"\"\")","v":"        map 128 to \" \""}]
[138,{"$f":"+IF(Data!$C$6>ROW(SNOMONE!B138)-ROW(SNOMONE!$B$110),\"\",\"#\")","v":"#"},{"$f":"+CONCATENATE(\"        map \",'Extension Table'!A30,\" to \"\"\",'Extension Table'!D30,\" \",'Extension Table'!E30,\"\"\"\")","v":"        map 129 to \" \""}]
[139,{"$f":"+IF(Data!$C$6>ROW(SNOMONE!B139)-ROW(SNOMONE!$B$110),\"\",\"#\")","v":"#"},{"$f":"+CONCATENATE(\"        map \",'Extension Table'!A31,\" to \"\"\",'Extension Table'!D31,\" \",'Extension Table'!E31,\"\"\"\")","v":"        map 130 to \" \""}]
[140,{"$f":"+IF(Data!$C$6>ROW(SNOMONE!B140)-ROW(SNOMONE!$B$110),\"\",\"#\")","v":"#"},{"$f":"+CONCATENATE(\"        map \",'Extension Table'!A32,\" to \"\"\",'Extension Table'!D32,\" \",'Extension Table'!E32,\"\"\"\")","v":"        map 131 to \" \""}]
[141,{"$f":"+IF(Data!$C$6>ROW(SNOMONE!B141)-ROW(SNOMONE!$B$110),\"\",\"#\")","v":"#"},{"$f":"+CONCATENATE(\"        map \",'Extension Table'!A33,\" to \"\"\",'Extension Table'!D33,\" \",'Extension Table'!E33,\"\"\"\")","v":"        map 132 to \" \""}]
[142]
[143,{"$f":"+IF(Data!$C$5>ROW(SNOMONE!B144)-ROW(SNOMONE!$B$144),\"\",\"#\")","v":""},{"$f":"+CONCATENATE(\"  interface sip IF_SIP_\",'Line Table'!A2,CHAR(13),CHAR(10),,\"        bind context sip-gateway GW_SIP_ALL_LINES\",CHAR(13),CHAR(10),,\"        \",+'Line Table'!C2,CHAR(13),CHAR(10),,\"        early-disconnect\",CHAR(13),CHAR(10),,\"        route call dest-service HUNT_FXO\",CHAR(13),CHAR(10),,\"        remote \",Data!$C$24,\" \",Data!$C$25,CHAR(13),CHAR(10),,\"        address-translation outgoing-call request-uri user-part fix \",'Line Table'!B2,\" host-part to-header target-param none\",CHAR(13),CHAR(10),,\"        address-translation incoming-call called-e164 request-uri\",CHAR(13),CHAR(10),,CHAR(13),CHAR(10),)","v":"  interface sip IF_SIP_1\r\n        bind context sip-gateway GW_SIP_ALL_LINES\r\n        early-connect \r\n        early-disconnect\r\n        route call dest-service HUNT_FXO\r\n        remote 10.10.50.23 5060\r\n        address-translation outgoing-call request-uri user-part fix 10002 host-part to-header target-param none\r\n        address-translation incoming-call called-e164 request-uri\r\n\r\n"}]
[144,{"$f":"+IF(Data!$C$5>ROW(SNOMONE!B145)-ROW(SNOMONE!$B$144),\"\",\"#\")","v":""},{"$f":"+CONCATENATE(\"  interface sip IF_SIP_\",'Line Table'!A3,CHAR(13),CHAR(10),,\"        bind context sip-gateway GW_SIP_ALL_LINES\",CHAR(13),CHAR(10),,\"        \",+'Line Table'!C3,CHAR(13),CHAR(10),,\"        early-disconnect\",CHAR(13),CHAR(10),,\"        route call dest-service HUNT_FXO\",CHAR(13),CHAR(10),,\"        remote \",Data!$C$24,\" \",Data!$C$25,CHAR(13),CHAR(10),,\"        address-translation outgoing-call request-uri user-part fix \",'Line Table'!B3,\" host-part to-header target-param none\",CHAR(13),CHAR(10),,\"        address-translation incoming-call called-e164 request-uri\",CHAR(13),CHAR(10),,CHAR(13),CHAR(10),)","v":"  interface sip IF_SIP_2\r\n        bind context sip-gateway GW_SIP_ALL_LINES\r\n        early-connect \r\n        early-disconnect\r\n        route call dest-service HUNT_FXO\r\n        remote 10.10.50.23 5060\r\n        address-translation outgoing-call request-uri user-part fix 10003 host-part to-header target-param none\r\n        address-translation incoming-call called-e164 request-uri\r\n\r\n"}]
[145,{"$f":"+IF(Data!$C$5>ROW(SNOMONE!B146)-ROW(SNOMONE!$B$144),\"\",\"#\")","v":""},{"$f":"+CONCATENATE(\"  interface sip IF_SIP_\",'Line Table'!A4,CHAR(13),CHAR(10),,\"        bind context sip-gateway GW_SIP_ALL_LINES\",CHAR(13),CHAR(10),,\"        \",+'Line Table'!C4,CHAR(13),CHAR(10),,\"        early-disconnect\",CHAR(13),CHAR(10),,\"        route call dest-service HUNT_FXO\",CHAR(13),CHAR(10),,\"        remote \",Data!$C$24,\" \",Data!$C$25,CHAR(13),CHAR(10),,\"        address-translation outgoing-call request-uri user-part fix \",'Line Table'!B4,\" host-part to-header target-param none\",CHAR(13),CHAR(10),,\"        address-translation incoming-call called-e164 request-uri\",CHAR(13),CHAR(10),,CHAR(13),CHAR(10),)","v":"  interface sip IF_SIP_3\r\n        bind context sip-gateway GW_SIP_ALL_LINES\r\n        early-connect \r\n        early-disconnect\r\n        route call dest-service HUNT_FXO\r\n        remote 10.10.50.23 5060\r\n        address-translation outgoing-call request-uri user-part fix 10004 host-part to-header target-param none\r\n        address-translation incoming-call called-e164 request-uri\r\n\r\n"}]
[146,{"$f":"+IF(Data!$C$5>ROW(SNOMONE!B147)-ROW(SNOMONE!$B$144),\"\",\"#\")","v":""},{"$f":"+CONCATENATE(\"  interface sip IF_SIP_\",'Line Table'!A5,CHAR(13),CHAR(10),,\"        bind context sip-gateway GW_SIP_ALL_LINES\",CHAR(13),CHAR(10),,\"        \",+'Line Table'!C5,CHAR(13),CHAR(10),,\"        early-disconnect\",CHAR(13),CHAR(10),,\"        route call dest-service HUNT_FXO\",CHAR(13),CHAR(10),,\"        remote \",Data!$C$24,\" \",Data!$C$25,CHAR(13),CHAR(10),,\"        address-translation outgoing-call request-uri user-part fix \",'Line Table'!B5,\" host-part to-header target-param none\",CHAR(13),CHAR(10),,\"        address-translation incoming-call called-e164 request-uri\",CHAR(13),CHAR(10),,CHAR(13),CHAR(10),)","v":"  interface sip IF_SIP_4\r\n        bind context sip-gateway GW_SIP_ALL_LINES\r\n        early-connect \r\n        early-disconnect\r\n        route call dest-service HUNT_FXO\r\n        remote 10.10.50.23 5060\r\n        address-translation outgoing-call request-uri user-part fix 10005 host-part to-header target-param none\r\n        address-translation incoming-call called-e164 request-uri\r\n\r\n"}]
[147,{"$f":"+IF(Data!$C$5>ROW(SNOMONE!B148)-ROW(SNOMONE!$B$144),\"\",\"#\")","v":""},{"$f":"+CONCATENATE(\"  interface sip IF_SIP_\",'Line Table'!A6,CHAR(13),CHAR(10),,\"        bind context sip-gateway GW_SIP_ALL_LINES\",CHAR(13),CHAR(10),,\"        \",+'Line Table'!C6,CHAR(13),CHAR(10),,\"        early-disconnect\",CHAR(13),CHAR(10),,\"        route call dest-service HUNT_FXO\",CHAR(13),CHAR(10),,\"        remote \",Data!$C$24,\" \",Data!$C$25,CHAR(13),CHAR(10),,\"        address-translation outgoing-call request-uri user-part fix \",'Line Table'!B6,\" host-part to-header target-param none\",CHAR(13),CHAR(10),,\"        address-translation incoming-call called-e164 request-uri\",CHAR(13),CHAR(10),,CHAR(13),CHAR(10),)","v":"  interface sip IF_SIP_5\r\n        bind context sip-gateway GW_SIP_ALL_LINES\r\n        early-connect \r\n        early-disconnect\r\n        route call dest-service HUNT_FXO\r\n        remote 10.10.50.23 5060\r\n        address-translation outgoing-call request-uri user-part fix 10006 host-part to-header target-param none\r\n        address-translation incoming-call called-e164 request-uri\r\n\r\n"}]
[148,{"$f":"+IF(Data!$C$5>ROW(SNOMONE!B149)-ROW(SNOMONE!$B$144),\"\",\"#\")","v":""},{"$f":"+CONCATENATE(\"  interface sip IF_SIP_\",'Line Table'!A7,CHAR(13),CHAR(10),,\"        bind context sip-gateway GW_SIP_ALL_LINES\",CHAR(13),CHAR(10),,\"        \",+'Line Table'!C7,CHAR(13),CHAR(10),,\"        early-disconnect\",CHAR(13),CHAR(10),,\"        route call dest-service HUNT_FXO\",CHAR(13),CHAR(10),,\"        remote \",Data!$C$24,\" \",Data!$C$25,CHAR(13),CHAR(10),,\"        address-translation outgoing-call request-uri user-part fix \",'Line Table'!B7,\" host-part to-header target-param none\",CHAR(13),CHAR(10),,\"        address-translation incoming-call called-e164 request-uri\",CHAR(13),CHAR(10),,CHAR(13),CHAR(10),)","v":"  interface sip IF_SIP_6\r\n        bind context sip-gateway GW_SIP_ALL_LINES\r\n        early-connect \r\n        early-disconnect\r\n        route call dest-service HUNT_FXO\r\n        remote 10.10.50.23 5060\r\n        address-translation outgoing-call request-uri user-part fix 10007 host-part to-header target-param none\r\n        address-translation incoming-call called-e164 request-uri\r\n\r\n"}]
[149,{"$f":"+IF(Data!$C$5>ROW(SNOMONE!B150)-ROW(SNOMONE!$B$144),\"\",\"#\")","v":""},{"$f":"+CONCATENATE(\"  interface sip IF_SIP_\",'Line Table'!A8,CHAR(13),CHAR(10),,\"        bind context sip-gateway GW_SIP_ALL_LINES\",CHAR(13),CHAR(10),,\"        \",+'Line Table'!C8,CHAR(13),CHAR(10),,\"        early-disconnect\",CHAR(13),CHAR(10),,\"        route call dest-service HUNT_FXO\",CHAR(13),CHAR(10),,\"        remote \",Data!$C$24,\" \",Data!$C$25,CHAR(13),CHAR(10),,\"        address-translation outgoing-call request-uri user-part fix \",'Line Table'!B8,\" host-part to-header target-param none\",CHAR(13),CHAR(10),,\"        address-translation incoming-call called-e164 request-uri\",CHAR(13),CHAR(10),,CHAR(13),CHAR(10),)","v":"  interface sip IF_SIP_7\r\n        bind context sip-gateway GW_SIP_ALL_LINES\r\n        early-connect \r\n        early-disconnect\r\n        route call dest-service HUNT_FXO\r\n        remote 10.10.50.23 5060\r\n        address-translation outgoing-call request-uri user-part fix 10008 host-part to-header target-param none\r\n        address-translation incoming-call called-e164 request-uri\r\n\r\n"}]
[150,{"$f":"+IF(Data!$C$5>ROW(SNOMONE!B151)-ROW(SNOMONE!$B$144),\"\",\"#\")","v":""},{"$f":"+CONCATENATE(\"  interface sip IF_SIP_\",'Line Table'!A9,CHAR(13),CHAR(10),,\"        bind context sip-gateway GW_SIP_ALL_LINES\",CHAR(13),CHAR(10),,\"        \",+'Line Table'!C9,CHAR(13),CHAR(10),,\"        early-disconnect\",CHAR(13),CHAR(10),,\"        route call dest-service HUNT_FXO\",CHAR(13),CHAR(10),,\"        remote \",Data!$C$24,\" \",Data!$C$25,CHAR(13),CHAR(10),,\"        address-translation outgoing-call request-uri user-part fix \",'Line Table'!B9,\" host-part to-header target-param none\",CHAR(13),CHAR(10),,\"        address-translation incoming-call called-e164 request-uri\",CHAR(13),CHAR(10),,CHAR(13),CHAR(10),)","v":"  interface sip IF_SIP_8\r\n        bind context sip-gateway GW_SIP_ALL_LINES\r\n        early-connect \r\n        early-disconnect\r\n        route call dest-service HUNT_FXO\r\n        remote 10.10.50.23 5060\r\n        address-translation outgoing-call request-uri user-part fix 10009 host-part to-header target-param none\r\n        address-translation incoming-call called-e164 request-uri\r\n\r\n"}]
[151,{"$f":"+IF(Data!$C$5>ROW(SNOMONE!B152)-ROW(SNOMONE!$B$144),\"\",\"#\")","v":""},{"$f":"+CONCATENATE(\"  interface sip IF_SIP_\",'Line Table'!A10,CHAR(13),CHAR(10),,\"        bind context sip-gateway GW_SIP_ALL_LINES\",CHAR(13),CHAR(10),,\"        \",+'Line Table'!C10,CHAR(13),CHAR(10),,\"        early-disconnect\",CHAR(13),CHAR(10),,\"        route call dest-service HUNT_FXO\",CHAR(13),CHAR(10),,\"        remote \",Data!$C$24,\" \",Data!$C$25,CHAR(13),CHAR(10),,\"        address-translation outgoing-call request-uri user-part fix \",'Line Table'!B10,\" host-part to-header target-param none\",CHAR(13),CHAR(10),,\"        address-translation incoming-call called-e164 request-uri\",CHAR(13),CHAR(10),,CHAR(13),CHAR(10),)","v":"  interface sip IF_SIP_9\r\n        bind context sip-gateway GW_SIP_ALL_LINES\r\n        early-connect \r\n        early-disconnect\r\n        route call dest-service HUNT_FXO\r\n        remote 10.10.50.23 5060\r\n        address-translation outgoing-call request-uri user-part fix 10010 host-part to-header target-param none\r\n        address-translation incoming-call called-e164 request-uri\r\n\r\n"}]
[152,{"$f":"+IF(Data!$C$5>ROW(SNOMONE!B153)-ROW(SNOMONE!$B$144),\"\",\"#\")","v":""},{"$f":"+CONCATENATE(\"  interface sip IF_SIP_\",'Line Table'!A11,CHAR(13),CHAR(10),,\"        bind context sip-gateway GW_SIP_ALL_LINES\",CHAR(13),CHAR(10),,\"        \",+'Line Table'!C11,CHAR(13),CHAR(10),,\"        early-disconnect\",CHAR(13),CHAR(10),,\"        route call dest-service HUNT_FXO\",CHAR(13),CHAR(10),,\"        remote \",Data!$C$24,\" \",Data!$C$25,CHAR(13),CHAR(10),,\"        address-translation outgoing-call request-uri user-part fix \",'Line Table'!B11,\" host-part to-header target-param none\",CHAR(13),CHAR(10),,\"        address-translation incoming-call called-e164 request-uri\",CHAR(13),CHAR(10),,CHAR(13),CHAR(10),)","v":"  interface sip IF_SIP_10\r\n        bind context sip-gateway GW_SIP_ALL_LINES\r\n        early-connect \r\n        early-disconnect\r\n        route call dest-service HUNT_FXO\r\n        remote 10.10.50.23 5060\r\n        address-translation outgoing-call request-uri user-part fix 10011 host-part to-header target-param none\r\n        address-translation incoming-call called-e164 request-uri\r\n\r\n"}]
[153,{"$f":"+IF(Data!$C$5>ROW(SNOMONE!B154)-ROW(SNOMONE!$B$144),\"\",\"#\")","v":""},{"$f":"+CONCATENATE(\"  interface sip IF_SIP_\",'Line Table'!A12,CHAR(13),CHAR(10),,\"        bind context sip-gateway GW_SIP_ALL_LINES\",CHAR(13),CHAR(10),,\"        \",+'Line Table'!C12,CHAR(13),CHAR(10),,\"        early-disconnect\",CHAR(13),CHAR(10),,\"        route call dest-service HUNT_FXO\",CHAR(13),CHAR(10),,\"        remote \",Data!$C$24,\" \",Data!$C$25,CHAR(13),CHAR(10),,\"        address-translation outgoing-call request-uri user-part fix \",'Line Table'!B12,\" host-part to-header target-param none\",CHAR(13),CHAR(10),,\"        address-translation incoming-call called-e164 request-uri\",CHAR(13),CHAR(10),,CHAR(13),CHAR(10),)","v":"  interface sip IF_SIP_11\r\n        bind context sip-gateway GW_SIP_ALL_LINES\r\n        early-connect \r\n        early-disconnect\r\n        route call dest-service HUNT_FXO\r\n        remote 10.10.50.23 5060\r\n        address-translation outgoing-call request-uri user-part fix 10012 host-part to-header target-param none\r\n        address-translation incoming-call called-e164 request-uri\r\n\r\n"}]
[154,{"$f":"+IF(Data!$C$5>ROW(SNOMONE!B155)-ROW(SNOMONE!$B$144),\"\",\"#\")","v":""},{"$f":"+CONCATENATE(\"  interface sip IF_SIP_\",'Line Table'!A13,CHAR(13),CHAR(10),,\"        bind context sip-gateway GW_SIP_ALL_LINES\",CHAR(13),CHAR(10),,\"        \",+'Line Table'!C13,CHAR(13),CHAR(10),,\"        early-disconnect\",CHAR(13),CHAR(10),,\"        route call dest-service HUNT_FXO\",CHAR(13),CHAR(10),,\"        remote \",Data!$C$24,\" \",Data!$C$25,CHAR(13),CHAR(10),,\"        address-translation outgoing-call request-uri user-part fix \",'Line Table'!B13,\" host-part to-header target-param none\",CHAR(13),CHAR(10),,\"        address-translation incoming-call called-e164 request-uri\",CHAR(13),CHAR(10),,CHAR(13),CHAR(10),)","v":"  interface sip IF_SIP_12\r\n        bind context sip-gateway GW_SIP_ALL_LINES\r\n        early-connect \r\n        early-disconnect\r\n        route call dest-service HUNT_FXO\r\n        remote 10.10.50.23 5060\r\n        address-translation outgoing-call request-uri user-part fix 10013 host-part to-header target-param none\r\n        address-translation incoming-call called-e164 request-uri\r\n\r\n"}]
[155,{"$f":"+IF(Data!$C$5>ROW(SNOMONE!B156)-ROW(SNOMONE!$B$144),\"\",\"#\")","v":"#"},{"$f":"+CONCATENATE(\"  interface sip IF_SIP_\",'Line Table'!A14,CHAR(13),CHAR(10),,\"        bind context sip-gateway GW_SIP_ALL_LINES\",CHAR(13),CHAR(10),,\"        \",+'Line Table'!C14,CHAR(13),CHAR(10),,\"        early-disconnect\",CHAR(13),CHAR(10),,\"        route call dest-service HUNT_FXO\",CHAR(13),CHAR(10),,\"        remote \",Data!$C$24,\" \",Data!$C$25,CHAR(13),CHAR(10),,\"        address-translation outgoing-call request-uri user-part fix \",'Line Table'!B14,\" host-part to-header target-param none\",CHAR(13),CHAR(10),,\"        address-translation incoming-call called-e164 request-uri\",CHAR(13),CHAR(10),,CHAR(13),CHAR(10),)","v":"  interface sip IF_SIP_13\r\n        bind context sip-gateway GW_SIP_ALL_LINES\r\n        early-connect \r\n        early-disconnect\r\n        route call dest-service HUNT_FXO\r\n        remote 10.10.50.23 5060\r\n        address-translation outgoing-call request-uri user-part fix 10014 host-part to-header target-param none\r\n        address-translation incoming-call called-e164 request-uri\r\n\r\n"}]
[156,{"$f":"+IF(Data!$C$5>ROW(SNOMONE!B157)-ROW(SNOMONE!$B$144),\"\",\"#\")","v":"#"},{"$f":"+CONCATENATE(\"  interface sip IF_SIP_\",'Line Table'!A15,CHAR(13),CHAR(10),,\"        bind context sip-gateway GW_SIP_ALL_LINES\",CHAR(13),CHAR(10),,\"        \",+'Line Table'!C15,CHAR(13),CHAR(10),,\"        early-disconnect\",CHAR(13),CHAR(10),,\"        route call dest-service HUNT_FXO\",CHAR(13),CHAR(10),,\"        remote \",Data!$C$24,\" \",Data!$C$25,CHAR(13),CHAR(10),,\"        address-translation outgoing-call request-uri user-part fix \",'Line Table'!B15,\" host-part to-header target-param none\",CHAR(13),CHAR(10),,\"        address-translation incoming-call called-e164 request-uri\",CHAR(13),CHAR(10),,CHAR(13),CHAR(10),)","v":"  interface sip IF_SIP_14\r\n        bind context sip-gateway GW_SIP_ALL_LINES\r\n        early-connect \r\n        early-disconnect\r\n        route call dest-service HUNT_FXO\r\n        remote 10.10.50.23 5060\r\n        address-translation outgoing-call request-uri user-part fix 10015 host-part to-header target-param none\r\n        address-translation incoming-call called-e164 request-uri\r\n\r\n"}]
[157,{"$f":"+IF(Data!$C$5>ROW(SNOMONE!B158)-ROW(SNOMONE!$B$144),\"\",\"#\")","v":"#"},{"$f":"+CONCATENATE(\"  interface sip IF_SIP_\",'Line Table'!A16,CHAR(13),CHAR(10),,\"        bind context sip-gateway GW_SIP_ALL_LINES\",CHAR(13),CHAR(10),,\"        \",+'Line Table'!C16,CHAR(13),CHAR(10),,\"        early-disconnect\",CHAR(13),CHAR(10),,\"        route call dest-service HUNT_FXO\",CHAR(13),CHAR(10),,\"        remote \",Data!$C$24,\" \",Data!$C$25,CHAR(13),CHAR(10),,\"        address-translation outgoing-call request-uri user-part fix \",'Line Table'!B16,\" host-part to-header target-param none\",CHAR(13),CHAR(10),,\"        address-translation incoming-call called-e164 request-uri\",CHAR(13),CHAR(10),,CHAR(13),CHAR(10),)","v":"  interface sip IF_SIP_15\r\n        bind context sip-gateway GW_SIP_ALL_LINES\r\n        early-connect \r\n        early-disconnect\r\n        route call dest-service HUNT_FXO\r\n        remote 10.10.50.23 5060\r\n        address-translation outgoing-call request-uri user-part fix 10016 host-part to-header target-param none\r\n        address-translation incoming-call called-e164 request-uri\r\n\r\n"}]
[158,{"$f":"+IF(Data!$C$5>ROW(SNOMONE!B159)-ROW(SNOMONE!$B$144),\"\",\"#\")","v":"#"},{"$f":"+CONCATENATE(\"  interface sip IF_SIP_\",'Line Table'!A17,CHAR(13),CHAR(10),,\"        bind context sip-gateway GW_SIP_ALL_LINES\",CHAR(13),CHAR(10),,\"        \",+'Line Table'!C17,CHAR(13),CHAR(10),,\"        early-disconnect\",CHAR(13),CHAR(10),,\"        route call dest-service HUNT_FXO\",CHAR(13),CHAR(10),,\"        remote \",Data!$C$24,\" \",Data!$C$25,CHAR(13),CHAR(10),,\"        address-translation outgoing-call request-uri user-part fix \",'Line Table'!B17,\" host-part to-header target-param none\",CHAR(13),CHAR(10),,\"        address-translation incoming-call called-e164 request-uri\",CHAR(13),CHAR(10),,CHAR(13),CHAR(10),)","v":"  interface sip IF_SIP_16\r\n        bind context sip-gateway GW_SIP_ALL_LINES\r\n        early-connect \r\n        early-disconnect\r\n        route call dest-service HUNT_FXO\r\n        remote 10.10.50.23 5060\r\n        address-translation outgoing-call request-uri user-part fix 10017 host-part to-header target-param none\r\n        address-translation incoming-call called-e164 request-uri\r\n\r\n"}]
[159,{"$f":"+IF(Data!$C$5>ROW(SNOMONE!B160)-ROW(SNOMONE!$B$144),\"\",\"#\")","v":"#"},{"$f":"+CONCATENATE(\"  interface sip IF_SIP_\",'Line Table'!A18,CHAR(13),CHAR(10),,\"        bind context sip-gateway GW_SIP_ALL_LINES\",CHAR(13),CHAR(10),,\"        \",+'Line Table'!C18,CHAR(13),CHAR(10),,\"        early-disconnect\",CHAR(13),CHAR(10),,\"        route call dest-service HUNT_FXO\",CHAR(13),CHAR(10),,\"        remote \",Data!$C$24,\" \",Data!$C$25,CHAR(13),CHAR(10),,\"        address-translation outgoing-call request-uri user-part fix \",'Line Table'!B18,\" host-part to-header target-param none\",CHAR(13),CHAR(10),,\"        address-translation incoming-call called-e164 request-uri\",CHAR(13),CHAR(10),,CHAR(13),CHAR(10),)","v":"  interface sip IF_SIP_17\r\n        bind context sip-gateway GW_SIP_ALL_LINES\r\n        early-connect \r\n        early-disconnect\r\n        route call dest-service HUNT_FXO\r\n        remote 10.10.50.23 5060\r\n        address-translation outgoing-call request-uri user-part fix 10018 host-part to-header target-param none\r\n        address-translation incoming-call called-e164 request-uri\r\n\r\n"}]
[160,{"$f":"+IF(Data!$C$5>ROW(SNOMONE!B161)-ROW(SNOMONE!$B$144),\"\",\"#\")","v":"#"},{"$f":"+CONCATENATE(\"  interface sip IF_SIP_\",'Line Table'!A19,CHAR(13),CHAR(10),,\"        bind context sip-gateway GW_SIP_ALL_LINES\",CHAR(13),CHAR(10),,\"        \",+'Line Table'!C19,CHAR(13),CHAR(10),,\"        early-disconnect\",CHAR(13),CHAR(10),,\"        route call dest-service HUNT_FXO\",CHAR(13),CHAR(10),,\"        remote \",Data!$C$24,\" \",Data!$C$25,CHAR(13),CHAR(10),,\"        address-translation outgoing-call request-uri user-part fix \",'Line Table'!B19,\" host-part to-header target-param none\",CHAR(13),CHAR(10),,\"        address-translation incoming-call called-e164 request-uri\",CHAR(13),CHAR(10),,CHAR(13),CHAR(10),)","v":"  interface sip IF_SIP_18\r\n        bind context sip-gateway GW_SIP_ALL_LINES\r\n        early-connect \r\n        early-disconnect\r\n        route call dest-service HUNT_FXO\r\n        remote 10.10.50.23 5060\r\n        address-translation outgoing-call request-uri user-part fix 10019 host-part to-header target-param none\r\n        address-translation incoming-call called-e164 request-uri\r\n\r\n"}]
[161,{"$f":"+IF(Data!$C$5>ROW(SNOMONE!B162)-ROW(SNOMONE!$B$144),\"\",\"#\")","v":"#"},{"$f":"+CONCATENATE(\"  interface sip IF_SIP_\",'Line Table'!A20,CHAR(13),CHAR(10),,\"        bind context sip-gateway GW_SIP_ALL_LINES\",CHAR(13),CHAR(10),,\"        \",+'Line Table'!C20,CHAR(13),CHAR(10),,\"        early-disconnect\",CHAR(13),CHAR(10),,\"        route call dest-service HUNT_FXO\",CHAR(13),CHAR(10),,\"        remote \",Data!$C$24,\" \",Data!$C$25,CHAR(13),CHAR(10),,\"        address-translation outgoing-call request-uri user-part fix \",'Line Table'!B20,\" host-part to-header target-param none\",CHAR(13),CHAR(10),,\"        address-translation incoming-call called-e164 request-uri\",CHAR(13),CHAR(10),,CHAR(13),CHAR(10),)","v":"  interface sip IF_SIP_19\r\n        bind context sip-gateway GW_SIP_ALL_LINES\r\n        early-connect \r\n        early-disconnect\r\n        route call dest-service HUNT_FXO\r\n        remote 10.10.50.23 5060\r\n        address-translation outgoing-call request-uri user-part fix 10020 host-part to-header target-param none\r\n        address-translation incoming-call called-e164 request-uri\r\n\r\n"}]
[162,{"$f":"+IF(Data!$C$5>ROW(SNOMONE!B163)-ROW(SNOMONE!$B$144),\"\",\"#\")","v":"#"},{"$f":"+CONCATENATE(\"  interface sip IF_SIP_\",'Line Table'!A21,CHAR(13),CHAR(10),,\"        bind context sip-gateway GW_SIP_ALL_LINES\",CHAR(13),CHAR(10),,\"        \",+'Line Table'!C21,CHAR(13),CHAR(10),,\"        early-disconnect\",CHAR(13),CHAR(10),,\"        route call dest-service HUNT_FXO\",CHAR(13),CHAR(10),,\"        remote \",Data!$C$24,\" \",Data!$C$25,CHAR(13),CHAR(10),,\"        address-translation outgoing-call request-uri user-part fix \",'Line Table'!B21,\" host-part to-header target-param none\",CHAR(13),CHAR(10),,\"        address-translation incoming-call called-e164 request-uri\",CHAR(13),CHAR(10),,CHAR(13),CHAR(10),)","v":"  interface sip IF_SIP_20\r\n        bind context sip-gateway GW_SIP_ALL_LINES\r\n        early-connect \r\n        early-disconnect\r\n        route call dest-service HUNT_FXO\r\n        remote 10.10.50.23 5060\r\n        address-translation outgoing-call request-uri user-part fix 10021 host-part to-header target-param none\r\n        address-translation incoming-call called-e164 request-uri\r\n\r\n"}]
[163,{"$f":"+IF(Data!$C$5>ROW(SNOMONE!B164)-ROW(SNOMONE!$B$144),\"\",\"#\")","v":"#"},{"$f":"+CONCATENATE(\"  interface sip IF_SIP_\",'Line Table'!A22,CHAR(13),CHAR(10),,\"        bind context sip-gateway GW_SIP_ALL_LINES\",CHAR(13),CHAR(10),,\"        \",+'Line Table'!C22,CHAR(13),CHAR(10),,\"        early-disconnect\",CHAR(13),CHAR(10),,\"        route call dest-service HUNT_FXO\",CHAR(13),CHAR(10),,\"        remote \",Data!$C$24,\" \",Data!$C$25,CHAR(13),CHAR(10),,\"        address-translation outgoing-call request-uri user-part fix \",'Line Table'!B22,\" host-part to-header target-param none\",CHAR(13),CHAR(10),,\"        address-translation incoming-call called-e164 request-uri\",CHAR(13),CHAR(10),,CHAR(13),CHAR(10),)","v":"  interface sip IF_SIP_21\r\n        bind context sip-gateway GW_SIP_ALL_LINES\r\n        early-connect \r\n        early-disconnect\r\n        route call dest-service HUNT_FXO\r\n        remote 10.10.50.23 5060\r\n        address-translation outgoing-call request-uri user-part fix 10022 host-part to-header target-param none\r\n        address-translation incoming-call called-e164 request-uri\r\n\r\n"}]
[164,{"$f":"+IF(Data!$C$5>ROW(SNOMONE!B165)-ROW(SNOMONE!$B$144),\"\",\"#\")","v":"#"},{"$f":"+CONCATENATE(\"  interface sip IF_SIP_\",'Line Table'!A23,CHAR(13),CHAR(10),,\"        bind context sip-gateway GW_SIP_ALL_LINES\",CHAR(13),CHAR(10),,\"        \",+'Line Table'!C23,CHAR(13),CHAR(10),,\"        early-disconnect\",CHAR(13),CHAR(10),,\"        route call dest-service HUNT_FXO\",CHAR(13),CHAR(10),,\"        remote \",Data!$C$24,\" \",Data!$C$25,CHAR(13),CHAR(10),,\"        address-translation outgoing-call request-uri user-part fix \",'Line Table'!B23,\" host-part to-header target-param none\",CHAR(13),CHAR(10),,\"        address-translation incoming-call called-e164 request-uri\",CHAR(13),CHAR(10),,CHAR(13),CHAR(10),)","v":"  interface sip IF_SIP_22\r\n        bind context sip-gateway GW_SIP_ALL_LINES\r\n        early-connect \r\n        early-disconnect\r\n        route call dest-service HUNT_FXO\r\n        remote 10.10.50.23 5060\r\n        address-translation outgoing-call request-uri user-part fix 10023 host-part to-header target-param none\r\n        address-translation incoming-call called-e164 request-uri\r\n\r\n"}]
[165,{"$f":"+IF(Data!$C$5>ROW(SNOMONE!B166)-ROW(SNOMONE!$B$144),\"\",\"#\")","v":"#"},{"$f":"+CONCATENATE(\"  interface sip IF_SIP_\",'Line Table'!A24,CHAR(13),CHAR(10),,\"        bind context sip-gateway GW_SIP_ALL_LINES\",CHAR(13),CHAR(10),,\"        \",+'Line Table'!C24,CHAR(13),CHAR(10),,\"        early-disconnect\",CHAR(13),CHAR(10),,\"        route call dest-service HUNT_FXO\",CHAR(13),CHAR(10),,\"        remote \",Data!$C$24,\" \",Data!$C$25,CHAR(13),CHAR(10),,\"        address-translation outgoing-call request-uri user-part fix \",'Line Table'!B24,\" host-part to-header target-param none\",CHAR(13),CHAR(10),,\"        address-translation incoming-call called-e164 request-uri\",CHAR(13),CHAR(10),,CHAR(13),CHAR(10),)","v":"  interface sip IF_SIP_23\r\n        bind context sip-gateway GW_SIP_ALL_LINES\r\n        early-connect \r\n        early-disconnect\r\n        route call dest-service HUNT_FXO\r\n        remote 10.10.50.23 5060\r\n        address-translation outgoing-call request-uri user-part fix 10024 host-part to-header target-param none\r\n        address-translation incoming-call called-e164 request-uri\r\n\r\n"}]
[166,{"$f":"+IF(Data!$C$5>ROW(SNOMONE!B167)-ROW(SNOMONE!$B$144),\"\",\"#\")","v":"#"},{"$f":"+CONCATENATE(\"  interface sip IF_SIP_\",'Line Table'!A25,CHAR(13),CHAR(10),,\"        bind context sip-gateway GW_SIP_ALL_LINES\",CHAR(13),CHAR(10),,\"        \",+'Line Table'!C25,CHAR(13),CHAR(10),,\"        early-disconnect\",CHAR(13),CHAR(10),,\"        route call dest-service HUNT_FXO\",CHAR(13),CHAR(10),,\"        remote \",Data!$C$24,\" \",Data!$C$25,CHAR(13),CHAR(10),,\"        address-translation outgoing-call request-uri user-part fix \",'Line Table'!B25,\" host-part to-header target-param none\",CHAR(13),CHAR(10),,\"        address-translation incoming-call called-e164 request-uri\",CHAR(13),CHAR(10),,CHAR(13),CHAR(10),)","v":"  interface sip IF_SIP_24\r\n        bind context sip-gateway GW_SIP_ALL_LINES\r\n        early-connect \r\n        early-disconnect\r\n        route call dest-service HUNT_FXO\r\n        remote 10.10.50.23 5060\r\n        address-translation outgoing-call request-uri user-part fix 10025 host-part to-header target-param none\r\n        address-translation incoming-call called-e164 request-uri\r\n\r\n"}]
[167,{"$f":"+IF(Data!$C$5>ROW(SNOMONE!B168)-ROW(SNOMONE!$B$144),\"\",\"#\")","v":"#"},{"$f":"+CONCATENATE(\"  interface sip IF_SIP_\",'Line Table'!A26,CHAR(13),CHAR(10),,\"        bind context sip-gateway GW_SIP_ALL_LINES\",CHAR(13),CHAR(10),,\"        \",+'Line Table'!C26,CHAR(13),CHAR(10),,\"        early-disconnect\",CHAR(13),CHAR(10),,\"        route call dest-service HUNT_FXO\",CHAR(13),CHAR(10),,\"        remote \",Data!$C$24,\" \",Data!$C$25,CHAR(13),CHAR(10),,\"        address-translation outgoing-call request-uri user-part fix \",'Line Table'!B26,\" host-part to-header target-param none\",CHAR(13),CHAR(10),,\"        address-translation incoming-call called-e164 request-uri\",CHAR(13),CHAR(10),,CHAR(13),CHAR(10),)","v":"  interface sip IF_SIP_25\r\n        bind context sip-gateway GW_SIP_ALL_LINES\r\n        early-connect \r\n        early-disconnect\r\n        route call dest-service HUNT_FXO\r\n        remote 10.10.50.23 5060\r\n        address-translation outgoing-call request-uri user-part fix 10026 host-part to-header target-param none\r\n        address-translation incoming-call called-e164 request-uri\r\n\r\n"}]
[168,{"$f":"+IF(Data!$C$5>ROW(SNOMONE!B169)-ROW(SNOMONE!$B$144),\"\",\"#\")","v":"#"},{"$f":"+CONCATENATE(\"  interface sip IF_SIP_\",'Line Table'!A27,CHAR(13),CHAR(10),,\"        bind context sip-gateway GW_SIP_ALL_LINES\",CHAR(13),CHAR(10),,\"        \",+'Line Table'!C27,CHAR(13),CHAR(10),,\"        early-disconnect\",CHAR(13),CHAR(10),,\"        route call dest-service HUNT_FXO\",CHAR(13),CHAR(10),,\"        remote \",Data!$C$24,\" \",Data!$C$25,CHAR(13),CHAR(10),,\"        address-translation outgoing-call request-uri user-part fix \",'Line Table'!B27,\" host-part to-header target-param none\",CHAR(13),CHAR(10),,\"        address-translation incoming-call called-e164 request-uri\",CHAR(13),CHAR(10),,CHAR(13),CHAR(10),)","v":"  interface sip IF_SIP_26\r\n        bind context sip-gateway GW_SIP_ALL_LINES\r\n        early-connect \r\n        early-disconnect\r\n        route call dest-service HUNT_FXO\r\n        remote 10.10.50.23 5060\r\n        address-translation outgoing-call request-uri user-part fix 10027 host-part to-header target-param none\r\n        address-translation incoming-call called-e164 request-uri\r\n\r\n"}]
[169,{"$f":"+IF(Data!$C$5>ROW(SNOMONE!B170)-ROW(SNOMONE!$B$144),\"\",\"#\")","v":"#"},{"$f":"+CONCATENATE(\"  interface sip IF_SIP_\",'Line Table'!A28,CHAR(13),CHAR(10),,\"        bind context sip-gateway GW_SIP_ALL_LINES\",CHAR(13),CHAR(10),,\"        \",+'Line Table'!C28,CHAR(13),CHAR(10),,\"        early-disconnect\",CHAR(13),CHAR(10),,\"        route call dest-service HUNT_FXO\",CHAR(13),CHAR(10),,\"        remote \",Data!$C$24,\" \",Data!$C$25,CHAR(13),CHAR(10),,\"        address-translation outgoing-call request-uri user-part fix \",'Line Table'!B28,\" host-part to-header target-param none\",CHAR(13),CHAR(10),,\"        address-translation incoming-call called-e164 request-uri\",CHAR(13),CHAR(10),,CHAR(13),CHAR(10),)","v":"  interface sip IF_SIP_27\r\n        bind context sip-gateway GW_SIP_ALL_LINES\r\n        early-connect \r\n        early-disconnect\r\n        route call dest-service HUNT_FXO\r\n        remote 10.10.50.23 5060\r\n        address-translation outgoing-call request-uri user-part fix 10028 host-part to-header target-param none\r\n        address-translation incoming-call called-e164 request-uri\r\n\r\n"}]
[170,{"$f":"+IF(Data!$C$5>ROW(SNOMONE!B171)-ROW(SNOMONE!$B$144),\"\",\"#\")","v":"#"},{"$f":"+CONCATENATE(\"  interface sip IF_SIP_\",'Line Table'!A29,CHAR(13),CHAR(10),,\"        bind context sip-gateway GW_SIP_ALL_LINES\",CHAR(13),CHAR(10),,\"        \",+'Line Table'!C29,CHAR(13),CHAR(10),,\"        early-disconnect\",CHAR(13),CHAR(10),,\"        route call dest-service HUNT_FXO\",CHAR(13),CHAR(10),,\"        remote \",Data!$C$24,\" \",Data!$C$25,CHAR(13),CHAR(10),,\"        address-translation outgoing-call request-uri user-part fix \",'Line Table'!B29,\" host-part to-header target-param none\",CHAR(13),CHAR(10),,\"        address-translation incoming-call called-e164 request-uri\",CHAR(13),CHAR(10),,CHAR(13),CHAR(10),)","v":"  interface sip IF_SIP_28\r\n        bind context sip-gateway GW_SIP_ALL_LINES\r\n        early-connect \r\n        early-disconnect\r\n        route call dest-service HUNT_FXO\r\n        remote 10.10.50.23 5060\r\n        address-translation outgoing-call request-uri user-part fix 10029 host-part to-header target-param none\r\n        address-translation incoming-call called-e164 request-uri\r\n\r\n"}]
[171,{"$f":"+IF(Data!$C$5>ROW(SNOMONE!B172)-ROW(SNOMONE!$B$144),\"\",\"#\")","v":"#"},{"$f":"+CONCATENATE(\"  interface sip IF_SIP_\",'Line Table'!A30,CHAR(13),CHAR(10),,\"        bind context sip-gateway GW_SIP_ALL_LINES\",CHAR(13),CHAR(10),,\"        \",+'Line Table'!C30,CHAR(13),CHAR(10),,\"        early-disconnect\",CHAR(13),CHAR(10),,\"        route call dest-service HUNT_FXO\",CHAR(13),CHAR(10),,\"        remote \",Data!$C$24,\" \",Data!$C$25,CHAR(13),CHAR(10),,\"        address-translation outgoing-call request-uri user-part fix \",'Line Table'!B30,\" host-part to-header target-param none\",CHAR(13),CHAR(10),,\"        address-translation incoming-call called-e164 request-uri\",CHAR(13),CHAR(10),,CHAR(13),CHAR(10),)","v":"  interface sip IF_SIP_29\r\n        bind context sip-gateway GW_SIP_ALL_LINES\r\n        early-connect \r\n        early-disconnect\r\n        route call dest-service HUNT_FXO\r\n        remote 10.10.50.23 5060\r\n        address-translation outgoing-call request-uri user-part fix 10030 host-part to-header target-param none\r\n        address-translation incoming-call called-e164 request-uri\r\n\r\n"}]
[172,{"$f":"+IF(Data!$C$5>ROW(SNOMONE!B173)-ROW(SNOMONE!$B$144),\"\",\"#\")","v":"#"},{"$f":"+CONCATENATE(\"  interface sip IF_SIP_\",'Line Table'!A31,CHAR(13),CHAR(10),,\"        bind context sip-gateway GW_SIP_ALL_LINES\",CHAR(13),CHAR(10),,\"        \",+'Line Table'!C31,CHAR(13),CHAR(10),,\"        early-disconnect\",CHAR(13),CHAR(10),,\"        route call dest-service HUNT_FXO\",CHAR(13),CHAR(10),,\"        remote \",Data!$C$24,\" \",Data!$C$25,CHAR(13),CHAR(10),,\"        address-translation outgoing-call request-uri user-part fix \",'Line Table'!B31,\" host-part to-header target-param none\",CHAR(13),CHAR(10),,\"        address-translation incoming-call called-e164 request-uri\",CHAR(13),CHAR(10),,CHAR(13),CHAR(10),)","v":"  interface sip IF_SIP_30\r\n        bind context sip-gateway GW_SIP_ALL_LINES\r\n        early-connect \r\n        early-disconnect\r\n        route call dest-service HUNT_FXO\r\n        remote 10.10.50.23 5060\r\n        address-translation outgoing-call request-uri user-part fix 10031 host-part to-header target-param none\r\n        address-translation incoming-call called-e164 request-uri\r\n\r\n"}]
[173,{"$f":"+IF(Data!$C$5>ROW(SNOMONE!B174)-ROW(SNOMONE!$B$144),\"\",\"#\")","v":"#"},{"$f":"+CONCATENATE(\"  interface sip IF_SIP_\",'Line Table'!A32,CHAR(13),CHAR(10),,\"        bind context sip-gateway GW_SIP_ALL_LINES\",CHAR(13),CHAR(10),,\"        \",+'Line Table'!C32,CHAR(13),CHAR(10),,\"        early-disconnect\",CHAR(13),CHAR(10),,\"        route call dest-service HUNT_FXO\",CHAR(13),CHAR(10),,\"        remote \",Data!$C$24,\" \",Data!$C$25,CHAR(13),CHAR(10),,\"        address-translation outgoing-call request-uri user-part fix \",'Line Table'!B32,\" host-part to-header target-param none\",CHAR(13),CHAR(10),,\"        address-translation incoming-call called-e164 request-uri\",CHAR(13),CHAR(10),,CHAR(13),CHAR(10),)","v":"  interface sip IF_SIP_31\r\n        bind context sip-gateway GW_SIP_ALL_LINES\r\n        early-connect \r\n        early-disconnect\r\n        route call dest-service HUNT_FXO\r\n        remote 10.10.50.23 5060\r\n        address-translation outgoing-call request-uri user-part fix 10032 host-part to-header target-param none\r\n        address-translation incoming-call called-e164 request-uri\r\n\r\n"}]
[174,{"$f":"+IF(Data!$C$5>ROW(SNOMONE!B175)-ROW(SNOMONE!$B$144),\"\",\"#\")","v":"#"},{"$f":"+CONCATENATE(\"  interface sip IF_SIP_\",'Line Table'!A33,CHAR(13),CHAR(10),,\"        bind context sip-gateway GW_SIP_ALL_LINES\",CHAR(13),CHAR(10),,\"        \",+'Line Table'!C33,CHAR(13),CHAR(10),,\"        early-disconnect\",CHAR(13),CHAR(10),,\"        route call dest-service HUNT_FXO\",CHAR(13),CHAR(10),,\"        remote \",Data!$C$24,\" \",Data!$C$25,CHAR(13),CHAR(10),,\"        address-translation outgoing-call request-uri user-part fix \",'Line Table'!B33,\" host-part to-header target-param none\",CHAR(13),CHAR(10),,\"        address-translation incoming-call called-e164 request-uri\",CHAR(13),CHAR(10),,CHAR(13),CHAR(10),)","v":"  interface sip IF_SIP_32\r\n        bind context sip-gateway GW_SIP_ALL_LINES\r\n        early-connect \r\n        early-disconnect\r\n        route call dest-service HUNT_FXO\r\n        remote 10.10.50.23 5060\r\n        address-translation outgoing-call request-uri user-part fix 10033 host-part to-header target-param none\r\n        address-translation incoming-call called-e164 request-uri\r\n\r\n"}]
[175]
[176,{"$f":"+IF(Data!$C$5>ROW(SNOMONE!B177)-ROW(SNOMONE!$B$177),\"\",\"#\")","v":""},{"$f":"+CONCATENATE(\" interface fxo IF_FXO_\",'Line Table'!A2,CHAR(13),CHAR(10),\"          route call dest-interface IF_SIP_\",'Line Table'!A2,CHAR(13),CHAR(10),\"         loop-break-duration min 200 max 1000\",CHAR(13),CHAR(10),\"          \",'Line Table'!D2,CHAR(13),CHAR(10),\"         mute-dialing\",CHAR(13),CHAR(10),\"           disconnect-signal loop-break\",CHAR(13),CHAR(10),\"         disconnect-signal busy-tone\",CHAR(13),CHAR(10),\"         dial-after timeout 1\")","v":" interface fxo IF_FXO_1\r\n          route call dest-interface IF_SIP_1\r\n         loop-break-duration min 200 max 1000\r\n          ring-number on-caller-id \r\n         mute-dialing\r\n           disconnect-signal loop-break\r\n         disconnect-signal busy-tone\r\n         dial-after timeout 1"}]
[177,{"$f":"+IF(Data!$C$5>ROW(SNOMONE!B178)-ROW(SNOMONE!$B$177),\"\",\"#\")","v":""},{"$f":"+CONCATENATE(\" interface fxo IF_FXO_\",'Line Table'!A3,CHAR(13),CHAR(10),\"          route call dest-interface IF_SIP_\",'Line Table'!A3,CHAR(13),CHAR(10),\"         loop-break-duration min 200 max 1000\",CHAR(13),CHAR(10),\"          \",'Line Table'!D3,CHAR(13),CHAR(10),\"         mute-dialing\",CHAR(13),CHAR(10),\"           disconnect-signal loop-break\",CHAR(13),CHAR(10),\"         disconnect-signal busy-tone\",CHAR(13),CHAR(10),\"         dial-after timeout 1\")","v":" interface fxo IF_FXO_2\r\n          route call dest-interface IF_SIP_2\r\n         loop-break-duration min 200 max 1000\r\n          ring-number on-caller-id \r\n         mute-dialing\r\n           disconnect-signal loop-break\r\n         disconnect-signal busy-tone\r\n         dial-after timeout 1"}]
[178,{"$f":"+IF(Data!$C$5>ROW(SNOMONE!B179)-ROW(SNOMONE!$B$177),\"\",\"#\")","v":""},{"$f":"+CONCATENATE(\" interface fxo IF_FXO_\",'Line Table'!A4,CHAR(13),CHAR(10),\"          route call dest-interface IF_SIP_\",'Line Table'!A4,CHAR(13),CHAR(10),\"         loop-break-duration min 200 max 1000\",CHAR(13),CHAR(10),\"          \",'Line Table'!D4,CHAR(13),CHAR(10),\"         mute-dialing\",CHAR(13),CHAR(10),\"           disconnect-signal loop-break\",CHAR(13),CHAR(10),\"         disconnect-signal busy-tone\",CHAR(13),CHAR(10),\"         dial-after timeout 1\")","v":" interface fxo IF_FXO_3\r\n          route call dest-interface IF_SIP_3\r\n         loop-break-duration min 200 max 1000\r\n          ring-number on-caller-id \r\n         mute-dialing\r\n           disconnect-signal loop-break\r\n         disconnect-signal busy-tone\r\n         dial-after timeout 1"}]
[179,{"$f":"+IF(Data!$C$5>ROW(SNOMONE!B180)-ROW(SNOMONE!$B$177),\"\",\"#\")","v":""},{"$f":"+CONCATENATE(\" interface fxo IF_FXO_\",'Line Table'!A5,CHAR(13),CHAR(10),\"          route call dest-interface IF_SIP_\",'Line Table'!A5,CHAR(13),CHAR(10),\"         loop-break-duration min 200 max 1000\",CHAR(13),CHAR(10),\"          \",'Line Table'!D5,CHAR(13),CHAR(10),\"         mute-dialing\",CHAR(13),CHAR(10),\"           disconnect-signal loop-break\",CHAR(13),CHAR(10),\"         disconnect-signal busy-tone\",CHAR(13),CHAR(10),\"         dial-after timeout 1\")","v":" interface fxo IF_FXO_4\r\n          route call dest-interface IF_SIP_4\r\n         loop-break-duration min 200 max 1000\r\n          ring-number on-caller-id \r\n         mute-dialing\r\n           disconnect-signal loop-break\r\n         disconnect-signal busy-tone\r\n         dial-after timeout 1"}]
[180,{"$f":"+IF(Data!$C$5>ROW(SNOMONE!B181)-ROW(SNOMONE!$B$177),\"\",\"#\")","v":""},{"$f":"+CONCATENATE(\" interface fxo IF_FXO_\",'Line Table'!A6,CHAR(13),CHAR(10),\"          route call dest-interface IF_SIP_\",'Line Table'!A6,CHAR(13),CHAR(10),\"         loop-break-duration min 200 max 1000\",CHAR(13),CHAR(10),\"          \",'Line Table'!D6,CHAR(13),CHAR(10),\"         mute-dialing\",CHAR(13),CHAR(10),\"           disconnect-signal loop-break\",CHAR(13),CHAR(10),\"         disconnect-signal busy-tone\",CHAR(13),CHAR(10),\"         dial-after timeout 1\")","v":" interface fxo IF_FXO_5\r\n          route call dest-interface IF_SIP_5\r\n         loop-break-duration min 200 max 1000\r\n          ring-number on-caller-id \r\n         mute-dialing\r\n           disconnect-signal loop-break\r\n         disconnect-signal busy-tone\r\n         dial-after timeout 1"}]
[181,{"$f":"+IF(Data!$C$5>ROW(SNOMONE!B182)-ROW(SNOMONE!$B$177),\"\",\"#\")","v":""},{"$f":"+CONCATENATE(\" interface fxo IF_FXO_\",'Line Table'!A7,CHAR(13),CHAR(10),\"          route call dest-interface IF_SIP_\",'Line Table'!A7,CHAR(13),CHAR(10),\"         loop-break-duration min 200 max 1000\",CHAR(13),CHAR(10),\"          \",'Line Table'!D7,CHAR(13),CHAR(10),\"         mute-dialing\",CHAR(13),CHAR(10),\"           disconnect-signal loop-break\",CHAR(13),CHAR(10),\"         disconnect-signal busy-tone\",CHAR(13),CHAR(10),\"         dial-after timeout 1\")","v":" interface fxo IF_FXO_6\r\n          route call dest-interface IF_SIP_6\r\n         loop-break-duration min 200 max 1000\r\n          ring-number on-caller-id \r\n         mute-dialing\r\n           disconnect-signal loop-break\r\n         disconnect-signal busy-tone\r\n         dial-after timeout 1"}]
[182,{"$f":"+IF(Data!$C$5>ROW(SNOMONE!B183)-ROW(SNOMONE!$B$177),\"\",\"#\")","v":""},{"$f":"+CONCATENATE(\" interface fxo IF_FXO_\",'Line Table'!A8,CHAR(13),CHAR(10),\"          route call dest-interface IF_SIP_\",'Line Table'!A8,CHAR(13),CHAR(10),\"         loop-break-duration min 200 max 1000\",CHAR(13),CHAR(10),\"          \",'Line Table'!D8,CHAR(13),CHAR(10),\"         mute-dialing\",CHAR(13),CHAR(10),\"           disconnect-signal loop-break\",CHAR(13),CHAR(10),\"         disconnect-signal busy-tone\",CHAR(13),CHAR(10),\"         dial-after timeout 1\")","v":" interface fxo IF_FXO_7\r\n          route call dest-interface IF_SIP_7\r\n         loop-break-duration min 200 max 1000\r\n          ring-number on-caller-id \r\n         mute-dialing\r\n           disconnect-signal loop-break\r\n         disconnect-signal busy-tone\r\n         dial-after timeout 1"}]
[183,{"$f":"+IF(Data!$C$5>ROW(SNOMONE!B184)-ROW(SNOMONE!$B$177),\"\",\"#\")","v":""},{"$f":"+CONCATENATE(\" interface fxo IF_FXO_\",'Line Table'!A9,CHAR(13),CHAR(10),\"          route call dest-interface IF_SIP_\",'Line Table'!A9,CHAR(13),CHAR(10),\"         loop-break-duration min 200 max 1000\",CHAR(13),CHAR(10),\"          \",'Line Table'!D9,CHAR(13),CHAR(10),\"         mute-dialing\",CHAR(13),CHAR(10),\"           disconnect-signal loop-break\",CHAR(13),CHAR(10),\"         disconnect-signal busy-tone\",CHAR(13),CHAR(10),\"         dial-after timeout 1\")","v":" interface fxo IF_FXO_8\r\n          route call dest-interface IF_SIP_8\r\n         loop-break-duration min 200 max 1000\r\n          ring-number on-caller-id \r\n         mute-dialing\r\n           disconnect-signal loop-break\r\n         disconnect-signal busy-tone\r\n         dial-after timeout 1"}]
[184,{"$f":"+IF(Data!$C$5>ROW(SNOMONE!B185)-ROW(SNOMONE!$B$177),\"\",\"#\")","v":""},{"$f":"+CONCATENATE(\" interface fxo IF_FXO_\",'Line Table'!A10,CHAR(13),CHAR(10),\"          route call dest-interface IF_SIP_\",'Line Table'!A10,CHAR(13),CHAR(10),\"         loop-break-duration min 200 max 1000\",CHAR(13),CHAR(10),\"          \",'Line Table'!D10,CHAR(13),CHAR(10),\"         mute-dialing\",CHAR(13),CHAR(10),\"           disconnect-signal loop-break\",CHAR(13),CHAR(10),\"         disconnect-signal busy-tone\",CHAR(13),CHAR(10),\"         dial-after timeout 1\")","v":" interface fxo IF_FXO_9\r\n          route call dest-interface IF_SIP_9\r\n         loop-break-duration min 200 max 1000\r\n          ring-number on-caller-id \r\n         mute-dialing\r\n           disconnect-signal loop-break\r\n         disconnect-signal busy-tone\r\n         dial-after timeout 1"}]
[185,{"$f":"+IF(Data!$C$5>ROW(SNOMONE!B186)-ROW(SNOMONE!$B$177),\"\",\"#\")","v":""},{"$f":"+CONCATENATE(\" interface fxo IF_FXO_\",'Line Table'!A11,CHAR(13),CHAR(10),\"          route call dest-interface IF_SIP_\",'Line Table'!A11,CHAR(13),CHAR(10),\"         loop-break-duration min 200 max 1000\",CHAR(13),CHAR(10),\"          \",'Line Table'!D11,CHAR(13),CHAR(10),\"         mute-dialing\",CHAR(13),CHAR(10),\"           disconnect-signal loop-break\",CHAR(13),CHAR(10),\"         disconnect-signal busy-tone\",CHAR(13),CHAR(10),\"         dial-after timeout 1\")","v":" interface fxo IF_FXO_10\r\n          route call dest-interface IF_SIP_10\r\n         loop-break-duration min 200 max 1000\r\n          ring-number on-caller-id \r\n         mute-dialing\r\n           disconnect-signal loop-break\r\n         disconnect-signal busy-tone\r\n         dial-after timeout 1"}]
[186,{"$f":"+IF(Data!$C$5>ROW(SNOMONE!B187)-ROW(SNOMONE!$B$177),\"\",\"#\")","v":""},{"$f":"+CONCATENATE(\" interface fxo IF_FXO_\",'Line Table'!A12,CHAR(13),CHAR(10),\"          route call dest-interface IF_SIP_\",'Line Table'!A12,CHAR(13),CHAR(10),\"         loop-break-duration min 200 max 1000\",CHAR(13),CHAR(10),\"          \",'Line Table'!D12,CHAR(13),CHAR(10),\"         mute-dialing\",CHAR(13),CHAR(10),\"           disconnect-signal loop-break\",CHAR(13),CHAR(10),\"         disconnect-signal busy-tone\",CHAR(13),CHAR(10),\"         dial-after timeout 1\")","v":" interface fxo IF_FXO_11\r\n          route call dest-interface IF_SIP_11\r\n         loop-break-duration min 200 max 1000\r\n          ring-number on-caller-id \r\n         mute-dialing\r\n           disconnect-signal loop-break\r\n         disconnect-signal busy-tone\r\n         dial-after timeout 1"}]
[187,{"$f":"+IF(Data!$C$5>ROW(SNOMONE!B188)-ROW(SNOMONE!$B$177),\"\",\"#\")","v":""},{"$f":"+CONCATENATE(\" interface fxo IF_FXO_\",'Line Table'!A13,CHAR(13),CHAR(10),\"          route call dest-interface IF_SIP_\",'Line Table'!A13,CHAR(13),CHAR(10),\"         loop-break-duration min 200 max 1000\",CHAR(13),CHAR(10),\"          \",'Line Table'!D13,CHAR(13),CHAR(10),\"         mute-dialing\",CHAR(13),CHAR(10),\"           disconnect-signal loop-break\",CHAR(13),CHAR(10),\"         disconnect-signal busy-tone\",CHAR(13),CHAR(10),\"         dial-after timeout 1\")","v":" interface fxo IF_FXO_12\r\n          route call dest-interface IF_SIP_12\r\n         loop-break-duration min 200 max 1000\r\n          ring-number on-caller-id \r\n         mute-dialing\r\n           disconnect-signal loop-break\r\n         disconnect-signal busy-tone\r\n         dial-after timeout 1"}]
[188,{"$f":"+IF(Data!$C$5>ROW(SNOMONE!B189)-ROW(SNOMONE!$B$177),\"\",\"#\")","v":"#"},{"$f":"+CONCATENATE(\" interface fxo IF_FXO_\",'Line Table'!A14,CHAR(13),CHAR(10),\"          route call dest-interface IF_SIP_\",'Line Table'!A14,CHAR(13),CHAR(10),\"         loop-break-duration min 200 max 1000\",CHAR(13),CHAR(10),\"          \",'Line Table'!D14,CHAR(13),CHAR(10),\"         mute-dialing\",CHAR(13),CHAR(10),\"           disconnect-signal loop-break\",CHAR(13),CHAR(10),\"         disconnect-signal busy-tone\",CHAR(13),CHAR(10),\"         dial-after timeout 1\")","v":" interface fxo IF_FXO_13\r\n          route call dest-interface IF_SIP_13\r\n         loop-break-duration min 200 max 1000\r\n          ring-number on-caller-id \r\n         mute-dialing\r\n           disconnect-signal loop-break\r\n         disconnect-signal busy-tone\r\n         dial-after timeout 1"}]
[189,{"$f":"+IF(Data!$C$5>ROW(SNOMONE!B190)-ROW(SNOMONE!$B$177),\"\",\"#\")","v":"#"},{"$f":"+CONCATENATE(\" interface fxo IF_FXO_\",'Line Table'!A15,CHAR(13),CHAR(10),\"          route call dest-interface IF_SIP_\",'Line Table'!A15,CHAR(13),CHAR(10),\"         loop-break-duration min 200 max 1000\",CHAR(13),CHAR(10),\"          \",'Line Table'!D15,CHAR(13),CHAR(10),\"         mute-dialing\",CHAR(13),CHAR(10),\"           disconnect-signal loop-break\",CHAR(13),CHAR(10),\"         disconnect-signal busy-tone\",CHAR(13),CHAR(10),\"         dial-after timeout 1\")","v":" interface fxo IF_FXO_14\r\n          route call dest-interface IF_SIP_14\r\n         loop-break-duration min 200 max 1000\r\n          ring-number on-caller-id \r\n         mute-dialing\r\n           disconnect-signal loop-break\r\n         disconnect-signal busy-tone\r\n         dial-after timeout 1"}]
[190,{"$f":"+IF(Data!$C$5>ROW(SNOMONE!B191)-ROW(SNOMONE!$B$177),\"\",\"#\")","v":"#"},{"$f":"+CONCATENATE(\" interface fxo IF_FXO_\",'Line Table'!A16,CHAR(13),CHAR(10),\"          route call dest-interface IF_SIP_\",'Line Table'!A16,CHAR(13),CHAR(10),\"         loop-break-duration min 200 max 1000\",CHAR(13),CHAR(10),\"          \",'Line Table'!D16,CHAR(13),CHAR(10),\"         mute-dialing\",CHAR(13),CHAR(10),\"           disconnect-signal loop-break\",CHAR(13),CHAR(10),\"         disconnect-signal busy-tone\",CHAR(13),CHAR(10),\"         dial-after timeout 1\")","v":" interface fxo IF_FXO_15\r\n          route call dest-interface IF_SIP_15\r\n         loop-break-duration min 200 max 1000\r\n          ring-number on-caller-id \r\n         mute-dialing\r\n           disconnect-signal loop-break\r\n         disconnect-signal busy-tone\r\n         dial-after timeout 1"}]
[191,{"$f":"+IF(Data!$C$5>ROW(SNOMONE!B192)-ROW(SNOMONE!$B$177),\"\",\"#\")","v":"#"},{"$f":"+CONCATENATE(\" interface fxo IF_FXO_\",'Line Table'!A17,CHAR(13),CHAR(10),\"          route call dest-interface IF_SIP_\",'Line Table'!A17,CHAR(13),CHAR(10),\"         loop-break-duration min 200 max 1000\",CHAR(13),CHAR(10),\"          \",'Line Table'!D17,CHAR(13),CHAR(10),\"         mute-dialing\",CHAR(13),CHAR(10),\"           disconnect-signal loop-break\",CHAR(13),CHAR(10),\"         disconnect-signal busy-tone\",CHAR(13),CHAR(10),\"         dial-after timeout 1\")","v":" interface fxo IF_FXO_16\r\n          route call dest-interface IF_SIP_16\r\n         loop-break-duration min 200 max 1000\r\n          ring-number on-caller-id \r\n         mute-dialing\r\n           disconnect-signal loop-break\r\n         disconnect-signal busy-tone\r\n         dial-after timeout 1"}]
[192,{"$f":"+IF(Data!$C$5>ROW(SNOMONE!B193)-ROW(SNOMONE!$B$177),\"\",\"#\")","v":"#"},{"$f":"+CONCATENATE(\" interface fxo IF_FXO_\",'Line Table'!A18,CHAR(13),CHAR(10),\"          route call dest-interface IF_SIP_\",'Line Table'!A18,CHAR(13),CHAR(10),\"         loop-break-duration min 200 max 1000\",CHAR(13),CHAR(10),\"          \",'Line Table'!D18,CHAR(13),CHAR(10),\"         mute-dialing\",CHAR(13),CHAR(10),\"           disconnect-signal loop-break\",CHAR(13),CHAR(10),\"         disconnect-signal busy-tone\",CHAR(13),CHAR(10),\"         dial-after timeout 1\")","v":" interface fxo IF_FXO_17\r\n          route call dest-interface IF_SIP_17\r\n         loop-break-duration min 200 max 1000\r\n          ring-number on-caller-id \r\n         mute-dialing\r\n           disconnect-signal loop-break\r\n         disconnect-signal busy-tone\r\n         dial-after timeout 1"}]
[193,{"$f":"+IF(Data!$C$5>ROW(SNOMONE!B194)-ROW(SNOMONE!$B$177),\"\",\"#\")","v":"#"},{"$f":"+CONCATENATE(\" interface fxo IF_FXO_\",'Line Table'!A19,CHAR(13),CHAR(10),\"          route call dest-interface IF_SIP_\",'Line Table'!A19,CHAR(13),CHAR(10),\"         loop-break-duration min 200 max 1000\",CHAR(13),CHAR(10),\"          \",'Line Table'!D19,CHAR(13),CHAR(10),\"         mute-dialing\",CHAR(13),CHAR(10),\"           disconnect-signal loop-break\",CHAR(13),CHAR(10),\"         disconnect-signal busy-tone\",CHAR(13),CHAR(10),\"         dial-after timeout 1\")","v":" interface fxo IF_FXO_18\r\n          route call dest-interface IF_SIP_18\r\n         loop-break-duration min 200 max 1000\r\n          ring-number on-caller-id \r\n         mute-dialing\r\n           disconnect-signal loop-break\r\n         disconnect-signal busy-tone\r\n         dial-after timeout 1"}]
[194,{"$f":"+IF(Data!$C$5>ROW(SNOMONE!B195)-ROW(SNOMONE!$B$177),\"\",\"#\")","v":"#"},{"$f":"+CONCATENATE(\" interface fxo IF_FXO_\",'Line Table'!A20,CHAR(13),CHAR(10),\"          route call dest-interface IF_SIP_\",'Line Table'!A20,CHAR(13),CHAR(10),\"         loop-break-duration min 200 max 1000\",CHAR(13),CHAR(10),\"          \",'Line Table'!D20,CHAR(13),CHAR(10),\"         mute-dialing\",CHAR(13),CHAR(10),\"           disconnect-signal loop-break\",CHAR(13),CHAR(10),\"         disconnect-signal busy-tone\",CHAR(13),CHAR(10),\"         dial-after timeout 1\")","v":" interface fxo IF_FXO_19\r\n          route call dest-interface IF_SIP_19\r\n         loop-break-duration min 200 max 1000\r\n          ring-number on-caller-id \r\n         mute-dialing\r\n           disconnect-signal loop-break\r\n         disconnect-signal busy-tone\r\n         dial-after timeout 1"}]
[195,{"$f":"+IF(Data!$C$5>ROW(SNOMONE!B196)-ROW(SNOMONE!$B$177),\"\",\"#\")","v":"#"},{"$f":"+CONCATENATE(\" interface fxo IF_FXO_\",'Line Table'!A21,CHAR(13),CHAR(10),\"          route call dest-interface IF_SIP_\",'Line Table'!A21,CHAR(13),CHAR(10),\"         loop-break-duration min 200 max 1000\",CHAR(13),CHAR(10),\"          \",'Line Table'!D21,CHAR(13),CHAR(10),\"         mute-dialing\",CHAR(13),CHAR(10),\"           disconnect-signal loop-break\",CHAR(13),CHAR(10),\"         disconnect-signal busy-tone\",CHAR(13),CHAR(10),\"         dial-after timeout 1\")","v":" interface fxo IF_FXO_20\r\n          route call dest-interface IF_SIP_20\r\n         loop-break-duration min 200 max 1000\r\n          ring-number on-caller-id \r\n         mute-dialing\r\n           disconnect-signal loop-break\r\n         disconnect-signal busy-tone\r\n         dial-after timeout 1"}]
[196,{"$f":"+IF(Data!$C$5>ROW(SNOMONE!B197)-ROW(SNOMONE!$B$177),\"\",\"#\")","v":"#"},{"$f":"+CONCATENATE(\" interface fxo IF_FXO_\",'Line Table'!A22,CHAR(13),CHAR(10),\"          route call dest-interface IF_SIP_\",'Line Table'!A22,CHAR(13),CHAR(10),\"         loop-break-duration min 200 max 1000\",CHAR(13),CHAR(10),\"          \",'Line Table'!D22,CHAR(13),CHAR(10),\"         mute-dialing\",CHAR(13),CHAR(10),\"           disconnect-signal loop-break\",CHAR(13),CHAR(10),\"         disconnect-signal busy-tone\",CHAR(13),CHAR(10),\"         dial-after timeout 1\")","v":" interface fxo IF_FXO_21\r\n          route call dest-interface IF_SIP_21\r\n         loop-break-duration min 200 max 1000\r\n          ring-number on-caller-id \r\n         mute-dialing\r\n           disconnect-signal loop-break\r\n         disconnect-signal busy-tone\r\n         dial-after timeout 1"}]
[197,{"$f":"+IF(Data!$C$5>ROW(SNOMONE!B198)-ROW(SNOMONE!$B$177),\"\",\"#\")","v":"#"},{"$f":"+CONCATENATE(\" interface fxo IF_FXO_\",'Line Table'!A23,CHAR(13),CHAR(10),\"          route call dest-interface IF_SIP_\",'Line Table'!A23,CHAR(13),CHAR(10),\"         loop-break-duration min 200 max 1000\",CHAR(13),CHAR(10),\"          \",'Line Table'!D23,CHAR(13),CHAR(10),\"         mute-dialing\",CHAR(13),CHAR(10),\"           disconnect-signal loop-break\",CHAR(13),CHAR(10),\"         disconnect-signal busy-tone\",CHAR(13),CHAR(10),\"         dial-after timeout 1\")","v":" interface fxo IF_FXO_22\r\n          route call dest-interface IF_SIP_22\r\n         loop-break-duration min 200 max 1000\r\n          ring-number on-caller-id \r\n         mute-dialing\r\n           disconnect-signal loop-break\r\n         disconnect-signal busy-tone\r\n         dial-after timeout 1"}]
[198,{"$f":"+IF(Data!$C$5>ROW(SNOMONE!B199)-ROW(SNOMONE!$B$177),\"\",\"#\")","v":"#"},{"$f":"+CONCATENATE(\" interface fxo IF_FXO_\",'Line Table'!A24,CHAR(13),CHAR(10),\"          route call dest-interface IF_SIP_\",'Line Table'!A24,CHAR(13),CHAR(10),\"         loop-break-duration min 200 max 1000\",CHAR(13),CHAR(10),\"          \",'Line Table'!D24,CHAR(13),CHAR(10),\"         mute-dialing\",CHAR(13),CHAR(10),\"           disconnect-signal loop-break\",CHAR(13),CHAR(10),\"         disconnect-signal busy-tone\",CHAR(13),CHAR(10),\"         dial-after timeout 1\")","v":" interface fxo IF_FXO_23\r\n          route call dest-interface IF_SIP_23\r\n         loop-break-duration min 200 max 1000\r\n          ring-number on-caller-id \r\n         mute-dialing\r\n           disconnect-signal loop-break\r\n         disconnect-signal busy-tone\r\n         dial-after timeout 1"}]
[199,{"$f":"+IF(Data!$C$5>ROW(SNOMONE!B200)-ROW(SNOMONE!$B$177),\"\",\"#\")","v":"#"},{"$f":"+CONCATENATE(\" interface fxo IF_FXO_\",'Line Table'!A25,CHAR(13),CHAR(10),\"          route call dest-interface IF_SIP_\",'Line Table'!A25,CHAR(13),CHAR(10),\"         loop-break-duration min 200 max 1000\",CHAR(13),CHAR(10),\"          \",'Line Table'!D25,CHAR(13),CHAR(10),\"         mute-dialing\",CHAR(13),CHAR(10),\"           disconnect-signal loop-break\",CHAR(13),CHAR(10),\"         disconnect-signal busy-tone\",CHAR(13),CHAR(10),\"         dial-after timeout 1\")","v":" interface fxo IF_FXO_24\r\n          route call dest-interface IF_SIP_24\r\n         loop-break-duration min 200 max 1000\r\n          ring-number on-caller-id \r\n         mute-dialing\r\n           disconnect-signal loop-break\r\n         disconnect-signal busy-tone\r\n         dial-after timeout 1"}]
[200,{"$f":"+IF(Data!$C$5>ROW(SNOMONE!B201)-ROW(SNOMONE!$B$177),\"\",\"#\")","v":"#"},{"$f":"+CONCATENATE(\" interface fxo IF_FXO_\",'Line Table'!A26,CHAR(13),CHAR(10),\"          route call dest-interface IF_SIP_\",'Line Table'!A26,CHAR(13),CHAR(10),\"         loop-break-duration min 200 max 1000\",CHAR(13),CHAR(10),\"          \",'Line Table'!D26,CHAR(13),CHAR(10),\"         mute-dialing\",CHAR(13),CHAR(10),\"           disconnect-signal loop-break\",CHAR(13),CHAR(10),\"         disconnect-signal busy-tone\",CHAR(13),CHAR(10),\"         dial-after timeout 1\")","v":" interface fxo IF_FXO_25\r\n          route call dest-interface IF_SIP_25\r\n         loop-break-duration min 200 max 1000\r\n          ring-number on-caller-id \r\n         mute-dialing\r\n           disconnect-signal loop-break\r\n         disconnect-signal busy-tone\r\n         dial-after timeout 1"}]
[201,{"$f":"+IF(Data!$C$5>ROW(SNOMONE!B202)-ROW(SNOMONE!$B$177),\"\",\"#\")","v":"#"},{"$f":"+CONCATENATE(\" interface fxo IF_FXO_\",'Line Table'!A27,CHAR(13),CHAR(10),\"          route call dest-interface IF_SIP_\",'Line Table'!A27,CHAR(13),CHAR(10),\"         loop-break-duration min 200 max 1000\",CHAR(13),CHAR(10),\"          \",'Line Table'!D27,CHAR(13),CHAR(10),\"         mute-dialing\",CHAR(13),CHAR(10),\"           disconnect-signal loop-break\",CHAR(13),CHAR(10),\"         disconnect-signal busy-tone\",CHAR(13),CHAR(10),\"         dial-after timeout 1\")","v":" interface fxo IF_FXO_26\r\n          route call dest-interface IF_SIP_26\r\n         loop-break-duration min 200 max 1000\r\n          ring-number on-caller-id \r\n         mute-dialing\r\n           disconnect-signal loop-break\r\n         disconnect-signal busy-tone\r\n         dial-after timeout 1"}]
[202,{"$f":"+IF(Data!$C$5>ROW(SNOMONE!B203)-ROW(SNOMONE!$B$177),\"\",\"#\")","v":"#"},{"$f":"+CONCATENATE(\" interface fxo IF_FXO_\",'Line Table'!A28,CHAR(13),CHAR(10),\"          route call dest-interface IF_SIP_\",'Line Table'!A28,CHAR(13),CHAR(10),\"         loop-break-duration min 200 max 1000\",CHAR(13),CHAR(10),\"          \",'Line Table'!D28,CHAR(13),CHAR(10),\"         mute-dialing\",CHAR(13),CHAR(10),\"           disconnect-signal loop-break\",CHAR(13),CHAR(10),\"         disconnect-signal busy-tone\",CHAR(13),CHAR(10),\"         dial-after timeout 1\")","v":" interface fxo IF_FXO_27\r\n          route call dest-interface IF_SIP_27\r\n         loop-break-duration min 200 max 1000\r\n          ring-number on-caller-id \r\n         mute-dialing\r\n           disconnect-signal loop-break\r\n         disconnect-signal busy-tone\r\n         dial-after timeout 1"}]
[203,{"$f":"+IF(Data!$C$5>ROW(SNOMONE!B204)-ROW(SNOMONE!$B$177),\"\",\"#\")","v":"#"},{"$f":"+CONCATENATE(\" interface fxo IF_FXO_\",'Line Table'!A29,CHAR(13),CHAR(10),\"          route call dest-interface IF_SIP_\",'Line Table'!A29,CHAR(13),CHAR(10),\"         loop-break-duration min 200 max 1000\",CHAR(13),CHAR(10),\"          \",'Line Table'!D29,CHAR(13),CHAR(10),\"         mute-dialing\",CHAR(13),CHAR(10),\"           disconnect-signal loop-break\",CHAR(13),CHAR(10),\"         disconnect-signal busy-tone\",CHAR(13),CHAR(10),\"         dial-after timeout 1\")","v":" interface fxo IF_FXO_28\r\n          route call dest-interface IF_SIP_28\r\n         loop-break-duration min 200 max 1000\r\n          ring-number on-caller-id \r\n         mute-dialing\r\n           disconnect-signal loop-break\r\n         disconnect-signal busy-tone\r\n         dial-after timeout 1"}]
[204,{"$f":"+IF(Data!$C$5>ROW(SNOMONE!B205)-ROW(SNOMONE!$B$177),\"\",\"#\")","v":"#"},{"$f":"+CONCATENATE(\" interface fxo IF_FXO_\",'Line Table'!A30,CHAR(13),CHAR(10),\"          route call dest-interface IF_SIP_\",'Line Table'!A30,CHAR(13),CHAR(10),\"         loop-break-duration min 200 max 1000\",CHAR(13),CHAR(10),\"          \",'Line Table'!D30,CHAR(13),CHAR(10),\"         mute-dialing\",CHAR(13),CHAR(10),\"           disconnect-signal loop-break\",CHAR(13),CHAR(10),\"         disconnect-signal busy-tone\",CHAR(13),CHAR(10),\"         dial-after timeout 1\")","v":" interface fxo IF_FXO_29\r\n          route call dest-interface IF_SIP_29\r\n         loop-break-duration min 200 max 1000\r\n          ring-number on-caller-id \r\n         mute-dialing\r\n           disconnect-signal loop-break\r\n         disconnect-signal busy-tone\r\n         dial-after timeout 1"}]
[205,{"$f":"+IF(Data!$C$5>ROW(SNOMONE!B206)-ROW(SNOMONE!$B$177),\"\",\"#\")","v":"#"},{"$f":"+CONCATENATE(\" interface fxo IF_FXO_\",'Line Table'!A31,CHAR(13),CHAR(10),\"          route call dest-interface IF_SIP_\",'Line Table'!A31,CHAR(13),CHAR(10),\"         loop-break-duration min 200 max 1000\",CHAR(13),CHAR(10),\"          \",'Line Table'!D31,CHAR(13),CHAR(10),\"         mute-dialing\",CHAR(13),CHAR(10),\"           disconnect-signal loop-break\",CHAR(13),CHAR(10),\"         disconnect-signal busy-tone\",CHAR(13),CHAR(10),\"         dial-after timeout 1\")","v":" interface fxo IF_FXO_30\r\n          route call dest-interface IF_SIP_30\r\n         loop-break-duration min 200 max 1000\r\n          ring-number on-caller-id \r\n         mute-dialing\r\n           disconnect-signal loop-break\r\n         disconnect-signal busy-tone\r\n         dial-after timeout 1"}]
[206,{"$f":"+IF(Data!$C$5>ROW(SNOMONE!B207)-ROW(SNOMONE!$B$177),\"\",\"#\")","v":"#"},{"$f":"+CONCATENATE(\" interface fxo IF_FXO_\",'Line Table'!A32,CHAR(13),CHAR(10),\"          route call dest-interface IF_SIP_\",'Line Table'!A32,CHAR(13),CHAR(10),\"         loop-break-duration min 200 max 1000\",CHAR(13),CHAR(10),\"          \",'Line Table'!D32,CHAR(13),CHAR(10),\"         mute-dialing\",CHAR(13),CHAR(10),\"           disconnect-signal loop-break\",CHAR(13),CHAR(10),\"         disconnect-signal busy-tone\",CHAR(13),CHAR(10),\"         dial-after timeout 1\")","v":" interface fxo IF_FXO_31\r\n          route call dest-interface IF_SIP_31\r\n         loop-break-duration min 200 max 1000\r\n          ring-number on-caller-id \r\n         mute-dialing\r\n           disconnect-signal loop-break\r\n         disconnect-signal busy-tone\r\n         dial-after timeout 1"}]
[207,{"$f":"+IF(Data!$C$5>ROW(SNOMONE!B208)-ROW(SNOMONE!$B$177),\"\",\"#\")","v":"#"},{"$f":"+CONCATENATE(\" interface fxo IF_FXO_\",'Line Table'!A33,CHAR(13),CHAR(10),\"          route call dest-interface IF_SIP_\",'Line Table'!A33,CHAR(13),CHAR(10),\"         loop-break-duration min 200 max 1000\",CHAR(13),CHAR(10),\"          \",'Line Table'!D33,CHAR(13),CHAR(10),\"         mute-dialing\",CHAR(13),CHAR(10),\"           disconnect-signal loop-break\",CHAR(13),CHAR(10),\"         disconnect-signal busy-tone\",CHAR(13),CHAR(10),\"         dial-after timeout 1\")","v":" interface fxo IF_FXO_32\r\n          route call dest-interface IF_SIP_32\r\n         loop-break-duration min 200 max 1000\r\n          ring-number on-caller-id \r\n         mute-dialing\r\n           disconnect-signal loop-break\r\n         disconnect-signal busy-tone\r\n         dial-after timeout 1"}]
[208]
[209,{"$f":"+IF(Data!$C$6>0,\" \",\"#\")","v":"#"},"interface sip IF_SIP_PBX"]
[210,{"$f":"+IF(Data!$C$6>0,\" \",\"#\")","v":"#"},"        bind context sip-gateway GW_SIP_ALL_EXTENSIONS"]
[211,{"$f":"+IF(Data!$C$6>0,\" \",\"#\")","v":"#"},"        route call dest-table RT_TO_FXS"]
[212,{"$f":"+IF(Data!$C$6>0,\" \",\"#\")","v":"#"},{"$f":"+CONCATENATE(\"              remote \",Data!C24,\" \",Data!C25)","v":"              remote 10.10.50.23 5060"}]
[213,{"$f":"+IF(Data!$C$6>0,\" \",\"#\")","v":"#"},{"$f":"+IF(OR(AND(UPPER(Data!C15)=\"DHCP\",Data!$C$8=\"LAN\"),AND(UPPER(Data!C19)=\"DHCP\",Data!$C$8=\"WAN\")),\" \",+CONCATENATE(\"              local \",Data!C15))","v":"              local 10.10.1.10"}]
[214]
[215,{"$f":"+IF(Data!$C$6>ROW(SNOMONE!B215)-ROW(SNOMONE!$B$215),\"\",\"#\")","v":"#"},{"$f":"+CONCATENATE(\"    interface fxs IF_FXS_\",'Extension Table'!C2,CHAR(13),CHAR(10),IF(Data!$C$42=\"(none)\",\"\",CONCATENATE(\"        caller-id-presentation \",Data!$C$42)),CHAR(13),CHAR(10),\"             route call dest-table RT_DIGITCOLLECTION\",CHAR(13),CHAR(10),\"             message-waiting-indication stutter-dial-tone\",CHAR(13),CHAR(10),\"             message-waiting-indication frequency-shift-keying\",CHAR(13),CHAR(10),\"             call-transfer\",CHAR(13),CHAR(10),\"             subscriber-number \",'Extension Table'!A2)","v":"    interface fxs IF_FXS_1\r\n        caller-id-presentation pre-ring\r\n             route call dest-table RT_DIGITCOLLECTION\r\n             message-waiting-indication stutter-dial-tone\r\n             message-waiting-indication frequency-shift-keying\r\n             call-transfer\r\n             subscriber-number 101"},"Agregar Early connect / Disconnect"]
[216,{"$f":"+IF(Data!$C$6>ROW(SNOMONE!B216)-ROW(SNOMONE!$B$215),\"\",\"#\")","v":"#"},{"$f":"+CONCATENATE(\"    interface fxs IF_FXS_\",'Extension Table'!C3,CHAR(13),CHAR(10),\"             route call dest-table RT_DIGITCOLLECTION\",CHAR(13),CHAR(10),\"             message-waiting-indication stutter-dial-tone\",CHAR(13),CHAR(10),\"             message-waiting-indication frequency-shift-keying\",CHAR(13),CHAR(10),\"             call-transfer\",CHAR(13),CHAR(10),\"             subscriber-number \",'Extension Table'!A3)","v":"    interface fxs IF_FXS_2\r\n             route call dest-table RT_DIGITCOLLECTION\r\n             message-waiting-indication stutter-dial-tone\r\n             message-waiting-indication frequency-shift-keying\r\n             call-transfer\r\n             subscriber-number 102"}]
[217,{"$f":"+IF(Data!$C$6>ROW(SNOMONE!B217)-ROW(SNOMONE!$B$215),\"\",\"#\")","v":"#"},{"$f":"+CONCATENATE(\"    interface fxs IF_FXS_\",'Extension Table'!C4,CHAR(13),CHAR(10),\"             route call dest-table RT_DIGITCOLLECTION\",CHAR(13),CHAR(10),\"             message-waiting-indication stutter-dial-tone\",CHAR(13),CHAR(10),\"             message-waiting-indication frequency-shift-keying\",CHAR(13),CHAR(10),\"             call-transfer\",CHAR(13),CHAR(10),\"             subscriber-number \",'Extension Table'!A4)","v":"    interface fxs IF_FXS_3\r\n             route call dest-table RT_DIGITCOLLECTION\r\n             message-waiting-indication stutter-dial-tone\r\n             message-waiting-indication frequency-shift-keying\r\n             call-transfer\r\n             subscriber-number 103"}]
[218,{"$f":"+IF(Data!$C$6>ROW(SNOMONE!B218)-ROW(SNOMONE!$B$215),\"\",\"#\")","v":"#"},{"$f":"+CONCATENATE(\"    interface fxs IF_FXS_\",'Extension Table'!C5,CHAR(13),CHAR(10),\"             route call dest-table RT_DIGITCOLLECTION\",CHAR(13),CHAR(10),\"             message-waiting-indication stutter-dial-tone\",CHAR(13),CHAR(10),\"             message-waiting-indication frequency-shift-keying\",CHAR(13),CHAR(10),\"             call-transfer\",CHAR(13),CHAR(10),\"             subscriber-number \",'Extension Table'!A5)","v":"    interface fxs IF_FXS_4\r\n             route call dest-table RT_DIGITCOLLECTION\r\n             message-waiting-indication stutter-dial-tone\r\n             message-waiting-indication frequency-shift-keying\r\n             call-transfer\r\n             subscriber-number 104"}]
[219,{"$f":"+IF(Data!$C$6>ROW(SNOMONE!B219)-ROW(SNOMONE!$B$215),\"\",\"#\")","v":"#"},{"$f":"+CONCATENATE(\"    interface fxs IF_FXS_\",'Extension Table'!C6,CHAR(13),CHAR(10),\"             route call dest-table RT_DIGITCOLLECTION\",CHAR(13),CHAR(10),\"             message-waiting-indication stutter-dial-tone\",CHAR(13),CHAR(10),\"             message-waiting-indication frequency-shift-keying\",CHAR(13),CHAR(10),\"             call-transfer\",CHAR(13),CHAR(10),\"             subscriber-number \",'Extension Table'!A6)","v":"    interface fxs IF_FXS_5\r\n             route call dest-table RT_DIGITCOLLECTION\r\n             message-waiting-indication stutter-dial-tone\r\n             message-waiting-indication frequency-shift-keying\r\n             call-transfer\r\n             subscriber-number 105"}]
[220,{"$f":"+IF(Data!$C$6>ROW(SNOMONE!B220)-ROW(SNOMONE!$B$215),\"\",\"#\")","v":"#"},{"$f":"+CONCATENATE(\"    interface fxs IF_FXS_\",'Extension Table'!C7,CHAR(13),CHAR(10),\"             route call dest-table RT_DIGITCOLLECTION\",CHAR(13),CHAR(10),\"             message-waiting-indication stutter-dial-tone\",CHAR(13),CHAR(10),\"             message-waiting-indication frequency-shift-keying\",CHAR(13),CHAR(10),\"             call-transfer\",CHAR(13),CHAR(10),\"             subscriber-number \",'Extension Table'!A7)","v":"    interface fxs IF_FXS_6\r\n             route call dest-table RT_DIGITCOLLECTION\r\n             message-waiting-indication stutter-dial-tone\r\n             message-waiting-indication frequency-shift-keying\r\n             call-transfer\r\n             subscriber-number 106"}]
[221,{"$f":"+IF(Data!$C$6>ROW(SNOMONE!B221)-ROW(SNOMONE!$B$215),\"\",\"#\")","v":"#"},{"$f":"+CONCATENATE(\"    interface fxs IF_FXS_\",'Extension Table'!C8,CHAR(13),CHAR(10),\"             route call dest-table RT_DIGITCOLLECTION\",CHAR(13),CHAR(10),\"             message-waiting-indication stutter-dial-tone\",CHAR(13),CHAR(10),\"             message-waiting-indication frequency-shift-keying\",CHAR(13),CHAR(10),\"             call-transfer\",CHAR(13),CHAR(10),\"             subscriber-number \",'Extension Table'!A8)","v":"    interface fxs IF_FXS_7\r\n             route call dest-table RT_DIGITCOLLECTION\r\n             message-waiting-indication stutter-dial-tone\r\n             message-waiting-indication frequency-shift-keying\r\n             call-transfer\r\n             subscriber-number 107"}]
[222,{"$f":"+IF(Data!$C$6>ROW(SNOMONE!B222)-ROW(SNOMONE!$B$215),\"\",\"#\")","v":"#"},{"$f":"+CONCATENATE(\"    interface fxs IF_FXS_\",'Extension Table'!C9,CHAR(13),CHAR(10),\"             route call dest-table RT_DIGITCOLLECTION\",CHAR(13),CHAR(10),\"             message-waiting-indication stutter-dial-tone\",CHAR(13),CHAR(10),\"             message-waiting-indication frequency-shift-keying\",CHAR(13),CHAR(10),\"             call-transfer\",CHAR(13),CHAR(10),\"             subscriber-number \",'Extension Table'!A9)","v":"    interface fxs IF_FXS_8\r\n             route call dest-table RT_DIGITCOLLECTION\r\n             message-waiting-indication stutter-dial-tone\r\n             message-waiting-indication frequency-shift-keying\r\n             call-transfer\r\n             subscriber-number 108"}]
[223,{"$f":"+IF(Data!$C$6>ROW(SNOMONE!B223)-ROW(SNOMONE!$B$215),\"\",\"#\")","v":"#"},{"$f":"+CONCATENATE(\"    interface fxs IF_FXS_\",'Extension Table'!C10,CHAR(13),CHAR(10),\"             route call dest-table RT_DIGITCOLLECTION\",CHAR(13),CHAR(10),\"             message-waiting-indication stutter-dial-tone\",CHAR(13),CHAR(10),\"             message-waiting-indication frequency-shift-keying\",CHAR(13),CHAR(10),\"             call-transfer\",CHAR(13),CHAR(10),\"             subscriber-number \",'Extension Table'!A10)","v":"    interface fxs IF_FXS_9\r\n             route call dest-table RT_DIGITCOLLECTION\r\n             message-waiting-indication stutter-dial-tone\r\n             message-waiting-indication frequency-shift-keying\r\n             call-transfer\r\n             subscriber-number 109"}]
[224,{"$f":"+IF(Data!$C$6>ROW(SNOMONE!B224)-ROW(SNOMONE!$B$215),\"\",\"#\")","v":"#"},{"$f":"+CONCATENATE(\"    interface fxs IF_FXS_\",'Extension Table'!C11,CHAR(13),CHAR(10),\"             route call dest-table RT_DIGITCOLLECTION\",CHAR(13),CHAR(10),\"             message-waiting-indication stutter-dial-tone\",CHAR(13),CHAR(10),\"             message-waiting-indication frequency-shift-keying\",CHAR(13),CHAR(10),\"             call-transfer\",CHAR(13),CHAR(10),\"             subscriber-number \",'Extension Table'!A11)","v":"    interface fxs IF_FXS_10\r\n             route call dest-table RT_DIGITCOLLECTION\r\n             message-waiting-indication stutter-dial-tone\r\n             message-waiting-indication frequency-shift-keying\r\n             call-transfer\r\n             subscriber-number 110"}]
[225,{"$f":"+IF(Data!$C$6>ROW(SNOMONE!B225)-ROW(SNOMONE!$B$215),\"\",\"#\")","v":"#"},{"$f":"+CONCATENATE(\"    interface fxs IF_FXS_\",'Extension Table'!C12,CHAR(13),CHAR(10),\"             route call dest-table RT_DIGITCOLLECTION\",CHAR(13),CHAR(10),\"             message-waiting-indication stutter-dial-tone\",CHAR(13),CHAR(10),\"             message-waiting-indication frequency-shift-keying\",CHAR(13),CHAR(10),\"             call-transfer\",CHAR(13),CHAR(10),\"             subscriber-number \",'Extension Table'!A12)","v":"    interface fxs IF_FXS_11\r\n             route call dest-table RT_DIGITCOLLECTION\r\n             message-waiting-indication stutter-dial-tone\r\n             message-waiting-indication frequency-shift-keying\r\n             call-transfer\r\n             subscriber-number 111"}]
[226,{"$f":"+IF(Data!$C$6>ROW(SNOMONE!B226)-ROW(SNOMONE!$B$215),\"\",\"#\")","v":"#"},{"$f":"+CONCATENATE(\"    interface fxs IF_FXS_\",'Extension Table'!C13,CHAR(13),CHAR(10),\"             route call dest-table RT_DIGITCOLLECTION\",CHAR(13),CHAR(10),\"             message-waiting-indication stutter-dial-tone\",CHAR(13),CHAR(10),\"             message-waiting-indication frequency-shift-keying\",CHAR(13),CHAR(10),\"             call-transfer\",CHAR(13),CHAR(10),\"             subscriber-number \",'Extension Table'!A13)","v":"    interface fxs IF_FXS_12\r\n             route call dest-table RT_DIGITCOLLECTION\r\n             message-waiting-indication stutter-dial-tone\r\n             message-waiting-indication frequency-shift-keying\r\n             call-transfer\r\n             subscriber-number 112"}]
[227,{"$f":"+IF(Data!$C$6>ROW(SNOMONE!B227)-ROW(SNOMONE!$B$215),\"\",\"#\")","v":"#"},{"$f":"+CONCATENATE(\"    interface fxs IF_FXS_\",'Extension Table'!C14,CHAR(13),CHAR(10),\"             route call dest-table RT_DIGITCOLLECTION\",CHAR(13),CHAR(10),\"             message-waiting-indication stutter-dial-tone\",CHAR(13),CHAR(10),\"             message-waiting-indication frequency-shift-keying\",CHAR(13),CHAR(10),\"             call-transfer\",CHAR(13),CHAR(10),\"             subscriber-number \",'Extension Table'!A14)","v":"    interface fxs IF_FXS_13\r\n             route call dest-table RT_DIGITCOLLECTION\r\n             message-waiting-indication stutter-dial-tone\r\n             message-waiting-indication frequency-shift-keying\r\n             call-transfer\r\n             subscriber-number 113"}]
[228,{"$f":"+IF(Data!$C$6>ROW(SNOMONE!B228)-ROW(SNOMONE!$B$215),\"\",\"#\")","v":"#"},{"$f":"+CONCATENATE(\"    interface fxs IF_FXS_\",'Extension Table'!C15,CHAR(13),CHAR(10),\"             route call dest-table RT_DIGITCOLLECTION\",CHAR(13),CHAR(10),\"             message-waiting-indication stutter-dial-tone\",CHAR(13),CHAR(10),\"             message-waiting-indication frequency-shift-keying\",CHAR(13),CHAR(10),\"             call-transfer\",CHAR(13),CHAR(10),\"             subscriber-number \",'Extension Table'!A15)","v":"    interface fxs IF_FXS_14\r\n             route call dest-table RT_DIGITCOLLECTION\r\n             message-waiting-indication stutter-dial-tone\r\n             message-waiting-indication frequency-shift-keying\r\n             call-transfer\r\n             subscriber-number 114"}]
[229,{"$f":"+IF(Data!$C$6>ROW(SNOMONE!B229)-ROW(SNOMONE!$B$215),\"\",\"#\")","v":"#"},{"$f":"+CONCATENATE(\"    interface fxs IF_FXS_\",'Extension Table'!C16,CHAR(13),CHAR(10),\"             route call dest-table RT_DIGITCOLLECTION\",CHAR(13),CHAR(10),\"             message-waiting-indication stutter-dial-tone\",CHAR(13),CHAR(10),\"             message-waiting-indication frequency-shift-keying\",CHAR(13),CHAR(10),\"             call-transfer\",CHAR(13),CHAR(10),\"             subscriber-number \",'Extension Table'!A16)","v":"    interface fxs IF_FXS_15\r\n             route call dest-table RT_DIGITCOLLECTION\r\n             message-waiting-indication stutter-dial-tone\r\n             message-waiting-indication frequency-shift-keying\r\n             call-transfer\r\n             subscriber-number 115"}]
[230,{"$f":"+IF(Data!$C$6>ROW(SNOMONE!B230)-ROW(SNOMONE!$B$215),\"\",\"#\")","v":"#"},{"$f":"+CONCATENATE(\"    interface fxs IF_FXS_\",'Extension Table'!C17,CHAR(13),CHAR(10),\"             route call dest-table RT_DIGITCOLLECTION\",CHAR(13),CHAR(10),\"             message-waiting-indication stutter-dial-tone\",CHAR(13),CHAR(10),\"             message-waiting-indication frequency-shift-keying\",CHAR(13),CHAR(10),\"             call-transfer\",CHAR(13),CHAR(10),\"             subscriber-number \",'Extension Table'!A17)","v":"    interface fxs IF_FXS_16\r\n             route call dest-table RT_DIGITCOLLECTION\r\n             message-waiting-indication stutter-dial-tone\r\n             message-waiting-indication frequency-shift-keying\r\n             call-transfer\r\n             subscriber-number 116"}]
[231,{"$f":"+IF(Data!$C$6>ROW(SNOMONE!B231)-ROW(SNOMONE!$B$215),\"\",\"#\")","v":"#"},{"$f":"+CONCATENATE(\"    interface fxs IF_FXS_\",'Extension Table'!C18,CHAR(13),CHAR(10),\"             route call dest-table RT_DIGITCOLLECTION\",CHAR(13),CHAR(10),\"             message-waiting-indication stutter-dial-tone\",CHAR(13),CHAR(10),\"             message-waiting-indication frequency-shift-keying\",CHAR(13),CHAR(10),\"             call-transfer\",CHAR(13),CHAR(10),\"             subscriber-number \",'Extension Table'!A18)","v":"    interface fxs IF_FXS_17\r\n             route call dest-table RT_DIGITCOLLECTION\r\n             message-waiting-indication stutter-dial-tone\r\n             message-waiting-indication frequency-shift-keying\r\n             call-transfer\r\n             subscriber-number 117"}]
[232,{"$f":"+IF(Data!$C$6>ROW(SNOMONE!B232)-ROW(SNOMONE!$B$215),\"\",\"#\")","v":"#"},{"$f":"+CONCATENATE(\"    interface fxs IF_FXS_\",'Extension Table'!C19,CHAR(13),CHAR(10),\"             route call dest-table RT_DIGITCOLLECTION\",CHAR(13),CHAR(10),\"             message-waiting-indication stutter-dial-tone\",CHAR(13),CHAR(10),\"             message-waiting-indication frequency-shift-keying\",CHAR(13),CHAR(10),\"             call-transfer\",CHAR(13),CHAR(10),\"             subscriber-number \",'Extension Table'!A19)","v":"    interface fxs IF_FXS_18\r\n             route call dest-table RT_DIGITCOLLECTION\r\n             message-waiting-indication stutter-dial-tone\r\n             message-waiting-indication frequency-shift-keying\r\n             call-transfer\r\n             subscriber-number 118"}]
[233,{"$f":"+IF(Data!$C$6>ROW(SNOMONE!B233)-ROW(SNOMONE!$B$215),\"\",\"#\")","v":"#"},{"$f":"+CONCATENATE(\"    interface fxs IF_FXS_\",'Extension Table'!C20,CHAR(13),CHAR(10),\"             route call dest-table RT_DIGITCOLLECTION\",CHAR(13),CHAR(10),\"             message-waiting-indication stutter-dial-tone\",CHAR(13),CHAR(10),\"             message-waiting-indication frequency-shift-keying\",CHAR(13),CHAR(10),\"             call-transfer\",CHAR(13),CHAR(10),\"             subscriber-number \",'Extension Table'!A20)","v":"    interface fxs IF_FXS_19\r\n             route call dest-table RT_DIGITCOLLECTION\r\n             message-waiting-indication stutter-dial-tone\r\n             message-waiting-indication frequency-shift-keying\r\n             call-transfer\r\n             subscriber-number 119"}]
[234,{"$f":"+IF(Data!$C$6>ROW(SNOMONE!B234)-ROW(SNOMONE!$B$215),\"\",\"#\")","v":"#"},{"$f":"+CONCATENATE(\"    interface fxs IF_FXS_\",'Extension Table'!C21,CHAR(13),CHAR(10),\"             route call dest-table RT_DIGITCOLLECTION\",CHAR(13),CHAR(10),\"             message-waiting-indication stutter-dial-tone\",CHAR(13),CHAR(10),\"             message-waiting-indication frequency-shift-keying\",CHAR(13),CHAR(10),\"             call-transfer\",CHAR(13),CHAR(10),\"             subscriber-number \",'Extension Table'!A21)","v":"    interface fxs IF_FXS_20\r\n             route call dest-table RT_DIGITCOLLECTION\r\n             message-waiting-indication stutter-dial-tone\r\n             message-waiting-indication frequency-shift-keying\r\n             call-transfer\r\n             subscriber-number 120"}]
[235,{"$f":"+IF(Data!$C$6>ROW(SNOMONE!B235)-ROW(SNOMONE!$B$215),\"\",\"#\")","v":"#"},{"$f":"+CONCATENATE(\"    interface fxs IF_FXS_\",'Extension Table'!C22,CHAR(13),CHAR(10),\"             route call dest-table RT_DIGITCOLLECTION\",CHAR(13),CHAR(10),\"             message-waiting-indication stutter-dial-tone\",CHAR(13),CHAR(10),\"             message-waiting-indication frequency-shift-keying\",CHAR(13),CHAR(10),\"             call-transfer\",CHAR(13),CHAR(10),\"             subscriber-number \",'Extension Table'!A22)","v":"    interface fxs IF_FXS_21\r\n             route call dest-table RT_DIGITCOLLECTION\r\n             message-waiting-indication stutter-dial-tone\r\n             message-waiting-indication frequency-shift-keying\r\n             call-transfer\r\n             subscriber-number 121"}]
[236,{"$f":"+IF(Data!$C$6>ROW(SNOMONE!B236)-ROW(SNOMONE!$B$215),\"\",\"#\")","v":"#"},{"$f":"+CONCATENATE(\"    interface fxs IF_FXS_\",'Extension Table'!C23,CHAR(13),CHAR(10),\"             route call dest-table RT_DIGITCOLLECTION\",CHAR(13),CHAR(10),\"             message-waiting-indication stutter-dial-tone\",CHAR(13),CHAR(10),\"             message-waiting-indication frequency-shift-keying\",CHAR(13),CHAR(10),\"             call-transfer\",CHAR(13),CHAR(10),\"             subscriber-number \",'Extension Table'!A23)","v":"    interface fxs IF_FXS_22\r\n             route call dest-table RT_DIGITCOLLECTION\r\n             message-waiting-indication stutter-dial-tone\r\n             message-waiting-indication frequency-shift-keying\r\n             call-transfer\r\n             subscriber-number 122"}]
[237,{"$f":"+IF(Data!$C$6>ROW(SNOMONE!B237)-ROW(SNOMONE!$B$215),\"\",\"#\")","v":"#"},{"$f":"+CONCATENATE(\"    interface fxs IF_FXS_\",'Extension Table'!C24,CHAR(13),CHAR(10),\"             route call dest-table RT_DIGITCOLLECTION\",CHAR(13),CHAR(10),\"             message-waiting-indication stutter-dial-tone\",CHAR(13),CHAR(10),\"             message-waiting-indication frequency-shift-keying\",CHAR(13),CHAR(10),\"             call-transfer\",CHAR(13),CHAR(10),\"             subscriber-number \",'Extension Table'!A24)","v":"    interface fxs IF_FXS_23\r\n             route call dest-table RT_DIGITCOLLECTION\r\n             message-waiting-indication stutter-dial-tone\r\n             message-waiting-indication frequency-shift-keying\r\n             call-transfer\r\n             subscriber-number 123"}]
[238,{"$f":"+IF(Data!$C$6>ROW(SNOMONE!B238)-ROW(SNOMONE!$B$215),\"\",\"#\")","v":"#"},{"$f":"+CONCATENATE(\"    interface fxs IF_FXS_\",'Extension Table'!C25,CHAR(13),CHAR(10),\"             route call dest-table RT_DIGITCOLLECTION\",CHAR(13),CHAR(10),\"             message-waiting-indication stutter-dial-tone\",CHAR(13),CHAR(10),\"             message-waiting-indication frequency-shift-keying\",CHAR(13),CHAR(10),\"             call-transfer\",CHAR(13),CHAR(10),\"             subscriber-number \",'Extension Table'!A25)","v":"    interface fxs IF_FXS_24\r\n             route call dest-table RT_DIGITCOLLECTION\r\n             message-waiting-indication stutter-dial-tone\r\n             message-waiting-indication frequency-shift-keying\r\n             call-transfer\r\n             subscriber-number 124"}]
[239,{"$f":"+IF(Data!$C$6>ROW(SNOMONE!B239)-ROW(SNOMONE!$B$215),\"\",\"#\")","v":"#"},{"$f":"+CONCATENATE(\"    interface fxs IF_FXS_\",'Extension Table'!C26,CHAR(13),CHAR(10),\"             route call dest-table RT_DIGITCOLLECTION\",CHAR(13),CHAR(10),\"             message-waiting-indication stutter-dial-tone\",CHAR(13),CHAR(10),\"             message-waiting-indication frequency-shift-keying\",CHAR(13),CHAR(10),\"             call-transfer\",CHAR(13),CHAR(10),\"             subscriber-number \",'Extension Table'!A26)","v":"    interface fxs IF_FXS_25\r\n             route call dest-table RT_DIGITCOLLECTION\r\n             message-waiting-indication stutter-dial-tone\r\n             message-waiting-indication frequency-shift-keying\r\n             call-transfer\r\n             subscriber-number 125"}]
[240,{"$f":"+IF(Data!$C$6>ROW(SNOMONE!B240)-ROW(SNOMONE!$B$215),\"\",\"#\")","v":"#"},{"$f":"+CONCATENATE(\"    interface fxs IF_FXS_\",'Extension Table'!C27,CHAR(13),CHAR(10),\"             route call dest-table RT_DIGITCOLLECTION\",CHAR(13),CHAR(10),\"             message-waiting-indication stutter-dial-tone\",CHAR(13),CHAR(10),\"             message-waiting-indication frequency-shift-keying\",CHAR(13),CHAR(10),\"             call-transfer\",CHAR(13),CHAR(10),\"             subscriber-number \",'Extension Table'!A27)","v":"    interface fxs IF_FXS_26\r\n             route call dest-table RT_DIGITCOLLECTION\r\n             message-waiting-indication stutter-dial-tone\r\n             message-waiting-indication frequency-shift-keying\r\n             call-transfer\r\n             subscriber-number 126"}]
[241,{"$f":"+IF(Data!$C$6>ROW(SNOMONE!B241)-ROW(SNOMONE!$B$215),\"\",\"#\")","v":"#"},{"$f":"+CONCATENATE(\"    interface fxs IF_FXS_\",'Extension Table'!C28,CHAR(13),CHAR(10),\"             route call dest-table RT_DIGITCOLLECTION\",CHAR(13),CHAR(10),\"             message-waiting-indication stutter-dial-tone\",CHAR(13),CHAR(10),\"             message-waiting-indication frequency-shift-keying\",CHAR(13),CHAR(10),\"             call-transfer\",CHAR(13),CHAR(10),\"             subscriber-number \",'Extension Table'!A28)","v":"    interface fxs IF_FXS_27\r\n             route call dest-table RT_DIGITCOLLECTION\r\n             message-waiting-indication stutter-dial-tone\r\n             message-waiting-indication frequency-shift-keying\r\n             call-transfer\r\n             subscriber-number 127"}]
[242,{"$f":"+IF(Data!$C$6>ROW(SNOMONE!B242)-ROW(SNOMONE!$B$215),\"\",\"#\")","v":"#"},{"$f":"+CONCATENATE(\"    interface fxs IF_FXS_\",'Extension Table'!C29,CHAR(13),CHAR(10),\"             route call dest-table RT_DIGITCOLLECTION\",CHAR(13),CHAR(10),\"             message-waiting-indication stutter-dial-tone\",CHAR(13),CHAR(10),\"             message-waiting-indication frequency-shift-keying\",CHAR(13),CHAR(10),\"             call-transfer\",CHAR(13),CHAR(10),\"             subscriber-number \",'Extension Table'!A29)","v":"    interface fxs IF_FXS_28\r\n             route call dest-table RT_DIGITCOLLECTION\r\n             message-waiting-indication stutter-dial-tone\r\n             message-waiting-indication frequency-shift-keying\r\n             call-transfer\r\n             subscriber-number 128"}]
[243,{"$f":"+IF(Data!$C$6>ROW(SNOMONE!B243)-ROW(SNOMONE!$B$215),\"\",\"#\")","v":"#"},{"$f":"+CONCATENATE(\"    interface fxs IF_FXS_\",'Extension Table'!C30,CHAR(13),CHAR(10),\"             route call dest-table RT_DIGITCOLLECTION\",CHAR(13),CHAR(10),\"             message-waiting-indication stutter-dial-tone\",CHAR(13),CHAR(10),\"             message-waiting-indication frequency-shift-keying\",CHAR(13),CHAR(10),\"             call-transfer\",CHAR(13),CHAR(10),\"             subscriber-number \",'Extension Table'!A30)","v":"    interface fxs IF_FXS_29\r\n             route call dest-table RT_DIGITCOLLECTION\r\n             message-waiting-indication stutter-dial-tone\r\n             message-waiting-indication frequency-shift-keying\r\n             call-transfer\r\n             subscriber-number 129"}]
[244,{"$f":"+IF(Data!$C$6>ROW(SNOMONE!B244)-ROW(SNOMONE!$B$215),\"\",\"#\")","v":"#"},{"$f":"+CONCATENATE(\"    interface fxs IF_FXS_\",'Extension Table'!C31,CHAR(13),CHAR(10),\"             route call dest-table RT_DIGITCOLLECTION\",CHAR(13),CHAR(10),\"             message-waiting-indication stutter-dial-tone\",CHAR(13),CHAR(10),\"             message-waiting-indication frequency-shift-keying\",CHAR(13),CHAR(10),\"             call-transfer\",CHAR(13),CHAR(10),\"             subscriber-number \",'Extension Table'!A31)","v":"    interface fxs IF_FXS_30\r\n             route call dest-table RT_DIGITCOLLECTION\r\n             message-waiting-indication stutter-dial-tone\r\n             message-waiting-indication frequency-shift-keying\r\n             call-transfer\r\n             subscriber-number 130"}]
[245,{"$f":"+IF(Data!$C$6>ROW(SNOMONE!B245)-ROW(SNOMONE!$B$215),\"\",\"#\")","v":"#"},{"$f":"+CONCATENATE(\"    interface fxs IF_FXS_\",'Extension Table'!C32,CHAR(13),CHAR(10),\"             route call dest-table RT_DIGITCOLLECTION\",CHAR(13),CHAR(10),\"             message-waiting-indication stutter-dial-tone\",CHAR(13),CHAR(10),\"             message-waiting-indication frequency-shift-keying\",CHAR(13),CHAR(10),\"             call-transfer\",CHAR(13),CHAR(10),\"             subscriber-number \",'Extension Table'!A32)","v":"    interface fxs IF_FXS_31\r\n             route call dest-table RT_DIGITCOLLECTION\r\n             message-waiting-indication stutter-dial-tone\r\n             message-waiting-indication frequency-shift-keying\r\n             call-transfer\r\n             subscriber-number 131"}]
[246,{"$f":"+IF(Data!$C$6>ROW(SNOMONE!B246)-ROW(SNOMONE!$B$215),\"\",\"#\")","v":"#"},{"$f":"+CONCATENATE(\"    interface fxs IF_FXS_\",'Extension Table'!C33,CHAR(13),CHAR(10),\"             route call dest-table RT_DIGITCOLLECTION\",CHAR(13),CHAR(10),\"             message-waiting-indication stutter-dial-tone\",CHAR(13),CHAR(10),\"             message-waiting-indication frequency-shift-keying\",CHAR(13),CHAR(10),\"             call-transfer\",CHAR(13),CHAR(10),\"             subscriber-number \",'Extension Table'!A33)","v":"    interface fxs IF_FXS_32\r\n             route call dest-table RT_DIGITCOLLECTION\r\n             message-waiting-indication stutter-dial-tone\r\n             message-waiting-indication frequency-shift-keying\r\n             call-transfer\r\n             subscriber-number 132"}]
[247,null,"                "]
[248,{"$f":"+IF(Data!$C$5>0,\" \",\"#\")","v":" "},"service hunt-group HUNT_FXO"]
[249,{"$f":"+IF(Data!$C$5>0,\" \",\"#\")","v":" "},"cyclic"]
[250,{"$f":"+IF(Data!$C$5>0,\" \",\"#\")","v":" "},"drop-cause normal-unspecified"]
[251,{"$f":"+IF(Data!$C$5>0,\" \",\"#\")","v":" "},"    drop-cause no-circuit-channel-available"]
[252,{"$f":"+IF(Data!$C$5>0,\" \",\"#\")","v":" "},"    drop-cause network-out-of-order"]
[253,{"$f":"+IF(Data!$C$5>0,\" \",\"#\")","v":" "},"    drop-cause temporary-failure"]
[254,{"$f":"+IF(Data!$C$5>0,\" \",\"#\")","v":" "},"    drop-cause switching-equipment-congestion"]
[255,{"$f":"+IF(Data!$C$5>0,\" \",\"#\")","v":" "},"    drop-cause access-info-discarded"]
[256,{"$f":"+IF(Data!$C$5>0,\" \",\"#\")","v":" "},"    drop-cause circuit-channel-not-available"]
[257,{"$f":"+IF(Data!$C$5>0,\" \",\"#\")","v":" "},"    drop-cause resources-unavailable"]
[258,{"$f":"+IF(Data!$C$5>ROW(SNOMONE!B259)-ROW(SNOMONE!$B$259),\"\",\"#\")","v":""},{"$f":"+CONCATENATE(\"    route call \",'Line Table'!A2,\" dest-interface IF_FXO_\",'Line Table'!A2)","v":"    route call 1 dest-interface IF_FXO_1"}]
[259,{"$f":"+IF(Data!$C$5>ROW(SNOMONE!B260)-ROW(SNOMONE!$B$259),\"\",\"#\")","v":""},{"$f":"+CONCATENATE(\"    route call \",'Line Table'!A3,\" dest-interface IF_FXO_\",'Line Table'!A3)","v":"    route call 2 dest-interface IF_FXO_2"}]
[260,{"$f":"+IF(Data!$C$5>ROW(SNOMONE!B261)-ROW(SNOMONE!$B$259),\"\",\"#\")","v":""},{"$f":"+CONCATENATE(\"    route call \",'Line Table'!A4,\" dest-interface IF_FXO_\",'Line Table'!A4)","v":"    route call 3 dest-interface IF_FXO_3"}]
[261,{"$f":"+IF(Data!$C$5>ROW(SNOMONE!B262)-ROW(SNOMONE!$B$259),\"\",\"#\")","v":""},{"$f":"+CONCATENATE(\"    route call \",'Line Table'!A5,\" dest-interface IF_FXO_\",'Line Table'!A5)","v":"    route call 4 dest-interface IF_FXO_4"}]
[262,{"$f":"+IF(Data!$C$5>ROW(SNOMONE!B263)-ROW(SNOMONE!$B$259),\"\",\"#\")","v":""},{"$f":"+CONCATENATE(\"    route call \",'Line Table'!A6,\" dest-interface IF_FXO_\",'Line Table'!A6)","v":"    route call 5 dest-interface IF_FXO_5"}]
[263,{"$f":"+IF(Data!$C$5>ROW(SNOMONE!B264)-ROW(SNOMONE!$B$259),\"\",\"#\")","v":""},{"$f":"+CONCATENATE(\"    route call \",'Line Table'!A7,\" dest-interface IF_FXO_\",'Line Table'!A7)","v":"    route call 6 dest-interface IF_FXO_6"}]
[264,{"$f":"+IF(Data!$C$5>ROW(SNOMONE!B265)-ROW(SNOMONE!$B$259),\"\",\"#\")","v":""},{"$f":"+CONCATENATE(\"    route call \",'Line Table'!A8,\" dest-interface IF_FXO_\",'Line Table'!A8)","v":"    route call 7 dest-interface IF_FXO_7"}]
[265,{"$f":"+IF(Data!$C$5>ROW(SNOMONE!B266)-ROW(SNOMONE!$B$259),\"\",\"#\")","v":""},{"$f":"+CONCATENATE(\"    route call \",'Line Table'!A9,\" dest-interface IF_FXO_\",'Line Table'!A9)","v":"    route call 8 dest-interface IF_FXO_8"}]
[266,{"$f":"+IF(Data!$C$5>ROW(SNOMONE!B267)-ROW(SNOMONE!$B$259),\"\",\"#\")","v":""},{"$f":"+CONCATENATE(\"    route call \",'Line Table'!A10,\" dest-interface IF_FXO_\",'Line Table'!A10)","v":"    route call 9 dest-interface IF_FXO_9"}]
[267,{"$f":"+IF(Data!$C$5>ROW(SNOMONE!B268)-ROW(SNOMONE!$B$259),\"\",\"#\")","v":""},{"$f":"+CONCATENATE(\"    route call \",'Line Table'!A11,\" dest-interface IF_FXO_\",'Line Table'!A11)","v":"    route call 10 dest-interface IF_FXO_10"}]
[268,{"$f":"+IF(Data!$C$5>ROW(SNOMONE!B269)-ROW(SNOMONE!$B$259),\"\",\"#\")","v":""},{"$f":"+CONCATENATE(\"    route call \",'Line Table'!A12,\" dest-interface IF_FXO_\",'Line Table'!A12)","v":"    route call 11 dest-interface IF_FXO_11"}]
[269,{"$f":"+IF(Data!$C$5>ROW(SNOMONE!B270)-ROW(SNOMONE!$B$259),\"\",\"#\")","v":""},{"$f":"+CONCATENATE(\"    route call \",'Line Table'!A13,\" dest-interface IF_FXO_\",'Line Table'!A13)","v":"    route call 12 dest-interface IF_FXO_12"}]
[270,{"$f":"+IF(Data!$C$5>ROW(SNOMONE!B271)-ROW(SNOMONE!$B$259),\"\",\"#\")","v":"#"},{"$f":"+CONCATENATE(\"    route call \",'Line Table'!A14,\" dest-interface IF_FXO_\",'Line Table'!A14)","v":"    route call 13 dest-interface IF_FXO_13"}]
[271,{"$f":"+IF(Data!$C$5>ROW(SNOMONE!B272)-ROW(SNOMONE!$B$259),\"\",\"#\")","v":"#"},{"$f":"+CONCATENATE(\"    route call \",'Line Table'!A15,\" dest-interface IF_FXO_\",'Line Table'!A15)","v":"    route call 14 dest-interface IF_FXO_14"}]
[272,{"$f":"+IF(Data!$C$5>ROW(SNOMONE!B273)-ROW(SNOMONE!$B$259),\"\",\"#\")","v":"#"},{"$f":"+CONCATENATE(\"    route call \",'Line Table'!A16,\" dest-interface IF_FXO_\",'Line Table'!A16)","v":"    route call 15 dest-interface IF_FXO_15"}]
[273,{"$f":"+IF(Data!$C$5>ROW(SNOMONE!B274)-ROW(SNOMONE!$B$259),\"\",\"#\")","v":"#"},{"$f":"+CONCATENATE(\"    route call \",'Line Table'!A17,\" dest-interface IF_FXO_\",'Line Table'!A17)","v":"    route call 16 dest-interface IF_FXO_16"}]
[274,{"$f":"+IF(Data!$C$5>ROW(SNOMONE!B275)-ROW(SNOMONE!$B$259),\"\",\"#\")","v":"#"},{"$f":"+CONCATENATE(\"    route call \",'Line Table'!A18,\" dest-interface IF_FXO_\",'Line Table'!A18)","v":"    route call 17 dest-interface IF_FXO_17"}]
[275,{"$f":"+IF(Data!$C$5>ROW(SNOMONE!B276)-ROW(SNOMONE!$B$259),\"\",\"#\")","v":"#"},{"$f":"+CONCATENATE(\"    route call \",'Line Table'!A19,\" dest-interface IF_FXO_\",'Line Table'!A19)","v":"    route call 18 dest-interface IF_FXO_18"}]
[276,{"$f":"+IF(Data!$C$5>ROW(SNOMONE!B277)-ROW(SNOMONE!$B$259),\"\",\"#\")","v":"#"},{"$f":"+CONCATENATE(\"    route call \",'Line Table'!A20,\" dest-interface IF_FXO_\",'Line Table'!A20)","v":"    route call 19 dest-interface IF_FXO_19"}]
[277,{"$f":"+IF(Data!$C$5>ROW(SNOMONE!B278)-ROW(SNOMONE!$B$259),\"\",\"#\")","v":"#"},{"$f":"+CONCATENATE(\"    route call \",'Line Table'!A21,\" dest-interface IF_FXO_\",'Line Table'!A21)","v":"    route call 20 dest-interface IF_FXO_20"}]
[278,{"$f":"+IF(Data!$C$5>ROW(SNOMONE!B279)-ROW(SNOMONE!$B$259),\"\",\"#\")","v":"#"},{"$f":"+CONCATENATE(\"    route call \",'Line Table'!A22,\" dest-interface IF_FXO_\",'Line Table'!A22)","v":"    route call 21 dest-interface IF_FXO_21"}]
[279,{"$f":"+IF(Data!$C$5>ROW(SNOMONE!B280)-ROW(SNOMONE!$B$259),\"\",\"#\")","v":"#"},{"$f":"+CONCATENATE(\"    route call \",'Line Table'!A23,\" dest-interface IF_FXO_\",'Line Table'!A23)","v":"    route call 22 dest-interface IF_FXO_22"}]
[280,{"$f":"+IF(Data!$C$5>ROW(SNOMONE!B281)-ROW(SNOMONE!$B$259),\"\",\"#\")","v":"#"},{"$f":"+CONCATENATE(\"    route call \",'Line Table'!A24,\" dest-interface IF_FXO_\",'Line Table'!A24)","v":"    route call 23 dest-interface IF_FXO_23"}]
[281,{"$f":"+IF(Data!$C$5>ROW(SNOMONE!B282)-ROW(SNOMONE!$B$259),\"\",\"#\")","v":"#"},{"$f":"+CONCATENATE(\"    route call \",'Line Table'!A25,\" dest-interface IF_FXO_\",'Line Table'!A25)","v":"    route call 24 dest-interface IF_FXO_24"}]
[282,{"$f":"+IF(Data!$C$5>ROW(SNOMONE!B283)-ROW(SNOMONE!$B$259),\"\",\"#\")","v":"#"},{"$f":"+CONCATENATE(\"    route call \",'Line Table'!A26,\" dest-interface IF_FXO_\",'Line Table'!A26)","v":"    route call 25 dest-interface IF_FXO_25"}]
[283,{"$f":"+IF(Data!$C$5>ROW(SNOMONE!B284)-ROW(SNOMONE!$B$259),\"\",\"#\")","v":"#"},{"$f":"+CONCATENATE(\"    route call \",'Line Table'!A27,\" dest-interface IF_FXO_\",'Line Table'!A27)","v":"    route call 26 dest-interface IF_FXO_26"}]
[284,{"$f":"+IF(Data!$C$5>ROW(SNOMONE!B285)-ROW(SNOMONE!$B$259),\"\",\"#\")","v":"#"},{"$f":"+CONCATENATE(\"    route call \",'Line Table'!A28,\" dest-interface IF_FXO_\",'Line Table'!A28)","v":"    route call 27 dest-interface IF_FXO_27"}]
[285,{"$f":"+IF(Data!$C$5>ROW(SNOMONE!B286)-ROW(SNOMONE!$B$259),\"\",\"#\")","v":"#"},{"$f":"+CONCATENATE(\"    route call \",'Line Table'!A29,\" dest-interface IF_FXO_\",'Line Table'!A29)","v":"    route call 28 dest-interface IF_FXO_28"}]
[286,{"$f":"+IF(Data!$C$5>ROW(SNOMONE!B287)-ROW(SNOMONE!$B$259),\"\",\"#\")","v":"#"},{"$f":"+CONCATENATE(\"    route call \",'Line Table'!A30,\" dest-interface IF_FXO_\",'Line Table'!A30)","v":"    route call 29 dest-interface IF_FXO_29"}]
[287,{"$f":"+IF(Data!$C$5>ROW(SNOMONE!B288)-ROW(SNOMONE!$B$259),\"\",\"#\")","v":"#"},{"$f":"+CONCATENATE(\"    route call \",'Line Table'!A31,\" dest-interface IF_FXO_\",'Line Table'!A31)","v":"    route call 30 dest-interface IF_FXO_30"}]
[288,{"$f":"+IF(Data!$C$5>ROW(SNOMONE!B289)-ROW(SNOMONE!$B$259),\"\",\"#\")","v":"#"},{"$f":"+CONCATENATE(\"    route call \",'Line Table'!A32,\" dest-interface IF_FXO_\",'Line Table'!A32)","v":"    route call 31 dest-interface IF_FXO_31"}]
[289,{"$f":"+IF(Data!$C$5>ROW(SNOMONE!B290)-ROW(SNOMONE!$B$259),\"\",\"#\")","v":"#"},{"$f":"+CONCATENATE(\"    route call \",'Line Table'!A33,\" dest-interface IF_FXO_\",'Line Table'!A33)","v":"    route call 32 dest-interface IF_FXO_32"}]
[290,{"$f":"+IF(Data!$C$5>ROW(SNOMONE!B267)-ROW(SNOMONE!$B$444),\"\",\"#\")","v":""}]
[291,{"$f":"+IF(Data!$C$5>ROW(SNOMONE!B268)-ROW(SNOMONE!$B$444),\"\",\"#\")","v":""}]
[292,null,"context cs switch"]
[293,null,"  no shutdown"]
[294]
[295,{"$f":"+IF(Data!$C$6>0,\" \",\"#\")","v":"#"},"authentication-service AS_ALL_EXTENSIONS"]
[296]
[297,{"$f":"+IF(Data!$C$6>ROW(SNOMONE!B298)-ROW(SNOMONE!$B$298),\"\",\"#\")","v":"#"},{"$f":"+CONCATENATE(\"      username \",'Extension Table'!F2,\" password \",'Extension Table'!G2)","v":"      username 101 password 101"}]
[298,{"$f":"+IF(Data!$C$6>ROW(SNOMONE!B299)-ROW(SNOMONE!$B$298),\"\",\"#\")","v":"#"},{"$f":"+CONCATENATE(\"      username \",'Extension Table'!F3,\" password \",'Extension Table'!G3)","v":"      username 102 password 102"},"Revisar si hace falta para 3CX"]
[299,{"$f":"+IF(Data!$C$6>ROW(SNOMONE!B300)-ROW(SNOMONE!$B$298),\"\",\"#\")","v":"#"},{"$f":"+CONCATENATE(\"      username \",'Extension Table'!F4,\" password \",'Extension Table'!G4)","v":"      username 103 password 103"}]
[300,{"$f":"+IF(Data!$C$6>ROW(SNOMONE!B301)-ROW(SNOMONE!$B$298),\"\",\"#\")","v":"#"},{"$f":"+CONCATENATE(\"      username \",'Extension Table'!F5,\" password \",'Extension Table'!G5)","v":"      username 104 password 104"}]
[301,{"$f":"+IF(Data!$C$6>ROW(SNOMONE!B302)-ROW(SNOMONE!$B$298),\"\",\"#\")","v":"#"},{"$f":"+CONCATENATE(\"      username \",'Extension Table'!F6,\" password \",'Extension Table'!G6)","v":"      username 105 password 105"}]
[302,{"$f":"+IF(Data!$C$6>ROW(SNOMONE!B303)-ROW(SNOMONE!$B$298),\"\",\"#\")","v":"#"},{"$f":"+CONCATENATE(\"      username \",'Extension Table'!F7,\" password \",'Extension Table'!G7)","v":"      username 106 password 106"}]
[303,{"$f":"+IF(Data!$C$6>ROW(SNOMONE!B304)-ROW(SNOMONE!$B$298),\"\",\"#\")","v":"#"},{"$f":"+CONCATENATE(\"      username \",'Extension Table'!F8,\" password \",'Extension Table'!G8)","v":"      username 107 password 107"}]
[304,{"$f":"+IF(Data!$C$6>ROW(SNOMONE!B305)-ROW(SNOMONE!$B$298),\"\",\"#\")","v":"#"},{"$f":"+CONCATENATE(\"      username \",'Extension Table'!F9,\" password \",'Extension Table'!G9)","v":"      username 108 password 108"}]
[305,{"$f":"+IF(Data!$C$6>ROW(SNOMONE!B306)-ROW(SNOMONE!$B$298),\"\",\"#\")","v":"#"},{"$f":"+CONCATENATE(\"      username \",'Extension Table'!F10,\" password \",'Extension Table'!G10)","v":"      username 109 password 109"}]
[306,{"$f":"+IF(Data!$C$6>ROW(SNOMONE!B307)-ROW(SNOMONE!$B$298),\"\",\"#\")","v":"#"},{"$f":"+CONCATENATE(\"      username \",'Extension Table'!F11,\" password \",'Extension Table'!G11)","v":"      username 110 password 110"}]
[307,{"$f":"+IF(Data!$C$6>ROW(SNOMONE!B308)-ROW(SNOMONE!$B$298),\"\",\"#\")","v":"#"},{"$f":"+CONCATENATE(\"      username \",'Extension Table'!F12,\" password \",'Extension Table'!G12)","v":"      username 111 password 111"}]
[308,{"$f":"+IF(Data!$C$6>ROW(SNOMONE!B309)-ROW(SNOMONE!$B$298),\"\",\"#\")","v":"#"},{"$f":"+CONCATENATE(\"      username \",'Extension Table'!F13,\" password \",'Extension Table'!G13)","v":"      username 112 password 112"}]
[309,{"$f":"+IF(Data!$C$6>ROW(SNOMONE!B310)-ROW(SNOMONE!$B$298),\"\",\"#\")","v":"#"},{"$f":"+CONCATENATE(\"      username \",'Extension Table'!F14,\" password \",'Extension Table'!G14)","v":"      username 113 password 113"}]
[310,{"$f":"+IF(Data!$C$6>ROW(SNOMONE!B311)-ROW(SNOMONE!$B$298),\"\",\"#\")","v":"#"},{"$f":"+CONCATENATE(\"      username \",'Extension Table'!F15,\" password \",'Extension Table'!G15)","v":"      username 114 password 114"}]
[311,{"$f":"+IF(Data!$C$6>ROW(SNOMONE!B312)-ROW(SNOMONE!$B$298),\"\",\"#\")","v":"#"},{"$f":"+CONCATENATE(\"      username \",'Extension Table'!F16,\" password \",'Extension Table'!G16)","v":"      username 115 password 115"}]
[312,{"$f":"+IF(Data!$C$6>ROW(SNOMONE!B313)-ROW(SNOMONE!$B$298),\"\",\"#\")","v":"#"},{"$f":"+CONCATENATE(\"      username \",'Extension Table'!F17,\" password \",'Extension Table'!G17)","v":"      username 116 password 116"}]
[313,{"$f":"+IF(Data!$C$6>ROW(SNOMONE!B314)-ROW(SNOMONE!$B$298),\"\",\"#\")","v":"#"},{"$f":"+CONCATENATE(\"      username \",'Extension Table'!F18,\" password \",'Extension Table'!G18)","v":"      username 117 password 117"}]
[314,{"$f":"+IF(Data!$C$6>ROW(SNOMONE!B315)-ROW(SNOMONE!$B$298),\"\",\"#\")","v":"#"},{"$f":"+CONCATENATE(\"      username \",'Extension Table'!F19,\" password \",'Extension Table'!G19)","v":"      username 118 password 118"}]
[315,{"$f":"+IF(Data!$C$6>ROW(SNOMONE!B316)-ROW(SNOMONE!$B$298),\"\",\"#\")","v":"#"},{"$f":"+CONCATENATE(\"      username \",'Extension Table'!F20,\" password \",'Extension Table'!G20)","v":"      username 119 password 119"}]
[316,{"$f":"+IF(Data!$C$6>ROW(SNOMONE!B317)-ROW(SNOMONE!$B$298),\"\",\"#\")","v":"#"},{"$f":"+CONCATENATE(\"      username \",'Extension Table'!F21,\" password \",'Extension Table'!G21)","v":"      username 120 password 120"}]
[317,{"$f":"+IF(Data!$C$6>ROW(SNOMONE!B318)-ROW(SNOMONE!$B$298),\"\",\"#\")","v":"#"},{"$f":"+CONCATENATE(\"      username \",'Extension Table'!F22,\" password \",'Extension Table'!G22)","v":"      username 121 password 121"}]
[318,{"$f":"+IF(Data!$C$6>ROW(SNOMONE!B319)-ROW(SNOMONE!$B$298),\"\",\"#\")","v":"#"},{"$f":"+CONCATENATE(\"      username \",'Extension Table'!F23,\" password \",'Extension Table'!G23)","v":"      username 122 password 122"}]
[319,{"$f":"+IF(Data!$C$6>ROW(SNOMONE!B320)-ROW(SNOMONE!$B$298),\"\",\"#\")","v":"#"},{"$f":"+CONCATENATE(\"      username \",'Extension Table'!F24,\" password \",'Extension Table'!G24)","v":"      username 123 password 123"}]
[320,{"$f":"+IF(Data!$C$6>ROW(SNOMONE!B321)-ROW(SNOMONE!$B$298),\"\",\"#\")","v":"#"},{"$f":"+CONCATENATE(\"      username \",'Extension Table'!F25,\" password \",'Extension Table'!G25)","v":"      username 124 password 124"}]
[321,{"$f":"+IF(Data!$C$6>ROW(SNOMONE!B322)-ROW(SNOMONE!$B$298),\"\",\"#\")","v":"#"},{"$f":"+CONCATENATE(\"      username \",'Extension Table'!F26,\" password \",'Extension Table'!G26)","v":"      username 125 password 125"}]
[322,{"$f":"+IF(Data!$C$6>ROW(SNOMONE!B323)-ROW(SNOMONE!$B$298),\"\",\"#\")","v":"#"},{"$f":"+CONCATENATE(\"      username \",'Extension Table'!F27,\" password \",'Extension Table'!G27)","v":"      username 126 password 126"}]
[323,{"$f":"+IF(Data!$C$6>ROW(SNOMONE!B324)-ROW(SNOMONE!$B$298),\"\",\"#\")","v":"#"},{"$f":"+CONCATENATE(\"      username \",'Extension Table'!F28,\" password \",'Extension Table'!G28)","v":"      username 127 password 127"}]
[324,{"$f":"+IF(Data!$C$6>ROW(SNOMONE!B325)-ROW(SNOMONE!$B$298),\"\",\"#\")","v":"#"},{"$f":"+CONCATENATE(\"      username \",'Extension Table'!F29,\" password \",'Extension Table'!G29)","v":"      username 128 password 128"}]
[325,{"$f":"+IF(Data!$C$6>ROW(SNOMONE!B326)-ROW(SNOMONE!$B$298),\"\",\"#\")","v":"#"},{"$f":"+CONCATENATE(\"      username \",'Extension Table'!F30,\" password \",'Extension Table'!G30)","v":"      username 129 password 129"}]
[326,{"$f":"+IF(Data!$C$6>ROW(SNOMONE!B327)-ROW(SNOMONE!$B$298),\"\",\"#\")","v":"#"},{"$f":"+CONCATENATE(\"      username \",'Extension Table'!F31,\" password \",'Extension Table'!G31)","v":"      username 130 password 130"}]
[327,{"$f":"+IF(Data!$C$6>ROW(SNOMONE!B328)-ROW(SNOMONE!$B$298),\"\",\"#\")","v":"#"},{"$f":"+CONCATENATE(\"      username \",'Extension Table'!F32,\" password \",'Extension Table'!G32)","v":"      username 131 password 131"}]
[328,{"$f":"+IF(Data!$C$6>ROW(SNOMONE!B329)-ROW(SNOMONE!$B$298),\"\",\"#\")","v":"#"},{"$f":"+CONCATENATE(\"      username \",'Extension Table'!F33,\" password \",'Extension Table'!G33)","v":"      username 132 password 132"}]
[329,null,"  "]
[330,{"$f":"+IF(Data!$C$5>0,\" \",\"#\")","v":" "},"authentication-service AS_ALL_LINES"]
[331]
[332]
[333,{"$f":"+IF(Data!$C$5>ROW(SNOMONE!B333)-ROW(SNOMONE!$B$333),\"\",\"#\")","v":""},{"$f":"+CONCATENATE(\"      username \",'Line Table'!E2,\" password \",'Line Table'!F2)","v":"      username 10002 password 10002"},"Revisar si hace falta para 3CX"]
[334,{"$f":"+IF(Data!$C$5>ROW(SNOMONE!B334)-ROW(SNOMONE!$B$333),\"\",\"#\")","v":""},{"$f":"+CONCATENATE(\"      username \",'Line Table'!E3,\" password \",'Line Table'!F3)","v":"      username 10003 password 10003"}]
[335,{"$f":"+IF(Data!$C$5>ROW(SNOMONE!B335)-ROW(SNOMONE!$B$333),\"\",\"#\")","v":""},{"$f":"+CONCATENATE(\"      username \",'Line Table'!E4,\" password \",'Line Table'!F4)","v":"      username 10004 password 10004"}]
[336,{"$f":"+IF(Data!$C$5>ROW(SNOMONE!B336)-ROW(SNOMONE!$B$333),\"\",\"#\")","v":""},{"$f":"+CONCATENATE(\"      username \",'Line Table'!E5,\" password \",'Line Table'!F5)","v":"      username 10005 password 10005"}]
[337,{"$f":"+IF(Data!$C$5>ROW(SNOMONE!B337)-ROW(SNOMONE!$B$333),\"\",\"#\")","v":""},{"$f":"+CONCATENATE(\"      username \",'Line Table'!E6,\" password \",'Line Table'!F6)","v":"      username 10006 password 10006"}]
[338,{"$f":"+IF(Data!$C$5>ROW(SNOMONE!B338)-ROW(SNOMONE!$B$333),\"\",\"#\")","v":""},{"$f":"+CONCATENATE(\"      username \",'Line Table'!E7,\" password \",'Line Table'!F7)","v":"      username 10007 password 10007"}]
[339,{"$f":"+IF(Data!$C$5>ROW(SNOMONE!B339)-ROW(SNOMONE!$B$333),\"\",\"#\")","v":""},{"$f":"+CONCATENATE(\"      username \",'Line Table'!E8,\" password \",'Line Table'!F8)","v":"      username 10008 password 10008"}]
[340,{"$f":"+IF(Data!$C$5>ROW(SNOMONE!B340)-ROW(SNOMONE!$B$333),\"\",\"#\")","v":""},{"$f":"+CONCATENATE(\"      username \",'Line Table'!E9,\" password \",'Line Table'!F9)","v":"      username 10009 password 10009"}]
[341,{"$f":"+IF(Data!$C$5>ROW(SNOMONE!B341)-ROW(SNOMONE!$B$333),\"\",\"#\")","v":""},{"$f":"+CONCATENATE(\"      username \",'Line Table'!E10,\" password \",'Line Table'!F10)","v":"      username 10010 password 10010"}]
[342,{"$f":"+IF(Data!$C$5>ROW(SNOMONE!B342)-ROW(SNOMONE!$B$333),\"\",\"#\")","v":""},{"$f":"+CONCATENATE(\"      username \",'Line Table'!E11,\" password \",'Line Table'!F11)","v":"      username 10011 password 10011"}]
[343,{"$f":"+IF(Data!$C$5>ROW(SNOMONE!B343)-ROW(SNOMONE!$B$333),\"\",\"#\")","v":""},{"$f":"+CONCATENATE(\"      username \",'Line Table'!E12,\" password \",'Line Table'!F12)","v":"      username 10012 password 10012"}]
[344,{"$f":"+IF(Data!$C$5>ROW(SNOMONE!B344)-ROW(SNOMONE!$B$333),\"\",\"#\")","v":""},{"$f":"+CONCATENATE(\"      username \",'Line Table'!E13,\" password \",'Line Table'!F13)","v":"      username 10013 password 10013"}]
[345,{"$f":"+IF(Data!$C$5>ROW(SNOMONE!B345)-ROW(SNOMONE!$B$333),\"\",\"#\")","v":"#"},{"$f":"+CONCATENATE(\"      username \",'Line Table'!E14,\" password \",'Line Table'!F14)","v":"      username 10014 password 10014"}]
[346,{"$f":"+IF(Data!$C$5>ROW(SNOMONE!B346)-ROW(SNOMONE!$B$333),\"\",\"#\")","v":"#"},{"$f":"+CONCATENATE(\"      username \",'Line Table'!E15,\" password \",'Line Table'!F15)","v":"      username 10015 password 10015"}]
[347,{"$f":"+IF(Data!$C$5>ROW(SNOMONE!B347)-ROW(SNOMONE!$B$333),\"\",\"#\")","v":"#"},{"$f":"+CONCATENATE(\"      username \",'Line Table'!E16,\" password \",'Line Table'!F16)","v":"      username 10016 password 10016"}]
[348,{"$f":"+IF(Data!$C$5>ROW(SNOMONE!B348)-ROW(SNOMONE!$B$333),\"\",\"#\")","v":"#"},{"$f":"+CONCATENATE(\"      username \",'Line Table'!E17,\" password \",'Line Table'!F17)","v":"      username 10017 password 10017"}]
[349,{"$f":"+IF(Data!$C$5>ROW(SNOMONE!B349)-ROW(SNOMONE!$B$333),\"\",\"#\")","v":"#"},{"$f":"+CONCATENATE(\"      username \",'Line Table'!E18,\" password \",'Line Table'!F18)","v":"      username 10018 password 10018"}]
[350,{"$f":"+IF(Data!$C$5>ROW(SNOMONE!B350)-ROW(SNOMONE!$B$333),\"\",\"#\")","v":"#"},{"$f":"+CONCATENATE(\"      username \",'Line Table'!E19,\" password \",'Line Table'!F19)","v":"      username 10019 password 10019"}]
[351,{"$f":"+IF(Data!$C$5>ROW(SNOMONE!B351)-ROW(SNOMONE!$B$333),\"\",\"#\")","v":"#"},{"$f":"+CONCATENATE(\"      username \",'Line Table'!E20,\" password \",'Line Table'!F20)","v":"      username 10020 password 10020"}]
[352,{"$f":"+IF(Data!$C$5>ROW(SNOMONE!B352)-ROW(SNOMONE!$B$333),\"\",\"#\")","v":"#"},{"$f":"+CONCATENATE(\"      username \",'Line Table'!E21,\" password \",'Line Table'!F21)","v":"      username 10021 password 10021"}]
[353,{"$f":"+IF(Data!$C$5>ROW(SNOMONE!B353)-ROW(SNOMONE!$B$333),\"\",\"#\")","v":"#"},{"$f":"+CONCATENATE(\"      username \",'Line Table'!E22,\" password \",'Line Table'!F22)","v":"      username 10022 password 10022"}]
[354,{"$f":"+IF(Data!$C$5>ROW(SNOMONE!B354)-ROW(SNOMONE!$B$333),\"\",\"#\")","v":"#"},{"$f":"+CONCATENATE(\"      username \",'Line Table'!E23,\" password \",'Line Table'!F23)","v":"      username 10023 password 10023"}]
[355,{"$f":"+IF(Data!$C$5>ROW(SNOMONE!B355)-ROW(SNOMONE!$B$333),\"\",\"#\")","v":"#"},{"$f":"+CONCATENATE(\"      username \",'Line Table'!E24,\" password \",'Line Table'!F24)","v":"      username 10024 password 10024"}]
[356,{"$f":"+IF(Data!$C$5>ROW(SNOMONE!B356)-ROW(SNOMONE!$B$333),\"\",\"#\")","v":"#"},{"$f":"+CONCATENATE(\"      username \",'Line Table'!E25,\" password \",'Line Table'!F25)","v":"      username 10025 password 10025"}]
[357,{"$f":"+IF(Data!$C$5>ROW(SNOMONE!B357)-ROW(SNOMONE!$B$333),\"\",\"#\")","v":"#"},{"$f":"+CONCATENATE(\"      username \",'Line Table'!E26,\" password \",'Line Table'!F26)","v":"      username 10026 password 10026"}]
[358,{"$f":"+IF(Data!$C$5>ROW(SNOMONE!B358)-ROW(SNOMONE!$B$333),\"\",\"#\")","v":"#"},{"$f":"+CONCATENATE(\"      username \",'Line Table'!E27,\" password \",'Line Table'!F27)","v":"      username 10027 password 10027"}]
[359,{"$f":"+IF(Data!$C$5>ROW(SNOMONE!B359)-ROW(SNOMONE!$B$333),\"\",\"#\")","v":"#"},{"$f":"+CONCATENATE(\"      username \",'Line Table'!E28,\" password \",'Line Table'!F28)","v":"      username 10028 password 10028"}]
[360,{"$f":"+IF(Data!$C$5>ROW(SNOMONE!B360)-ROW(SNOMONE!$B$333),\"\",\"#\")","v":"#"},{"$f":"+CONCATENATE(\"      username \",'Line Table'!E29,\" password \",'Line Table'!F29)","v":"      username 10029 password 10029"}]
[361,{"$f":"+IF(Data!$C$5>ROW(SNOMONE!B361)-ROW(SNOMONE!$B$333),\"\",\"#\")","v":"#"},{"$f":"+CONCATENATE(\"      username \",'Line Table'!E30,\" password \",'Line Table'!F30)","v":"      username 10030 password 10030"}]
[362,{"$f":"+IF(Data!$C$5>ROW(SNOMONE!B362)-ROW(SNOMONE!$B$333),\"\",\"#\")","v":"#"},{"$f":"+CONCATENATE(\"      username \",'Line Table'!E31,\" password \",'Line Table'!F31)","v":"      username 10031 password 10031"}]
[363,{"$f":"+IF(Data!$C$5>ROW(SNOMONE!B363)-ROW(SNOMONE!$B$333),\"\",\"#\")","v":"#"},{"$f":"+CONCATENATE(\"      username \",'Line Table'!E32,\" password \",'Line Table'!F32)","v":"      username 10032 password 10032"}]
[364,{"$f":"+IF(Data!$C$5>ROW(SNOMONE!B364)-ROW(SNOMONE!$B$333),\"\",\"#\")","v":"#"},{"$f":"+CONCATENATE(\"      username \",'Line Table'!E33,\" password \",'Line Table'!F33)","v":"      username 10033 password 10033"}]
[365]
[366,{"$f":"+IF(Data!$C$6>0,\" \",\"#\")","v":"#"},"location-service LS_ALL_EXTENSIONS"]
[367,{"$f":"+IF(Data!$C$6>0,\" \",\"#\")","v":"#"},{"$f":"+CONCATENATE(\"     domain 1 \",Data!C24,\" \",Data!C25)","v":"     domain 1 10.10.50.23 5060"}]
[368,{"$f":"+IF(Data!$C$6>0,\" \",\"#\")","v":"#"},"     identity-group default"]
[369,{"$f":"+IF(Data!$C$6>ROW(SNOMONE!B370)-ROW(SNOMONE!$B$370),\"\",\"#\")","v":"#"},{"$f":"+CONCATENATE(\"     identity \",'Extension Table'!A2,CHAR(13),CHAR(10),,\"          authentication outbound\",CHAR(13),CHAR(10),,\"              authenticate 1 authentication-service AS_ALL_EXTENSIONS username \",'Extension Table'!F2,CHAR(13),CHAR(10),\"          registration outbound\",CHAR(13),CHAR(10),\"             registrar \",Data!$C$24,\" \",Data!$C$25,CHAR(13),CHAR(10),\"             lifetime 300\",CHAR(13),CHAR(10),\"             register auto\",CHAR(13),CHAR(10),\"             retry-timeout on-system-error 10\",CHAR(13),CHAR(10),\"             retry-timeout on-client-error 10\",CHAR(13),CHAR(10),\"             retry-timeout on-server-error 10\")","v":"     identity 101\r\n          authentication outbound\r\n              authenticate 1 authentication-service AS_ALL_EXTENSIONS username 101\r\n          registration outbound\r\n             registrar 10.10.50.23 5060\r\n             lifetime 300\r\n             register auto\r\n             retry-timeout on-system-error 10\r\n             retry-timeout on-client-error 10\r\n             retry-timeout on-server-error 10"}]
[370,{"$f":"+IF(Data!$C$6>ROW(SNOMONE!B371)-ROW(SNOMONE!$B$370),\"\",\"#\")","v":"#"},{"$f":"+CONCATENATE(\"     identity \",'Extension Table'!A3,CHAR(13),CHAR(10),,\"          authentication outbound\",CHAR(13),CHAR(10),,\"              authenticate 1 authentication-service AS_ALL_EXTENSIONS username \",'Extension Table'!F3,CHAR(13),CHAR(10),\"          registration outbound\",CHAR(13),CHAR(10),\"             registrar \",Data!$C$24,\" \",Data!$C$25,CHAR(13),CHAR(10),\"             lifetime 300\",CHAR(13),CHAR(10),\"             register auto\",CHAR(13),CHAR(10),\"             retry-timeout on-system-error 10\",CHAR(13),CHAR(10),\"             retry-timeout on-client-error 10\",CHAR(13),CHAR(10),\"             retry-timeout on-server-error 10\")","v":"     identity 102\r\n          authentication outbound\r\n              authenticate 1 authentication-service AS_ALL_EXTENSIONS username 102\r\n          registration outbound\r\n             registrar 10.10.50.23 5060\r\n             lifetime 300\r\n             register auto\r\n             retry-timeout on-system-error 10\r\n             retry-timeout on-client-error 10\r\n             retry-timeout on-server-error 10"}]
[371,{"$f":"+IF(Data!$C$6>ROW(SNOMONE!B372)-ROW(SNOMONE!$B$370),\"\",\"#\")","v":"#"},{"$f":"+CONCATENATE(\"     identity \",'Extension Table'!A4,CHAR(13),CHAR(10),,\"          authentication outbound\",CHAR(13),CHAR(10),,\"              authenticate 1 authentication-service AS_ALL_EXTENSIONS username \",'Extension Table'!F4,CHAR(13),CHAR(10),\"          registration outbound\",CHAR(13),CHAR(10),\"             registrar \",Data!$C$24,\" \",Data!$C$25,CHAR(13),CHAR(10),\"             lifetime 300\",CHAR(13),CHAR(10),\"             register auto\",CHAR(13),CHAR(10),\"             retry-timeout on-system-error 10\",CHAR(13),CHAR(10),\"             retry-timeout on-client-error 10\",CHAR(13),CHAR(10),\"             retry-timeout on-server-error 10\")","v":"     identity 103\r\n          authentication outbound\r\n              authenticate 1 authentication-service AS_ALL_EXTENSIONS username 103\r\n          registration outbound\r\n             registrar 10.10.50.23 5060\r\n             lifetime 300\r\n             register auto\r\n             retry-timeout on-system-error 10\r\n             retry-timeout on-client-error 10\r\n             retry-timeout on-server-error 10"}]
[372,{"$f":"+IF(Data!$C$6>ROW(SNOMONE!B373)-ROW(SNOMONE!$B$370),\"\",\"#\")","v":"#"},{"$f":"+CONCATENATE(\"     identity \",'Extension Table'!A5,CHAR(13),CHAR(10),,\"          authentication outbound\",CHAR(13),CHAR(10),,\"              authenticate 1 authentication-service AS_ALL_EXTENSIONS username \",'Extension Table'!F5,CHAR(13),CHAR(10),\"          registration outbound\",CHAR(13),CHAR(10),\"             registrar \",Data!$C$24,\" \",Data!$C$25,CHAR(13),CHAR(10),\"             lifetime 300\",CHAR(13),CHAR(10),\"             register auto\",CHAR(13),CHAR(10),\"             retry-timeout on-system-error 10\",CHAR(13),CHAR(10),\"             retry-timeout on-client-error 10\",CHAR(13),CHAR(10),\"             retry-timeout on-server-error 10\")","v":"     identity 104\r\n          authentication outbound\r\n              authenticate 1 authentication-service AS_ALL_EXTENSIONS username 104\r\n          registration outbound\r\n             registrar 10.10.50.23 5060\r\n             lifetime 300\r\n             register auto\r\n             retry-timeout on-system-error 10\r\n             retry-timeout on-client-error 10\r\n             retry-timeout on-server-error 10"}]
[373,{"$f":"+IF(Data!$C$6>ROW(SNOMONE!B374)-ROW(SNOMONE!$B$370),\"\",\"#\")","v":"#"},{"$f":"+CONCATENATE(\"     identity \",'Extension Table'!A6,CHAR(13),CHAR(10),,\"          authentication outbound\",CHAR(13),CHAR(10),,\"              authenticate 1 authentication-service AS_ALL_EXTENSIONS username \",'Extension Table'!F6,CHAR(13),CHAR(10),\"          registration outbound\",CHAR(13),CHAR(10),\"             registrar \",Data!$C$24,\" \",Data!$C$25,CHAR(13),CHAR(10),\"             lifetime 300\",CHAR(13),CHAR(10),\"             register auto\",CHAR(13),CHAR(10),\"             retry-timeout on-system-error 10\",CHAR(13),CHAR(10),\"             retry-timeout on-client-error 10\",CHAR(13),CHAR(10),\"             retry-timeout on-server-error 10\")","v":"     identity 105\r\n          authentication outbound\r\n              authenticate 1 authentication-service AS_ALL_EXTENSIONS username 105\r\n          registration outbound\r\n             registrar 10.10.50.23 5060\r\n             lifetime 300\r\n             register auto\r\n             retry-timeout on-system-error 10\r\n             retry-timeout on-client-error 10\r\n             retry-timeout on-server-error 10"}]
[374,{"$f":"+IF(Data!$C$6>ROW(SNOMONE!B375)-ROW(SNOMONE!$B$370),\"\",\"#\")","v":"#"},{"$f":"+CONCATENATE(\"     identity \",'Extension Table'!A7,CHAR(13),CHAR(10),,\"          authentication outbound\",CHAR(13),CHAR(10),,\"              authenticate 1 authentication-service AS_ALL_EXTENSIONS username \",'Extension Table'!F7,CHAR(13),CHAR(10),\"          registration outbound\",CHAR(13),CHAR(10),\"             registrar \",Data!$C$24,\" \",Data!$C$25,CHAR(13),CHAR(10),\"             lifetime 300\",CHAR(13),CHAR(10),\"             register auto\",CHAR(13),CHAR(10),\"             retry-timeout on-system-error 10\",CHAR(13),CHAR(10),\"             retry-timeout on-client-error 10\",CHAR(13),CHAR(10),\"             retry-timeout on-server-error 10\")","v":"     identity 106\r\n          authentication outbound\r\n              authenticate 1 authentication-service AS_ALL_EXTENSIONS username 106\r\n          registration outbound\r\n             registrar 10.10.50.23 5060\r\n             lifetime 300\r\n             register auto\r\n             retry-timeout on-system-error 10\r\n             retry-timeout on-client-error 10\r\n             retry-timeout on-server-error 10"}]
[375,{"$f":"+IF(Data!$C$6>ROW(SNOMONE!B376)-ROW(SNOMONE!$B$370),\"\",\"#\")","v":"#"},{"$f":"+CONCATENATE(\"     identity \",'Extension Table'!A8,CHAR(13),CHAR(10),,\"          authentication outbound\",CHAR(13),CHAR(10),,\"              authenticate 1 authentication-service AS_ALL_EXTENSIONS username \",'Extension Table'!F8,CHAR(13),CHAR(10),\"          registration outbound\",CHAR(13),CHAR(10),\"             registrar \",Data!$C$24,\" \",Data!$C$25,CHAR(13),CHAR(10),\"             lifetime 300\",CHAR(13),CHAR(10),\"             register auto\",CHAR(13),CHAR(10),\"             retry-timeout on-system-error 10\",CHAR(13),CHAR(10),\"             retry-timeout on-client-error 10\",CHAR(13),CHAR(10),\"             retry-timeout on-server-error 10\")","v":"     identity 107\r\n          authentication outbound\r\n              authenticate 1 authentication-service AS_ALL_EXTENSIONS username 107\r\n          registration outbound\r\n             registrar 10.10.50.23 5060\r\n             lifetime 300\r\n             register auto\r\n             retry-timeout on-system-error 10\r\n             retry-timeout on-client-error 10\r\n             retry-timeout on-server-error 10"}]
[376,{"$f":"+IF(Data!$C$6>ROW(SNOMONE!B377)-ROW(SNOMONE!$B$370),\"\",\"#\")","v":"#"},{"$f":"+CONCATENATE(\"     identity \",'Extension Table'!A9,CHAR(13),CHAR(10),,\"          authentication outbound\",CHAR(13),CHAR(10),,\"              authenticate 1 authentication-service AS_ALL_EXTENSIONS username \",'Extension Table'!F9,CHAR(13),CHAR(10),\"          registration outbound\",CHAR(13),CHAR(10),\"             registrar \",Data!$C$24,\" \",Data!$C$25,CHAR(13),CHAR(10),\"             lifetime 300\",CHAR(13),CHAR(10),\"             register auto\",CHAR(13),CHAR(10),\"             retry-timeout on-system-error 10\",CHAR(13),CHAR(10),\"             retry-timeout on-client-error 10\",CHAR(13),CHAR(10),\"             retry-timeout on-server-error 10\")","v":"     identity 108\r\n          authentication outbound\r\n              authenticate 1 authentication-service AS_ALL_EXTENSIONS username 108\r\n          registration outbound\r\n             registrar 10.10.50.23 5060\r\n             lifetime 300\r\n             register auto\r\n             retry-timeout on-system-error 10\r\n             retry-timeout on-client-error 10\r\n             retry-timeout on-server-error 10"}]
[377,{"$f":"+IF(Data!$C$6>ROW(SNOMONE!B378)-ROW(SNOMONE!$B$370),\"\",\"#\")","v":"#"},{"$f":"+CONCATENATE(\"     identity \",'Extension Table'!A10,CHAR(13),CHAR(10),,\"          authentication outbound\",CHAR(13),CHAR(10),,\"              authenticate 1 authentication-service AS_ALL_EXTENSIONS username \",'Extension Table'!F10,CHAR(13),CHAR(10),\"          registration outbound\",CHAR(13),CHAR(10),\"             registrar \",Data!$C$24,\" \",Data!$C$25,CHAR(13),CHAR(10),\"             lifetime 300\",CHAR(13),CHAR(10),\"             register auto\",CHAR(13),CHAR(10),\"             retry-timeout on-system-error 10\",CHAR(13),CHAR(10),\"             retry-timeout on-client-error 10\",CHAR(13),CHAR(10),\"             retry-timeout on-server-error 10\")","v":"     identity 109\r\n          authentication outbound\r\n              authenticate 1 authentication-service AS_ALL_EXTENSIONS username 109\r\n          registration outbound\r\n             registrar 10.10.50.23 5060\r\n             lifetime 300\r\n             register auto\r\n             retry-timeout on-system-error 10\r\n             retry-timeout on-client-error 10\r\n             retry-timeout on-server-error 10"}]
[378,{"$f":"+IF(Data!$C$6>ROW(SNOMONE!B379)-ROW(SNOMONE!$B$370),\"\",\"#\")","v":"#"},{"$f":"+CONCATENATE(\"     identity \",'Extension Table'!A11,CHAR(13),CHAR(10),,\"          authentication outbound\",CHAR(13),CHAR(10),,\"              authenticate 1 authentication-service AS_ALL_EXTENSIONS username \",'Extension Table'!F11,CHAR(13),CHAR(10),\"          registration outbound\",CHAR(13),CHAR(10),\"             registrar \",Data!$C$24,\" \",Data!$C$25,CHAR(13),CHAR(10),\"             lifetime 300\",CHAR(13),CHAR(10),\"             register auto\",CHAR(13),CHAR(10),\"             retry-timeout on-system-error 10\",CHAR(13),CHAR(10),\"             retry-timeout on-client-error 10\",CHAR(13),CHAR(10),\"             retry-timeout on-server-error 10\")","v":"     identity 110\r\n          authentication outbound\r\n              authenticate 1 authentication-service AS_ALL_EXTENSIONS username 110\r\n          registration outbound\r\n             registrar 10.10.50.23 5060\r\n             lifetime 300\r\n             register auto\r\n             retry-timeout on-system-error 10\r\n             retry-timeout on-client-error 10\r\n             retry-timeout on-server-error 10"}]
[379,{"$f":"+IF(Data!$C$6>ROW(SNOMONE!B380)-ROW(SNOMONE!$B$370),\"\",\"#\")","v":"#"},{"$f":"+CONCATENATE(\"     identity \",'Extension Table'!A12,CHAR(13),CHAR(10),,\"          authentication outbound\",CHAR(13),CHAR(10),,\"              authenticate 1 authentication-service AS_ALL_EXTENSIONS username \",'Extension Table'!F12,CHAR(13),CHAR(10),\"          registration outbound\",CHAR(13),CHAR(10),\"             registrar \",Data!$C$24,\" \",Data!$C$25,CHAR(13),CHAR(10),\"             lifetime 300\",CHAR(13),CHAR(10),\"             register auto\",CHAR(13),CHAR(10),\"             retry-timeout on-system-error 10\",CHAR(13),CHAR(10),\"             retry-timeout on-client-error 10\",CHAR(13),CHAR(10),\"             retry-timeout on-server-error 10\")","v":"     identity 111\r\n          authentication outbound\r\n              authenticate 1 authentication-service AS_ALL_EXTENSIONS username 111\r\n          registration outbound\r\n             registrar 10.10.50.23 5060\r\n             lifetime 300\r\n             register auto\r\n             retry-timeout on-system-error 10\r\n             retry-timeout on-client-error 10\r\n             retry-timeout on-server-error 10"}]
[380,{"$f":"+IF(Data!$C$6>ROW(SNOMONE!B381)-ROW(SNOMONE!$B$370),\"\",\"#\")","v":"#"},{"$f":"+CONCATENATE(\"     identity \",'Extension Table'!A13,CHAR(13),CHAR(10),,\"          authentication outbound\",CHAR(13),CHAR(10),,\"              authenticate 1 authentication-service AS_ALL_EXTENSIONS username \",'Extension Table'!F13,CHAR(13),CHAR(10),\"          registration outbound\",CHAR(13),CHAR(10),\"             registrar \",Data!$C$24,\" \",Data!$C$25,CHAR(13),CHAR(10),\"             lifetime 300\",CHAR(13),CHAR(10),\"             register auto\",CHAR(13),CHAR(10),\"             retry-timeout on-system-error 10\",CHAR(13),CHAR(10),\"             retry-timeout on-client-error 10\",CHAR(13),CHAR(10),\"             retry-timeout on-server-error 10\")","v":"     identity 112\r\n          authentication outbound\r\n              authenticate 1 authentication-service AS_ALL_EXTENSIONS username 112\r\n          registration outbound\r\n             registrar 10.10.50.23 5060\r\n             lifetime 300\r\n             register auto\r\n             retry-timeout on-system-error 10\r\n             retry-timeout on-client-error 10\r\n             retry-timeout on-server-error 10"}]
[381,{"$f":"+IF(Data!$C$6>ROW(SNOMONE!B382)-ROW(SNOMONE!$B$370),\"\",\"#\")","v":"#"},{"$f":"+CONCATENATE(\"     identity \",'Extension Table'!A14,CHAR(13),CHAR(10),,\"          authentication outbound\",CHAR(13),CHAR(10),,\"              authenticate 1 authentication-service AS_ALL_EXTENSIONS username \",'Extension Table'!F14,CHAR(13),CHAR(10),\"          registration outbound\",CHAR(13),CHAR(10),\"             registrar \",Data!$C$24,\" \",Data!$C$25,CHAR(13),CHAR(10),\"             lifetime 300\",CHAR(13),CHAR(10),\"             register auto\",CHAR(13),CHAR(10),\"             retry-timeout on-system-error 10\",CHAR(13),CHAR(10),\"             retry-timeout on-client-error 10\",CHAR(13),CHAR(10),\"             retry-timeout on-server-error 10\")","v":"     identity 113\r\n          authentication outbound\r\n              authenticate 1 authentication-service AS_ALL_EXTENSIONS username 113\r\n          registration outbound\r\n             registrar 10.10.50.23 5060\r\n             lifetime 300\r\n             register auto\r\n             retry-timeout on-system-error 10\r\n             retry-timeout on-client-error 10\r\n             retry-timeout on-server-error 10"}]
[382,{"$f":"+IF(Data!$C$6>ROW(SNOMONE!B383)-ROW(SNOMONE!$B$370),\"\",\"#\")","v":"#"},{"$f":"+CONCATENATE(\"     identity \",'Extension Table'!A15,CHAR(13),CHAR(10),,\"          authentication outbound\",CHAR(13),CHAR(10),,\"              authenticate 1 authentication-service AS_ALL_EXTENSIONS username \",'Extension Table'!F15,CHAR(13),CHAR(10),\"          registration outbound\",CHAR(13),CHAR(10),\"             registrar \",Data!$C$24,\" \",Data!$C$25,CHAR(13),CHAR(10),\"             lifetime 300\",CHAR(13),CHAR(10),\"             register auto\",CHAR(13),CHAR(10),\"             retry-timeout on-system-error 10\",CHAR(13),CHAR(10),\"             retry-timeout on-client-error 10\",CHAR(13),CHAR(10),\"             retry-timeout on-server-error 10\")","v":"     identity 114\r\n          authentication outbound\r\n              authenticate 1 authentication-service AS_ALL_EXTENSIONS username 114\r\n          registration outbound\r\n             registrar 10.10.50.23 5060\r\n             lifetime 300\r\n             register auto\r\n             retry-timeout on-system-error 10\r\n             retry-timeout on-client-error 10\r\n             retry-timeout on-server-error 10"}]
[383,{"$f":"+IF(Data!$C$6>ROW(SNOMONE!B384)-ROW(SNOMONE!$B$370),\"\",\"#\")","v":"#"},{"$f":"+CONCATENATE(\"     identity \",'Extension Table'!A16,CHAR(13),CHAR(10),,\"          authentication outbound\",CHAR(13),CHAR(10),,\"              authenticate 1 authentication-service AS_ALL_EXTENSIONS username \",'Extension Table'!F16,CHAR(13),CHAR(10),\"          registration outbound\",CHAR(13),CHAR(10),\"             registrar \",Data!$C$24,\" \",Data!$C$25,CHAR(13),CHAR(10),\"             lifetime 300\",CHAR(13),CHAR(10),\"             register auto\",CHAR(13),CHAR(10),\"             retry-timeout on-system-error 10\",CHAR(13),CHAR(10),\"             retry-timeout on-client-error 10\",CHAR(13),CHAR(10),\"             retry-timeout on-server-error 10\")","v":"     identity 115\r\n          authentication outbound\r\n              authenticate 1 authentication-service AS_ALL_EXTENSIONS username 115\r\n          registration outbound\r\n             registrar 10.10.50.23 5060\r\n             lifetime 300\r\n             register auto\r\n             retry-timeout on-system-error 10\r\n             retry-timeout on-client-error 10\r\n             retry-timeout on-server-error 10"}]
[384,{"$f":"+IF(Data!$C$6>ROW(SNOMONE!B385)-ROW(SNOMONE!$B$370),\"\",\"#\")","v":"#"},{"$f":"+CONCATENATE(\"     identity \",'Extension Table'!A17,CHAR(13),CHAR(10),,\"          authentication outbound\",CHAR(13),CHAR(10),,\"              authenticate 1 authentication-service AS_ALL_EXTENSIONS username \",'Extension Table'!F17,CHAR(13),CHAR(10),\"          registration outbound\",CHAR(13),CHAR(10),\"             registrar \",Data!$C$24,\" \",Data!$C$25,CHAR(13),CHAR(10),\"             lifetime 300\",CHAR(13),CHAR(10),\"             register auto\",CHAR(13),CHAR(10),\"             retry-timeout on-system-error 10\",CHAR(13),CHAR(10),\"             retry-timeout on-client-error 10\",CHAR(13),CHAR(10),\"             retry-timeout on-server-error 10\")","v":"     identity 116\r\n          authentication outbound\r\n              authenticate 1 authentication-service AS_ALL_EXTENSIONS username 116\r\n          registration outbound\r\n             registrar 10.10.50.23 5060\r\n             lifetime 300\r\n             register auto\r\n             retry-timeout on-system-error 10\r\n             retry-timeout on-client-error 10\r\n             retry-timeout on-server-error 10"}]
[385,{"$f":"+IF(Data!$C$6>ROW(SNOMONE!B386)-ROW(SNOMONE!$B$370),\"\",\"#\")","v":"#"},{"$f":"+CONCATENATE(\"     identity \",'Extension Table'!A18,CHAR(13),CHAR(10),,\"          authentication outbound\",CHAR(13),CHAR(10),,\"              authenticate 1 authentication-service AS_ALL_EXTENSIONS username \",'Extension Table'!F18,CHAR(13),CHAR(10),\"          registration outbound\",CHAR(13),CHAR(10),\"             registrar \",Data!$C$24,\" \",Data!$C$25,CHAR(13),CHAR(10),\"             lifetime 300\",CHAR(13),CHAR(10),\"             register auto\",CHAR(13),CHAR(10),\"             retry-timeout on-system-error 10\",CHAR(13),CHAR(10),\"             retry-timeout on-client-error 10\",CHAR(13),CHAR(10),\"             retry-timeout on-server-error 10\")","v":"     identity 117\r\n          authentication outbound\r\n              authenticate 1 authentication-service AS_ALL_EXTENSIONS username 117\r\n          registration outbound\r\n             registrar 10.10.50.23 5060\r\n             lifetime 300\r\n             register auto\r\n             retry-timeout on-system-error 10\r\n             retry-timeout on-client-error 10\r\n             retry-timeout on-server-error 10"}]
[386,{"$f":"+IF(Data!$C$6>ROW(SNOMONE!B387)-ROW(SNOMONE!$B$370),\"\",\"#\")","v":"#"},{"$f":"+CONCATENATE(\"     identity \",'Extension Table'!A19,CHAR(13),CHAR(10),,\"          authentication outbound\",CHAR(13),CHAR(10),,\"              authenticate 1 authentication-service AS_ALL_EXTENSIONS username \",'Extension Table'!F19,CHAR(13),CHAR(10),\"          registration outbound\",CHAR(13),CHAR(10),\"             registrar \",Data!$C$24,\" \",Data!$C$25,CHAR(13),CHAR(10),\"             lifetime 300\",CHAR(13),CHAR(10),\"             register auto\",CHAR(13),CHAR(10),\"             retry-timeout on-system-error 10\",CHAR(13),CHAR(10),\"             retry-timeout on-client-error 10\",CHAR(13),CHAR(10),\"             retry-timeout on-server-error 10\")","v":"     identity 118\r\n          authentication outbound\r\n              authenticate 1 authentication-service AS_ALL_EXTENSIONS username 118\r\n          registration outbound\r\n             registrar 10.10.50.23 5060\r\n             lifetime 300\r\n             register auto\r\n             retry-timeout on-system-error 10\r\n             retry-timeout on-client-error 10\r\n             retry-timeout on-server-error 10"}]
[387,{"$f":"+IF(Data!$C$6>ROW(SNOMONE!B388)-ROW(SNOMONE!$B$370),\"\",\"#\")","v":"#"},{"$f":"+CONCATENATE(\"     identity \",'Extension Table'!A20,CHAR(13),CHAR(10),,\"          authentication outbound\",CHAR(13),CHAR(10),,\"              authenticate 1 authentication-service AS_ALL_EXTENSIONS username \",'Extension Table'!F20,CHAR(13),CHAR(10),\"          registration outbound\",CHAR(13),CHAR(10),\"             registrar \",Data!$C$24,\" \",Data!$C$25,CHAR(13),CHAR(10),\"             lifetime 300\",CHAR(13),CHAR(10),\"             register auto\",CHAR(13),CHAR(10),\"             retry-timeout on-system-error 10\",CHAR(13),CHAR(10),\"             retry-timeout on-client-error 10\",CHAR(13),CHAR(10),\"             retry-timeout on-server-error 10\")","v":"     identity 119\r\n          authentication outbound\r\n              authenticate 1 authentication-service AS_ALL_EXTENSIONS username 119\r\n          registration outbound\r\n             registrar 10.10.50.23 5060\r\n             lifetime 300\r\n             register auto\r\n             retry-timeout on-system-error 10\r\n             retry-timeout on-client-error 10\r\n             retry-timeout on-server-error 10"}]
[388,{"$f":"+IF(Data!$C$6>ROW(SNOMONE!B389)-ROW(SNOMONE!$B$370),\"\",\"#\")","v":"#"},{"$f":"+CONCATENATE(\"     identity \",'Extension Table'!A21,CHAR(13),CHAR(10),,\"          authentication outbound\",CHAR(13),CHAR(10),,\"              authenticate 1 authentication-service AS_ALL_EXTENSIONS username \",'Extension Table'!F21,CHAR(13),CHAR(10),\"          registration outbound\",CHAR(13),CHAR(10),\"             registrar \",Data!$C$24,\" \",Data!$C$25,CHAR(13),CHAR(10),\"             lifetime 300\",CHAR(13),CHAR(10),\"             register auto\",CHAR(13),CHAR(10),\"             retry-timeout on-system-error 10\",CHAR(13),CHAR(10),\"             retry-timeout on-client-error 10\",CHAR(13),CHAR(10),\"             retry-timeout on-server-error 10\")","v":"     identity 120\r\n          authentication outbound\r\n              authenticate 1 authentication-service AS_ALL_EXTENSIONS username 120\r\n          registration outbound\r\n             registrar 10.10.50.23 5060\r\n             lifetime 300\r\n             register auto\r\n             retry-timeout on-system-error 10\r\n             retry-timeout on-client-error 10\r\n             retry-timeout on-server-error 10"}]
[389,{"$f":"+IF(Data!$C$6>ROW(SNOMONE!B390)-ROW(SNOMONE!$B$370),\"\",\"#\")","v":"#"},{"$f":"+CONCATENATE(\"     identity \",'Extension Table'!A22,CHAR(13),CHAR(10),,\"          authentication outbound\",CHAR(13),CHAR(10),,\"              authenticate 1 authentication-service AS_ALL_EXTENSIONS username \",'Extension Table'!F22,CHAR(13),CHAR(10),\"          registration outbound\",CHAR(13),CHAR(10),\"             registrar \",Data!$C$24,\" \",Data!$C$25,CHAR(13),CHAR(10),\"             lifetime 300\",CHAR(13),CHAR(10),\"             register auto\",CHAR(13),CHAR(10),\"             retry-timeout on-system-error 10\",CHAR(13),CHAR(10),\"             retry-timeout on-client-error 10\",CHAR(13),CHAR(10),\"             retry-timeout on-server-error 10\")","v":"     identity 121\r\n          authentication outbound\r\n              authenticate 1 authentication-service AS_ALL_EXTENSIONS username 121\r\n          registration outbound\r\n             registrar 10.10.50.23 5060\r\n             lifetime 300\r\n             register auto\r\n             retry-timeout on-system-error 10\r\n             retry-timeout on-client-error 10\r\n             retry-timeout on-server-error 10"}]
[390,{"$f":"+IF(Data!$C$6>ROW(SNOMONE!B391)-ROW(SNOMONE!$B$370),\"\",\"#\")","v":"#"},{"$f":"+CONCATENATE(\"     identity \",'Extension Table'!A23,CHAR(13),CHAR(10),,\"          authentication outbound\",CHAR(13),CHAR(10),,\"              authenticate 1 authentication-service AS_ALL_EXTENSIONS username \",'Extension Table'!F23,CHAR(13),CHAR(10),\"          registration outbound\",CHAR(13),CHAR(10),\"             registrar \",Data!$C$24,\" \",Data!$C$25,CHAR(13),CHAR(10),\"             lifetime 300\",CHAR(13),CHAR(10),\"             register auto\",CHAR(13),CHAR(10),\"             retry-timeout on-system-error 10\",CHAR(13),CHAR(10),\"             retry-timeout on-client-error 10\",CHAR(13),CHAR(10),\"             retry-timeout on-server-error 10\")","v":"     identity 122\r\n          authentication outbound\r\n              authenticate 1 authentication-service AS_ALL_EXTENSIONS username 122\r\n          registration outbound\r\n             registrar 10.10.50.23 5060\r\n             lifetime 300\r\n             register auto\r\n             retry-timeout on-system-error 10\r\n             retry-timeout on-client-error 10\r\n             retry-timeout on-server-error 10"}]
[391,{"$f":"+IF(Data!$C$6>ROW(SNOMONE!B392)-ROW(SNOMONE!$B$370),\"\",\"#\")","v":"#"},{"$f":"+CONCATENATE(\"     identity \",'Extension Table'!A24,CHAR(13),CHAR(10),,\"          authentication outbound\",CHAR(13),CHAR(10),,\"              authenticate 1 authentication-service AS_ALL_EXTENSIONS username \",'Extension Table'!F24,CHAR(13),CHAR(10),\"          registration outbound\",CHAR(13),CHAR(10),\"             registrar \",Data!$C$24,\" \",Data!$C$25,CHAR(13),CHAR(10),\"             lifetime 300\",CHAR(13),CHAR(10),\"             register auto\",CHAR(13),CHAR(10),\"             retry-timeout on-system-error 10\",CHAR(13),CHAR(10),\"             retry-timeout on-client-error 10\",CHAR(13),CHAR(10),\"             retry-timeout on-server-error 10\")","v":"     identity 123\r\n          authentication outbound\r\n              authenticate 1 authentication-service AS_ALL_EXTENSIONS username 123\r\n          registration outbound\r\n             registrar 10.10.50.23 5060\r\n             lifetime 300\r\n             register auto\r\n             retry-timeout on-system-error 10\r\n             retry-timeout on-client-error 10\r\n             retry-timeout on-server-error 10"}]
[392,{"$f":"+IF(Data!$C$6>ROW(SNOMONE!B393)-ROW(SNOMONE!$B$370),\"\",\"#\")","v":"#"},{"$f":"+CONCATENATE(\"     identity \",'Extension Table'!A25,CHAR(13),CHAR(10),,\"          authentication outbound\",CHAR(13),CHAR(10),,\"              authenticate 1 authentication-service AS_ALL_EXTENSIONS username \",'Extension Table'!F25,CHAR(13),CHAR(10),\"          registration outbound\",CHAR(13),CHAR(10),\"             registrar \",Data!$C$24,\" \",Data!$C$25,CHAR(13),CHAR(10),\"             lifetime 300\",CHAR(13),CHAR(10),\"             register auto\",CHAR(13),CHAR(10),\"             retry-timeout on-system-error 10\",CHAR(13),CHAR(10),\"             retry-timeout on-client-error 10\",CHAR(13),CHAR(10),\"             retry-timeout on-server-error 10\")","v":"     identity 124\r\n          authentication outbound\r\n              authenticate 1 authentication-service AS_ALL_EXTENSIONS username 124\r\n          registration outbound\r\n             registrar 10.10.50.23 5060\r\n             lifetime 300\r\n             register auto\r\n             retry-timeout on-system-error 10\r\n             retry-timeout on-client-error 10\r\n             retry-timeout on-server-error 10"}]
[393,{"$f":"+IF(Data!$C$6>ROW(SNOMONE!B394)-ROW(SNOMONE!$B$370),\"\",\"#\")","v":"#"},{"$f":"+CONCATENATE(\"     identity \",'Extension Table'!A26,CHAR(13),CHAR(10),,\"          authentication outbound\",CHAR(13),CHAR(10),,\"              authenticate 1 authentication-service AS_ALL_EXTENSIONS username \",'Extension Table'!F26,CHAR(13),CHAR(10),\"          registration outbound\",CHAR(13),CHAR(10),\"             registrar \",Data!$C$24,\" \",Data!$C$25,CHAR(13),CHAR(10),\"             lifetime 300\",CHAR(13),CHAR(10),\"             register auto\",CHAR(13),CHAR(10),\"             retry-timeout on-system-error 10\",CHAR(13),CHAR(10),\"             retry-timeout on-client-error 10\",CHAR(13),CHAR(10),\"             retry-timeout on-server-error 10\")","v":"     identity 125\r\n          authentication outbound\r\n              authenticate 1 authentication-service AS_ALL_EXTENSIONS username 125\r\n          registration outbound\r\n             registrar 10.10.50.23 5060\r\n             lifetime 300\r\n             register auto\r\n             retry-timeout on-system-error 10\r\n             retry-timeout on-client-error 10\r\n             retry-timeout on-server-error 10"}]
[394,{"$f":"+IF(Data!$C$6>ROW(SNOMONE!B395)-ROW(SNOMONE!$B$370),\"\",\"#\")","v":"#"},{"$f":"+CONCATENATE(\"     identity \",'Extension Table'!A27,CHAR(13),CHAR(10),,\"          authentication outbound\",CHAR(13),CHAR(10),,\"              authenticate 1 authentication-service AS_ALL_EXTENSIONS username \",'Extension Table'!F27,CHAR(13),CHAR(10),\"          registration outbound\",CHAR(13),CHAR(10),\"             registrar \",Data!$C$24,\" \",Data!$C$25,CHAR(13),CHAR(10),\"             lifetime 300\",CHAR(13),CHAR(10),\"             register auto\",CHAR(13),CHAR(10),\"             retry-timeout on-system-error 10\",CHAR(13),CHAR(10),\"             retry-timeout on-client-error 10\",CHAR(13),CHAR(10),\"             retry-timeout on-server-error 10\")","v":"     identity 126\r\n          authentication outbound\r\n              authenticate 1 authentication-service AS_ALL_EXTENSIONS username 126\r\n          registration outbound\r\n             registrar 10.10.50.23 5060\r\n             lifetime 300\r\n             register auto\r\n             retry-timeout on-system-error 10\r\n             retry-timeout on-client-error 10\r\n             retry-timeout on-server-error 10"}]
[395,{"$f":"+IF(Data!$C$6>ROW(SNOMONE!B396)-ROW(SNOMONE!$B$370),\"\",\"#\")","v":"#"},{"$f":"+CONCATENATE(\"     identity \",'Extension Table'!A28,CHAR(13),CHAR(10),,\"          authentication outbound\",CHAR(13),CHAR(10),,\"              authenticate 1 authentication-service AS_ALL_EXTENSIONS username \",'Extension Table'!F28,CHAR(13),CHAR(10),\"          registration outbound\",CHAR(13),CHAR(10),\"             registrar \",Data!$C$24,\" \",Data!$C$25,CHAR(13),CHAR(10),\"             lifetime 300\",CHAR(13),CHAR(10),\"             register auto\",CHAR(13),CHAR(10),\"             retry-timeout on-system-error 10\",CHAR(13),CHAR(10),\"             retry-timeout on-client-error 10\",CHAR(13),CHAR(10),\"             retry-timeout on-server-error 10\")","v":"     identity 127\r\n          authentication outbound\r\n              authenticate 1 authentication-service AS_ALL_EXTENSIONS username 127\r\n          registration outbound\r\n             registrar 10.10.50.23 5060\r\n             lifetime 300\r\n             register auto\r\n             retry-timeout on-system-error 10\r\n             retry-timeout on-client-error 10\r\n             retry-timeout on-server-error 10"}]
[396,{"$f":"+IF(Data!$C$6>ROW(SNOMONE!B397)-ROW(SNOMONE!$B$370),\"\",\"#\")","v":"#"},{"$f":"+CONCATENATE(\"     identity \",'Extension Table'!A29,CHAR(13),CHAR(10),,\"          authentication outbound\",CHAR(13),CHAR(10),,\"              authenticate 1 authentication-service AS_ALL_EXTENSIONS username \",'Extension Table'!F29,CHAR(13),CHAR(10),\"          registration outbound\",CHAR(13),CHAR(10),\"             registrar \",Data!$C$24,\" \",Data!$C$25,CHAR(13),CHAR(10),\"             lifetime 300\",CHAR(13),CHAR(10),\"             register auto\",CHAR(13),CHAR(10),\"             retry-timeout on-system-error 10\",CHAR(13),CHAR(10),\"             retry-timeout on-client-error 10\",CHAR(13),CHAR(10),\"             retry-timeout on-server-error 10\")","v":"     identity 128\r\n          authentication outbound\r\n              authenticate 1 authentication-service AS_ALL_EXTENSIONS username 128\r\n          registration outbound\r\n             registrar 10.10.50.23 5060\r\n             lifetime 300\r\n             register auto\r\n             retry-timeout on-system-error 10\r\n             retry-timeout on-client-error 10\r\n             retry-timeout on-server-error 10"}]
[397,{"$f":"+IF(Data!$C$6>ROW(SNOMONE!B398)-ROW(SNOMONE!$B$370),\"\",\"#\")","v":"#"},{"$f":"+CONCATENATE(\"     identity \",'Extension Table'!A30,CHAR(13),CHAR(10),,\"          authentication outbound\",CHAR(13),CHAR(10),,\"              authenticate 1 authentication-service AS_ALL_EXTENSIONS username \",'Extension Table'!F30,CHAR(13),CHAR(10),\"          registration outbound\",CHAR(13),CHAR(10),\"             registrar \",Data!$C$24,\" \",Data!$C$25,CHAR(13),CHAR(10),\"             lifetime 300\",CHAR(13),CHAR(10),\"             register auto\",CHAR(13),CHAR(10),\"             retry-timeout on-system-error 10\",CHAR(13),CHAR(10),\"             retry-timeout on-client-error 10\",CHAR(13),CHAR(10),\"             retry-timeout on-server-error 10\")","v":"     identity 129\r\n          authentication outbound\r\n              authenticate 1 authentication-service AS_ALL_EXTENSIONS username 129\r\n          registration outbound\r\n             registrar 10.10.50.23 5060\r\n             lifetime 300\r\n             register auto\r\n             retry-timeout on-system-error 10\r\n             retry-timeout on-client-error 10\r\n             retry-timeout on-server-error 10"}]
[398,{"$f":"+IF(Data!$C$6>ROW(SNOMONE!B399)-ROW(SNOMONE!$B$370),\"\",\"#\")","v":"#"},{"$f":"+CONCATENATE(\"     identity \",'Extension Table'!A31,CHAR(13),CHAR(10),,\"          authentication outbound\",CHAR(13),CHAR(10),,\"              authenticate 1 authentication-service AS_ALL_EXTENSIONS username \",'Extension Table'!F31,CHAR(13),CHAR(10),\"          registration outbound\",CHAR(13),CHAR(10),\"             registrar \",Data!$C$24,\" \",Data!$C$25,CHAR(13),CHAR(10),\"             lifetime 300\",CHAR(13),CHAR(10),\"             register auto\",CHAR(13),CHAR(10),\"             retry-timeout on-system-error 10\",CHAR(13),CHAR(10),\"             retry-timeout on-client-error 10\",CHAR(13),CHAR(10),\"             retry-timeout on-server-error 10\")","v":"     identity 130\r\n          authentication outbound\r\n              authenticate 1 authentication-service AS_ALL_EXTENSIONS username 130\r\n          registration outbound\r\n             registrar 10.10.50.23 5060\r\n             lifetime 300\r\n             register auto\r\n             retry-timeout on-system-error 10\r\n             retry-timeout on-client-error 10\r\n             retry-timeout on-server-error 10"}]
[399,{"$f":"+IF(Data!$C$6>ROW(SNOMONE!B400)-ROW(SNOMONE!$B$370),\"\",\"#\")","v":"#"},{"$f":"+CONCATENATE(\"     identity \",'Extension Table'!A32,CHAR(13),CHAR(10),,\"          authentication outbound\",CHAR(13),CHAR(10),,\"              authenticate 1 authentication-service AS_ALL_EXTENSIONS username \",'Extension Table'!F32,CHAR(13),CHAR(10),\"          registration outbound\",CHAR(13),CHAR(10),\"             registrar \",Data!$C$24,\" \",Data!$C$25,CHAR(13),CHAR(10),\"             lifetime 300\",CHAR(13),CHAR(10),\"             register auto\",CHAR(13),CHAR(10),\"             retry-timeout on-system-error 10\",CHAR(13),CHAR(10),\"             retry-timeout on-client-error 10\",CHAR(13),CHAR(10),\"             retry-timeout on-server-error 10\")","v":"     identity 131\r\n          authentication outbound\r\n              authenticate 1 authentication-service AS_ALL_EXTENSIONS username 131\r\n          registration outbound\r\n             registrar 10.10.50.23 5060\r\n             lifetime 300\r\n             register auto\r\n             retry-timeout on-system-error 10\r\n             retry-timeout on-client-error 10\r\n             retry-timeout on-server-error 10"}]
[400,{"$f":"+IF(Data!$C$6>ROW(SNOMONE!B401)-ROW(SNOMONE!$B$370),\"\",\"#\")","v":"#"},{"$f":"+CONCATENATE(\"     identity \",'Extension Table'!A33,CHAR(13),CHAR(10),,\"          authentication outbound\",CHAR(13),CHAR(10),,\"              authenticate 1 authentication-service AS_ALL_EXTENSIONS username \",'Extension Table'!F33,CHAR(13),CHAR(10),\"          registration outbound\",CHAR(13),CHAR(10),\"             registrar \",Data!$C$24,\" \",Data!$C$25,CHAR(13),CHAR(10),\"             lifetime 300\",CHAR(13),CHAR(10),\"             register auto\",CHAR(13),CHAR(10),\"             retry-timeout on-system-error 10\",CHAR(13),CHAR(10),\"             retry-timeout on-client-error 10\",CHAR(13),CHAR(10),\"             retry-timeout on-server-error 10\")","v":"     identity 132\r\n          authentication outbound\r\n              authenticate 1 authentication-service AS_ALL_EXTENSIONS username 132\r\n          registration outbound\r\n             registrar 10.10.50.23 5060\r\n             lifetime 300\r\n             register auto\r\n             retry-timeout on-system-error 10\r\n             retry-timeout on-client-error 10\r\n             retry-timeout on-server-error 10"}]
[401]
[402,{"$f":"+IF(Data!$C$5>0,\" \",\"#\")","v":" "},"location-services LS_ALL_LINES"]
[403]
[404]
[405,{"$f":"+IF(Data!$C$5>ROW(SNOMONE!B406)-ROW(SNOMONE!$B$406),\"\",\"#\")","v":""},{"$f":"+CONCATENATE(\"     identity \",'Line Table'!B2)","v":"     identity 10002"}]
[406,{"$f":"+IF(Data!$C$5>ROW(SNOMONE!B407)-ROW(SNOMONE!$B$406),\"\",\"#\")","v":""},{"$f":"+CONCATENATE(\"     identity \",'Line Table'!B3)","v":"     identity 10003"}]
[407,{"$f":"+IF(Data!$C$5>ROW(SNOMONE!B408)-ROW(SNOMONE!$B$406),\"\",\"#\")","v":""},{"$f":"+CONCATENATE(\"     identity \",'Line Table'!B4)","v":"     identity 10004"}]
[408,{"$f":"+IF(Data!$C$5>ROW(SNOMONE!B409)-ROW(SNOMONE!$B$406),\"\",\"#\")","v":""},{"$f":"+CONCATENATE(\"     identity \",'Line Table'!B5)","v":"     identity 10005"}]
[409,{"$f":"+IF(Data!$C$5>ROW(SNOMONE!B410)-ROW(SNOMONE!$B$406),\"\",\"#\")","v":""},{"$f":"+CONCATENATE(\"     identity \",'Line Table'!B6)","v":"     identity 10006"}]
[410,{"$f":"+IF(Data!$C$5>ROW(SNOMONE!B411)-ROW(SNOMONE!$B$406),\"\",\"#\")","v":""},{"$f":"+CONCATENATE(\"     identity \",'Line Table'!B7)","v":"     identity 10007"}]
[411,{"$f":"+IF(Data!$C$5>ROW(SNOMONE!B412)-ROW(SNOMONE!$B$406),\"\",\"#\")","v":""},{"$f":"+CONCATENATE(\"     identity \",'Line Table'!B8)","v":"     identity 10008"}]
[412,{"$f":"+IF(Data!$C$5>ROW(SNOMONE!B413)-ROW(SNOMONE!$B$406),\"\",\"#\")","v":""},{"$f":"+CONCATENATE(\"     identity \",'Line Table'!B9)","v":"     identity 10009"}]
[413,{"$f":"+IF(Data!$C$5>ROW(SNOMONE!B414)-ROW(SNOMONE!$B$406),\"\",\"#\")","v":""},{"$f":"+CONCATENATE(\"     identity \",'Line Table'!B10)","v":"     identity 10010"}]
[414,{"$f":"+IF(Data!$C$5>ROW(SNOMONE!B415)-ROW(SNOMONE!$B$406),\"\",\"#\")","v":""},{"$f":"+CONCATENATE(\"     identity \",'Line Table'!B11)","v":"     identity 10011"}]
[415,{"$f":"+IF(Data!$C$5>ROW(SNOMONE!B416)-ROW(SNOMONE!$B$406),\"\",\"#\")","v":""},{"$f":"+CONCATENATE(\"     identity \",'Line Table'!B12)","v":"     identity 10012"}]
[416,{"$f":"+IF(Data!$C$5>ROW(SNOMONE!B417)-ROW(SNOMONE!$B$406),\"\",\"#\")","v":""},{"$f":"+CONCATENATE(\"     identity \",'Line Table'!B13)","v":"     identity 10013"}]
[417,{"$f":"+IF(Data!$C$5>ROW(SNOMONE!B418)-ROW(SNOMONE!$B$406),\"\",\"#\")","v":"#"},{"$f":"+CONCATENATE(\"     identity \",'Line Table'!B14)","v":"     identity 10014"}]
[418,{"$f":"+IF(Data!$C$5>ROW(SNOMONE!B419)-ROW(SNOMONE!$B$406),\"\",\"#\")","v":"#"},{"$f":"+CONCATENATE(\"     identity \",'Line Table'!B15)","v":"     identity 10015"}]
[419,{"$f":"+IF(Data!$C$5>ROW(SNOMONE!B420)-ROW(SNOMONE!$B$406),\"\",\"#\")","v":"#"},{"$f":"+CONCATENATE(\"     identity \",'Line Table'!B16)","v":"     identity 10016"}]
[420,{"$f":"+IF(Data!$C$5>ROW(SNOMONE!B421)-ROW(SNOMONE!$B$406),\"\",\"#\")","v":"#"},{"$f":"+CONCATENATE(\"     identity \",'Line Table'!B17)","v":"     identity 10017"}]
[421,{"$f":"+IF(Data!$C$5>ROW(SNOMONE!B422)-ROW(SNOMONE!$B$406),\"\",\"#\")","v":"#"},{"$f":"+CONCATENATE(\"     identity \",'Line Table'!B18)","v":"     identity 10018"}]
[422,{"$f":"+IF(Data!$C$5>ROW(SNOMONE!B423)-ROW(SNOMONE!$B$406),\"\",\"#\")","v":"#"},{"$f":"+CONCATENATE(\"     identity \",'Line Table'!B19)","v":"     identity 10019"}]
[423,{"$f":"+IF(Data!$C$5>ROW(SNOMONE!B424)-ROW(SNOMONE!$B$406),\"\",\"#\")","v":"#"},{"$f":"+CONCATENATE(\"     identity \",'Line Table'!B20)","v":"     identity 10020"}]
[424,{"$f":"+IF(Data!$C$5>ROW(SNOMONE!B425)-ROW(SNOMONE!$B$406),\"\",\"#\")","v":"#"},{"$f":"+CONCATENATE(\"     identity \",'Line Table'!B21)","v":"     identity 10021"}]
[425,{"$f":"+IF(Data!$C$5>ROW(SNOMONE!B426)-ROW(SNOMONE!$B$406),\"\",\"#\")","v":"#"},{"$f":"+CONCATENATE(\"     identity \",'Line Table'!B22)","v":"     identity 10022"}]
[426,{"$f":"+IF(Data!$C$5>ROW(SNOMONE!B427)-ROW(SNOMONE!$B$406),\"\",\"#\")","v":"#"},{"$f":"+CONCATENATE(\"     identity \",'Line Table'!B23)","v":"     identity 10023"}]
[427,{"$f":"+IF(Data!$C$5>ROW(SNOMONE!B428)-ROW(SNOMONE!$B$406),\"\",\"#\")","v":"#"},{"$f":"+CONCATENATE(\"     identity \",'Line Table'!B24)","v":"     identity 10024"}]
[428,{"$f":"+IF(Data!$C$5>ROW(SNOMONE!B429)-ROW(SNOMONE!$B$406),\"\",\"#\")","v":"#"},{"$f":"+CONCATENATE(\"     identity \",'Line Table'!B25)","v":"     identity 10025"}]
[429,{"$f":"+IF(Data!$C$5>ROW(SNOMONE!B430)-ROW(SNOMONE!$B$406),\"\",\"#\")","v":"#"},{"$f":"+CONCATENATE(\"     identity \",'Line Table'!B26)","v":"     identity 10026"}]
[430,{"$f":"+IF(Data!$C$5>ROW(SNOMONE!B431)-ROW(SNOMONE!$B$406),\"\",\"#\")","v":"#"},{"$f":"+CONCATENATE(\"     identity \",'Line Table'!B27)","v":"     identity 10027"}]
[431,{"$f":"+IF(Data!$C$5>ROW(SNOMONE!B432)-ROW(SNOMONE!$B$406),\"\",\"#\")","v":"#"},{"$f":"+CONCATENATE(\"     identity \",'Line Table'!B28)","v":"     identity 10028"}]
[432,{"$f":"+IF(Data!$C$5>ROW(SNOMONE!B433)-ROW(SNOMONE!$B$406),\"\",\"#\")","v":"#"},{"$f":"+CONCATENATE(\"     identity \",'Line Table'!B29)","v":"     identity 10029"}]
[433,{"$f":"+IF(Data!$C$5>ROW(SNOMONE!B434)-ROW(SNOMONE!$B$406),\"\",\"#\")","v":"#"},{"$f":"+CONCATENATE(\"     identity \",'Line Table'!B30)","v":"     identity 10030"}]
[434,{"$f":"+IF(Data!$C$5>ROW(SNOMONE!B435)-ROW(SNOMONE!$B$406),\"\",\"#\")","v":"#"},{"$f":"+CONCATENATE(\"     identity \",'Line Table'!B31)","v":"     identity 10031"}]
[435,{"$f":"+IF(Data!$C$5>ROW(SNOMONE!B436)-ROW(SNOMONE!$B$406),\"\",\"#\")","v":"#"},{"$f":"+CONCATENATE(\"     identity \",'Line Table'!B32)","v":"     identity 10032"}]
[436,{"$f":"+IF(Data!$C$5>ROW(SNOMONE!B437)-ROW(SNOMONE!$B$406),\"\",\"#\")","v":"#"},{"$f":"+CONCATENATE(\"     identity \",'Line Table'!B33)","v":"     identity 10033"}]
[437,null,"          "]
[438,null,"        "]
[439,{"$f":"+IF(Data!$C$5>ROW(SNOMONE!B439)-ROW(SNOMONE!$B$439),\"\",\"#\")","v":""},{"$f":"+CONCATENATE(\"  port fxo 0 \",ROW()-ROW($C$440),CHAR(13),CHAR(10),\"      \",Data!$C$31,CHAR(13),CHAR(10),\"     encapsulation cc-fxo\",CHAR(13),CHAR(10),\"      bind interface IF_FXO_\",'Line Table'!A2,\" switch\",CHAR(13),CHAR(10),\"      no shutdown\")","v":"  port fxo 0 0\r\n      use profile fxo us\r\n     encapsulation cc-fxo\r\n      bind interface IF_FXO_1 switch\r\n      no shutdown"}]
[440,{"$f":"+IF(Data!$C$5>ROW(SNOMONE!B440)-ROW(SNOMONE!$B$439),\"\",\"#\")","v":""},{"$f":"+CONCATENATE(\"  port fxo 0 \",ROW()-ROW($C$440),CHAR(13),CHAR(10),\"      \",Data!$C$31,CHAR(13),CHAR(10),\"     encapsulation cc-fxo\",CHAR(13),CHAR(10),\"      bind interface IF_FXO_\",'Line Table'!A3,\" switch\",CHAR(13),CHAR(10),\"      no shutdown\")","v":"  port fxo 0 1\r\n      use profile fxo us\r\n     encapsulation cc-fxo\r\n      bind interface IF_FXO_2 switch\r\n      no shutdown"}]
[441,{"$f":"+IF(Data!$C$5>ROW(SNOMONE!B441)-ROW(SNOMONE!$B$439),\"\",\"#\")","v":""},{"$f":"+CONCATENATE(\"  port fxo 0 \",ROW()-ROW($C$440),CHAR(13),CHAR(10),\"      \",Data!$C$31,CHAR(13),CHAR(10),\"     encapsulation cc-fxo\",CHAR(13),CHAR(10),\"      bind interface IF_FXO_\",'Line Table'!A4,\" switch\",CHAR(13),CHAR(10),\"      no shutdown\")","v":"  port fxo 0 2\r\n      use profile fxo us\r\n     encapsulation cc-fxo\r\n      bind interface IF_FXO_3 switch\r\n      no shutdown"}]
[442,{"$f":"+IF(Data!$C$5>ROW(SNOMONE!B442)-ROW(SNOMONE!$B$439),\"\",\"#\")","v":""},{"$f":"+CONCATENATE(\"  port fxo 0 \",ROW()-ROW($C$440),CHAR(13),CHAR(10),\"      \",Data!$C$31,CHAR(13),CHAR(10),\"     encapsulation cc-fxo\",CHAR(13),CHAR(10),\"      bind interface IF_FXO_\",'Line Table'!A5,\" switch\",CHAR(13),CHAR(10),\"      no shutdown\")","v":"  port fxo 0 3\r\n      use profile fxo us\r\n     encapsulation cc-fxo\r\n      bind interface IF_FXO_4 switch\r\n      no shutdown"}]
[443,{"$f":"+IF(Data!$C$5>ROW(SNOMONE!B443)-ROW(SNOMONE!$B$439),\"\",\"#\")","v":""},{"$f":"+CONCATENATE(\"  port fxo 0 \",ROW()-ROW($C$440),CHAR(13),CHAR(10),\"      \",Data!$C$31,CHAR(13),CHAR(10),\"     encapsulation cc-fxo\",CHAR(13),CHAR(10),\"      bind interface IF_FXO_\",'Line Table'!A6,\" switch\",CHAR(13),CHAR(10),\"      no shutdown\")","v":"  port fxo 0 4\r\n      use profile fxo us\r\n     encapsulation cc-fxo\r\n      bind interface IF_FXO_5 switch\r\n      no shutdown"}]
[444,{"$f":"+IF(Data!$C$5>ROW(SNOMONE!B444)-ROW(SNOMONE!$B$439),\"\",\"#\")","v":""},{"$f":"+CONCATENATE(\"  port fxo 0 \",ROW()-ROW($C$440),CHAR(13),CHAR(10),\"      \",Data!$C$31,CHAR(13),CHAR(10),\"     encapsulation cc-fxo\",CHAR(13),CHAR(10),\"      bind interface IF_FXO_\",'Line Table'!A7,\" switch\",CHAR(13),CHAR(10),\"      no shutdown\")","v":"  port fxo 0 5\r\n      use profile fxo us\r\n     encapsulation cc-fxo\r\n      bind interface IF_FXO_6 switch\r\n      no shutdown"}]
[445,{"$f":"+IF(Data!$C$5>ROW(SNOMONE!B445)-ROW(SNOMONE!$B$439),\"\",\"#\")","v":""},{"$f":"+CONCATENATE(\"  port fxo 0 \",ROW()-ROW($C$440),CHAR(13),CHAR(10),\"      \",Data!$C$31,CHAR(13),CHAR(10),\"     encapsulation cc-fxo\",CHAR(13),CHAR(10),\"      bind interface IF_FXO_\",'Line Table'!A8,\" switch\",CHAR(13),CHAR(10),\"      no shutdown\")","v":"  port fxo 0 6\r\n      use profile fxo us\r\n     encapsulation cc-fxo\r\n      bind interface IF_FXO_7 switch\r\n      no shutdown"}]
[446,{"$f":"+IF(Data!$C$5>ROW(SNOMONE!B446)-ROW(SNOMONE!$B$439),\"\",\"#\")","v":""},{"$f":"+CONCATENATE(\"  port fxo 0 \",ROW()-ROW($C$440),CHAR(13),CHAR(10),\"      \",Data!$C$31,CHAR(13),CHAR(10),\"     encapsulation cc-fxo\",CHAR(13),CHAR(10),\"      bind interface IF_FXO_\",'Line Table'!A9,\" switch\",CHAR(13),CHAR(10),\"      no shutdown\")","v":"  port fxo 0 7\r\n      use profile fxo us\r\n     encapsulation cc-fxo\r\n      bind interface IF_FXO_8 switch\r\n      no shutdown"}]
[447,{"$f":"+IF(Data!$C$5>ROW(SNOMONE!B447)-ROW(SNOMONE!$B$439),\"\",\"#\")","v":""},{"$f":"+CONCATENATE(\"  port fxo 0 \",ROW()-ROW($C$440),CHAR(13),CHAR(10),\"      \",Data!$C$31,CHAR(13),CHAR(10),\"     encapsulation cc-fxo\",CHAR(13),CHAR(10),\"      bind interface IF_FXO_\",'Line Table'!A10,\" switch\",CHAR(13),CHAR(10),\"      no shutdown\")","v":"  port fxo 0 8\r\n      use profile fxo us\r\n     encapsulation cc-fxo\r\n      bind interface IF_FXO_9 switch\r\n      no shutdown"}]
[448,{"$f":"+IF(Data!$C$5>ROW(SNOMONE!B448)-ROW(SNOMONE!$B$439),\"\",\"#\")","v":""},{"$f":"+CONCATENATE(\"  port fxo 0 \",ROW()-ROW($C$440),CHAR(13),CHAR(10),\"      \",Data!$C$31,CHAR(13),CHAR(10),\"     encapsulation cc-fxo\",CHAR(13),CHAR(10),\"      bind interface IF_FXO_\",'Line Table'!A11,\" switch\",CHAR(13),CHAR(10),\"      no shutdown\")","v":"  port fxo 0 9\r\n      use profile fxo us\r\n     encapsulation cc-fxo\r\n      bind interface IF_FXO_10 switch\r\n      no shutdown"}]
[449,{"$f":"+IF(Data!$C$5>ROW(SNOMONE!B449)-ROW(SNOMONE!$B$439),\"\",\"#\")","v":""},{"$f":"+CONCATENATE(\"  port fxo 0 \",ROW()-ROW($C$440),CHAR(13),CHAR(10),\"      \",Data!$C$31,CHAR(13),CHAR(10),\"     encapsulation cc-fxo\",CHAR(13),CHAR(10),\"      bind interface IF_FXO_\",'Line Table'!A12,\" switch\",CHAR(13),CHAR(10),\"      no shutdown\")","v":"  port fxo 0 10\r\n      use profile fxo us\r\n     encapsulation cc-fxo\r\n      bind interface IF_FXO_11 switch\r\n      no shutdown"}]
[450,{"$f":"+IF(Data!$C$5>ROW(SNOMONE!B450)-ROW(SNOMONE!$B$439),\"\",\"#\")","v":""},{"$f":"+CONCATENATE(\"  port fxo 0 \",ROW()-ROW($C$440),CHAR(13),CHAR(10),\"      \",Data!$C$31,CHAR(13),CHAR(10),\"     encapsulation cc-fxo\",CHAR(13),CHAR(10),\"      bind interface IF_FXO_\",'Line Table'!A13,\" switch\",CHAR(13),CHAR(10),\"      no shutdown\")","v":"  port fxo 0 11\r\n      use profile fxo us\r\n     encapsulation cc-fxo\r\n      bind interface IF_FXO_12 switch\r\n      no shutdown"}]
[451,{"$f":"+IF(Data!$C$5>ROW(SNOMONE!B451)-ROW(SNOMONE!$B$439),\"\",\"#\")","v":"#"},{"$f":"+CONCATENATE(\"  port fxo 0 \",ROW()-ROW($C$440),CHAR(13),CHAR(10),\"      \",Data!$C$31,CHAR(13),CHAR(10),\"     encapsulation cc-fxo\",CHAR(13),CHAR(10),\"      bind interface IF_FXO_\",'Line Table'!A14,\" switch\",CHAR(13),CHAR(10),\"      no shutdown\")","v":"  port fxo 0 12\r\n      use profile fxo us\r\n     encapsulation cc-fxo\r\n      bind interface IF_FXO_13 switch\r\n      no shutdown"}]
[452,{"$f":"+IF(Data!$C$5>ROW(SNOMONE!B452)-ROW(SNOMONE!$B$439),\"\",\"#\")","v":"#"},{"$f":"+CONCATENATE(\"  port fxo 0 \",ROW()-ROW($C$440),CHAR(13),CHAR(10),\"      \",Data!$C$31,CHAR(13),CHAR(10),\"     encapsulation cc-fxo\",CHAR(13),CHAR(10),\"      bind interface IF_FXO_\",'Line Table'!A15,\" switch\",CHAR(13),CHAR(10),\"      no shutdown\")","v":"  port fxo 0 13\r\n      use profile fxo us\r\n     encapsulation cc-fxo\r\n      bind interface IF_FXO_14 switch\r\n      no shutdown"}]
[453,{"$f":"+IF(Data!$C$5>ROW(SNOMONE!B453)-ROW(SNOMONE!$B$439),\"\",\"#\")","v":"#"},{"$f":"+CONCATENATE(\"  port fxo 0 \",ROW()-ROW($C$440),CHAR(13),CHAR(10),\"      \",Data!$C$31,CHAR(13),CHAR(10),\"     encapsulation cc-fxo\",CHAR(13),CHAR(10),\"      bind interface IF_FXO_\",'Line Table'!A16,\" switch\",CHAR(13),CHAR(10),\"      no shutdown\")","v":"  port fxo 0 14\r\n      use profile fxo us\r\n     encapsulation cc-fxo\r\n      bind interface IF_FXO_15 switch\r\n      no shutdown"}]
[454,{"$f":"+IF(Data!$C$5>ROW(SNOMONE!B454)-ROW(SNOMONE!$B$439),\"\",\"#\")","v":"#"},{"$f":"+CONCATENATE(\"  port fxo 0 \",ROW()-ROW($C$440),CHAR(13),CHAR(10),\"      \",Data!$C$31,CHAR(13),CHAR(10),\"     encapsulation cc-fxo\",CHAR(13),CHAR(10),\"      bind interface IF_FXO_\",'Line Table'!A17,\" switch\",CHAR(13),CHAR(10),\"      no shutdown\")","v":"  port fxo 0 15\r\n      use profile fxo us\r\n     encapsulation cc-fxo\r\n      bind interface IF_FXO_16 switch\r\n      no shutdown"}]
[455,{"$f":"+IF(Data!$C$5>ROW(SNOMONE!B455)-ROW(SNOMONE!$B$439),\"\",\"#\")","v":"#"},{"$f":"+CONCATENATE(\"  port fxo 0 \",ROW()-ROW($C$440),CHAR(13),CHAR(10),\"      \",Data!$C$31,CHAR(13),CHAR(10),\"     encapsulation cc-fxo\",CHAR(13),CHAR(10),\"      bind interface IF_FXO_\",'Line Table'!A18,\" switch\",CHAR(13),CHAR(10),\"      no shutdown\")","v":"  port fxo 0 16\r\n      use profile fxo us\r\n     encapsulation cc-fxo\r\n      bind interface IF_FXO_17 switch\r\n      no shutdown"}]
[456,{"$f":"+IF(Data!$C$5>ROW(SNOMONE!B456)-ROW(SNOMONE!$B$439),\"\",\"#\")","v":"#"},{"$f":"+CONCATENATE(\"  port fxo 0 \",ROW()-ROW($C$440),CHAR(13),CHAR(10),\"      \",Data!$C$31,CHAR(13),CHAR(10),\"     encapsulation cc-fxo\",CHAR(13),CHAR(10),\"      bind interface IF_FXO_\",'Line Table'!A19,\" switch\",CHAR(13),CHAR(10),\"      no shutdown\")","v":"  port fxo 0 17\r\n      use profile fxo us\r\n     encapsulation cc-fxo\r\n      bind interface IF_FXO_18 switch\r\n      no shutdown"}]
[457,{"$f":"+IF(Data!$C$5>ROW(SNOMONE!B457)-ROW(SNOMONE!$B$439),\"\",\"#\")","v":"#"},{"$f":"+CONCATENATE(\"  port fxo 0 \",ROW()-ROW($C$440),CHAR(13),CHAR(10),\"      \",Data!$C$31,CHAR(13),CHAR(10),\"     encapsulation cc-fxo\",CHAR(13),CHAR(10),\"      bind interface IF_FXO_\",'Line Table'!A20,\" switch\",CHAR(13),CHAR(10),\"      no shutdown\")","v":"  port fxo 0 18\r\n      use profile fxo us\r\n     encapsulation cc-fxo\r\n      bind interface IF_FXO_19 switch\r\n      no shutdown"}]
[458,{"$f":"+IF(Data!$C$5>ROW(SNOMONE!B458)-ROW(SNOMONE!$B$439),\"\",\"#\")","v":"#"},{"$f":"+CONCATENATE(\"  port fxo 0 \",ROW()-ROW($C$440),CHAR(13),CHAR(10),\"      \",Data!$C$31,CHAR(13),CHAR(10),\"     encapsulation cc-fxo\",CHAR(13),CHAR(10),\"      bind interface IF_FXO_\",'Line Table'!A21,\" switch\",CHAR(13),CHAR(10),\"      no shutdown\")","v":"  port fxo 0 19\r\n      use profile fxo us\r\n     encapsulation cc-fxo\r\n      bind interface IF_FXO_20 switch\r\n      no shutdown"}]
[459,{"$f":"+IF(Data!$C$5>ROW(SNOMONE!B459)-ROW(SNOMONE!$B$439),\"\",\"#\")","v":"#"},{"$f":"+CONCATENATE(\"  port fxo 0 \",ROW()-ROW($C$440),CHAR(13),CHAR(10),\"      \",Data!$C$31,CHAR(13),CHAR(10),\"     encapsulation cc-fxo\",CHAR(13),CHAR(10),\"      bind interface IF_FXO_\",'Line Table'!A22,\" switch\",CHAR(13),CHAR(10),\"      no shutdown\")","v":"  port fxo 0 20\r\n      use profile fxo us\r\n     encapsulation cc-fxo\r\n      bind interface IF_FXO_21 switch\r\n      no shutdown"}]
[460,{"$f":"+IF(Data!$C$5>ROW(SNOMONE!B460)-ROW(SNOMONE!$B$439),\"\",\"#\")","v":"#"},{"$f":"+CONCATENATE(\"  port fxo 0 \",ROW()-ROW($C$440),CHAR(13),CHAR(10),\"      \",Data!$C$31,CHAR(13),CHAR(10),\"     encapsulation cc-fxo\",CHAR(13),CHAR(10),\"      bind interface IF_FXO_\",'Line Table'!A23,\" switch\",CHAR(13),CHAR(10),\"      no shutdown\")","v":"  port fxo 0 21\r\n      use profile fxo us\r\n     encapsulation cc-fxo\r\n      bind interface IF_FXO_22 switch\r\n      no shutdown"}]
[461,{"$f":"+IF(Data!$C$5>ROW(SNOMONE!B461)-ROW(SNOMONE!$B$439),\"\",\"#\")","v":"#"},{"$f":"+CONCATENATE(\"  port fxo 0 \",ROW()-ROW($C$440),CHAR(13),CHAR(10),\"      \",Data!$C$31,CHAR(13),CHAR(10),\"     encapsulation cc-fxo\",CHAR(13),CHAR(10),\"      bind interface IF_FXO_\",'Line Table'!A24,\" switch\",CHAR(13),CHAR(10),\"      no shutdown\")","v":"  port fxo 0 22\r\n      use profile fxo us\r\n     encapsulation cc-fxo\r\n      bind interface IF_FXO_23 switch\r\n      no shutdown"}]
[462,{"$f":"+IF(Data!$C$5>ROW(SNOMONE!B462)-ROW(SNOMONE!$B$439),\"\",\"#\")","v":"#"},{"$f":"+CONCATENATE(\"  port fxo 0 \",ROW()-ROW($C$440),CHAR(13),CHAR(10),\"      \",Data!$C$31,CHAR(13),CHAR(10),\"     encapsulation cc-fxo\",CHAR(13),CHAR(10),\"      bind interface IF_FXO_\",'Line Table'!A25,\" switch\",CHAR(13),CHAR(10),\"      no shutdown\")","v":"  port fxo 0 23\r\n      use profile fxo us\r\n     encapsulation cc-fxo\r\n      bind interface IF_FXO_24 switch\r\n      no shutdown"}]
[463,{"$f":"+IF(Data!$C$5>ROW(SNOMONE!B463)-ROW(SNOMONE!$B$439),\"\",\"#\")","v":"#"},{"$f":"+CONCATENATE(\"  port fxo 0 \",ROW()-ROW($C$440),CHAR(13),CHAR(10),\"      \",Data!$C$31,CHAR(13),CHAR(10),\"     encapsulation cc-fxo\",CHAR(13),CHAR(10),\"      bind interface IF_FXO_\",'Line Table'!A26,\" switch\",CHAR(13),CHAR(10),\"      no shutdown\")","v":"  port fxo 0 24\r\n      use profile fxo us\r\n     encapsulation cc-fxo\r\n      bind interface IF_FXO_25 switch\r\n      no shutdown"}]
[464,{"$f":"+IF(Data!$C$5>ROW(SNOMONE!B464)-ROW(SNOMONE!$B$439),\"\",\"#\")","v":"#"},{"$f":"+CONCATENATE(\"  port fxo 0 \",ROW()-ROW($C$440),CHAR(13),CHAR(10),\"      \",Data!$C$31,CHAR(13),CHAR(10),\"     encapsulation cc-fxo\",CHAR(13),CHAR(10),\"      bind interface IF_FXO_\",'Line Table'!A27,\" switch\",CHAR(13),CHAR(10),\"      no shutdown\")","v":"  port fxo 0 25\r\n      use profile fxo us\r\n     encapsulation cc-fxo\r\n      bind interface IF_FXO_26 switch\r\n      no shutdown"}]
[465,{"$f":"+IF(Data!$C$5>ROW(SNOMONE!B465)-ROW(SNOMONE!$B$439),\"\",\"#\")","v":"#"},{"$f":"+CONCATENATE(\"  port fxo 0 \",ROW()-ROW($C$440),CHAR(13),CHAR(10),\"      \",Data!$C$31,CHAR(13),CHAR(10),\"     encapsulation cc-fxo\",CHAR(13),CHAR(10),\"      bind interface IF_FXO_\",'Line Table'!A28,\" switch\",CHAR(13),CHAR(10),\"      no shutdown\")","v":"  port fxo 0 26\r\n      use profile fxo us\r\n     encapsulation cc-fxo\r\n      bind interface IF_FXO_27 switch\r\n      no shutdown"}]
[466,{"$f":"+IF(Data!$C$5>ROW(SNOMONE!B466)-ROW(SNOMONE!$B$439),\"\",\"#\")","v":"#"},{"$f":"+CONCATENATE(\"  port fxo 0 \",ROW()-ROW($C$440),CHAR(13),CHAR(10),\"      \",Data!$C$31,CHAR(13),CHAR(10),\"     encapsulation cc-fxo\",CHAR(13),CHAR(10),\"      bind interface IF_FXO_\",'Line Table'!A29,\" switch\",CHAR(13),CHAR(10),\"      no shutdown\")","v":"  port fxo 0 27\r\n      use profile fxo us\r\n     encapsulation cc-fxo\r\n      bind interface IF_FXO_28 switch\r\n      no shutdown"}]
[467,{"$f":"+IF(Data!$C$5>ROW(SNOMONE!B467)-ROW(SNOMONE!$B$439),\"\",\"#\")","v":"#"},{"$f":"+CONCATENATE(\"  port fxo 0 \",ROW()-ROW($C$440),CHAR(13),CHAR(10),\"      \",Data!$C$31,CHAR(13),CHAR(10),\"     encapsulation cc-fxo\",CHAR(13),CHAR(10),\"      bind interface IF_FXO_\",'Line Table'!A30,\" switch\",CHAR(13),CHAR(10),\"      no shutdown\")","v":"  port fxo 0 28\r\n      use profile fxo us\r\n     encapsulation cc-fxo\r\n      bind interface IF_FXO_29 switch\r\n      no shutdown"}]
[468,{"$f":"+IF(Data!$C$5>ROW(SNOMONE!B468)-ROW(SNOMONE!$B$439),\"\",\"#\")","v":"#"},{"$f":"+CONCATENATE(\"  port fxo 0 \",ROW()-ROW($C$440),CHAR(13),CHAR(10),\"      \",Data!$C$31,CHAR(13),CHAR(10),\"     encapsulation cc-fxo\",CHAR(13),CHAR(10),\"      bind interface IF_FXO_\",'Line Table'!A31,\" switch\",CHAR(13),CHAR(10),\"      no shutdown\")","v":"  port fxo 0 29\r\n      use profile fxo us\r\n     encapsulation cc-fxo\r\n      bind interface IF_FXO_30 switch\r\n      no shutdown"}]
[469,{"$f":"+IF(Data!$C$5>ROW(SNOMONE!B469)-ROW(SNOMONE!$B$439),\"\",\"#\")","v":"#"},{"$f":"+CONCATENATE(\"  port fxo 0 \",ROW()-ROW($C$440),CHAR(13),CHAR(10),\"      \",Data!$C$31,CHAR(13),CHAR(10),\"     encapsulation cc-fxo\",CHAR(13),CHAR(10),\"      bind interface IF_FXO_\",'Line Table'!A32,\" switch\",CHAR(13),CHAR(10),\"      no shutdown\")","v":"  port fxo 0 30\r\n      use profile fxo us\r\n     encapsulation cc-fxo\r\n      bind interface IF_FXO_31 switch\r\n      no shutdown"}]
[470,{"$f":"+IF(Data!$C$5>ROW(SNOMONE!B470)-ROW(SNOMONE!$B$439),\"\",\"#\")","v":"#"},{"$f":"+CONCATENATE(\"  port fxo 0 \",ROW()-ROW($C$440),CHAR(13),CHAR(10),\"      \",Data!$C$31,CHAR(13),CHAR(10),\"     encapsulation cc-fxo\",CHAR(13),CHAR(10),\"      bind interface IF_FXO_\",'Line Table'!A33,\" switch\",CHAR(13),CHAR(10),\"      no shutdown\")","v":"  port fxo 0 31\r\n      use profile fxo us\r\n     encapsulation cc-fxo\r\n      bind interface IF_FXO_32 switch\r\n      no shutdown"}]
[471]
[472,{"$f":"+IF(Data!$C$5>0,\" \",\"#\")","v":" "},"context sip-gateway GW_SIP_ALL_LINES"]
[473,{"$f":"+IF(Data!$C$5>0,\" \",\"#\")","v":" "},{"$f":"+CONCATENATE(\"        interface \",Data!C8)","v":"        interface LAN"}]
[474,{"$f":"+IF(Data!$C$5>0,\" \",\"#\")","v":" "},{"$f":"+CONCATENATE(\"        bind interface IF_IP_\",Data!C8,\" context router port \",Data!C37)","v":"        bind interface IF_IP_LAN context router port 5060"}]
[475,{"$f":"+IF(Data!$C$5>0,\" \",\"#\")","v":" "},"context sip-gateway GW_SIP_ALL_LINES"]
[476,{"$f":"+IF(Data!$C$5>0,\" \",\"#\")","v":" "},"    no shutdown"]
[477]
[478,{"$f":"+IF(Data!$C$6>0,\" \",\"#\")","v":"#"},"context sip-gateway GW_SIP_ALL_EXTENSIONS"]
[479,{"$f":"+IF(Data!$C$6>0,\" \",\"#\")","v":"#"},{"$f":"+CONCATENATE(\"        interface \",Data!C8)","v":"        interface LAN"}]
[480,{"$f":"+IF(Data!$C$6>0,\" \",\"#\")","v":"#"},{"$f":"+CONCATENATE(\"        bind interface IF_IP_\",Data!C8,\" context router port \",Data!C36)","v":"        bind interface IF_IP_LAN context router port 5060"}]
[481]
[482,{"$f":"+IF(Data!$C$6>0,\" \",\"#\")","v":"#"},"context sip-gateway GW_SIP_ALL_EXTENSIONS"]
[483,{"$f":"+IF(Data!$C$6>0,\" \",\"#\")","v":"#"},"        bind location-service LS_ALL_EXTENSIONS"]
[484,{"$f":"+IF(Data!$C$6>0,\" \",\"#\")","v":"#"},"        no shutdown"]
[485]
[486,null,"port ethernet 0 0"]
[487,null,"  medium auto"]
[488,null,"  encapsulation ip"]
[489,null,"  bind interface IF_IP_LAN router"]
[490,null,"  no shutdown"]
[491]
[492,{"$f":"+IF(Data!$C$7=\"N\",\"#\",\"\")","v":"#"},"port ethernet 0 1"]
[493,{"$f":"+IF(Data!$C$7=\"N\",\"#\",\"\")","v":"#"},"  medium auto"]
[494,{"$f":"+IF(Data!$C$7=\"N\",\"#\",\"\")","v":"#"},"  encapsulation ip"]
[495,{"$f":"+IF(Data!$C$7=\"N\",\"#\",\"\")","v":"#"},"  bind interface IF_IP_WAN router"]
[496,{"$f":"+IF(Data!$C$7=\"N\",\"#\",\"\")","v":"#"},"  no shutdown"]
[497]
[498,{"$f":"+IF(Data!$C$6>ROW(SNOMONE!B498)-ROW(SNOMONE!$B$498),\"\",\"#\")","v":"#"},{"$f":"+CONCATENATE(\"  port fxs 0 \",ROW()-ROW($E$499),CHAR(13),CHAR(10),\"        caller-id format \", Data!$C$41,CHAR(13),CHAR(10),\"         \",Data!$C$32,CHAR(13),CHAR(10),\"      encapsulation cc-fxs\",CHAR(13),CHAR(10),\"       bind interface IF_FXS_\",'Extension Table'!C2,\" switch \",CHAR(13),CHAR(10),\"     no shutdown\")","v":"  port fxs 0 0\r\n        caller-id format etsi\r\n         use profile fxs us\r\n      encapsulation cc-fxs\r\n       bind interface IF_FXS_1 switch \r\n     no shutdown"}]
[499,{"$f":"+IF(Data!$C$6>ROW(SNOMONE!B499)-ROW(SNOMONE!$B$498),\"\",\"#\")","v":"#"},{"$f":"+CONCATENATE(\"  port fxs 0 \",ROW()-ROW($E$499),CHAR(13),CHAR(10),\"        caller-id format \", Data!$C$41,CHAR(13),CHAR(10),\"         \",Data!$C$32,CHAR(13),CHAR(10),\"      encapsulation cc-fxs\",CHAR(13),CHAR(10),\"       bind interface IF_FXS_\",'Extension Table'!C3,\" switch \",CHAR(13),CHAR(10),\"     no shutdown\")","v":"  port fxs 0 1\r\n        caller-id format etsi\r\n         use profile fxs us\r\n      encapsulation cc-fxs\r\n       bind interface IF_FXS_2 switch \r\n     no shutdown"}]
[500,{"$f":"+IF(Data!$C$6>ROW(SNOMONE!B500)-ROW(SNOMONE!$B$498),\"\",\"#\")","v":"#"},{"$f":"+CONCATENATE(\"  port fxs 0 \",ROW()-ROW($E$499),CHAR(13),CHAR(10),\"        caller-id format \", Data!$C$41,CHAR(13),CHAR(10),\"         \",Data!$C$32,CHAR(13),CHAR(10),\"      encapsulation cc-fxs\",CHAR(13),CHAR(10),\"       bind interface IF_FXS_\",'Extension Table'!C4,\" switch \",CHAR(13),CHAR(10),\"     no shutdown\")","v":"  port fxs 0 2\r\n        caller-id format etsi\r\n         use profile fxs us\r\n      encapsulation cc-fxs\r\n       bind interface IF_FXS_3 switch \r\n     no shutdown"}]
[501,{"$f":"+IF(Data!$C$6>ROW(SNOMONE!B501)-ROW(SNOMONE!$B$498),\"\",\"#\")","v":"#"},{"$f":"+CONCATENATE(\"  port fxs 0 \",ROW()-ROW($E$499),CHAR(13),CHAR(10),\"        caller-id format \", Data!$C$41,CHAR(13),CHAR(10),\"         \",Data!$C$32,CHAR(13),CHAR(10),\"      encapsulation cc-fxs\",CHAR(13),CHAR(10),\"       bind interface IF_FXS_\",'Extension Table'!C5,\" switch \",CHAR(13),CHAR(10),\"     no shutdown\")","v":"  port fxs 0 3\r\n        caller-id format etsi\r\n         use profile fxs us\r\n      encapsulation cc-fxs\r\n       bind interface IF_FXS_4 switch \r\n     no shutdown"}]
[502,{"$f":"+IF(Data!$C$6>ROW(SNOMONE!B502)-ROW(SNOMONE!$B$498),\"\",\"#\")","v":"#"},{"$f":"+CONCATENATE(\"  port fxs 0 \",ROW()-ROW($E$499),CHAR(13),CHAR(10),\"        caller-id format \", Data!$C$41,CHAR(13),CHAR(10),\"         \",Data!$C$32,CHAR(13),CHAR(10),\"      encapsulation cc-fxs\",CHAR(13),CHAR(10),\"       bind interface IF_FXS_\",'Extension Table'!C6,\" switch \",CHAR(13),CHAR(10),\"     no shutdown\")","v":"  port fxs 0 4\r\n        caller-id format etsi\r\n         use profile fxs us\r\n      encapsulation cc-fxs\r\n       bind interface IF_FXS_5 switch \r\n     no shutdown"}]
[503,{"$f":"+IF(Data!$C$6>ROW(SNOMONE!B503)-ROW(SNOMONE!$B$498),\"\",\"#\")","v":"#"},{"$f":"+CONCATENATE(\"  port fxs 0 \",ROW()-ROW($E$499),CHAR(13),CHAR(10),\"        caller-id format \", Data!$C$41,CHAR(13),CHAR(10),\"         \",Data!$C$32,CHAR(13),CHAR(10),\"      encapsulation cc-fxs\",CHAR(13),CHAR(10),\"       bind interface IF_FXS_\",'Extension Table'!C7,\" switch \",CHAR(13),CHAR(10),\"     no shutdown\")","v":"  port fxs 0 5\r\n        caller-id format etsi\r\n         use profile fxs us\r\n      encapsulation cc-fxs\r\n       bind interface IF_FXS_6 switch \r\n     no shutdown"}]
[504,{"$f":"+IF(Data!$C$6>ROW(SNOMONE!B504)-ROW(SNOMONE!$B$498),\"\",\"#\")","v":"#"},{"$f":"+CONCATENATE(\"  port fxs 0 \",ROW()-ROW($E$499),CHAR(13),CHAR(10),\"        caller-id format \", Data!$C$41,CHAR(13),CHAR(10),\"         \",Data!$C$32,CHAR(13),CHAR(10),\"      encapsulation cc-fxs\",CHAR(13),CHAR(10),\"       bind interface IF_FXS_\",'Extension Table'!C8,\" switch \",CHAR(13),CHAR(10),\"     no shutdown\")","v":"  port fxs 0 6\r\n        caller-id format etsi\r\n         use profile fxs us\r\n      encapsulation cc-fxs\r\n       bind interface IF_FXS_7 switch \r\n     no shutdown"}]
[505,{"$f":"+IF(Data!$C$6>ROW(SNOMONE!B505)-ROW(SNOMONE!$B$498),\"\",\"#\")","v":"#"},{"$f":"+CONCATENATE(\"  port fxs 0 \",ROW()-ROW($E$499),CHAR(13),CHAR(10),\"        caller-id format \", Data!$C$41,CHAR(13),CHAR(10),\"         \",Data!$C$32,CHAR(13),CHAR(10),\"      encapsulation cc-fxs\",CHAR(13),CHAR(10),\"       bind interface IF_FXS_\",'Extension Table'!C9,\" switch \",CHAR(13),CHAR(10),\"     no shutdown\")","v":"  port fxs 0 7\r\n        caller-id format etsi\r\n         use profile fxs us\r\n      encapsulation cc-fxs\r\n       bind interface IF_FXS_8 switch \r\n     no shutdown"}]
[506,{"$f":"+IF(Data!$C$6>ROW(SNOMONE!B506)-ROW(SNOMONE!$B$498),\"\",\"#\")","v":"#"},{"$f":"+CONCATENATE(\"  port fxs 0 \",ROW()-ROW($E$499),CHAR(13),CHAR(10),\"        caller-id format \", Data!$C$41,CHAR(13),CHAR(10),\"         \",Data!$C$32,CHAR(13),CHAR(10),\"      encapsulation cc-fxs\",CHAR(13),CHAR(10),\"       bind interface IF_FXS_\",'Extension Table'!C10,\" switch \",CHAR(13),CHAR(10),\"     no shutdown\")","v":"  port fxs 0 8\r\n        caller-id format etsi\r\n         use profile fxs us\r\n      encapsulation cc-fxs\r\n       bind interface IF_FXS_9 switch \r\n     no shutdown"}]
[507,{"$f":"+IF(Data!$C$6>ROW(SNOMONE!B507)-ROW(SNOMONE!$B$498),\"\",\"#\")","v":"#"},{"$f":"+CONCATENATE(\"  port fxs 0 \",ROW()-ROW($E$499),CHAR(13),CHAR(10),\"        caller-id format \", Data!$C$41,CHAR(13),CHAR(10),\"         \",Data!$C$32,CHAR(13),CHAR(10),\"      encapsulation cc-fxs\",CHAR(13),CHAR(10),\"       bind interface IF_FXS_\",'Extension Table'!C11,\" switch \",CHAR(13),CHAR(10),\"     no shutdown\")","v":"  port fxs 0 9\r\n        caller-id format etsi\r\n         use profile fxs us\r\n      encapsulation cc-fxs\r\n       bind interface IF_FXS_10 switch \r\n     no shutdown"}]
[508,{"$f":"+IF(Data!$C$6>ROW(SNOMONE!B508)-ROW(SNOMONE!$B$498),\"\",\"#\")","v":"#"},{"$f":"+CONCATENATE(\"  port fxs 0 \",ROW()-ROW($E$499),CHAR(13),CHAR(10),\"        caller-id format \", Data!$C$41,CHAR(13),CHAR(10),\"         \",Data!$C$32,CHAR(13),CHAR(10),\"      encapsulation cc-fxs\",CHAR(13),CHAR(10),\"       bind interface IF_FXS_\",'Extension Table'!C12,\" switch \",CHAR(13),CHAR(10),\"     no shutdown\")","v":"  port fxs 0 10\r\n        caller-id format etsi\r\n         use profile fxs us\r\n      encapsulation cc-fxs\r\n       bind interface IF_FXS_11 switch \r\n     no shutdown"}]
[509,{"$f":"+IF(Data!$C$6>ROW(SNOMONE!B509)-ROW(SNOMONE!$B$498),\"\",\"#\")","v":"#"},{"$f":"+CONCATENATE(\"  port fxs 0 \",ROW()-ROW($E$499),CHAR(13),CHAR(10),\"        caller-id format \", Data!$C$41,CHAR(13),CHAR(10),\"         \",Data!$C$32,CHAR(13),CHAR(10),\"      encapsulation cc-fxs\",CHAR(13),CHAR(10),\"       bind interface IF_FXS_\",'Extension Table'!C13,\" switch \",CHAR(13),CHAR(10),\"     no shutdown\")","v":"  port fxs 0 11\r\n        caller-id format etsi\r\n         use profile fxs us\r\n      encapsulation cc-fxs\r\n       bind interface IF_FXS_12 switch \r\n     no shutdown"}]
[510,{"$f":"+IF(Data!$C$6>ROW(SNOMONE!B510)-ROW(SNOMONE!$B$498),\"\",\"#\")","v":"#"},{"$f":"+CONCATENATE(\"  port fxs 0 \",ROW()-ROW($E$499),CHAR(13),CHAR(10),\"        caller-id format \", Data!$C$41,CHAR(13),CHAR(10),\"         \",Data!$C$32,CHAR(13),CHAR(10),\"      encapsulation cc-fxs\",CHAR(13),CHAR(10),\"       bind interface IF_FXS_\",'Extension Table'!C14,\" switch \",CHAR(13),CHAR(10),\"     no shutdown\")","v":"  port fxs 0 12\r\n        caller-id format etsi\r\n         use profile fxs us\r\n      encapsulation cc-fxs\r\n       bind interface IF_FXS_13 switch \r\n     no shutdown"}]
[511,{"$f":"+IF(Data!$C$6>ROW(SNOMONE!B511)-ROW(SNOMONE!$B$498),\"\",\"#\")","v":"#"},{"$f":"+CONCATENATE(\"  port fxs 0 \",ROW()-ROW($E$499),CHAR(13),CHAR(10),\"        caller-id format \", Data!$C$41,CHAR(13),CHAR(10),\"         \",Data!$C$32,CHAR(13),CHAR(10),\"      encapsulation cc-fxs\",CHAR(13),CHAR(10),\"       bind interface IF_FXS_\",'Extension Table'!C15,\" switch \",CHAR(13),CHAR(10),\"     no shutdown\")","v":"  port fxs 0 13\r\n        caller-id format etsi\r\n         use profile fxs us\r\n      encapsulation cc-fxs\r\n       bind interface IF_FXS_14 switch \r\n     no shutdown"}]
[512,{"$f":"+IF(Data!$C$6>ROW(SNOMONE!B512)-ROW(SNOMONE!$B$498),\"\",\"#\")","v":"#"},{"$f":"+CONCATENATE(\"  port fxs 0 \",ROW()-ROW($E$499),CHAR(13),CHAR(10),\"        caller-id format \", Data!$C$41,CHAR(13),CHAR(10),\"         \",Data!$C$32,CHAR(13),CHAR(10),\"      encapsulation cc-fxs\",CHAR(13),CHAR(10),\"       bind interface IF_FXS_\",'Extension Table'!C16,\" switch \",CHAR(13),CHAR(10),\"     no shutdown\")","v":"  port fxs 0 14\r\n        caller-id format etsi\r\n         use profile fxs us\r\n      encapsulation cc-fxs\r\n       bind interface IF_FXS_15 switch \r\n     no shutdown"}]
[513,{"$f":"+IF(Data!$C$6>ROW(SNOMONE!B513)-ROW(SNOMONE!$B$498),\"\",\"#\")","v":"#"},{"$f":"+CONCATENATE(\"  port fxs 0 \",ROW()-ROW($E$499),CHAR(13),CHAR(10),\"        caller-id format \", Data!$C$41,CHAR(13),CHAR(10),\"         \",Data!$C$32,CHAR(13),CHAR(10),\"      encapsulation cc-fxs\",CHAR(13),CHAR(10),\"       bind interface IF_FXS_\",'Extension Table'!C17,\" switch \",CHAR(13),CHAR(10),\"     no shutdown\")","v":"  port fxs 0 15\r\n        caller-id format etsi\r\n         use profile fxs us\r\n      encapsulation cc-fxs\r\n       bind interface IF_FXS_16 switch \r\n     no shutdown"}]
[514,{"$f":"+IF(Data!$C$6>ROW(SNOMONE!B514)-ROW(SNOMONE!$B$498),\"\",\"#\")","v":"#"},{"$f":"+CONCATENATE(\"  port fxs 0 \",ROW()-ROW($E$499),CHAR(13),CHAR(10),\"        caller-id format \", Data!$C$41,CHAR(13),CHAR(10),\"         \",Data!$C$32,CHAR(13),CHAR(10),\"      encapsulation cc-fxs\",CHAR(13),CHAR(10),\"       bind interface IF_FXS_\",'Extension Table'!C18,\" switch \",CHAR(13),CHAR(10),\"     no shutdown\")","v":"  port fxs 0 16\r\n        caller-id format etsi\r\n         use profile fxs us\r\n      encapsulation cc-fxs\r\n       bind interface IF_FXS_17 switch \r\n     no shutdown"}]
[515,{"$f":"+IF(Data!$C$6>ROW(SNOMONE!B515)-ROW(SNOMONE!$B$498),\"\",\"#\")","v":"#"},{"$f":"+CONCATENATE(\"  port fxs 0 \",ROW()-ROW($E$499),CHAR(13),CHAR(10),\"        caller-id format \", Data!$C$41,CHAR(13),CHAR(10),\"         \",Data!$C$32,CHAR(13),CHAR(10),\"      encapsulation cc-fxs\",CHAR(13),CHAR(10),\"       bind interface IF_FXS_\",'Extension Table'!C19,\" switch \",CHAR(13),CHAR(10),\"     no shutdown\")","v":"  port fxs 0 17\r\n        caller-id format etsi\r\n         use profile fxs us\r\n      encapsulation cc-fxs\r\n       bind interface IF_FXS_18 switch \r\n     no shutdown"}]
[516,{"$f":"+IF(Data!$C$6>ROW(SNOMONE!B516)-ROW(SNOMONE!$B$498),\"\",\"#\")","v":"#"},{"$f":"+CONCATENATE(\"  port fxs 0 \",ROW()-ROW($E$499),CHAR(13),CHAR(10),\"        caller-id format \", Data!$C$41,CHAR(13),CHAR(10),\"         \",Data!$C$32,CHAR(13),CHAR(10),\"      encapsulation cc-fxs\",CHAR(13),CHAR(10),\"       bind interface IF_FXS_\",'Extension Table'!C20,\" switch \",CHAR(13),CHAR(10),\"     no shutdown\")","v":"  port fxs 0 18\r\n        caller-id format etsi\r\n         use profile fxs us\r\n      encapsulation cc-fxs\r\n       bind interface IF_FXS_19 switch \r\n     no shutdown"}]
[517,{"$f":"+IF(Data!$C$6>ROW(SNOMONE!B517)-ROW(SNOMONE!$B$498),\"\",\"#\")","v":"#"},{"$f":"+CONCATENATE(\"  port fxs 0 \",ROW()-ROW($E$499),CHAR(13),CHAR(10),\"        caller-id format \", Data!$C$41,CHAR(13),CHAR(10),\"         \",Data!$C$32,CHAR(13),CHAR(10),\"      encapsulation cc-fxs\",CHAR(13),CHAR(10),\"       bind interface IF_FXS_\",'Extension Table'!C21,\" switch \",CHAR(13),CHAR(10),\"     no shutdown\")","v":"  port fxs 0 19\r\n        caller-id format etsi\r\n         use profile fxs us\r\n      encapsulation cc-fxs\r\n       bind interface IF_FXS_20 switch \r\n     no shutdown"}]
[518,{"$f":"+IF(Data!$C$6>ROW(SNOMONE!B518)-ROW(SNOMONE!$B$498),\"\",\"#\")","v":"#"},{"$f":"+CONCATENATE(\"  port fxs 0 \",ROW()-ROW($E$499),CHAR(13),CHAR(10),\"        caller-id format \", Data!$C$41,CHAR(13),CHAR(10),\"         \",Data!$C$32,CHAR(13),CHAR(10),\"      encapsulation cc-fxs\",CHAR(13),CHAR(10),\"       bind interface IF_FXS_\",'Extension Table'!C22,\" switch \",CHAR(13),CHAR(10),\"     no shutdown\")","v":"  port fxs 0 20\r\n        caller-id format etsi\r\n         use profile fxs us\r\n      encapsulation cc-fxs\r\n       bind interface IF_FXS_21 switch \r\n     no shutdown"}]
[519,{"$f":"+IF(Data!$C$6>ROW(SNOMONE!B519)-ROW(SNOMONE!$B$498),\"\",\"#\")","v":"#"},{"$f":"+CONCATENATE(\"  port fxs 0 \",ROW()-ROW($E$499),CHAR(13),CHAR(10),\"        caller-id format \", Data!$C$41,CHAR(13),CHAR(10),\"         \",Data!$C$32,CHAR(13),CHAR(10),\"      encapsulation cc-fxs\",CHAR(13),CHAR(10),\"       bind interface IF_FXS_\",'Extension Table'!C23,\" switch \",CHAR(13),CHAR(10),\"     no shutdown\")","v":"  port fxs 0 21\r\n        caller-id format etsi\r\n         use profile fxs us\r\n      encapsulation cc-fxs\r\n       bind interface IF_FXS_22 switch \r\n     no shutdown"}]
[520,{"$f":"+IF(Data!$C$6>ROW(SNOMONE!B520)-ROW(SNOMONE!$B$498),\"\",\"#\")","v":"#"},{"$f":"+CONCATENATE(\"  port fxs 0 \",ROW()-ROW($E$499),CHAR(13),CHAR(10),\"        caller-id format \", Data!$C$41,CHAR(13),CHAR(10),\"         \",Data!$C$32,CHAR(13),CHAR(10),\"      encapsulation cc-fxs\",CHAR(13),CHAR(10),\"       bind interface IF_FXS_\",'Extension Table'!C24,\" switch \",CHAR(13),CHAR(10),\"     no shutdown\")","v":"  port fxs 0 22\r\n        caller-id format etsi\r\n         use profile fxs us\r\n      encapsulation cc-fxs\r\n       bind interface IF_FXS_23 switch \r\n     no shutdown"}]
[521,{"$f":"+IF(Data!$C$6>ROW(SNOMONE!B521)-ROW(SNOMONE!$B$498),\"\",\"#\")","v":"#"},{"$f":"+CONCATENATE(\"  port fxs 0 \",ROW()-ROW($E$499),CHAR(13),CHAR(10),\"        caller-id format \", Data!$C$41,CHAR(13),CHAR(10),\"         \",Data!$C$32,CHAR(13),CHAR(10),\"      encapsulation cc-fxs\",CHAR(13),CHAR(10),\"       bind interface IF_FXS_\",'Extension Table'!C25,\" switch \",CHAR(13),CHAR(10),\"     no shutdown\")","v":"  port fxs 0 23\r\n        caller-id format etsi\r\n         use profile fxs us\r\n      encapsulation cc-fxs\r\n       bind interface IF_FXS_24 switch \r\n     no shutdown"}]
[522,{"$f":"+IF(Data!$C$6>ROW(SNOMONE!B522)-ROW(SNOMONE!$B$498),\"\",\"#\")","v":"#"},{"$f":"+CONCATENATE(\"  port fxs 0 \",ROW()-ROW($E$499),CHAR(13),CHAR(10),\"        caller-id format \", Data!$C$41,CHAR(13),CHAR(10),\"         \",Data!$C$32,CHAR(13),CHAR(10),\"      encapsulation cc-fxs\",CHAR(13),CHAR(10),\"       bind interface IF_FXS_\",'Extension Table'!C26,\" switch \",CHAR(13),CHAR(10),\"     no shutdown\")","v":"  port fxs 0 24\r\n        caller-id format etsi\r\n         use profile fxs us\r\n      encapsulation cc-fxs\r\n       bind interface IF_FXS_25 switch \r\n     no shutdown"}]
[523,{"$f":"+IF(Data!$C$6>ROW(SNOMONE!B523)-ROW(SNOMONE!$B$498),\"\",\"#\")","v":"#"},{"$f":"+CONCATENATE(\"  port fxs 0 \",ROW()-ROW($E$499),CHAR(13),CHAR(10),\"        caller-id format \", Data!$C$41,CHAR(13),CHAR(10),\"         \",Data!$C$32,CHAR(13),CHAR(10),\"      encapsulation cc-fxs\",CHAR(13),CHAR(10),\"       bind interface IF_FXS_\",'Extension Table'!C27,\" switch \",CHAR(13),CHAR(10),\"     no shutdown\")","v":"  port fxs 0 25\r\n        caller-id format etsi\r\n         use profile fxs us\r\n      encapsulation cc-fxs\r\n       bind interface IF_FXS_26 switch \r\n     no shutdown"}]
[524,{"$f":"+IF(Data!$C$6>ROW(SNOMONE!B524)-ROW(SNOMONE!$B$498),\"\",\"#\")","v":"#"},{"$f":"+CONCATENATE(\"  port fxs 0 \",ROW()-ROW($E$499),CHAR(13),CHAR(10),\"        caller-id format \", Data!$C$41,CHAR(13),CHAR(10),\"         \",Data!$C$32,CHAR(13),CHAR(10),\"      encapsulation cc-fxs\",CHAR(13),CHAR(10),\"       bind interface IF_FXS_\",'Extension Table'!C28,\" switch \",CHAR(13),CHAR(10),\"     no shutdown\")","v":"  port fxs 0 26\r\n        caller-id format etsi\r\n         use profile fxs us\r\n      encapsulation cc-fxs\r\n       bind interface IF_FXS_27 switch \r\n     no shutdown"}]
[525,{"$f":"+IF(Data!$C$6>ROW(SNOMONE!B525)-ROW(SNOMONE!$B$498),\"\",\"#\")","v":"#"},{"$f":"+CONCATENATE(\"  port fxs 0 \",ROW()-ROW($E$499),CHAR(13),CHAR(10),\"        caller-id format \", Data!$C$41,CHAR(13),CHAR(10),\"         \",Data!$C$32,CHAR(13),CHAR(10),\"      encapsulation cc-fxs\",CHAR(13),CHAR(10),\"       bind interface IF_FXS_\",'Extension Table'!C29,\" switch \",CHAR(13),CHAR(10),\"     no shutdown\")","v":"  port fxs 0 27\r\n        caller-id format etsi\r\n         use profile fxs us\r\n      encapsulation cc-fxs\r\n       bind interface IF_FXS_28 switch \r\n     no shutdown"}]
[526,{"$f":"+IF(Data!$C$6>ROW(SNOMONE!B526)-ROW(SNOMONE!$B$498),\"\",\"#\")","v":"#"},{"$f":"+CONCATENATE(\"  port fxs 0 \",ROW()-ROW($E$499),CHAR(13),CHAR(10),\"        caller-id format \", Data!$C$41,CHAR(13),CHAR(10),\"         \",Data!$C$32,CHAR(13),CHAR(10),\"      encapsulation cc-fxs\",CHAR(13),CHAR(10),\"       bind interface IF_FXS_\",'Extension Table'!C30,\" switch \",CHAR(13),CHAR(10),\"     no shutdown\")","v":"  port fxs 0 28\r\n        caller-id format etsi\r\n         use profile fxs us\r\n      encapsulation cc-fxs\r\n       bind interface IF_FXS_29 switch \r\n     no shutdown"}]
[527,{"$f":"+IF(Data!$C$6>ROW(SNOMONE!B527)-ROW(SNOMONE!$B$498),\"\",\"#\")","v":"#"},{"$f":"+CONCATENATE(\"  port fxs 0 \",ROW()-ROW($E$499),CHAR(13),CHAR(10),\"        caller-id format \", Data!$C$41,CHAR(13),CHAR(10),\"         \",Data!$C$32,CHAR(13),CHAR(10),\"      encapsulation cc-fxs\",CHAR(13),CHAR(10),\"       bind interface IF_FXS_\",'Extension Table'!C31,\" switch \",CHAR(13),CHAR(10),\"     no shutdown\")","v":"  port fxs 0 29\r\n        caller-id format etsi\r\n         use profile fxs us\r\n      encapsulation cc-fxs\r\n       bind interface IF_FXS_30 switch \r\n     no shutdown"}]
[528,{"$f":"+IF(Data!$C$6>ROW(SNOMONE!B528)-ROW(SNOMONE!$B$498),\"\",\"#\")","v":"#"},{"$f":"+CONCATENATE(\"  port fxs 0 \",ROW()-ROW($E$499),CHAR(13),CHAR(10),\"        caller-id format \", Data!$C$41,CHAR(13),CHAR(10),\"         \",Data!$C$32,CHAR(13),CHAR(10),\"      encapsulation cc-fxs\",CHAR(13),CHAR(10),\"       bind interface IF_FXS_\",'Extension Table'!C32,\" switch \",CHAR(13),CHAR(10),\"     no shutdown\")","v":"  port fxs 0 30\r\n        caller-id format etsi\r\n         use profile fxs us\r\n      encapsulation cc-fxs\r\n       bind interface IF_FXS_31 switch \r\n     no shutdown"}]
[529,{"$f":"+IF(Data!$C$6>ROW(SNOMONE!B529)-ROW(SNOMONE!$B$498),\"\",\"#\")","v":"#"},{"$f":"+CONCATENATE(\"  port fxs 0 \",ROW()-ROW($E$499),CHAR(13),CHAR(10),\"        caller-id format \", Data!$C$41,CHAR(13),CHAR(10),\"         \",Data!$C$32,CHAR(13),CHAR(10),\"      encapsulation cc-fxs\",CHAR(13),CHAR(10),\"       bind interface IF_FXS_\",'Extension Table'!C33,\" switch \",CHAR(13),CHAR(10),\"     no shutdown\")","v":"  port fxs 0 31\r\n        caller-id format etsi\r\n         use profile fxs us\r\n      encapsulation cc-fxs\r\n       bind interface IF_FXS_32 switch \r\n     no shutdown"}]
[530,null,"################################################# END ##################################################"]

{"sheet":"TRIXBOX","index":11,"n_rows":476,"n_cols":4,"rows_kept":476,"cut":false,"hidden":true,"merged":[]}
["LINE #","DISCARD (#)","COMMAND","Column1"]
[1,null,"####################################################################################"]
[2,null,{"$f":"+CONCATENATE(\"# Configuration file for SmartNode with: \",Data!C5,\" FXO and \", Data!C6,\" FXS\")","v":"# Configuration file for SmartNode with: 12 FXO and 0 FXS"}]
[3,{"$f":"+IF(Data!$C$5>ROW(Generic!B4)-ROW(Generic!$B$477),\"\",\"#\")","v":""},{"$f":"+IF(Data!C7=\"Y\",\"# With 2 ethernet ports\",\"# With one ethernet port\")","v":"# With one ethernet port"}]
[4,{"$f":"+IF(Data!$C$5>ROW(Generic!B5)-ROW(Generic!$B$477),\"\",\"#\")","v":""},{"$f":"+CONCATENATE(\"# Configuration file name is \",Data!C11)","v":"# Configuration file name is PattonSample"}]
[5,{"$f":"+IF(Data!$C$5>ROW(Generic!B6)-ROW(Generic!$B$477),\"\",\"#\")","v":""},"# TRIXBOX IPPBX"]
[6,{"$f":"+IF(Data!$C$5>ROW(Generic!B7)-ROW(Generic!$B$477),\"\",\"#\")","v":""},"####################################################################################"]
[7,{"$f":"+IF(Data!$C$5>ROW(Generic!B8)-ROW(Generic!$B$477),\"\",\"#\")","v":""},{"$f":"+CONCATENATE(\"# \",Data!B14,\" \",Data!C14)","v":"# LAN Interface Data "}]
[8,{"$f":"+IF(Data!$C$5>ROW(Generic!B9)-ROW(Generic!$B$477),\"\",\"#\")","v":""},{"$f":"+CONCATENATE(\"# \",Data!B15,\" \",Data!C15)","v":"# IP Address 10.10.1.10"}]
[9,{"$f":"+IF(Data!$C$5>ROW(Generic!B10)-ROW(Generic!$B$477),\"\",\"#\")","v":""},{"$f":"+CONCATENATE(\"# \",Data!B16,\" \",Data!C16)","v":"# IP Mask 255.255.255.0"}]
[10,{"$f":"+IF(Data!$C$5>ROW(Generic!B11)-ROW(Generic!$B$477),\"\",\"#\")","v":""},"####################################################################################"]
[11,{"$f":"+IF(Data!$C$5>ROW(Generic!B12)-ROW(Generic!$B$477),\"\",\"#\")","v":""},{"$f":"+CONCATENATE(\"# \",Data!B18,\" \",Data!C18)","v":"# WAN Interface Data "}]
[12,{"$f":"+IF(Data!$C$5>ROW(Generic!B13)-ROW(Generic!$B$477),\"\",\"#\")","v":""},{"$f":"+CONCATENATE(\"# \",Data!B19,\" \",Data!C19)","v":"# IP Address dhcp"}]
[13,{"$f":"+IF(Data!$C$5>ROW(Generic!B14)-ROW(Generic!$B$477),\"\",\"#\")","v":""},{"$f":"+CONCATENATE(\"# \",Data!B20,\" \",Data!C20)","v":"# IP Mask "}]
[14,{"$f":"+IF(Data!$C$5>ROW(Generic!B15)-ROW(Generic!$B$477),\"\",\"#\")","v":""},"####################################################################################"]
[15,{"$f":"+IF(Data!$C$5>ROW(Generic!B16)-ROW(Generic!$B$477),\"\",\"#\")","v":""},{"$f":"+CONCATENATE(\"# \",Data!B22,\" \",Data!C22)","v":"# Default Gateway "}]
[16,{"$f":"+IF(Data!$C$5>ROW(Generic!B17)-ROW(Generic!$B$477),\"\",\"#\")","v":""},"####################################################################################"]
[17,{"$f":"+IF(Data!$C$5>ROW(Generic!B18)-ROW(Generic!$B$477),\"\",\"#\")","v":""},{"$f":"+CONCATENATE(\"# \",Data!B23,\" \",Data!C23)","v":"# IP-PBX/SIP PROXY DATA "}]
[18,{"$f":"+IF(Data!$C$5>ROW(Generic!B19)-ROW(Generic!$B$477),\"\",\"#\")","v":""},{"$f":"+CONCATENATE(\"# \",Data!B24,\" \",Data!C24)","v":"# IP-PBX Ip Address /  Name / Domain 10.10.50.23"}]
[19,{"$f":"+IF(Data!$C$5>ROW(Generic!B20)-ROW(Generic!$B$477),\"\",\"#\")","v":""},{"$f":"+CONCATENATE(\"# \",Data!B25,\" \",Data!C25)","v":"# IP-PBX SIP Port 5060"}]
[20,{"$f":"+IF(Data!$C$5>ROW(Generic!B21)-ROW(Generic!$B$477),\"\",\"#\")","v":""},"####################################################################################"]
[21,{"$f":"+IF(Data!$C$5>ROW(Generic!B22)-ROW(Generic!$B$477),\"\",\"#\")","v":""},{"$f":"+CONCATENATE(\"# \",Data!B27,\" \",Data!C27)","v":"# LOCALIZATION DATA "}]
[22,{"$f":"+IF(Data!$C$5>ROW(Generic!B23)-ROW(Generic!$B$477),\"\",\"#\")","v":""},{"$f":"+CONCATENATE(\"# \",Data!B28,\" \",Data!C28)","v":"# Country United States"}]
[23,{"$f":"+IF(Data!$C$5>ROW(Generic!B24)-ROW(Generic!$B$477),\"\",\"#\")","v":""},"####################################################################################"]
[24,null,"# Supported firmware versions R5.x"]
[25,{"$f":"+IF(Data!$C$5>ROW(Generic!B26)-ROW(Generic!$B$477),\"\",\"#\")","v":""},{"$f":"+CONCATENATE(\"# Tool version \",Data!$C$4)","v":"# Tool version V2_1 06222011"}]
[26,null,"# Adapted: Ernesto Casas "]
[27,null,"# for comments, feedback or suggestions please send an email to: ecasas@patton.com"]
[28,null,"####################################################################################"]
[29]
[30,null,"webserver port 80 language en"]
[31,null,{"$f":"+CONCATENATE(\"sntp-client server \",Data!C9)","v":"sntp-client server 1.1.1.1"}]
[32,{"$f":"+IF(Data!C10=\"\",\"#\",\"\")","v":""},{"$f":"+CONCATENATE(\"dns-client server \",Data!C10)","v":"dns-client server 8.8.8.8"}]
[33]
[34,null,"system"]
[35,null,"ic voice 0"]
[36,null,"low-bitrate-codec g729"]
[37,null,"profile ppp default"]
[38]
[39,{"$f":"+IF(Data!$C$5>ROW(Generic!B40)-ROW(Generic!$B$477),\"\",\"#\")","v":""},{"$f":"+CONCATENATE(\"# Call Progress tones based on country selection. Your selected country is: \",Data!$C$28)","v":"# Call Progress tones based on country selection. Your selected country is: United States"}]
[40]
[41,null,{"$f":"+Data!$C$30","v":"profile call-progress-tone defaultDialtone\r\nflush-play-list \r\nplay 1 1000 350 -13 440 -13 \r\nprofile call-progress-tone defaultAlertingtone \r\nflush-play-list \r\nplay 1 1000 440 -19 480 -19 \r\npause 2 3000 \r\nprofile call-progress-tone defaultBusytone \r\nflush-play-list \r\nplay 1 500 480 -24 620 -24 \r\npause 2 500 \r\nprofile call-progress-tone defaultReleasetone \r\nflush-play-list \r\nplay 1 250 480 -24 620 -24 \r\npause 2 250 \r\nprofile call-progress-tone defaultCongestiontone \r\nflush-play-list \r\nplay 1 250 480 -24 620 -24 \r\npause 2 250\r\n"}]
[42,{"$f":"+IF(Data!$C$5>ROW(Generic!B43)-ROW(Generic!$B$477),\"\",\"#\")","v":""}]
[43,null,"profile tone-set default"]
[44,null,"profile voip default"]
[45,null,"  codec 1 g711alaw64k rx-length 20 tx-length 20"]
[46,null,"  codec 2 g711ulaw64k rx-length 20 tx-length 20"]
[47,null,"  fax transmission 1 relay t38-udp"]
[48,null,"  fax transmission 2 bypass g711alaw64k"]
[49,null,"profile pstn default"]
[50,null,"profile sip default"]
[51,null,"profile aaa default"]
[52,null,"  method 1 local"]
[53,null,"  method 2 none"]
[54]
[55,null,"context ip router"]
[56,null,"interface IF_IP_LAN"]
[57,null,{"$f":"+CONCATENATE(\"     ipaddress \",Data!C15,\" \",Data!C16)","v":"     ipaddress 10.10.1.10 255.255.255.0"}]
[58,null,"    tcp adjust-mss rx mtu"]
[59,null,"    tcp adjust-mss tx mtu"]
[60]
[61,null,"interface IF_IP_WAN"]
[62,null,{"$f":"+CONCATENATE(\"     ipaddress \",Data!C19,\" \",Data!C20)","v":"     ipaddress dhcp "}]
[63,null,"    tcp adjust-mss rx mtu"]
[64,null,"    tcp adjust-mss tx mtu"]
[65]
[66,null,"context ip router"]
[67,null,{"$f":"+CONCATENATE(\"     route 0.0.0.0 0.0.0.0  \",Data!C22)","v":"     route 0.0.0.0 0.0.0.0  "}]
[68,null,"context cs switch"]
[69,null,{"$f":"+IF(Data!C38=\"\",\"     no digit-collection timeout\",+CONCATENATE(\"     digit-collection timeout \",Data!C38))","v":"     digit-collection timeout 2"}]
[70]
[71,{"$f":"+IF(Data!$C$6>0,\" \",\"#\")","v":"#"},"routing-table called-e164 RT_DIGITCOLLECTION"]
[72,{"$f":"+IF(Data!$C$6>0,\" \",\"#\")","v":"#"},"      route .T dest-interface IF_SIP_PBX MT_EXT_TO_NAME"]
[73]
[74,{"$f":"+IF(Data!$C$6>0,\" \",\"#\")","v":"#"},"routing-table called-e164 RT_TO_FXS"]
[75,{"$f":"+IF(Data!$C$6>ROW(Generic!B76)-ROW(Generic!$B$76),\"\",\"#\")","v":"#"},{"$f":"+CONCATENATE(\"        route \",'Extension Table'!A2,\" dest-interface IF_FXS_\",'Extension Table'!C2)","v":"        route 101 dest-interface IF_FXS_1"}]
[76,{"$f":"+IF(Data!$C$6>ROW(Generic!B77)-ROW(Generic!$B$76),\"\",\"#\")","v":"#"},{"$f":"+CONCATENATE(\"        route \",'Extension Table'!A3,\" dest-interface IF_FXS_\",'Extension Table'!C3)","v":"        route 102 dest-interface IF_FXS_2"}]
[77,{"$f":"+IF(Data!$C$6>ROW(Generic!B78)-ROW(Generic!$B$76),\"\",\"#\")","v":"#"},{"$f":"+CONCATENATE(\"        route \",'Extension Table'!A4,\" dest-interface IF_FXS_\",'Extension Table'!C4)","v":"        route 103 dest-interface IF_FXS_3"}]
[78,{"$f":"+IF(Data!$C$6>ROW(Generic!B79)-ROW(Generic!$B$76),\"\",\"#\")","v":"#"},{"$f":"+CONCATENATE(\"        route \",'Extension Table'!A5,\" dest-interface IF_FXS_\",'Extension Table'!C5)","v":"        route 104 dest-interface IF_FXS_4"}]
[79,{"$f":"+IF(Data!$C$6>ROW(Generic!B80)-ROW(Generic!$B$76),\"\",\"#\")","v":"#"},{"$f":"+CONCATENATE(\"        route \",'Extension Table'!A6,\" dest-interface IF_FXS_\",'Extension Table'!C6)","v":"        route 105 dest-interface IF_FXS_5"}]
[80,{"$f":"+IF(Data!$C$6>ROW(Generic!B81)-ROW(Generic!$B$76),\"\",\"#\")","v":"#"},{"$f":"+CONCATENATE(\"        route \",'Extension Table'!A7,\" dest-interface IF_FXS_\",'Extension Table'!C7)","v":"        route 106 dest-interface IF_FXS_6"}]
[81,{"$f":"+IF(Data!$C$6>ROW(Generic!B82)-ROW(Generic!$B$76),\"\",\"#\")","v":"#"},{"$f":"+CONCATENATE(\"        route \",'Extension Table'!A8,\" dest-interface IF_FXS_\",'Extension Table'!C8)","v":"        route 107 dest-interface IF_FXS_7"}]
[82,{"$f":"+IF(Data!$C$6>ROW(Generic!B83)-ROW(Generic!$B$76),\"\",\"#\")","v":"#"},{"$f":"+CONCATENATE(\"        route \",'Extension Table'!A9,\" dest-interface IF_FXS_\",'Extension Table'!C9)","v":"        route 108 dest-interface IF_FXS_8"}]
[83,{"$f":"+IF(Data!$C$6>ROW(Generic!B84)-ROW(Generic!$B$76),\"\",\"#\")","v":"#"},{"$f":"+CONCATENATE(\"        route \",'Extension Table'!A10,\" dest-interface IF_FXS_\",'Extension Table'!C10)","v":"        route 109 dest-interface IF_FXS_9"}]
[84,{"$f":"+IF(Data!$C$6>ROW(Generic!B85)-ROW(Generic!$B$76),\"\",\"#\")","v":"#"},{"$f":"+CONCATENATE(\"        route \",'Extension Table'!A11,\" dest-interface IF_FXS_\",'Extension Table'!C11)","v":"        route 110 dest-interface IF_FXS_10"}]
[85,{"$f":"+IF(Data!$C$6>ROW(Generic!B86)-ROW(Generic!$B$76),\"\",\"#\")","v":"#"},{"$f":"+CONCATENATE(\"        route \",'Extension Table'!A12,\" dest-interface IF_FXS_\",'Extension Table'!C12)","v":"        route 111 dest-interface IF_FXS_11"}]
[86,{"$f":"+IF(Data!$C$6>ROW(Generic!B87)-ROW(Generic!$B$76),\"\",\"#\")","v":"#"},{"$f":"+CONCATENATE(\"        route \",'Extension Table'!A13,\" dest-interface IF_FXS_\",'Extension Table'!C13)","v":"        route 112 dest-interface IF_FXS_12"}]
[87,{"$f":"+IF(Data!$C$6>ROW(Generic!B88)-ROW(Generic!$B$76),\"\",\"#\")","v":"#"},{"$f":"+CONCATENATE(\"        route \",'Extension Table'!A14,\" dest-interface IF_FXS_\",'Extension Table'!C14)","v":"        route 113 dest-interface IF_FXS_13"}]
[88,{"$f":"+IF(Data!$C$6>ROW(Generic!B89)-ROW(Generic!$B$76),\"\",\"#\")","v":"#"},{"$f":"+CONCATENATE(\"        route \",'Extension Table'!A15,\" dest-interface IF_FXS_\",'Extension Table'!C15)","v":"        route 114 dest-interface IF_FXS_14"}]
[89,{"$f":"+IF(Data!$C$6>ROW(Generic!B90)-ROW(Generic!$B$76),\"\",\"#\")","v":"#"},{"$f":"+CONCATENATE(\"        route \",'Extension Table'!A16,\" dest-interface IF_FXS_\",'Extension Table'!C16)","v":"        route 115 dest-interface IF_FXS_15"}]
[90,{"$f":"+IF(Data!$C$6>ROW(Generic!B91)-ROW(Generic!$B$76),\"\",\"#\")","v":"#"},{"$f":"+CONCATENATE(\"        route \",'Extension Table'!A17,\" dest-interface IF_FXS_\",'Extension Table'!C17)","v":"        route 116 dest-interface IF_FXS_16"}]
[91,{"$f":"+IF(Data!$C$6>ROW(Generic!B92)-ROW(Generic!$B$76),\"\",\"#\")","v":"#"},{"$f":"+CONCATENATE(\"        route \",'Extension Table'!A18,\" dest-interface IF_FXS_\",'Extension Table'!C18)","v":"        route 117 dest-interface IF_FXS_17"}]
[92,{"$f":"+IF(Data!$C$6>ROW(Generic!B93)-ROW(Generic!$B$76),\"\",\"#\")","v":"#"},{"$f":"+CONCATENATE(\"        route \",'Extension Table'!A19,\" dest-interface IF_FXS_\",'Extension Table'!C19)","v":"        route 118 dest-interface IF_FXS_18"}]
[93,{"$f":"+IF(Data!$C$6>ROW(Generic!B94)-ROW(Generic!$B$76),\"\",\"#\")","v":"#"},{"$f":"+CONCATENATE(\"        route \",'Extension Table'!A20,\" dest-interface IF_FXS_\",'Extension Table'!C20)","v":"        route 119 dest-interface IF_FXS_19"}]
[94,{"$f":"+IF(Data!$C$6>ROW(Generic!B95)-ROW(Generic!$B$76),\"\",\"#\")","v":"#"},{"$f":"+CONCATENATE(\"        route \",'Extension Table'!A21,\" dest-interface IF_FXS_\",'Extension Table'!C21)","v":"        route 120 dest-interface IF_FXS_20"}]
[95,{"$f":"+IF(Data!$C$6>ROW(Generic!B96)-ROW(Generic!$B$76),\"\",\"#\")","v":"#"},{"$f":"+CONCATENATE(\"        route \",'Extension Table'!A22,\" dest-interface IF_FXS_\",'Extension Table'!C22)","v":"        route 121 dest-interface IF_FXS_21"}]
[96,{"$f":"+IF(Data!$C$6>ROW(Generic!B97)-ROW(Generic!$B$76),\"\",\"#\")","v":"#"},{"$f":"+CONCATENATE(\"        route \",'Extension Table'!A23,\" dest-interface IF_FXS_\",'Extension Table'!C23)","v":"        route 122 dest-interface IF_FXS_22"}]
[97,{"$f":"+IF(Data!$C$6>ROW(Generic!B98)-ROW(Generic!$B$76),\"\",\"#\")","v":"#"},{"$f":"+CONCATENATE(\"        route \",'Extension Table'!A24,\" dest-interface IF_FXS_\",'Extension Table'!C24)","v":"        route 123 dest-interface IF_FXS_23"}]
[98,{"$f":"+IF(Data!$C$6>ROW(Generic!B99)-ROW(Generic!$B$76),\"\",\"#\")","v":"#"},{"$f":"+CONCATENATE(\"        route \",'Extension Table'!A25,\" dest-interface IF_FXS_\",'Extension Table'!C25)","v":"        route 124 dest-interface IF_FXS_24"}]
[99,{"$f":"+IF(Data!$C$6>ROW(Generic!B100)-ROW(Generic!$B$76),\"\",\"#\")","v":"#"},{"$f":"+CONCATENATE(\"        route \",'Extension Table'!A26,\" dest-interface IF_FXS_\",'Extension Table'!C26)","v":"        route 125 dest-interface IF_FXS_25"}]
[100,{"$f":"+IF(Data!$C$6>ROW(Generic!B101)-ROW(Generic!$B$76),\"\",\"#\")","v":"#"},{"$f":"+CONCATENATE(\"        route \",'Extension Table'!A27,\" dest-interface IF_FXS_\",'Extension Table'!C27)","v":"        route 126 dest-interface IF_FXS_26"}]
[101,{"$f":"+IF(Data!$C$6>ROW(Generic!B102)-ROW(Generic!$B$76),\"\",\"#\")","v":"#"},{"$f":"+CONCATENATE(\"        route \",'Extension Table'!A28,\" dest-interface IF_FXS_\",'Extension Table'!C28)","v":"        route 127 dest-interface IF_FXS_27"}]
[102,{"$f":"+IF(Data!$C$6>ROW(Generic!B103)-ROW(Generic!$B$76),\"\",\"#\")","v":"#"},{"$f":"+CONCATENATE(\"        route \",'Extension Table'!A29,\" dest-interface IF_FXS_\",'Extension Table'!C29)","v":"        route 128 dest-interface IF_FXS_28"}]
[103,{"$f":"+IF(Data!$C$6>ROW(Generic!B104)-ROW(Generic!$B$76),\"\",\"#\")","v":"#"},{"$f":"+CONCATENATE(\"        route \",'Extension Table'!A30,\" dest-interface IF_FXS_\",'Extension Table'!C30)","v":"        route 129 dest-interface IF_FXS_29"}]
[104,{"$f":"+IF(Data!$C$6>ROW(Generic!B105)-ROW(Generic!$B$76),\"\",\"#\")","v":"#"},{"$f":"+CONCATENATE(\"        route \",'Extension Table'!A31,\" dest-interface IF_FXS_\",'Extension Table'!C31)","v":"        route 130 dest-interface IF_FXS_30"}]
[105,{"$f":"+IF(Data!$C$6>ROW(Generic!B106)-ROW(Generic!$B$76),\"\",\"#\")","v":"#"},{"$f":"+CONCATENATE(\"        route \",'Extension Table'!A32,\" dest-interface IF_FXS_\",'Extension Table'!C32)","v":"        route 131 dest-interface IF_FXS_31"}]
[106,{"$f":"+IF(Data!$C$6>ROW(Generic!B107)-ROW(Generic!$B$76),\"\",\"#\")","v":"#"},{"$f":"+CONCATENATE(\"        route \",'Extension Table'!A33,\" dest-interface IF_FXS_\",'Extension Table'!C33)","v":"        route 132 dest-interface IF_FXS_32"}]
[107,null," "]
[108,{"$f":"+IF(Data!$C$6>0,\" \",\"#\")","v":"#"},"mapping-table calling-e164 to calling-name MT_EXT_TO_NAME"]
[109,{"$f":"+IF(Data!$C$6>ROW(Generic!B110)-ROW(Generic!$B$110),\"\",\"#\")","v":"#"},{"$f":"+CONCATENATE(\"        map \",'Extension Table'!A2,\" to \"\"\",'Extension Table'!D2,\" \",'Extension Table'!E2,\"\"\"\")","v":"        map 101 to \"Fname user 1 Lname user 1\""}]
[110,{"$f":"+IF(Data!$C$6>ROW(Generic!B111)-ROW(Generic!$B$110),\"\",\"#\")","v":"#"},{"$f":"+CONCATENATE(\"        map \",'Extension Table'!A3,\" to \"\"\",'Extension Table'!D3,\" \",'Extension Table'!E3,\"\"\"\")","v":"        map 102 to \"Fname user 2 Lname user 2\""}]
[111,{"$f":"+IF(Data!$C$6>ROW(Generic!B112)-ROW(Generic!$B$110),\"\",\"#\")","v":"#"},{"$f":"+CONCATENATE(\"        map \",'Extension Table'!A4,\" to \"\"\",'Extension Table'!D4,\" \",'Extension Table'!E4,\"\"\"\")","v":"        map 103 to \" \""}]
[112,{"$f":"+IF(Data!$C$6>ROW(Generic!B113)-ROW(Generic!$B$110),\"\",\"#\")","v":"#"},{"$f":"+CONCATENATE(\"        map \",'Extension Table'!A5,\" to \"\"\",'Extension Table'!D5,\" \",'Extension Table'!E5,\"\"\"\")","v":"        map 104 to \" \""}]
[113,{"$f":"+IF(Data!$C$6>ROW(Generic!B114)-ROW(Generic!$B$110),\"\",\"#\")","v":"#"},{"$f":"+CONCATENATE(\"        map \",'Extension Table'!A6,\" to \"\"\",'Extension Table'!D6,\" \",'Extension Table'!E6,\"\"\"\")","v":"        map 105 to \" \""}]
[114,{"$f":"+IF(Data!$C$6>ROW(Generic!B115)-ROW(Generic!$B$110),\"\",\"#\")","v":"#"},{"$f":"+CONCATENATE(\"        map \",'Extension Table'!A7,\" to \"\"\",'Extension Table'!D7,\" \",'Extension Table'!E7,\"\"\"\")","v":"        map 106 to \" \""}]
[115,{"$f":"+IF(Data!$C$6>ROW(Generic!B116)-ROW(Generic!$B$110),\"\",\"#\")","v":"#"},{"$f":"+CONCATENATE(\"        map \",'Extension Table'!A8,\" to \"\"\",'Extension Table'!D8,\" \",'Extension Table'!E8,\"\"\"\")","v":"        map 107 to \" \""}]
[116,{"$f":"+IF(Data!$C$6>ROW(Generic!B117)-ROW(Generic!$B$110),\"\",\"#\")","v":"#"},{"$f":"+CONCATENATE(\"        map \",'Extension Table'!A9,\" to \"\"\",'Extension Table'!D9,\" \",'Extension Table'!E9,\"\"\"\")","v":"        map 108 to \" \""}]
[117,{"$f":"+IF(Data!$C$6>ROW(Generic!B118)-ROW(Generic!$B$110),\"\",\"#\")","v":"#"},{"$f":"+CONCATENATE(\"        map \",'Extension Table'!A10,\" to \"\"\",'Extension Table'!D10,\" \",'Extension Table'!E10,\"\"\"\")","v":"        map 109 to \" \""}]
[118,{"$f":"+IF(Data!$C$6>ROW(Generic!B119)-ROW(Generic!$B$110),\"\",\"#\")","v":"#"},{"$f":"+CONCATENATE(\"        map \",'Extension Table'!A11,\" to \"\"\",'Extension Table'!D11,\" \",'Extension Table'!E11,\"\"\"\")","v":"        map 110 to \" \""}]
[119,{"$f":"+IF(Data!$C$6>ROW(Generic!B120)-ROW(Generic!$B$110),\"\",\"#\")","v":"#"},{"$f":"+CONCATENATE(\"        map \",'Extension Table'!A12,\" to \"\"\",'Extension Table'!D12,\" \",'Extension Table'!E12,\"\"\"\")","v":"        map 111 to \" \""}]
[120,{"$f":"+IF(Data!$C$6>ROW(Generic!B121)-ROW(Generic!$B$110),\"\",\"#\")","v":"#"},{"$f":"+CONCATENATE(\"        map \",'Extension Table'!A13,\" to \"\"\",'Extension Table'!D13,\" \",'Extension Table'!E13,\"\"\"\")","v":"        map 112 to \" \""}]
[121,{"$f":"+IF(Data!$C$6>ROW(Generic!B122)-ROW(Generic!$B$110),\"\",\"#\")","v":"#"},{"$f":"+CONCATENATE(\"        map \",'Extension Table'!A14,\" to \"\"\",'Extension Table'!D14,\" \",'Extension Table'!E14,\"\"\"\")","v":"        map 113 to \" \""}]
[122,{"$f":"+IF(Data!$C$6>ROW(Generic!B123)-ROW(Generic!$B$110),\"\",\"#\")","v":"#"},{"$f":"+CONCATENATE(\"        map \",'Extension Table'!A15,\" to \"\"\",'Extension Table'!D15,\" \",'Extension Table'!E15,\"\"\"\")","v":"        map 114 to \" \""}]
[123,{"$f":"+IF(Data!$C$6>ROW(Generic!B124)-ROW(Generic!$B$110),\"\",\"#\")","v":"#"},{"$f":"+CONCATENATE(\"        map \",'Extension Table'!A16,\" to \"\"\",'Extension Table'!D16,\" \",'Extension Table'!E16,\"\"\"\")","v":"        map 115 to \" \""}]
[124,{"$f":"+IF(Data!$C$6>ROW(Generic!B125)-ROW(Generic!$B$110),\"\",\"#\")","v":"#"},{"$f":"+CONCATENATE(\"        map \",'Extension Table'!A17,\" to \"\"\",'Extension Table'!D17,\" \",'Extension Table'!E17,\"\"\"\")","v":"        map 116 to \" \""}]
[125,{"$f":"+IF(Data!$C$6>ROW(Generic!B126)-ROW(Generic!$B$110),\"\",\"#\")","v":"#"},{"$f":"+CONCATENATE(\"        map \",'Extension Table'!A18,\" to \"\"\",'Extension Table'!D18,\" \",'Extension Table'!E18,\"\"\"\")","v":"        map 117 to \" \""}]
[126,{"$f":"+IF(Data!$C$6>ROW(Generic!B127)-ROW(Generic!$B$110),\"\",\"#\")","v":"#"},{"$f":"+CONCATENATE(\"        map \",'Extension Table'!A19,\" to \"\"\",'Extension Table'!D19,\" \",'Extension Table'!E19,\"\"\"\")","v":"        map 118 to \" \""}]
[127,{"$f":"+IF(Data!$C$6>ROW(Generic!B128)-ROW(Generic!$B$110),\"\",\"#\")","v":"#"},{"$f":"+CONCATENATE(\"        map \",'Extension Table'!A20,\" to \"\"\",'Extension Table'!D20,\" \",'Extension Table'!E20,\"\"\"\")","v":"        map 119 to \" \""}]
[128,{"$f":"+IF(Data!$C$6>ROW(Generic!B129)-ROW(Generic!$B$110),\"\",\"#\")","v":"#"},{"$f":"+CONCATENATE(\"        map \",'Extension Table'!A21,\" to \"\"\",'Extension Table'!D21,\" \",'Extension Table'!E21,\"\"\"\")","v":"        map 120 to \" \""}]
[129,{"$f":"+IF(Data!$C$6>ROW(Generic!B130)-ROW(Generic!$B$110),\"\",\"#\")","v":"#"},{"$f":"+CONCATENATE(\"        map \",'Extension Table'!A22,\" to \"\"\",'Extension Table'!D22,\" \",'Extension Table'!E22,\"\"\"\")","v":"        map 121 to \" \""}]
[130,{"$f":"+IF(Data!$C$6>ROW(Generic!B131)-ROW(Generic!$B$110),\"\",\"#\")","v":"#"},{"$f":"+CONCATENATE(\"        map \",'Extension Table'!A23,\" to \"\"\",'Extension Table'!D23,\" \",'Extension Table'!E23,\"\"\"\")","v":"        map 122 to \" \""}]
[131,{"$f":"+IF(Data!$C$6>ROW(Generic!B132)-ROW(Generic!$B$110),\"\",\"#\")","v":"#"},{"$f":"+CONCATENATE(\"        map \",'Extension Table'!A24,\" to \"\"\",'Extension Table'!D24,\" \",'Extension Table'!E24,\"\"\"\")","v":"        map 123 to \" \""}]
[132,{"$f":"+IF(Data!$C$6>ROW(Generic!B133)-ROW(Generic!$B$110),\"\",\"#\")","v":"#"},{"$f":"+CONCATENATE(\"        map \",'Extension Table'!A25,\" to \"\"\",'Extension Table'!D25,\" \",'Extension Table'!E25,\"\"\"\")","v":"        map 124 to \" \""}]
[133,{"$f":"+IF(Data!$C$6>ROW(Generic!B134)-ROW(Generic!$B$110),\"\",\"#\")","v":"#"},{"$f":"+CONCATENATE(\"        map \",'Extension Table'!A26,\" to \"\"\",'Extension Table'!D26,\" \",'Extension Table'!E26,\"\"\"\")","v":"        map 125 to \" \""}]
[134,{"$f":"+IF(Data!$C$6>ROW(Generic!B135)-ROW(Generic!$B$110),\"\",\"#\")","v":"#"},{"$f":"+CONCATENATE(\"        map \",'Extension Table'!A27,\" to \"\"\",'Extension Table'!D27,\" \",'Extension Table'!E27,\"\"\"\")","v":"        map 126 to \" \""}]
[135,{"$f":"+IF(Data!$C$6>ROW(Generic!B136)-ROW(Generic!$B$110),\"\",\"#\")","v":"#"},{"$f":"+CONCATENATE(\"        map \",'Extension Table'!A28,\" to \"\"\",'Extension Table'!D28,\" \",'Extension Table'!E28,\"\"\"\")","v":"        map 127 to \" \""}]
[136,{"$f":"+IF(Data!$C$6>ROW(Generic!B137)-ROW(Generic!$B$110),\"\",\"#\")","v":"#"},{"$f":"+CONCATENATE(\"        map \",'Extension Table'!A29,\" to \"\"\",'Extension Table'!D29,\" \",'Extension Table'!E29,\"\"\"\")","v":"        map 128 to \" \""}]
[137,{"$f":"+IF(Data!$C$6>ROW(Generic!B138)-ROW(Generic!$B$110),\"\",\"#\")","v":"#"},{"$f":"+CONCATENATE(\"        map \",'Extension Table'!A30,\" to \"\"\",'Extension Table'!D30,\" \",'Extension Table'!E30,\"\"\"\")","v":"        map 129 to \" \""}]
[138,{"$f":"+IF(Data!$C$6>ROW(Generic!B139)-ROW(Generic!$B$110),\"\",\"#\")","v":"#"},{"$f":"+CONCATENATE(\"        map \",'Extension Table'!A31,\" to \"\"\",'Extension Table'!D31,\" \",'Extension Table'!E31,\"\"\"\")","v":"        map 130 to \" \""}]
[139,{"$f":"+IF(Data!$C$6>ROW(Generic!B140)-ROW(Generic!$B$110),\"\",\"#\")","v":"#"},{"$f":"+CONCATENATE(\"        map \",'Extension Table'!A32,\" to \"\"\",'Extension Table'!D32,\" \",'Extension Table'!E32,\"\"\"\")","v":"        map 131 to \" \""}]
[140,{"$f":"+IF(Data!$C$6>ROW(Generic!B141)-ROW(Generic!$B$110),\"\",\"#\")","v":"#"},{"$f":"+CONCATENATE(\"        map \",'Extension Table'!A33,\" to \"\"\",'Extension Table'!D33,\" \",'Extension Table'!E33,\"\"\"\")","v":"        map 132 to \" \""}]
[141]
[142,{"$f":"+IF(Data!$C$5>ROW(Generic!B143)-ROW(Generic!$B$143),\"\",\"#\")","v":""},{"$f":"+CONCATENATE(\"  interface sip IF_SIP_\",'Line Table'!A2,CHAR(13),CHAR(10),,\"        bind context sip-gateway GW_SIP_\",'Line Table'!A2,CHAR(13),CHAR(10),,\"        \",+'Line Table'!C2,CHAR(13),CHAR(10),,\"        early-disconnect\",CHAR(13),CHAR(10),,\"        route call dest-interface IF_FXO_\",'Line Table'!A2,CHAR(13),CHAR(10),,\"        remote \",Data!$C$24,\" \",Data!$C$25,CHAR(13),CHAR(10),,\"        address-translation outgoing-call request-uri user-part fix \",'Line Table'!B2,\" host-part to-header target-param none\",CHAR(13),CHAR(10),,\"        address-translation incoming-call called-e164 request-uri\",CHAR(13),CHAR(10),,CHAR(13),CHAR(10),)","v":"  interface sip IF_SIP_1\r\n        bind context sip-gateway GW_SIP_1\r\n        early-connect \r\n        early-disconnect\r\n        route call dest-interface IF_FXO_1\r\n        remote 10.10.50.23 5060\r\n        address-translation outgoing-call request-uri user-part fix 10002 host-part to-header target-param none\r\n        address-translation incoming-call called-e164 request-uri\r\n\r\n"}]
[143,{"$f":"+IF(Data!$C$5>ROW(Generic!B144)-ROW(Generic!$B$143),\"\",\"#\")","v":""},{"$f":"+CONCATENATE(\"  interface sip IF_SIP_\",'Line Table'!A3,CHAR(13),CHAR(10),,\"        bind context sip-gateway GW_SIP_\",'Line Table'!A3,CHAR(13),CHAR(10),,\"        \",+'Line Table'!C3,CHAR(13),CHAR(10),,\"        early-disconnect\",CHAR(13),CHAR(10),,\"        route call dest-interface IF_FXO_\",'Line Table'!A3,CHAR(13),CHAR(10),,\"        remote \",Data!$C$24,\" \",Data!$C$25,CHAR(13),CHAR(10),,\"        address-translation outgoing-call request-uri user-part fix \",'Line Table'!B3,\" host-part to-header target-param none\",CHAR(13),CHAR(10),,\"        address-translation incoming-call called-e164 request-uri\",CHAR(13),CHAR(10),,CHAR(13),CHAR(10),)","v":"  interface sip IF_SIP_2\r\n        bind context sip-gateway GW_SIP_2\r\n        early-connect \r\n        early-disconnect\r\n        route call dest-interface IF_FXO_2\r\n        remote 10.10.50.23 5060\r\n        address-translation outgoing-call request-uri user-part fix 10003 host-part to-header target-param none\r\n        address-translation incoming-call called-e164 request-uri\r\n\r\n"}]
[144,{"$f":"+IF(Data!$C$5>ROW(Generic!B145)-ROW(Generic!$B$143),\"\",\"#\")","v":""},{"$f":"+CONCATENATE(\"  interface sip IF_SIP_\",'Line Table'!A4,CHAR(13),CHAR(10),,\"        bind context sip-gateway GW_SIP_\",'Line Table'!A4,CHAR(13),CHAR(10),,\"        \",+'Line Table'!C4,CHAR(13),CHAR(10),,\"        early-disconnect\",CHAR(13),CHAR(10),,\"        route call dest-interface IF_FXO_\",'Line Table'!A4,CHAR(13),CHAR(10),,\"        remote \",Data!$C$24,\" \",Data!$C$25,CHAR(13),CHAR(10),,\"        address-translation outgoing-call request-uri user-part fix \",'Line Table'!B4,\" host-part to-header target-param none\",CHAR(13),CHAR(10),,\"        address-translation incoming-call called-e164 request-uri\",CHAR(13),CHAR(10),,CHAR(13),CHAR(10),)","v":"  interface sip IF_SIP_3\r\n        bind context sip-gateway GW_SIP_3\r\n        early-connect \r\n        early-disconnect\r\n        route call dest-interface IF_FXO_3\r\n        remote 10.10.50.23 5060\r\n        address-translation outgoing-call request-uri user-part fix 10004 host-part to-header target-param none\r\n        address-translation incoming-call called-e164 request-uri\r\n\r\n"}]
[145,{"$f":"+IF(Data!$C$5>ROW(Generic!B146)-ROW(Generic!$B$143),\"\",\"#\")","v":""},{"$f":"+CONCATENATE(\"  interface sip IF_SIP_\",'Line Table'!A5,CHAR(13),CHAR(10),,\"        bind context sip-gateway GW_SIP_\",'Line Table'!A5,CHAR(13),CHAR(10),,\"        \",+'Line Table'!C5,CHAR(13),CHAR(10),,\"        early-disconnect\",CHAR(13),CHAR(10),,\"        route call dest-interface IF_FXO_\",'Line Table'!A5,CHAR(13),CHAR(10),,\"        remote \",Data!$C$24,\" \",Data!$C$25,CHAR(13),CHAR(10),,\"        address-translation outgoing-call request-uri user-part fix \",'Line Table'!B5,\" host-part to-header target-param none\",CHAR(13),CHAR(10),,\"        address-translation incoming-call called-e164 request-uri\",CHAR(13),CHAR(10),,CHAR(13),CHAR(10),)","v":"  interface sip IF_SIP_4\r\n        bind context sip-gateway GW_SIP_4\r\n        early-connect \r\n        early-disconnect\r\n        route call dest-interface IF_FXO_4\r\n        remote 10.10.50.23 5060\r\n        address-translation outgoing-call request-uri user-part fix 10005 host-part to-header target-param none\r\n        address-translation incoming-call called-e164 request-uri\r\n\r\n"}]
[146,{"$f":"+IF(Data!$C$5>ROW(Generic!B147)-ROW(Generic!$B$143),\"\",\"#\")","v":""},{"$f":"+CONCATENATE(\"  interface sip IF_SIP_\",'Line Table'!A6,CHAR(13),CHAR(10),,\"        bind context sip-gateway GW_SIP_\",'Line Table'!A6,CHAR(13),CHAR(10),,\"        \",+'Line Table'!C6,CHAR(13),CHAR(10),,\"        early-disconnect\",CHAR(13),CHAR(10),,\"        route call dest-interface IF_FXO_\",'Line Table'!A6,CHAR(13),CHAR(10),,\"        remote \",Data!$C$24,\" \",Data!$C$25,CHAR(13),CHAR(10),,\"        address-translation outgoing-call request-uri user-part fix \",'Line Table'!B6,\" host-part to-header target-param none\",CHAR(13),CHAR(10),,\"        address-translation incoming-call called-e164 request-uri\",CHAR(13),CHAR(10),,CHAR(13),CHAR(10),)","v":"  interface sip IF_SIP_5\r\n        bind context sip-gateway GW_SIP_5\r\n        early-connect \r\n        early-disconnect\r\n        route call dest-interface IF_FXO_5\r\n        remote 10.10.50.23 5060\r\n        address-translation outgoing-call request-uri user-part fix 10006 host-part to-header target-param none\r\n        address-translation incoming-call called-e164 request-uri\r\n\r\n"}]
[147,{"$f":"+IF(Data!$C$5>ROW(Generic!B148)-ROW(Generic!$B$143),\"\",\"#\")","v":""},{"$f":"+CONCATENATE(\"  interface sip IF_SIP_\",'Line Table'!A7,CHAR(13),CHAR(10),,\"        bind context sip-gateway GW_SIP_\",'Line Table'!A7,CHAR(13),CHAR(10),,\"        \",+'Line Table'!C7,CHAR(13),CHAR(10),,\"        early-disconnect\",CHAR(13),CHAR(10),,\"        route call dest-interface IF_FXO_\",'Line Table'!A7,CHAR(13),CHAR(10),,\"        remote \",Data!$C$24,\" \",Data!$C$25,CHAR(13),CHAR(10),,\"        address-translation outgoing-call request-uri user-part fix \",'Line Table'!B7,\" host-part to-header target-param none\",CHAR(13),CHAR(10),,\"        address-translation incoming-call called-e164 request-uri\",CHAR(13),CHAR(10),,CHAR(13),CHAR(10),)","v":"  interface sip IF_SIP_6\r\n        bind context sip-gateway GW_SIP_6\r\n        early-connect \r\n        early-disconnect\r\n        route call dest-interface IF_FXO_6\r\n        remote 10.10.50.23 5060\r\n        address-translation outgoing-call request-uri user-part fix 10007 host-part to-header target-param none\r\n        address-translation incoming-call called-e164 request-uri\r\n\r\n"}]
[148,{"$f":"+IF(Data!$C$5>ROW(Generic!B149)-ROW(Generic!$B$143),\"\",\"#\")","v":""},{"$f":"+CONCATENATE(\"  interface sip IF_SIP_\",'Line Table'!A8,CHAR(13),CHAR(10),,\"        bind context sip-gateway GW_SIP_\",'Line Table'!A8,CHAR(13),CHAR(10),,\"        \",+'Line Table'!C8,CHAR(13),CHAR(10),,\"        early-disconnect\",CHAR(13),CHAR(10),,\"        route call dest-interface IF_FXO_\",'Line Table'!A8,CHAR(13),CHAR(10),,\"        remote \",Data!$C$24,\" \",Data!$C$25,CHAR(13),CHAR(10),,\"        address-translation outgoing-call request-uri user-part fix \",'Line Table'!B8,\" host-part to-header target-param none\",CHAR(13),CHAR(10),,\"        address-translation incoming-call called-e164 request-uri\",CHAR(13),CHAR(10),,CHAR(13),CHAR(10),)","v":"  interface sip IF_SIP_7\r\n        bind context sip-gateway GW_SIP_7\r\n        early-connect \r\n        early-disconnect\r\n        route call dest-interface IF_FXO_7\r\n        remote 10.10.50.23 5060\r\n        address-translation outgoing-call request-uri user-part fix 10008 host-part to-header target-param none\r\n        address-translation incoming-call called-e164 request-uri\r\n\r\n"}]
[149,{"$f":"+IF(Data!$C$5>ROW(Generic!B150)-ROW(Generic!$B$143),\"\",\"#\")","v":""},{"$f":"+CONCATENATE(\"  interface sip IF_SIP_\",'Line Table'!A9,CHAR(13),CHAR(10),,\"        bind context sip-gateway GW_SIP_\",'Line Table'!A9,CHAR(13),CHAR(10),,\"        \",+'Line Table'!C9,CHAR(13),CHAR(10),,\"        early-disconnect\",CHAR(13),CHAR(10),,\"        route call dest-interface IF_FXO_\",'Line Table'!A9,CHAR(13),CHAR(10),,\"        remote \",Data!$C$24,\" \",Data!$C$25,CHAR(13),CHAR(10),,\"        address-translation outgoing-call request-uri user-part fix \",'Line Table'!B9,\" host-part to-header target-param none\",CHAR(13),CHAR(10),,\"        address-translation incoming-call called-e164 request-uri\",CHAR(13),CHAR(10),,CHAR(13),CHAR(10),)","v":"  interface sip IF_SIP_8\r\n        bind context sip-gateway GW_SIP_8\r\n        early-connect \r\n        early-disconnect\r\n        route call dest-interface IF_FXO_8\r\n        remote 10.10.50.23 5060\r\n        address-translation outgoing-call request-uri user-part fix 10009 host-part to-header target-param none\r\n        address-translation incoming-call called-e164 request-uri\r\n\r\n"}]
[150,{"$f":"+IF(Data!$C$5>ROW(Generic!B151)-ROW(Generic!$B$143),\"\",\"#\")","v":""},{"$f":"+CONCATENATE(\"  interface sip IF_SIP_\",'Line Table'!A10,CHAR(13),CHAR(10),,\"        bind context sip-gateway GW_SIP_\",'Line Table'!A10,CHAR(13),CHAR(10),,\"        \",+'Line Table'!C10,CHAR(13),CHAR(10),,\"        early-disconnect\",CHAR(13),CHAR(10),,\"        route call dest-interface IF_FXO_\",'Line Table'!A10,CHAR(13),CHAR(10),,\"        remote \",Data!$C$24,\" \",Data!$C$25,CHAR(13),CHAR(10),,\"        address-translation outgoing-call request-uri user-part fix \",'Line Table'!B10,\" host-part to-header target-param none\",CHAR(13),CHAR(10),,\"        address-translation incoming-call called-e164 request-uri\",CHAR(13),CHAR(10),,CHAR(13),CHAR(10),)","v":"  interface sip IF_SIP_9\r\n        bind context sip-gateway GW_SIP_9\r\n        early-connect \r\n        early-disconnect\r\n        route call dest-interface IF_FXO_9\r\n        remote 10.10.50.23 5060\r\n        address-translation outgoing-call request-uri user-part fix 10010 host-part to-header target-param none\r\n        address-translation incoming-call called-e164 request-uri\r\n\r\n"}]
[151,{"$f":"+IF(Data!$C$5>ROW(Generic!B152)-ROW(Generic!$B$143),\"\",\"#\")","v":""},{"$f":"+CONCATENATE(\"  interface sip IF_SIP_\",'Line Table'!A11,CHAR(13),CHAR(10),,\"        bind context sip-gateway GW_SIP_\",'Line Table'!A11,CHAR(13),CHAR(10),,\"        \",+'Line Table'!C11,CHAR(13),CHAR(10),,\"        early-disconnect\",CHAR(13),CHAR(10),,\"        route call dest-interface IF_FXO_\",'Line Table'!A11,CHAR(13),CHAR(10),,\"        remote \",Data!$C$24,\" \",Data!$C$25,CHAR(13),CHAR(10),,\"        address-translation outgoing-call request-uri user-part fix \",'Line Table'!B11,\" host-part to-header target-param none\",CHAR(13),CHAR(10),,\"        address-translation incoming-call called-e164 request-uri\",CHAR(13),CHAR(10),,CHAR(13),CHAR(10),)","v":"  interface sip IF_SIP_10\r\n        bind context sip-gateway GW_SIP_10\r\n        early-connect \r\n        early-disconnect\r\n        route call dest-interface IF_FXO_10\r\n        remote 10.10.50.23 5060\r\n        address-translation outgoing-call request-uri user-part fix 10011 host-part to-header target-param none\r\n        address-translation incoming-call called-e164 request-uri\r\n\r\n"}]
[152,{"$f":"+IF(Data!$C$5>ROW(Generic!B153)-ROW(Generic!$B$143),\"\",\"#\")","v":""},{"$f":"+CONCATENATE(\"  interface sip IF_SIP_\",'Line Table'!A12,CHAR(13),CHAR(10),,\"        bind context sip-gateway GW_SIP_\",'Line Table'!A12,CHAR(13),CHAR(10),,\"        \",+'Line Table'!C12,CHAR(13),CHAR(10),,\"        early-disconnect\",CHAR(13),CHAR(10),,\"        route call dest-interface IF_FXO_\",'Line Table'!A12,CHAR(13),CHAR(10),,\"        remote \",Data!$C$24,\" \",Data!$C$25,CHAR(13),CHAR(10),,\"        address-translation outgoing-call request-uri user-part fix \",'Line Table'!B12,\" host-part to-header target-param none\",CHAR(13),CHAR(10),,\"        address-translation incoming-call called-e164 request-uri\",CHAR(13),CHAR(10),,CHAR(13),CHAR(10),)","v":"  interface sip IF_SIP_11\r\n        bind context sip-gateway GW_SIP_11\r\n        early-connect \r\n        early-disconnect\r\n        route call dest-interface IF_FXO_11\r\n        remote 10.10.50.23 5060\r\n        address-translation outgoing-call request-uri user-part fix 10012 host-part to-header target-param none\r\n        address-translation incoming-call called-e164 request-uri\r\n\r\n"}]
[153,{"$f":"+IF(Data!$C$5>ROW(Generic!B154)-ROW(Generic!$B$143),\"\",\"#\")","v":""},{"$f":"+CONCATENATE(\"  interface sip IF_SIP_\",'Line Table'!A13,CHAR(13),CHAR(10),,\"        bind context sip-gateway GW_SIP_\",'Line Table'!A13,CHAR(13),CHAR(10),,\"        \",+'Line Table'!C13,CHAR(13),CHAR(10),,\"        early-disconnect\",CHAR(13),CHAR(10),,\"        route call dest-interface IF_FXO_\",'Line Table'!A13,CHAR(13),CHAR(10),,\"        remote \",Data!$C$24,\" \",Data!$C$25,CHAR(13),CHAR(10),,\"        address-translation outgoing-call request-uri user-part fix \",'Line Table'!B13,\" host-part to-header target-param none\",CHAR(13),CHAR(10),,\"        address-translation incoming-call called-e164 request-uri\",CHAR(13),CHAR(10),,CHAR(13),CHAR(10),)","v":"  interface sip IF_SIP_12\r\n        bind context sip-gateway GW_SIP_12\r\n        early-connect \r\n        early-disconnect\r\n        route call dest-interface IF_FXO_12\r\n        remote 10.10.50.23 5060\r\n        address-translation outgoing-call request-uri user-part fix 10013 host-part to-header target-param none\r\n        address-translation incoming-call called-e164 request-uri\r\n\r\n"}]
[154,{"$f":"+IF(Data!$C$5>ROW(Generic!B155)-ROW(Generic!$B$143),\"\",\"#\")","v":"#"},{"$f":"+CONCATENATE(\"  interface sip IF_SIP_\",'Line Table'!A14,CHAR(13),CHAR(10),,\"        bind context sip-gateway GW_SIP_\",'Line Table'!A14,CHAR(13),CHAR(10),,\"        \",+'Line Table'!C14,CHAR(13),CHAR(10),,\"        early-disconnect\",CHAR(13),CHAR(10),,\"        route call dest-interface IF_FXO_\",'Line Table'!A14,CHAR(13),CHAR(10),,\"        remote \",Data!$C$24,\" \",Data!$C$25,CHAR(13),CHAR(10),,\"        address-translation outgoing-call request-uri user-part fix \",'Line Table'!B14,\" host-part to-header target-param none\",CHAR(13),CHAR(10),,\"        address-translation incoming-call called-e164 request-uri\",CHAR(13),CHAR(10),,CHAR(13),CHAR(10),)","v":"  interface sip IF_SIP_13\r\n        bind context sip-gateway GW_SIP_13\r\n        early-connect \r\n        early-disconnect\r\n        route call dest-interface IF_FXO_13\r\n        remote 10.10.50.23 5060\r\n        address-translation outgoing-call request-uri user-part fix 10014 host-part to-header target-param none\r\n        address-translation incoming-call called-e164 request-uri\r\n\r\n"}]
[155,{"$f":"+IF(Data!$C$5>ROW(Generic!B156)-ROW(Generic!$B$143),\"\",\"#\")","v":"#"},{"$f":"+CONCATENATE(\"  interface sip IF_SIP_\",'Line Table'!A15,CHAR(13),CHAR(10),,\"        bind context sip-gateway GW_SIP_\",'Line Table'!A15,CHAR(13),CHAR(10),,\"        \",+'Line Table'!C15,CHAR(13),CHAR(10),,\"        early-disconnect\",CHAR(13),CHAR(10),,\"        route call dest-interface IF_FXO_\",'Line Table'!A15,CHAR(13),CHAR(10),,\"        remote \",Data!$C$24,\" \",Data!$C$25,CHAR(13),CHAR(10),,\"        address-translation outgoing-call request-uri user-part fix \",'Line Table'!B15,\" host-part to-header target-param none\",CHAR(13),CHAR(10),,\"        address-translation incoming-call called-e164 request-uri\",CHAR(13),CHAR(10),,CHAR(13),CHAR(10),)","v":"  interface sip IF_SIP_14\r\n        bind context sip-gateway GW_SIP_14\r\n        early-connect \r\n        early-disconnect\r\n        route call dest-interface IF_FXO_14\r\n        remote 10.10.50.23 5060\r\n        address-translation outgoing-call request-uri user-part fix 10015 host-part to-header target-param none\r\n        address-translation incoming-call called-e164 request-uri\r\n\r\n"}]
[156,{"$f":"+IF(Data!$C$5>ROW(Generic!B157)-ROW(Generic!$B$143),\"\",\"#\")","v":"#"},{"$f":"+CONCATENATE(\"  interface sip IF_SIP_\",'Line Table'!A16,CHAR(13),CHAR(10),,\"        bind context sip-gateway GW_SIP_\",'Line Table'!A16,CHAR(13),CHAR(10),,\"        \",+'Line Table'!C16,CHAR(13),CHAR(10),,\"        early-disconnect\",CHAR(13),CHAR(10),,\"        route call dest-interface IF_FXO_\",'Line Table'!A16,CHAR(13),CHAR(10),,\"        remote \",Data!$C$24,\" \",Data!$C$25,CHAR(13),CHAR(10),,\"        address-translation outgoing-call request-uri user-part fix \",'Line Table'!B16,\" host-part to-header target-param none\",CHAR(13),CHAR(10),,\"        address-translation incoming-call called-e164 request-uri\",CHAR(13),CHAR(10),,CHAR(13),CHAR(10),)","v":"  interface sip IF_SIP_15\r\n        bind context sip-gateway GW_SIP_15\r\n        early-connect \r\n        early-disconnect\r\n        route call dest-interface IF_FXO_15\r\n        remote 10.10.50.23 5060\r\n        address-translation outgoing-call request-uri user-part fix 10016 host-part to-header target-param none\r\n        address-translation incoming-call called-e164 request-uri\r\n\r\n"}]
[157,{"$f":"+IF(Data!$C$5>ROW(Generic!B158)-ROW(Generic!$B$143),\"\",\"#\")","v":"#"},{"$f":"+CONCATENATE(\"  interface sip IF_SIP_\",'Line Table'!A17,CHAR(13),CHAR(10),,\"        bind context sip-gateway GW_SIP_\",'Line Table'!A17,CHAR(13),CHAR(10),,\"        \",+'Line Table'!C17,CHAR(13),CHAR(10),,\"        early-disconnect\",CHAR(13),CHAR(10),,\"        route call dest-interface IF_FXO_\",'Line Table'!A17,CHAR(13),CHAR(10),,\"        remote \",Data!$C$24,\" \",Data!$C$25,CHAR(13),CHAR(10),,\"        address-translation outgoing-call request-uri user-part fix \",'Line Table'!B17,\" host-part to-header target-param none\",CHAR(13),CHAR(10),,\"        address-translation incoming-call called-e164 request-uri\",CHAR(13),CHAR(10),,CHAR(13),CHAR(10),)","v":"  interface sip IF_SIP_16\r\n        bind context sip-gateway GW_SIP_16\r\n        early-connect \r\n        early-disconnect\r\n        route call dest-interface IF_FXO_16\r\n        remote 10.10.50.23 5060\r\n        address-translation outgoing-call request-uri user-part fix 10017 host-part to-header target-param none\r\n        address-translation incoming-call called-e164 request-uri\r\n\r\n"}]
[158,{"$f":"+IF(Data!$C$5>ROW(Generic!B159)-ROW(Generic!$B$143),\"\",\"#\")","v":"#"},{"$f":"+CONCATENATE(\"  interface sip IF_SIP_\",'Line Table'!A18,CHAR(13),CHAR(10),,\"        bind context sip-gateway GW_SIP_\",'Line Table'!A18,CHAR(13),CHAR(10),,\"        \",+'Line Table'!C18,CHAR(13),CHAR(10),,\"        early-disconnect\",CHAR(13),CHAR(10),,\"        route call dest-interface IF_FXO_\",'Line Table'!A18,CHAR(13),CHAR(10),,\"        remote \",Data!$C$24,\" \",Data!$C$25,CHAR(13),CHAR(10),,\"        address-translation outgoing-call request-uri user-part fix \",'Line Table'!B18,\" host-part to-header target-param none\",CHAR(13),CHAR(10),,\"        address-translation incoming-call called-e164 request-uri\",CHAR(13),CHAR(10),,CHAR(13),CHAR(10),)","v":"  interface sip IF_SIP_17\r\n        bind context sip-gateway GW_SIP_17\r\n        early-connect \r\n        early-disconnect\r\n        route call dest-interface IF_FXO_17\r\n        remote 10.10.50.23 5060\r\n        address-translation outgoing-call request-uri user-part fix 10018 host-part to-header target-param none\r\n        address-translation incoming-call called-e164 request-uri\r\n\r\n"}]
[159,{"$f":"+IF(Data!$C$5>ROW(Generic!B160)-ROW(Generic!$B$143),\"\",\"#\")","v":"#"},{"$f":"+CONCATENATE(\"  interface sip IF_SIP_\",'Line Table'!A19,CHAR(13),CHAR(10),,\"        bind context sip-gateway GW_SIP_\",'Line Table'!A19,CHAR(13),CHAR(10),,\"        \",+'Line Table'!C19,CHAR(13),CHAR(10),,\"        early-disconnect\",CHAR(13),CHAR(10),,\"        route call dest-interface IF_FXO_\",'Line Table'!A19,CHAR(13),CHAR(10),,\"        remote \",Data!$C$24,\" \",Data!$C$25,CHAR(13),CHAR(10),,\"        address-translation outgoing-call request-uri user-part fix \",'Line Table'!B19,\" host-part to-header target-param none\",CHAR(13),CHAR(10),,\"        address-translation incoming-call called-e164 request-uri\",CHAR(13),CHAR(10),,CHAR(13),CHAR(10),)","v":"  interface sip IF_SIP_18\r\n        bind context sip-gateway GW_SIP_18\r\n        early-connect \r\n        early-disconnect\r\n        route call dest-interface IF_FXO_18\r\n        remote 10.10.50.23 5060\r\n        address-translation outgoing-call request-uri user-part fix 10019 host-part to-header target-param none\r\n        address-translation incoming-call called-e164 request-uri\r\n\r\n"}]
[160,{"$f":"+IF(Data!$C$5>ROW(Generic!B161)-ROW(Generic!$B$143),\"\",\"#\")","v":"#"},{"$f":"+CONCATENATE(\"  interface sip IF_SIP_\",'Line Table'!A20,CHAR(13),CHAR(10),,\"        bind context sip-gateway GW_SIP_\",'Line Table'!A20,CHAR(13),CHAR(10),,\"        \",+'Line Table'!C20,CHAR(13),CHAR(10),,\"        early-disconnect\",CHAR(13),CHAR(10),,\"        route call dest-interface IF_FXO_\",'Line Table'!A20,CHAR(13),CHAR(10),,\"        remote \",Data!$C$24,\" \",Data!$C$25,CHAR(13),CHAR(10),,\"        address-translation outgoing-call request-uri user-part fix \",'Line Table'!B20,\" host-part to-header target-param none\",CHAR(13),CHAR(10),,\"        address-translation incoming-call called-e164 request-uri\",CHAR(13),CHAR(10),,CHAR(13),CHAR(10),)","v":"  interface sip IF_SIP_19\r\n        bind context sip-gateway GW_SIP_19\r\n        early-connect \r\n        early-disconnect\r\n        route call dest-interface IF_FXO_19\r\n        remote 10.10.50.23 5060\r\n        address-translation outgoing-call request-uri user-part fix 10020 host-part to-header target-param none\r\n        address-translation incoming-call called-e164 request-uri\r\n\r\n"}]
[161,{"$f":"+IF(Data!$C$5>ROW(Generic!B162)-ROW(Generic!$B$143),\"\",\"#\")","v":"#"},{"$f":"+CONCATENATE(\"  interface sip IF_SIP_\",'Line Table'!A21,CHAR(13),CHAR(10),,\"        bind context sip-gateway GW_SIP_\",'Line Table'!A21,CHAR(13),CHAR(10),,\"        \",+'Line Table'!C21,CHAR(13),CHAR(10),,\"        early-disconnect\",CHAR(13),CHAR(10),,\"        route call dest-interface IF_FXO_\",'Line Table'!A21,CHAR(13),CHAR(10),,\"        remote \",Data!$C$24,\" \",Data!$C$25,CHAR(13),CHAR(10),,\"        address-translation outgoing-call request-uri user-part fix \",'Line Table'!B21,\" host-part to-header target-param none\",CHAR(13),CHAR(10),,\"        address-translation incoming-call called-e164 request-uri\",CHAR(13),CHAR(10),,CHAR(13),CHAR(10),)","v":"  interface sip IF_SIP_20\r\n        bind context sip-gateway GW_SIP_20\r\n        early-connect \r\n        early-disconnect\r\n        route call dest-interface IF_FXO_20\r\n        remote 10.10.50.23 5060\r\n        address-translation outgoing-call request-uri user-part fix 10021 host-part to-header target-param none\r\n        address-translation incoming-call called-e164 request-uri\r\n\r\n"}]
[162,{"$f":"+IF(Data!$C$5>ROW(Generic!B163)-ROW(Generic!$B$143),\"\",\"#\")","v":"#"},{"$f":"+CONCATENATE(\"  interface sip IF_SIP_\",'Line Table'!A22,CHAR(13),CHAR(10),,\"        bind context sip-gateway GW_SIP_\",'Line Table'!A22,CHAR(13),CHAR(10),,\"        \",+'Line Table'!C22,CHAR(13),CHAR(10),,\"        early-disconnect\",CHAR(13),CHAR(10),,\"        route call dest-interface IF_FXO_\",'Line Table'!A22,CHAR(13),CHAR(10),,\"        remote \",Data!$C$24,\" \",Data!$C$25,CHAR(13),CHAR(10),,\"        address-translation outgoing-call request-uri user-part fix \",'Line Table'!B22,\" host-part to-header target-param none\",CHAR(13),CHAR(10),,\"        address-translation incoming-call called-e164 request-uri\",CHAR(13),CHAR(10),,CHAR(13),CHAR(10),)","v":"  interface sip IF_SIP_21\r\n        bind context sip-gateway GW_SIP_21\r\n        early-connect \r\n        early-disconnect\r\n        route call dest-interface IF_FXO_21\r\n        remote 10.10.50.23 5060\r\n        address-translation outgoing-call request-uri user-part fix 10022 host-part to-header target-param none\r\n        address-translation incoming-call called-e164 request-uri\r\n\r\n"}]
[163,{"$f":"+IF(Data!$C$5>ROW(Generic!B164)-ROW(Generic!$B$143),\"\",\"#\")","v":"#"},{"$f":"+CONCATENATE(\"  interface sip IF_SIP_\",'Line Table'!A23,CHAR(13),CHAR(10),,\"        bind context sip-gateway GW_SIP_\",'Line Table'!A23,CHAR(13),CHAR(10),,\"        \",+'Line Table'!C23,CHAR(13),CHAR(10),,\"        early-disconnect\",CHAR(13),CHAR(10),,\"        route call dest-interface IF_FXO_\",'Line Table'!A23,CHAR(13),CHAR(10),,\"        remote \",Data!$C$24,\" \",Data!$C$25,CHAR(13),CHAR(10),,\"        address-translation outgoing-call request-uri user-part fix \",'Line Table'!B23,\" host-part to-header target-param none\",CHAR(13),CHAR(10),,\"        address-translation incoming-call called-e164 request-uri\",CHAR(13),CHAR(10),,CHAR(13),CHAR(10),)","v":"  interface sip IF_SIP_22\r\n        bind context sip-gateway GW_SIP_22\r\n        early-connect \r\n        early-disconnect\r\n        route call dest-interface IF_FXO_22\r\n        remote 10.10.50.23 5060\r\n        address-translation outgoing-call request-uri user-part fix 10023 host-part to-header target-param none\r\n        address-translation incoming-call called-e164 request-uri\r\n\r\n"}]
[164,{"$f":"+IF(Data!$C$5>ROW(Generic!B165)-ROW(Generic!$B$143),\"\",\"#\")","v":"#"},{"$f":"+CONCATENATE(\"  interface sip IF_SIP_\",'Line Table'!A24,CHAR(13),CHAR(10),,\"        bind context sip-gateway GW_SIP_\",'Line Table'!A24,CHAR(13),CHAR(10),,\"        \",+'Line Table'!C24,CHAR(13),CHAR(10),,\"        early-disconnect\",CHAR(13),CHAR(10),,\"        route call dest-interface IF_FXO_\",'Line Table'!A24,CHAR(13),CHAR(10),,\"        remote \",Data!$C$24,\" \",Data!$C$25,CHAR(13),CHAR(10),,\"        address-translation outgoing-call request-uri user-part fix \",'Line Table'!B24,\" host-part to-header target-param none\",CHAR(13),CHAR(10),,\"        address-translation incoming-call called-e164 request-uri\",CHAR(13),CHAR(10),,CHAR(13),CHAR(10),)","v":"  interface sip IF_SIP_23\r\n        bind context sip-gateway GW_SIP_23\r\n        early-connect \r\n        early-disconnect\r\n        route call dest-interface IF_FXO_23\r\n        remote 10.10.50.23 5060\r\n        address-translation outgoing-call request-uri user-part fix 10024 host-part to-header target-param none\r\n        address-translation incoming-call called-e164 request-uri\r\n\r\n"}]
[165,{"$f":"+IF(Data!$C$5>ROW(Generic!B166)-ROW(Generic!$B$143),\"\",\"#\")","v":"#"},{"$f":"+CONCATENATE(\"  interface sip IF_SIP_\",'Line Table'!A25,CHAR(13),CHAR(10),,\"        bind context sip-gateway GW_SIP_\",'Line Table'!A25,CHAR(13),CHAR(10),,\"        \",+'Line Table'!C25,CHAR(13),CHAR(10),,\"        early-disconnect\",CHAR(13),CHAR(10),,\"        route call dest-interface IF_FXO_\",'Line Table'!A25,CHAR(13),CHAR(10),,\"        remote \",Data!$C$24,\" \",Data!$C$25,CHAR(13),CHAR(10),,\"        address-translation outgoing-call request-uri user-part fix \",'Line Table'!B25,\" host-part to-header target-param none\",CHAR(13),CHAR(10),,\"        address-translation incoming-call called-e164 request-uri\",CHAR(13),CHAR(10),,CHAR(13),CHAR(10),)","v":"  interface sip IF_SIP_24\r\n        bind context sip-gateway GW_SIP_24\r\n        early-connect \r\n        early-disconnect\r\n        route call dest-interface IF_FXO_24\r\n        remote 10.10.50.23 5060\r\n        address-translation outgoing-call request-uri user-part fix 10025 host-part to-header target-param none\r\n        address-translation incoming-call called-e164 request-uri\r\n\r\n"}]
[166,{"$f":"+IF(Data!$C$5>ROW(Generic!B167)-ROW(Generic!$B$143),\"\",\"#\")","v":"#"},{"$f":"+CONCATENATE(\"  interface sip IF_SIP_\",'Line Table'!A26,CHAR(13),CHAR(10),,\"        bind context sip-gateway GW_SIP_\",'Line Table'!A26,CHAR(13),CHAR(10),,\"        \",+'Line Table'!C26,CHAR(13),CHAR(10),,\"        early-disconnect\",CHAR(13),CHAR(10),,\"        route call dest-interface IF_FXO_\",'Line Table'!A26,CHAR(13),CHAR(10),,\"        remote \",Data!$C$24,\" \",Data!$C$25,CHAR(13),CHAR(10),,\"        address-translation outgoing-call request-uri user-part fix \",'Line Table'!B26,\" host-part to-header target-param none\",CHAR(13),CHAR(10),,\"        address-translation incoming-call called-e164 request-uri\",CHAR(13),CHAR(10),,CHAR(13),CHAR(10),)","v":"  interface sip IF_SIP_25\r\n        bind context sip-gateway GW_SIP_25\r\n        early-connect \r\n        early-disconnect\r\n        route call dest-interface IF_FXO_25\r\n        remote 10.10.50.23 5060\r\n        address-translation outgoing-call request-uri user-part fix 10026 host-part to-header target-param none\r\n        address-translation incoming-call called-e164 request-uri\r\n\r\n"}]
[167,{"$f":"+IF(Data!$C$5>ROW(Generic!B168)-ROW(Generic!$B$143),\"\",\"#\")","v":"#"},{"$f":"+CONCATENATE(\"  interface sip IF_SIP_\",'Line Table'!A27,CHAR(13),CHAR(10),,\"        bind context sip-gateway GW_SIP_\",'Line Table'!A27,CHAR(13),CHAR(10),,\"        \",+'Line Table'!C27,CHAR(13),CHAR(10),,\"        early-disconnect\",CHAR(13),CHAR(10),,\"        route call dest-interface IF_FXO_\",'Line Table'!A27,CHAR(13),CHAR(10),,\"        remote \",Data!$C$24,\" \",Data!$C$25,CHAR(13),CHAR(10),,\"        address-translation outgoing-call request-uri user-part fix \",'Line Table'!B27,\" host-part to-header target-param none\",CHAR(13),CHAR(10),,\"        address-translation incoming-call called-e164 request-uri\",CHAR(13),CHAR(10),,CHAR(13),CHAR(10),)","v":"  interface sip IF_SIP_26\r\n        bind context sip-gateway GW_SIP_26\r\n        early-connect \r\n        early-disconnect\r\n        route call dest-interface IF_FXO_26\r\n        remote 10.10.50.23 5060\r\n        address-translation outgoing-call request-uri user-part fix 10027 host-part to-header target-param none\r\n        address-translation incoming-call called-e164 request-uri\r\n\r\n"}]
[168,{"$f":"+IF(Data!$C$5>ROW(Generic!B169)-ROW(Generic!$B$143),\"\",\"#\")","v":"#"},{"$f":"+CONCATENATE(\"  interface sip IF_SIP_\",'Line Table'!A28,CHAR(13),CHAR(10),,\"        bind context sip-gateway GW_SIP_\",'Line Table'!A28,CHAR(13),CHAR(10),,\"        \",+'Line Table'!C28,CHAR(13),CHAR(10),,\"        early-disconnect\",CHAR(13),CHAR(10),,\"        route call dest-interface IF_FXO_\",'Line Table'!A28,CHAR(13),CHAR(10),,\"        remote \",Data!$C$24,\" \",Data!$C$25,CHAR(13),CHAR(10),,\"        address-translation outgoing-call request-uri user-part fix \",'Line Table'!B28,\" host-part to-header target-param none\",CHAR(13),CHAR(10),,\"        address-translation incoming-call called-e164 request-uri\",CHAR(13),CHAR(10),,CHAR(13),CHAR(10),)","v":"  interface sip IF_SIP_27\r\n        bind context sip-gateway GW_SIP_27\r\n        early-connect \r\n        early-disconnect\r\n        route call dest-interface IF_FXO_27\r\n        remote 10.10.50.23 5060\r\n        address-translation outgoing-call request-uri user-part fix 10028 host-part to-header target-param none\r\n        address-translation incoming-call called-e164 request-uri\r\n\r\n"}]
[169,{"$f":"+IF(Data!$C$5>ROW(Generic!B170)-ROW(Generic!$B$143),\"\",\"#\")","v":"#"},{"$f":"+CONCATENATE(\"  interface sip IF_SIP_\",'Line Table'!A29,CHAR(13),CHAR(10),,\"        bind context sip-gateway GW_SIP_\",'Line Table'!A29,CHAR(13),CHAR(10),,\"        \",+'Line Table'!C29,CHAR(13),CHAR(10),,\"        early-disconnect\",CHAR(13),CHAR(10),,\"        route call dest-interface IF_FXO_\",'Line Table'!A29,CHAR(13),CHAR(10),,\"        remote \",Data!$C$24,\" \",Data!$C$25,CHAR(13),CHAR(10),,\"        address-translation outgoing-call request-uri user-part fix \",'Line Table'!B29,\" host-part to-header target-param none\",CHAR(13),CHAR(10),,\"        address-translation incoming-call called-e164 request-uri\",CHAR(13),CHAR(10),,CHAR(13),CHAR(10),)","v":"  interface sip IF_SIP_28\r\n        bind context sip-gateway GW_SIP_28\r\n        early-connect \r\n        early-disconnect\r\n        route call dest-interface IF_FXO_28\r\n        remote 10.10.50.23 5060\r\n        address-translation outgoing-call request-uri user-part fix 10029 host-part to-header target-param none\r\n        address-translation incoming-call called-e164 request-uri\r\n\r\n"}]
[170,{"$f":"+IF(Data!$C$5>ROW(Generic!B171)-ROW(Generic!$B$143),\"\",\"#\")","v":"#"},{"$f":"+CONCATENATE(\"  interface sip IF_SIP_\",'Line Table'!A30,CHAR(13),CHAR(10),,\"        bind context sip-gateway GW_SIP_\",'Line Table'!A30,CHAR(13),CHAR(10),,\"        \",+'Line Table'!C30,CHAR(13),CHAR(10),,\"        early-disconnect\",CHAR(13),CHAR(10),,\"        route call dest-interface IF_FXO_\",'Line Table'!A30,CHAR(13),CHAR(10),,\"        remote \",Data!$C$24,\" \",Data!$C$25,CHAR(13),CHAR(10),,\"        address-translation outgoing-call request-uri user-part fix \",'Line Table'!B30,\" host-part to-header target-param none\",CHAR(13),CHAR(10),,\"        address-translation incoming-call called-e164 request-uri\",CHAR(13),CHAR(10),,CHAR(13),CHAR(10),)","v":"  interface sip IF_SIP_29\r\n        bind context sip-gateway GW_SIP_29\r\n        early-connect \r\n        early-disconnect\r\n        route call dest-interface IF_FXO_29\r\n        remote 10.10.50.23 5060\r\n        address-translation outgoing-call request-uri user-part fix 10030 host-part to-header target-param none\r\n        address-translation incoming-call called-e164 request-uri\r\n\r\n"}]
[171,{"$f":"+IF(Data!$C$5>ROW(Generic!B172)-ROW(Generic!$B$143),\"\",\"#\")","v":"#"},{"$f":"+CONCATENATE(\"  interface sip IF_SIP_\",'Line Table'!A31,CHAR(13),CHAR(10),,\"        bind context sip-gateway GW_SIP_\",'Line Table'!A31,CHAR(13),CHAR(10),,\"        \",+'Line Table'!C31,CHAR(13),CHAR(10),,\"        early-disconnect\",CHAR(13),CHAR(10),,\"        route call dest-interface IF_FXO_\",'Line Table'!A31,CHAR(13),CHAR(10),,\"        remote \",Data!$C$24,\" \",Data!$C$25,CHAR(13),CHAR(10),,\"        address-translation outgoing-call request-uri user-part fix \",'Line Table'!B31,\" host-part to-header target-param none\",CHAR(13),CHAR(10),,\"        address-translation incoming-call called-e164 request-uri\",CHAR(13),CHAR(10),,CHAR(13),CHAR(10),)","v":"  interface sip IF_SIP_30\r\n        bind context sip-gateway GW_SIP_30\r\n        early-connect \r\n        early-disconnect\r\n        route call dest-interface IF_FXO_30\r\n        remote 10.10.50.23 5060\r\n        address-translation outgoing-call request-uri user-part fix 10031 host-part to-header target-param none\r\n        address-translation incoming-call called-e164 request-uri\r\n\r\n"}]
[172,{"$f":"+IF(Data!$C$5>ROW(Generic!B173)-ROW(Generic!$B$143),\"\",\"#\")","v":"#"},{"$f":"+CONCATENATE(\"  interface sip IF_SIP_\",'Line Table'!A32,CHAR(13),CHAR(10),,\"        bind context sip-gateway GW_SIP_\",'Line Table'!A32,CHAR(13),CHAR(10),,\"        \",+'Line Table'!C32,CHAR(13),CHAR(10),,\"        early-disconnect\",CHAR(13),CHAR(10),,\"        route call dest-interface IF_FXO_\",'Line Table'!A32,CHAR(13),CHAR(10),,\"        remote \",Data!$C$24,\" \",Data!$C$25,CHAR(13),CHAR(10),,\"        address-translation outgoing-call request-uri user-part fix \",'Line Table'!B32,\" host-part to-header target-param none\",CHAR(13),CHAR(10),,\"        address-translation incoming-call called-e164 request-uri\",CHAR(13),CHAR(10),,CHAR(13),CHAR(10),)","v":"  interface sip IF_SIP_31\r\n        bind context sip-gateway GW_SIP_31\r\n        early-connect \r\n        early-disconnect\r\n        route call dest-interface IF_FXO_31\r\n        remote 10.10.50.23 5060\r\n        address-translation outgoing-call request-uri user-part fix 10032 host-part to-header target-param none\r\n        address-translation incoming-call called-e164 request-uri\r\n\r\n"}]
[173,{"$f":"+IF(Data!$C$5>ROW(Generic!B174)-ROW(Generic!$B$143),\"\",\"#\")","v":"#"},{"$f":"+CONCATENATE(\"  interface sip IF_SIP_\",'Line Table'!A33,CHAR(13),CHAR(10),,\"        bind context sip-gateway GW_SIP_\",'Line Table'!A33,CHAR(13),CHAR(10),,\"        \",+'Line Table'!C33,CHAR(13),CHAR(10),,\"        early-disconnect\",CHAR(13),CHAR(10),,\"        route call dest-interface IF_FXO_\",'Line Table'!A33,CHAR(13),CHAR(10),,\"        remote \",Data!$C$24,\" \",Data!$C$25,CHAR(13),CHAR(10),,\"        address-translation outgoing-call request-uri user-part fix \",'Line Table'!B33,\" host-part to-header target-param none\",CHAR(13),CHAR(10),,\"        address-translation incoming-call called-e164 request-uri\",CHAR(13),CHAR(10),,CHAR(13),CHAR(10),)","v":"  interface sip IF_SIP_32\r\n        bind context sip-gateway GW_SIP_32\r\n        early-connect \r\n        early-disconnect\r\n        route call dest-interface IF_FXO_32\r\n        remote 10.10.50.23 5060\r\n        address-translation outgoing-call request-uri user-part fix 10033 host-part to-header target-param none\r\n        address-translation incoming-call called-e164 request-uri\r\n\r\n"}]
[174]
[175,{"$f":"+IF(Data!$C$5>ROW(Generic!B176)-ROW(Generic!$B$176),\"\",\"#\")","v":""},{"$f":"+CONCATENATE(\" interface fxo IF_FXO_\",'Line Table'!A2,CHAR(13),CHAR(10),\"          route call dest-interface IF_SIP_\",'Line Table'!A2,CHAR(13),CHAR(10),\"         loop-break-duration min 200 max 1000\",CHAR(13),CHAR(10),\"          \",'Line Table'!D2,CHAR(13),CHAR(10),\"         mute-dialing\",CHAR(13),CHAR(10),\"           disconnect-signal loop-break\",CHAR(13),CHAR(10),\"         disconnect-signal busy-tone\",CHAR(13),CHAR(10),\"         dial-after timeout 1\")","v":" interface fxo IF_FXO_1\r\n          route call dest-interface IF_SIP_1\r\n         loop-break-duration min 200 max 1000\r\n          ring-number on-caller-id \r\n         mute-dialing\r\n           disconnect-signal loop-break\r\n         disconnect-signal busy-tone\r\n         dial-after timeout 1"}]
[176,{"$f":"+IF(Data!$C$5>ROW(Generic!B177)-ROW(Generic!$B$176),\"\",\"#\")","v":""},{"$f":"+CONCATENATE(\" interface fxo IF_FXO_\",'Line Table'!A3,CHAR(13),CHAR(10),\"          route call dest-interface IF_SIP_\",'Line Table'!A3,CHAR(13),CHAR(10),\"         loop-break-duration min 200 max 1000\",CHAR(13),CHAR(10),\"          \",'Line Table'!D3,CHAR(13),CHAR(10),\"         mute-dialing\",CHAR(13),CHAR(10),\"           disconnect-signal loop-break\",CHAR(13),CHAR(10),\"         disconnect-signal busy-tone\",CHAR(13),CHAR(10),\"         dial-after timeout 1\")","v":" interface fxo IF_FXO_2\r\n          route call dest-interface IF_SIP_2\r\n         loop-break-duration min 200 max 1000\r\n          ring-number on-caller-id \r\n         mute-dialing\r\n           disconnect-signal loop-break\r\n         disconnect-signal busy-tone\r\n         dial-after timeout 1"}]
[177,{"$f":"+IF(Data!$C$5>ROW(Generic!B178)-ROW(Generic!$B$176),\"\",\"#\")","v":""},{"$f":"+CONCATENATE(\" interface fxo IF_FXO_\",'Line Table'!A4,CHAR(13),CHAR(10),\"          route call dest-interface IF_SIP_\",'Line Table'!A4,CHAR(13),CHAR(10),\"         loop-break-duration min 200 max 1000\",CHAR(13),CHAR(10),\"          \",'Line Table'!D4,CHAR(13),CHAR(10),\"         mute-dialing\",CHAR(13),CHAR(10),\"           disconnect-signal loop-break\",CHAR(13),CHAR(10),\"         disconnect-signal busy-tone\",CHAR(13),CHAR(10),\"         dial-after timeout 1\")","v":" interface fxo IF_FXO_3\r\n          route call dest-interface IF_SIP_3\r\n         loop-break-duration min 200 max 1000\r\n          ring-number on-caller-id \r\n         mute-dialing\r\n           disconnect-signal loop-break\r\n         disconnect-signal busy-tone\r\n         dial-after timeout 1"}]
[178,{"$f":"+IF(Data!$C$5>ROW(Generic!B179)-ROW(Generic!$B$176),\"\",\"#\")","v":""},{"$f":"+CONCATENATE(\" interface fxo IF_FXO_\",'Line Table'!A5,CHAR(13),CHAR(10),\"          route call dest-interface IF_SIP_\",'Line Table'!A5,CHAR(13),CHAR(10),\"         loop-break-duration min 200 max 1000\",CHAR(13),CHAR(10),\"          \",'Line Table'!D5,CHAR(13),CHAR(10),\"         mute-dialing\",CHAR(13),CHAR(10),\"           disconnect-signal loop-break\",CHAR(13),CHAR(10),\"         disconnect-signal busy-tone\",CHAR(13),CHAR(10),\"         dial-after timeout 1\")","v":" interface fxo IF_FXO_4\r\n          route call dest-interface IF_SIP_4\r\n         loop-break-duration min 200 max 1000\r\n          ring-number on-caller-id \r\n         mute-dialing\r\n           disconnect-signal loop-break\r\n         disconnect-signal busy-tone\r\n         dial-after timeout 1"}]
[179,{"$f":"+IF(Data!$C$5>ROW(Generic!B180)-ROW(Generic!$B$176),\"\",\"#\")","v":""},{"$f":"+CONCATENATE(\" interface fxo IF_FXO_\",'Line Table'!A6,CHAR(13),CHAR(10),\"          route call dest-interface IF_SIP_\",'Line Table'!A6,CHAR(13),CHAR(10),\"         loop-break-duration min 200 max 1000\",CHAR(13),CHAR(10),\"          \",'Line Table'!D6,CHAR(13),CHAR(10),\"         mute-dialing\",CHAR(13),CHAR(10),\"           disconnect-signal loop-break\",CHAR(13),CHAR(10),\"         disconnect-signal busy-tone\",CHAR(13),CHAR(10),\"         dial-after timeout 1\")","v":" interface fxo IF_FXO_5\r\n          route call dest-interface IF_SIP_5\r\n         loop-break-duration min 200 max 1000\r\n          ring-number on-caller-id \r\n         mute-dialing\r\n           disconnect-signal loop-break\r\n         disconnect-signal busy-tone\r\n         dial-after timeout 1"}]
[180,{"$f":"+IF(Data!$C$5>ROW(Generic!B181)-ROW(Generic!$B$176),\"\",\"#\")","v":""},{"$f":"+CONCATENATE(\" interface fxo IF_FXO_\",'Line Table'!A7,CHAR(13),CHAR(10),\"          route call dest-interface IF_SIP_\",'Line Table'!A7,CHAR(13),CHAR(10),\"         loop-break-duration min 200 max 1000\",CHAR(13),CHAR(10),\"          \",'Line Table'!D7,CHAR(13),CHAR(10),\"         mute-dialing\",CHAR(13),CHAR(10),\"           disconnect-signal loop-break\",CHAR(13),CHAR(10),\"         disconnect-signal busy-tone\",CHAR(13),CHAR(10),\"         dial-after timeout 1\")","v":" interface fxo IF_FXO_6\r\n          route call dest-interface IF_SIP_6\r\n         loop-break-duration min 200 max 1000\r\n          ring-number on-caller-id \r\n         mute-dialing\r\n           disconnect-signal loop-break\r\n         disconnect-signal busy-tone\r\n         dial-after timeout 1"}]
[181,{"$f":"+IF(Data!$C$5>ROW(Generic!B182)-ROW(Generic!$B$176),\"\",\"#\")","v":""},{"$f":"+CONCATENATE(\" interface fxo IF_FXO_\",'Line Table'!A8,CHAR(13),CHAR(10),\"          route call dest-interface IF_SIP_\",'Line Table'!A8,CHAR(13),CHAR(10),\"         loop-break-duration min 200 max 1000\",CHAR(13),CHAR(10),\"          \",'Line Table'!D8,CHAR(13),CHAR(10),\"         mute-dialing\",CHAR(13),CHAR(10),\"           disconnect-signal loop-break\",CHAR(13),CHAR(10),\"         disconnect-signal busy-tone\",CHAR(13),CHAR(10),\"         dial-after timeout 1\")","v":" interface fxo IF_FXO_7\r\n          route call dest-interface IF_SIP_7\r\n         loop-break-duration min 200 max 1000\r\n          ring-number on-caller-id \r\n         mute-dialing\r\n           disconnect-signal loop-break\r\n         disconnect-signal busy-tone\r\n         dial-after timeout 1"}]
[182,{"$f":"+IF(Data!$C$5>ROW(Generic!B183)-ROW(Generic!$B$176),\"\",\"#\")","v":""},{"$f":"+CONCATENATE(\" interface fxo IF_FXO_\",'Line Table'!A9,CHAR(13),CHAR(10),\"          route call dest-interface IF_SIP_\",'Line Table'!A9,CHAR(13),CHAR(10),\"         loop-break-duration min 200 max 1000\",CHAR(13),CHAR(10),\"          \",'Line Table'!D9,CHAR(13),CHAR(10),\"         mute-dialing\",CHAR(13),CHAR(10),\"           disconnect-signal loop-break\",CHAR(13),CHAR(10),\"         disconnect-signal busy-tone\",CHAR(13),CHAR(10),\"         dial-after timeout 1\")","v":" interface fxo IF_FXO_8\r\n          route call dest-interface IF_SIP_8\r\n         loop-break-duration min 200 max 1000\r\n          ring-number on-caller-id \r\n         mute-dialing\r\n           disconnect-signal loop-break\r\n         disconnect-signal busy-tone\r\n         dial-after timeout 1"}]
[183,{"$f":"+IF(Data!$C$5>ROW(Generic!B184)-ROW(Generic!$B$176),\"\",\"#\")","v":""},{"$f":"+CONCATENATE(\" interface fxo IF_FXO_\",'Line Table'!A10,CHAR(13),CHAR(10),\"          route call dest-interface IF_SIP_\",'Line Table'!A10,CHAR(13),CHAR(10),\"         loop-break-duration min 200 max 1000\",CHAR(13),CHAR(10),\"          \",'Line Table'!D10,CHAR(13),CHAR(10),\"         mute-dialing\",CHAR(13),CHAR(10),\"           disconnect-signal loop-break\",CHAR(13),CHAR(10),\"         disconnect-signal busy-tone\",CHAR(13),CHAR(10),\"         dial-after timeout 1\")","v":" interface fxo IF_FXO_9\r\n          route call dest-interface IF_SIP_9\r\n         loop-break-duration min 200 max 1000\r\n          ring-number on-caller-id \r\n         mute-dialing\r\n           disconnect-signal loop-break\r\n         disconnect-signal busy-tone\r\n         dial-after timeout 1"}]
[184,{"$f":"+IF(Data!$C$5>ROW(Generic!B185)-ROW(Generic!$B$176),\"\",\"#\")","v":""},{"$f":"+CONCATENATE(\" interface fxo IF_FXO_\",'Line Table'!A11,CHAR(13),CHAR(10),\"          route call dest-interface IF_SIP_\",'Line Table'!A11,CHAR(13),CHAR(10),\"         loop-break-duration min 200 max 1000\",CHAR(13),CHAR(10),\"          \",'Line Table'!D11,CHAR(13),CHAR(10),\"         mute-dialing\",CHAR(13),CHAR(10),\"           disconnect-signal loop-break\",CHAR(13),CHAR(10),\"         disconnect-signal busy-tone\",CHAR(13),CHAR(10),\"         dial-after timeout 1\")","v":" interface fxo IF_FXO_10\r\n          route call dest-interface IF_SIP_10\r\n         loop-break-duration min 200 max 1000\r\n          ring-number on-caller-id \r\n         mute-dialing\r\n           disconnect-signal loop-break\r\n         disconnect-signal busy-tone\r\n         dial-after timeout 1"}]
[185,{"$f":"+IF(Data!$C$5>ROW(Generic!B186)-ROW(Generic!$B$176),\"\",\"#\")","v":""},{"$f":"+CONCATENATE(\" interface fxo IF_FXO_\",'Line Table'!A12,CHAR(13),CHAR(10),\"          route call dest-interface IF_SIP_\",'Line Table'!A12,CHAR(13),CHAR(10),\"         loop-break-duration min 200 max 1000\",CHAR(13),CHAR(10),\"          \",'Line Table'!D12,CHAR(13),CHAR(10),\"         mute-dialing\",CHAR(13),CHAR(10),\"           disconnect-signal loop-break\",CHAR(13),CHAR(10),\"         disconnect-signal busy-tone\",CHAR(13),CHAR(10),\"         dial-after timeout 1\")","v":" interface fxo IF_FXO_11\r\n          route call dest-interface IF_SIP_11\r\n         loop-break-duration min 200 max 1000\r\n          ring-number on-caller-id \r\n         mute-dialing\r\n           disconnect-signal loop-break\r\n         disconnect-signal busy-tone\r\n         dial-after timeout 1"}]
[186,{"$f":"+IF(Data!$C$5>ROW(Generic!B187)-ROW(Generic!$B$176),\"\",\"#\")","v":""},{"$f":"+CONCATENATE(\" interface fxo IF_FXO_\",'Line Table'!A13,CHAR(13),CHAR(10),\"          route call dest-interface IF_SIP_\",'Line Table'!A13,CHAR(13),CHAR(10),\"         loop-break-duration min 200 max 1000\",CHAR(13),CHAR(10),\"          \",'Line Table'!D13,CHAR(13),CHAR(10),\"         mute-dialing\",CHAR(13),CHAR(10),\"           disconnect-signal loop-break\",CHAR(13),CHAR(10),\"         disconnect-signal busy-tone\",CHAR(13),CHAR(10),\"         dial-after timeout 1\")","v":" interface fxo IF_FXO_12\r\n          route call dest-interface IF_SIP_12\r\n         loop-break-duration min 200 max 1000\r\n          ring-number on-caller-id \r\n         mute-dialing\r\n           disconnect-signal loop-break\r\n         disconnect-signal busy-tone\r\n         dial-after timeout 1"}]
[187,{"$f":"+IF(Data!$C$5>ROW(Generic!B188)-ROW(Generic!$B$176),\"\",\"#\")","v":"#"},{"$f":"+CONCATENATE(\" interface fxo IF_FXO_\",'Line Table'!A14,CHAR(13),CHAR(10),\"          route call dest-interface IF_SIP_\",'Line Table'!A14,CHAR(13),CHAR(10),\"         loop-break-duration min 200 max 1000\",CHAR(13),CHAR(10),\"          \",'Line Table'!D14,CHAR(13),CHAR(10),\"         mute-dialing\",CHAR(13),CHAR(10),\"           disconnect-signal loop-break\",CHAR(13),CHAR(10),\"         disconnect-signal busy-tone\",CHAR(13),CHAR(10),\"         dial-after timeout 1\")","v":" interface fxo IF_FXO_13\r\n          route call dest-interface IF_SIP_13\r\n         loop-break-duration min 200 max 1000\r\n          ring-number on-caller-id \r\n         mute-dialing\r\n           disconnect-signal loop-break\r\n         disconnect-signal busy-tone\r\n         dial-after timeout 1"}]
[188,{"$f":"+IF(Data!$C$5>ROW(Generic!B189)-ROW(Generic!$B$176),\"\",\"#\")","v":"#"},{"$f":"+CONCATENATE(\" interface fxo IF_FXO_\",'Line Table'!A15,CHAR(13),CHAR(10),\"          route call dest-interface IF_SIP_\",'Line Table'!A15,CHAR(13),CHAR(10),\"         loop-break-duration min 200 max 1000\",CHAR(13),CHAR(10),\"          \",'Line Table'!D15,CHAR(13),CHAR(10),\"         mute-dialing\",CHAR(13),CHAR(10),\"           disconnect-signal loop-break\",CHAR(13),CHAR(10),\"         disconnect-signal busy-tone\",CHAR(13),CHAR(10),\"         dial-after timeout 1\")","v":" interface fxo IF_FXO_14\r\n          route call dest-interface IF_SIP_14\r\n         loop-break-duration min 200 max 1000\r\n          ring-number on-caller-id \r\n         mute-dialing\r\n           disconnect-signal loop-break\r\n         disconnect-signal busy-tone\r\n         dial-after timeout 1"}]
[189,{"$f":"+IF(Data!$C$5>ROW(Generic!B190)-ROW(Generic!$B$176),\"\",\"#\")","v":"#"},{"$f":"+CONCATENATE(\" interface fxo IF_FXO_\",'Line Table'!A16,CHAR(13),CHAR(10),\"          route call dest-interface IF_SIP_\",'Line Table'!A16,CHAR(13),CHAR(10),\"         loop-break-duration min 200 max 1000\",CHAR(13),CHAR(10),\"          \",'Line Table'!D16,CHAR(13),CHAR(10),\"         mute-dialing\",CHAR(13),CHAR(10),\"           disconnect-signal loop-break\",CHAR(13),CHAR(10),\"         disconnect-signal busy-tone\",CHAR(13),CHAR(10),\"         dial-after timeout 1\")","v":" interface fxo IF_FXO_15\r\n          route call dest-interface IF_SIP_15\r\n         loop-break-duration min 200 max 1000\r\n          ring-number on-caller-id \r\n         mute-dialing\r\n           disconnect-signal loop-break\r\n         disconnect-signal busy-tone\r\n         dial-after timeout 1"}]
[190,{"$f":"+IF(Data!$C$5>ROW(Generic!B191)-ROW(Generic!$B$176),\"\",\"#\")","v":"#"},{"$f":"+CONCATENATE(\" interface fxo IF_FXO_\",'Line Table'!A17,CHAR(13),CHAR(10),\"          route call dest-interface IF_SIP_\",'Line Table'!A17,CHAR(13),CHAR(10),\"         loop-break-duration min 200 max 1000\",CHAR(13),CHAR(10),\"          \",'Line Table'!D17,CHAR(13),CHAR(10),\"         mute-dialing\",CHAR(13),CHAR(10),\"           disconnect-signal loop-break\",CHAR(13),CHAR(10),\"         disconnect-signal busy-tone\",CHAR(13),CHAR(10),\"         dial-after timeout 1\")","v":" interface fxo IF_FXO_16\r\n          route call dest-interface IF_SIP_16\r\n         loop-break-duration min 200 max 1000\r\n          ring-number on-caller-id \r\n         mute-dialing\r\n           disconnect-signal loop-break\r\n         disconnect-signal busy-tone\r\n         dial-after timeout 1"}]
[191,{"$f":"+IF(Data!$C$5>ROW(Generic!B192)-ROW(Generic!$B$176),\"\",\"#\")","v":"#"},{"$f":"+CONCATENATE(\" interface fxo IF_FXO_\",'Line Table'!A18,CHAR(13),CHAR(10),\"          route call dest-interface IF_SIP_\",'Line Table'!A18,CHAR(13),CHAR(10),\"         loop-break-duration min 200 max 1000\",CHAR(13),CHAR(10),\"          \",'Line Table'!D18,CHAR(13),CHAR(10),\"         mute-dialing\",CHAR(13),CHAR(10),\"           disconnect-signal loop-break\",CHAR(13),CHAR(10),\"         disconnect-signal busy-tone\",CHAR(13),CHAR(10),\"         dial-after timeout 1\")","v":" interface fxo IF_FXO_17\r\n          route call dest-interface IF_SIP_17\r\n         loop-break-duration min 200 max 1000\r\n          ring-number on-caller-id \r\n         mute-dialing\r\n           disconnect-signal loop-break\r\n         disconnect-signal busy-tone\r\n         dial-after timeout 1"}]
[192,{"$f":"+IF(Data!$C$5>ROW(Generic!B193)-ROW(Generic!$B$176),\"\",\"#\")","v":"#"},{"$f":"+CONCATENATE(\" interface fxo IF_FXO_\",'Line Table'!A19,CHAR(13),CHAR(10),\"          route call dest-interface IF_SIP_\",'Line Table'!A19,CHAR(13),CHAR(10),\"         loop-break-duration min 200 max 1000\",CHAR(13),CHAR(10),\"          \",'Line Table'!D19,CHAR(13),CHAR(10),\"         mute-dialing\",CHAR(13),CHAR(10),\"           disconnect-signal loop-break\",CHAR(13),CHAR(10),\"         disconnect-signal busy-tone\",CHAR(13),CHAR(10),\"         dial-after timeout 1\")","v":" interface fxo IF_FXO_18\r\n          route call dest-interface IF_SIP_18\r\n         loop-break-duration min 200 max 1000\r\n          ring-number on-caller-id \r\n         mute-dialing\r\n           disconnect-signal loop-break\r\n         disconnect-signal busy-tone\r\n         dial-after timeout 1"}]
[193,{"$f":"+IF(Data!$C$5>ROW(Generic!B194)-ROW(Generic!$B$176),\"\",\"#\")","v":"#"},{"$f":"+CONCATENATE(\" interface fxo IF_FXO_\",'Line Table'!A20,CHAR(13),CHAR(10),\"          route call dest-interface IF_SIP_\",'Line Table'!A20,CHAR(13),CHAR(10),\"         loop-break-duration min 200 max 1000\",CHAR(13),CHAR(10),\"          \",'Line Table'!D20,CHAR(13),CHAR(10),\"         mute-dialing\",CHAR(13),CHAR(10),\"           disconnect-signal loop-break\",CHAR(13),CHAR(10),\"         disconnect-signal busy-tone\",CHAR(13),CHAR(10),\"         dial-after timeout 1\")","v":" interface fxo IF_FXO_19\r\n          route call dest-interface IF_SIP_19\r\n         loop-break-duration min 200 max 1000\r\n          ring-number on-caller-id \r\n         mute-dialing\r\n           disconnect-signal loop-break\r\n         disconnect-signal busy-tone\r\n         dial-after timeout 1"}]
[194,{"$f":"+IF(Data!$C$5>ROW(Generic!B195)-ROW(Generic!$B$176),\"\",\"#\")","v":"#"},{"$f":"+CONCATENATE(\" interface fxo IF_FXO_\",'Line Table'!A21,CHAR(13),CHAR(10),\"          route call dest-interface IF_SIP_\",'Line Table'!A21,CHAR(13),CHAR(10),\"         loop-break-duration min 200 max 1000\",CHAR(13),CHAR(10),\"          \",'Line Table'!D21,CHAR(13),CHAR(10),\"         mute-dialing\",CHAR(13),CHAR(10),\"           disconnect-signal loop-break\",CHAR(13),CHAR(10),\"         disconnect-signal busy-tone\",CHAR(13),CHAR(10),\"         dial-after timeout 1\")","v":" interface fxo IF_FXO_20\r\n          route call dest-interface IF_SIP_20\r\n         loop-break-duration min 200 max 1000\r\n          ring-number on-caller-id \r\n         mute-dialing\r\n           disconnect-signal loop-break\r\n         disconnect-signal busy-tone\r\n         dial-after timeout 1"}]
[195,{"$f":"+IF(Data!$C$5>ROW(Generic!B196)-ROW(Generic!$B$176),\"\",\"#\")","v":"#"},{"$f":"+CONCATENATE(\" interface fxo IF_FXO_\",'Line Table'!A22,CHAR(13),CHAR(10),\"          route call dest-interface IF_SIP_\",'Line Table'!A22,CHAR(13),CHAR(10),\"         loop-break-duration min 200 max 1000\",CHAR(13),CHAR(10),\"          \",'Line Table'!D22,CHAR(13),CHAR(10),\"         mute-dialing\",CHAR(13),CHAR(10),\"           disconnect-signal loop-break\",CHAR(13),CHAR(10),\"         disconnect-signal busy-tone\",CHAR(13),CHAR(10),\"         dial-after timeout 1\")","v":" interface fxo IF_FXO_21\r\n          route call dest-interface IF_SIP_21\r\n         loop-break-duration min 200 max 1000\r\n          ring-number on-caller-id \r\n         mute-dialing\r\n           disconnect-signal loop-break\r\n         disconnect-signal busy-tone\r\n         dial-after timeout 1"}]
[196,{"$f":"+IF(Data!$C$5>ROW(Generic!B197)-ROW(Generic!$B$176),\"\",\"#\")","v":"#"},{"$f":"+CONCATENATE(\" interface fxo IF_FXO_\",'Line Table'!A23,CHAR(13),CHAR(10),\"          route call dest-interface IF_SIP_\",'Line Table'!A23,CHAR(13),CHAR(10),\"         loop-break-duration min 200 max 1000\",CHAR(13),CHAR(10),\"          \",'Line Table'!D23,CHAR(13),CHAR(10),\"         mute-dialing\",CHAR(13),CHAR(10),\"           disconnect-signal loop-break\",CHAR(13),CHAR(10),\"         disconnect-signal busy-tone\",CHAR(13),CHAR(10),\"         dial-after timeout 1\")","v":" interface fxo IF_FXO_22\r\n          route call dest-interface IF_SIP_22\r\n         loop-break-duration min 200 max 1000\r\n          ring-number on-caller-id \r\n         mute-dialing\r\n           disconnect-signal loop-break\r\n         disconnect-signal busy-tone\r\n         dial-after timeout 1"}]
[197,{"$f":"+IF(Data!$C$5>ROW(Generic!B198)-ROW(Generic!$B$176),\"\",\"#\")","v":"#"},{"$f":"+CONCATENATE(\" interface fxo IF_FXO_\",'Line Table'!A24,CHAR(13),CHAR(10),\"          route call dest-interface IF_SIP_\",'Line Table'!A24,CHAR(13),CHAR(10),\"         loop-break-duration min 200 max 1000\",CHAR(13),CHAR(10),\"          \",'Line Table'!D24,CHAR(13),CHAR(10),\"         mute-dialing\",CHAR(13),CHAR(10),\"           disconnect-signal loop-break\",CHAR(13),CHAR(10),\"         disconnect-signal busy-tone\",CHAR(13),CHAR(10),\"         dial-after timeout 1\")","v":" interface fxo IF_FXO_23\r\n          route call dest-interface IF_SIP_23\r\n         loop-break-duration min 200 max 1000\r\n          ring-number on-caller-id \r\n         mute-dialing\r\n           disconnect-signal loop-break\r\n         disconnect-signal busy-tone\r\n         dial-after timeout 1"}]
[198,{"$f":"+IF(Data!$C$5>ROW(Generic!B199)-ROW(Generic!$B$176),\"\",\"#\")","v":"#"},{"$f":"+CONCATENATE(\" interface fxo IF_FXO_\",'Line Table'!A25,CHAR(13),CHAR(10),\"          route call dest-interface IF_SIP_\",'Line Table'!A25,CHAR(13),CHAR(10),\"         loop-break-duration min 200 max 1000\",CHAR(13),CHAR(10),\"          \",'Line Table'!D25,CHAR(13),CHAR(10),\"         mute-dialing\",CHAR(13),CHAR(10),\"           disconnect-signal loop-break\",CHAR(13),CHAR(10),\"         disconnect-signal busy-tone\",CHAR(13),CHAR(10),\"         dial-after timeout 1\")","v":" interface fxo IF_FXO_24\r\n          route call dest-interface IF_SIP_24\r\n         loop-break-duration min 200 max 1000\r\n          ring-number on-caller-id \r\n         mute-dialing\r\n           disconnect-signal loop-break\r\n         disconnect-signal busy-tone\r\n         dial-after timeout 1"}]
[199,{"$f":"+IF(Data!$C$5>ROW(Generic!B200)-ROW(Generic!$B$176),\"\",\"#\")","v":"#"},{"$f":"+CONCATENATE(\" interface fxo IF_FXO_\",'Line Table'!A26,CHAR(13),CHAR(10),\"          route call dest-interface IF_SIP_\",'Line Table'!A26,CHAR(13),CHAR(10),\"         loop-break-duration min 200 max 1000\",CHAR(13),CHAR(10),\"          \",'Line Table'!D26,CHAR(13),CHAR(10),\"         mute-dialing\",CHAR(13),CHAR(10),\"           disconnect-signal loop-break\",CHAR(13),CHAR(10),\"         disconnect-signal busy-tone\",CHAR(13),CHAR(10),\"         dial-after timeout 1\")","v":" interface fxo IF_FXO_25\r\n          route call dest-interface IF_SIP_25\r\n         loop-break-duration min 200 max 1000\r\n          ring-number on-caller-id \r\n         mute-dialing\r\n           disconnect-signal loop-break\r\n         disconnect-signal busy-tone\r\n         dial-after timeout 1"}]
[200,{"$f":"+IF(Data!$C$5>ROW(Generic!B201)-ROW(Generic!$B$176),\"\",\"#\")","v":"#"},{"$f":"+CONCATENATE(\" interface fxo IF_FXO_\",'Line Table'!A27,CHAR(13),CHAR(10),\"          route call dest-interface IF_SIP_\",'Line Table'!A27,CHAR(13),CHAR(10),\"         loop-break-duration min 200 max 1000\",CHAR(13),CHAR(10),\"          \",'Line Table'!D27,CHAR(13),CHAR(10),\"         mute-dialing\",CHAR(13),CHAR(10),\"           disconnect-signal loop-break\",CHAR(13),CHAR(10),\"         disconnect-signal busy-tone\",CHAR(13),CHAR(10),\"         dial-after timeout 1\")","v":" interface fxo IF_FXO_26\r\n          route call dest-interface IF_SIP_26\r\n         loop-break-duration min 200 max 1000\r\n          ring-number on-caller-id \r\n         mute-dialing\r\n           disconnect-signal loop-break\r\n         disconnect-signal busy-tone\r\n         dial-after timeout 1"}]
[201,{"$f":"+IF(Data!$C$5>ROW(Generic!B202)-ROW(Generic!$B$176),\"\",\"#\")","v":"#"},{"$f":"+CONCATENATE(\" interface fxo IF_FXO_\",'Line Table'!A28,CHAR(13),CHAR(10),\"          route call dest-interface IF_SIP_\",'Line Table'!A28,CHAR(13),CHAR(10),\"         loop-break-duration min 200 max 1000\",CHAR(13),CHAR(10),\"          \",'Line Table'!D28,CHAR(13),CHAR(10),\"         mute-dialing\",CHAR(13),CHAR(10),\"           disconnect-signal loop-break\",CHAR(13),CHAR(10),\"         disconnect-signal busy-tone\",CHAR(13),CHAR(10),\"         dial-after timeout 1\")","v":" interface fxo IF_FXO_27\r\n          route call dest-interface IF_SIP_27\r\n         loop-break-duration min 200 max 1000\r\n          ring-number on-caller-id \r\n         mute-dialing\r\n           disconnect-signal loop-break\r\n         disconnect-signal busy-tone\r\n         dial-after timeout 1"}]
[202,{"$f":"+IF(Data!$C$5>ROW(Generic!B203)-ROW(Generic!$B$176),\"\",\"#\")","v":"#"},{"$f":"+CONCATENATE(\" interface fxo IF_FXO_\",'Line Table'!A29,CHAR(13),CHAR(10),\"          route call dest-interface IF_SIP_\",'Line Table'!A29,CHAR(13),CHAR(10),\"         loop-break-duration min 200 max 1000\",CHAR(13),CHAR(10),\"          \",'Line Table'!D29,CHAR(13),CHAR(10),\"         mute-dialing\",CHAR(13),CHAR(10),\"           disconnect-signal loop-break\",CHAR(13),CHAR(10),\"         disconnect-signal busy-tone\",CHAR(13),CHAR(10),\"         dial-after timeout 1\")","v":" interface fxo IF_FXO_28\r\n          route call dest-interface IF_SIP_28\r\n         loop-break-duration min 200 max 1000\r\n          ring-number on-caller-id \r\n         mute-dialing\r\n           disconnect-signal loop-break\r\n         disconnect-signal busy-tone\r\n         dial-after timeout 1"}]
[203,{"$f":"+IF(Data!$C$5>ROW(Generic!B204)-ROW(Generic!$B$176),\"\",\"#\")","v":"#"},{"$f":"+CONCATENATE(\" interface fxo IF_FXO_\",'Line Table'!A30,CHAR(13),CHAR(10),\"          route call dest-interface IF_SIP_\",'Line Table'!A30,CHAR(13),CHAR(10),\"         loop-break-duration min 200 max 1000\",CHAR(13),CHAR(10),\"          \",'Line Table'!D30,CHAR(13),CHAR(10),\"         mute-dialing\",CHAR(13),CHAR(10),\"           disconnect-signal loop-break\",CHAR(13),CHAR(10),\"         disconnect-signal busy-tone\",CHAR(13),CHAR(10),\"         dial-after timeout 1\")","v":" interface fxo IF_FXO_29\r\n          route call dest-interface IF_SIP_29\r\n         loop-break-duration min 200 max 1000\r\n          ring-number on-caller-id \r\n         mute-dialing\r\n           disconnect-signal loop-break\r\n         disconnect-signal busy-tone\r\n         dial-after timeout 1"}]
[204,{"$f":"+IF(Data!$C$5>ROW(Generic!B205)-ROW(Generic!$B$176),\"\",\"#\")","v":"#"},{"$f":"+CONCATENATE(\" interface fxo IF_FXO_\",'Line Table'!A31,CHAR(13),CHAR(10),\"          route call dest-interface IF_SIP_\",'Line Table'!A31,CHAR(13),CHAR(10),\"         loop-break-duration min 200 max 1000\",CHAR(13),CHAR(10),\"          \",'Line Table'!D31,CHAR(13),CHAR(10),\"         mute-dialing\",CHAR(13),CHAR(10),\"           disconnect-signal loop-break\",CHAR(13),CHAR(10),\"         disconnect-signal busy-tone\",CHAR(13),CHAR(10),\"         dial-after timeout 1\")","v":" interface fxo IF_FXO_30\r\n          route call dest-interface IF_SIP_30\r\n         loop-break-duration min 200 max 1000\r\n          ring-number on-caller-id \r\n         mute-dialing\r\n           disconnect-signal loop-break\r\n         disconnect-signal busy-tone\r\n         dial-after timeout 1"}]
[205,{"$f":"+IF(Data!$C$5>ROW(Generic!B206)-ROW(Generic!$B$176),\"\",\"#\")","v":"#"},{"$f":"+CONCATENATE(\" interface fxo IF_FXO_\",'Line Table'!A32,CHAR(13),CHAR(10),\"          route call dest-interface IF_SIP_\",'Line Table'!A32,CHAR(13),CHAR(10),\"         loop-break-duration min 200 max 1000\",CHAR(13),CHAR(10),\"          \",'Line Table'!D32,CHAR(13),CHAR(10),\"         mute-dialing\",CHAR(13),CHAR(10),\"           disconnect-signal loop-break\",CHAR(13),CHAR(10),\"         disconnect-signal busy-tone\",CHAR(13),CHAR(10),\"         dial-after timeout 1\")","v":" interface fxo IF_FXO_31\r\n          route call dest-interface IF_SIP_31\r\n         loop-break-duration min 200 max 1000\r\n          ring-number on-caller-id \r\n         mute-dialing\r\n           disconnect-signal loop-break\r\n         disconnect-signal busy-tone\r\n         dial-after timeout 1"}]
[206,{"$f":"+IF(Data!$C$5>ROW(Generic!B207)-ROW(Generic!$B$176),\"\",\"#\")","v":"#"},{"$f":"+CONCATENATE(\" interface fxo IF_FXO_\",'Line Table'!A33,CHAR(13),CHAR(10),\"          route call dest-interface IF_SIP_\",'Line Table'!A33,CHAR(13),CHAR(10),\"         loop-break-duration min 200 max 1000\",CHAR(13),CHAR(10),\"          \",'Line Table'!D33,CHAR(13),CHAR(10),\"         mute-dialing\",CHAR(13),CHAR(10),\"           disconnect-signal loop-break\",CHAR(13),CHAR(10),\"         disconnect-signal busy-tone\",CHAR(13),CHAR(10),\"         dial-after timeout 1\")","v":" interface fxo IF_FXO_32\r\n          route call dest-interface IF_SIP_32\r\n         loop-break-duration min 200 max 1000\r\n          ring-number on-caller-id \r\n         mute-dialing\r\n           disconnect-signal loop-break\r\n         disconnect-signal busy-tone\r\n         dial-after timeout 1"}]
[207]
[208,{"$f":"+IF(Data!$C$6>0,\" \",\"#\")","v":"#"},"interface sip IF_SIP_PBX"]
[209,{"$f":"+IF(Data!$C$6>0,\" \",\"#\")","v":"#"},"        bind context sip-gateway GW_SIP_ALL_EXTENSIONS"]
[210,{"$f":"+IF(Data!$C$6>0,\" \",\"#\")","v":"#"},"        route call dest-table RT_TO_FXS"]
[211,{"$f":"+IF(Data!$C$6>0,\" \",\"#\")","v":"#"},{"$f":"+CONCATENATE(\"              remote \",Data!C24,\" \",Data!C25)","v":"              remote 10.10.50.23 5060"}]
[212,{"$f":"+IF(Data!$C$6>0,\" \",\"#\")","v":"#"},{"$f":"+IF(OR(AND(UPPER(Data!C15)=\"DHCP\",Data!$C$8=\"LAN\"),AND(UPPER(Data!C19)=\"DHCP\",Data!$C$8=\"WAN\")),\" \",+CONCATENATE(\"              local \",Data!C15))","v":"              local 10.10.1.10"},"Agregar Early connect / Disconnect"]
[213]
[214,{"$f":"+IF(Data!$C$6>ROW(Generic!B215)-ROW(Generic!$B$215),\"\",\"#\")","v":"#"},{"$f":"+CONCATENATE(\"    interface fxs IF_FXS_\",'Extension Table'!C2,CHAR(13),CHAR(10),IF(Data!$C$42=\"(none)\",\"\",CONCATENATE(\"        caller-id-presentation \",Data!$C$42)),CHAR(13),CHAR(10),\"             route call dest-table RT_DIGITCOLLECTION\",CHAR(13),CHAR(10),\"             message-waiting-indication stutter-dial-tone\",CHAR(13),CHAR(10),\"             message-waiting-indication frequency-shift-keying\",CHAR(13),CHAR(10),\"             call-transfer\",CHAR(13),CHAR(10),\"             subscriber-number \",'Extension Table'!A2)","v":"    interface fxs IF_FXS_1\r\n        caller-id-presentation pre-ring\r\n             route call dest-table RT_DIGITCOLLECTION\r\n             message-waiting-indication stutter-dial-tone\r\n             message-waiting-indication frequency-shift-keying\r\n             call-transfer\r\n             subscriber-number 101"}]
[215,{"$f":"+IF(Data!$C$6>ROW(Generic!B216)-ROW(Generic!$B$215),\"\",\"#\")","v":"#"},{"$f":"+CONCATENATE(\"    interface fxs IF_FXS_\",'Extension Table'!C3,CHAR(13),CHAR(10),IF(Data!$C$42=\"(none)\",\"\",CONCATENATE(\"        caller-id-presentation \",Data!$C$42)),CHAR(13),CHAR(10),\"             route call dest-table RT_DIGITCOLLECTION\",CHAR(13),CHAR(10),\"             message-waiting-indication stutter-dial-tone\",CHAR(13),CHAR(10),\"             message-waiting-indication frequency-shift-keying\",CHAR(13),CHAR(10),\"             call-transfer\",CHAR(13),CHAR(10),\"             subscriber-number \",'Extension Table'!A3)","v":"    interface fxs IF_FXS_2\r\n        caller-id-presentation pre-ring\r\n             route call dest-table RT_DIGITCOLLECTION\r\n             message-waiting-indication stutter-dial-tone\r\n             message-waiting-indication frequency-shift-keying\r\n             call-transfer\r\n             subscriber-number 102"}]
[216,{"$f":"+IF(Data!$C$6>ROW(Generic!B217)-ROW(Generic!$B$215),\"\",\"#\")","v":"#"},{"$f":"+CONCATENATE(\"    interface fxs IF_FXS_\",'Extension Table'!C4,CHAR(13),CHAR(10),IF(Data!$C$42=\"(none)\",\"\",CONCATENATE(\"        caller-id-presentation \",Data!$C$42)),CHAR(13),CHAR(10),\"             route call dest-table RT_DIGITCOLLECTION\",CHAR(13),CHAR(10),\"             message-waiting-indication stutter-dial-tone\",CHAR(13),CHAR(10),\"             message-waiting-indication frequency-shift-keying\",CHAR(13),CHAR(10),\"             call-transfer\",CHAR(13),CHAR(10),\"             subscriber-number \",'Extension Table'!A4)","v":"    interface fxs IF_FXS_3\r\n        caller-id-presentation pre-ring\r\n             route call dest-table RT_DIGITCOLLECTION\r\n             message-waiting-indication stutter-dial-tone\r\n             message-waiting-indication frequency-shift-keying\r\n             call-transfer\r\n             subscriber-number 103"}]
[217,{"$f":"+IF(Data!$C$6>ROW(Generic!B218)-ROW(Generic!$B$215),\"\",\"#\")","v":"#"},{"$f":"+CONCATENATE(\"    interface fxs IF_FXS_\",'Extension Table'!C5,CHAR(13),CHAR(10),IF(Data!$C$42=\"(none)\",\"\",CONCATENATE(\"        caller-id-presentation \",Data!$C$42)),CHAR(13),CHAR(10),\"             route call dest-table RT_DIGITCOLLECTION\",CHAR(13),CHAR(10),\"             message-waiting-indication stutter-dial-tone\",CHAR(13),CHAR(10),\"             message-waiting-indication frequency-shift-keying\",CHAR(13),CHAR(10),\"             call-transfer\",CHAR(13),CHAR(10),\"             subscriber-number \",'Extension Table'!A5)","v":"    interface fxs IF_FXS_4\r\n        caller-id-presentation pre-ring\r\n             route call dest-table RT_DIGITCOLLECTION\r\n             message-waiting-indication stutter-dial-tone\r\n             message-waiting-indication frequency-shift-keying\r\n             call-transfer\r\n             subscriber-number 104"}]
[218,{"$f":"+IF(Data!$C$6>ROW(Generic!B219)-ROW(Generic!$B$215),\"\",\"#\")","v":"#"},{"$f":"+CONCATENATE(\"    interface fxs IF_FXS_\",'Extension Table'!C6,CHAR(13),CHAR(10),IF(Data!$C$42=\"(none)\",\"\",CONCATENATE(\"        caller-id-presentation \",Data!$C$42)),CHAR(13),CHAR(10),\"             route call dest-table RT_DIGITCOLLECTION\",CHAR(13),CHAR(10),\"             message-waiting-indication stutter-dial-tone\",CHAR(13),CHAR(10),\"             message-waiting-indication frequency-shift-keying\",CHAR(13),CHAR(10),\"             call-transfer\",CHAR(13),CHAR(10),\"             subscriber-number \",'Extension Table'!A6)","v":"    interface fxs IF_FXS_5\r\n        caller-id-presentation pre-ring\r\n             route call dest-table RT_DIGITCOLLECTION\r\n             message-waiting-indication stutter-dial-tone\r\n             message-waiting-indication frequency-shift-keying\r\n             call-transfer\r\n             subscriber-number 105"}]
[219,{"$f":"+IF(Data!$C$6>ROW(Generic!B220)-ROW(Generic!$B$215),\"\",\"#\")","v":"#"},{"$f":"+CONCATENATE(\"    interface fxs IF_FXS_\",'Extension Table'!C7,CHAR(13),CHAR(10),IF(Data!$C$42=\"(none)\",\"\",CONCATENATE(\"        caller-id-presentation \",Data!$C$42)),CHAR(13),CHAR(10),\"             route call dest-table RT_DIGITCOLLECTION\",CHAR(13),CHAR(10),\"             message-waiting-indication stutter-dial-tone\",CHAR(13),CHAR(10),\"             message-waiting-indication frequency-shift-keying\",CHAR(13),CHAR(10),\"             call-transfer\",CHAR(13),CHAR(10),\"             subscriber-number \",'Extension Table'!A7)","v":"    interface fxs IF_FXS_6\r\n        caller-id-presentation pre-ring\r\n             route call dest-table RT_DIGITCOLLECTION\r\n             message-waiting-indication stutter-dial-tone\r\n             message-waiting-indication frequency-shift-keying\r\n             call-transfer\r\n             subscriber-number 106"}]
[220,{"$f":"+IF(Data!$C$6>ROW(Generic!B221)-ROW(Generic!$B$215),\"\",\"#\")","v":"#"},{"$f":"+CONCATENATE(\"    interface fxs IF_FXS_\",'Extension Table'!C8,CHAR(13),CHAR(10),IF(Data!$C$42=\"(none)\",\"\",CONCATENATE(\"        caller-id-presentation \",Data!$C$42)),CHAR(13),CHAR(10),\"             route call dest-table RT_DIGITCOLLECTION\",CHAR(13),CHAR(10),\"             message-waiting-indication stutter-dial-tone\",CHAR(13),CHAR(10),\"             message-waiting-indication frequency-shift-keying\",CHAR(13),CHAR(10),\"             call-transfer\",CHAR(13),CHAR(10),\"             subscriber-number \",'Extension Table'!A8)","v":"    interface fxs IF_FXS_7\r\n        caller-id-presentation pre-ring\r\n             route call dest-table RT_DIGITCOLLECTION\r\n             message-waiting-indication stutter-dial-tone\r\n             message-waiting-indication frequency-shift-keying\r\n             call-transfer\r\n             subscriber-number 107"}]
[221,{"$f":"+IF(Data!$C$6>ROW(Generic!B222)-ROW(Generic!$B$215),\"\",\"#\")","v":"#"},{"$f":"+CONCATENATE(\"    interface fxs IF_FXS_\",'Extension Table'!C9,CHAR(13),CHAR(10),IF(Data!$C$42=\"(none)\",\"\",CONCATENATE(\"        caller-id-presentation \",Data!$C$42)),CHAR(13),CHAR(10),\"             route call dest-table RT_DIGITCOLLECTION\",CHAR(13),CHAR(10),\"             message-waiting-indication stutter-dial-tone\",CHAR(13),CHAR(10),\"             message-waiting-indication frequency-shift-keying\",CHAR(13),CHAR(10),\"             call-transfer\",CHAR(13),CHAR(10),\"             subscriber-number \",'Extension Table'!A9)","v":"    interface fxs IF_FXS_8\r\n        caller-id-presentation pre-ring\r\n             route call dest-table RT_DIGITCOLLECTION\r\n             message-waiting-indication stutter-dial-tone\r\n             message-waiting-indication frequency-shift-keying\r\n             call-transfer\r\n             subscriber-number 108"}]
[222,{"$f":"+IF(Data!$C$6>ROW(Generic!B223)-ROW(Generic!$B$215),\"\",\"#\")","v":"#"},{"$f":"+CONCATENATE(\"    interface fxs IF_FXS_\",'Extension Table'!C10,CHAR(13),CHAR(10),IF(Data!$C$42=\"(none)\",\"\",CONCATENATE(\"        caller-id-presentation \",Data!$C$42)),CHAR(13),CHAR(10),\"             route call dest-table RT_DIGITCOLLECTION\",CHAR(13),CHAR(10),\"             message-waiting-indication stutter-dial-tone\",CHAR(13),CHAR(10),\"             message-waiting-indication frequency-shift-keying\",CHAR(13),CHAR(10),\"             call-transfer\",CHAR(13),CHAR(10),\"             subscriber-number \",'Extension Table'!A10)","v":"    interface fxs IF_FXS_9\r\n        caller-id-presentation pre-ring\r\n             route call dest-table RT_DIGITCOLLECTION\r\n             message-waiting-indication stutter-dial-tone\r\n             message-waiting-indication frequency-shift-keying\r\n             call-transfer\r\n             subscriber-number 109"}]
[223,{"$f":"+IF(Data!$C$6>ROW(Generic!B224)-ROW(Generic!$B$215),\"\",\"#\")","v":"#"},{"$f":"+CONCATENATE(\"    interface fxs IF_FXS_\",'Extension Table'!C11,CHAR(13),CHAR(10),IF(Data!$C$42=\"(none)\",\"\",CONCATENATE(\"        caller-id-presentation \",Data!$C$42)),CHAR(13),CHAR(10),\"             route call dest-table RT_DIGITCOLLECTION\",CHAR(13),CHAR(10),\"             message-waiting-indication stutter-dial-tone\",CHAR(13),CHAR(10),\"             message-waiting-indication frequency-shift-keying\",CHAR(13),CHAR(10),\"             call-transfer\",CHAR(13),CHAR(10),\"             subscriber-number \",'Extension Table'!A11)","v":"    interface fxs IF_FXS_10\r\n        caller-id-presentation pre-ring\r\n             route call dest-table RT_DIGITCOLLECTION\r\n             message-waiting-indication stutter-dial-tone\r\n             message-waiting-indication frequency-shift-keying\r\n             call-transfer\r\n             subscriber-number 110"}]
[224,{"$f":"+IF(Data!$C$6>ROW(Generic!B225)-ROW(Generic!$B$215),\"\",\"#\")","v":"#"},{"$f":"+CONCATENATE(\"    interface fxs IF_FXS_\",'Extension Table'!C12,CHAR(13),CHAR(10),IF(Data!$C$42=\"(none)\",\"\",CONCATENATE(\"        caller-id-presentation \",Data!$C$42)),CHAR(13),CHAR(10),\"             route call dest-table RT_DIGITCOLLECTION\",CHAR(13),CHAR(10),\"             message-waiting-indication stutter-dial-tone\",CHAR(13),CHAR(10),\"             message-waiting-indication frequency-shift-keying\",CHAR(13),CHAR(10),\"             call-transfer\",CHAR(13),CHAR(10),\"             subscriber-number \",'Extension Table'!A12)","v":"    interface fxs IF_FXS_11\r\n        caller-id-presentation pre-ring\r\n             route call dest-table RT_DIGITCOLLECTION\r\n             message-waiting-indication stutter-dial-tone\r\n             message-waiting-indication frequency-shift-keying\r\n             call-transfer\r\n             subscriber-number 111"}]
[225,{"$f":"+IF(Data!$C$6>ROW(Generic!B226)-ROW(Generic!$B$215),\"\",\"#\")","v":"#"},{"$f":"+CONCATENATE(\"    interface fxs IF_FXS_\",'Extension Table'!C13,CHAR(13),CHAR(10),IF(Data!$C$42=\"(none)\",\"\",CONCATENATE(\"        caller-id-presentation \",Data!$C$42)),CHAR(13),CHAR(10),\"             route call dest-table RT_DIGITCOLLECTION\",CHAR(13),CHAR(10),\"             message-waiting-indication stutter-dial-tone\",CHAR(13),CHAR(10),\"             message-waiting-indication frequency-shift-keying\",CHAR(13),CHAR(10),\"             call-transfer\",CHAR(13),CHAR(10),\"             subscriber-number \",'Extension Table'!A13)","v":"    interface fxs IF_FXS_12\r\n        caller-id-presentation pre-ring\r\n             route call dest-table RT_DIGITCOLLECTION\r\n             message-waiting-indication stutter-dial-tone\r\n             message-waiting-indication frequency-shift-keying\r\n             call-transfer\r\n             subscriber-number 112"}]
[226,{"$f":"+IF(Data!$C$6>ROW(Generic!B227)-ROW(Generic!$B$215),\"\",\"#\")","v":"#"},{"$f":"+CONCATENATE(\"    interface fxs IF_FXS_\",'Extension Table'!C14,CHAR(13),CHAR(10),IF(Data!$C$42=\"(none)\",\"\",CONCATENATE(\"        caller-id-presentation \",Data!$C$42)),CHAR(13),CHAR(10),\"             route call dest-table RT_DIGITCOLLECTION\",CHAR(13),CHAR(10),\"             message-waiting-indication stutter-dial-tone\",CHAR(13),CHAR(10),\"             message-waiting-indication frequency-shift-keying\",CHAR(13),CHAR(10),\"             call-transfer\",CHAR(13),CHAR(10),\"             subscriber-number \",'Extension Table'!A14)","v":"    interface fxs IF_FXS_13\r\n        caller-id-presentation pre-ring\r\n             route call dest-table RT_DIGITCOLLECTION\r\n             message-waiting-indication stutter-dial-tone\r\n             message-waiting-indication frequency-shift-keying\r\n             call-transfer\r\n             subscriber-number 113"}]
[227,{"$f":"+IF(Data!$C$6>ROW(Generic!B228)-ROW(Generic!$B$215),\"\",\"#\")","v":"#"},{"$f":"+CONCATENATE(\"    interface fxs IF_FXS_\",'Extension Table'!C15,CHAR(13),CHAR(10),IF(Data!$C$42=\"(none)\",\"\",CONCATENATE(\"        caller-id-presentation \",Data!$C$42)),CHAR(13),CHAR(10),\"             route call dest-table RT_DIGITCOLLECTION\",CHAR(13),CHAR(10),\"             message-waiting-indication stutter-dial-tone\",CHAR(13),CHAR(10),\"             message-waiting-indication frequency-shift-keying\",CHAR(13),CHAR(10),\"             call-transfer\",CHAR(13),CHAR(10),\"             subscriber-number \",'Extension Table'!A15)","v":"    interface fxs IF_FXS_14\r\n        caller-id-presentation pre-ring\r\n             route call dest-table RT_DIGITCOLLECTION\r\n             message-waiting-indication stutter-dial-tone\r\n             message-waiting-indication frequency-shift-keying\r\n             call-transfer\r\n             subscriber-number 114"}]
[228,{"$f":"+IF(Data!$C$6>ROW(Generic!B229)-ROW(Generic!$B$215),\"\",\"#\")","v":"#"},{"$f":"+CONCATENATE(\"    interface fxs IF_FXS_\",'Extension Table'!C16,CHAR(13),CHAR(10),IF(Data!$C$42=\"(none)\",\"\",CONCATENATE(\"        caller-id-presentation \",Data!$C$42)),CHAR(13),CHAR(10),\"             route call dest-table RT_DIGITCOLLECTION\",CHAR(13),CHAR(10),\"             message-waiting-indication stutter-dial-tone\",CHAR(13),CHAR(10),\"             message-waiting-indication frequency-shift-keying\",CHAR(13),CHAR(10),\"             call-transfer\",CHAR(13),CHAR(10),\"             subscriber-number \",'Extension Table'!A16)","v":"    interface fxs IF_FXS_15\r\n        caller-id-presentation pre-ring\r\n             route call dest-table RT_DIGITCOLLECTION\r\n             message-waiting-indication stutter-dial-tone\r\n             message-waiting-indication frequency-shift-keying\r\n             call-transfer\r\n             subscriber-number 115"}]
[229,{"$f":"+IF(Data!$C$6>ROW(Generic!B230)-ROW(Generic!$B$215),\"\",\"#\")","v":"#"},{"$f":"+CONCATENATE(\"    interface fxs IF_FXS_\",'Extension Table'!C17,CHAR(13),CHAR(10),IF(Data!$C$42=\"(none)\",\"\",CONCATENATE(\"        caller-id-presentation \",Data!$C$42)),CHAR(13),CHAR(10),\"             route call dest-table RT_DIGITCOLLECTION\",CHAR(13),CHAR(10),\"             message-waiting-indication stutter-dial-tone\",CHAR(13),CHAR(10),\"             message-waiting-indication frequency-shift-keying\",CHAR(13),CHAR(10),\"             call-transfer\",CHAR(13),CHAR(10),\"             subscriber-number \",'Extension Table'!A17)","v":"    interface fxs IF_FXS_16\r\n        caller-id-presentation pre-ring\r\n             route call dest-table RT_DIGITCOLLECTION\r\n             message-waiting-indication stutter-dial-tone\r\n             message-waiting-indication frequency-shift-keying\r\n             call-transfer\r\n             subscriber-number 116"}]
[230,{"$f":"+IF(Data!$C$6>ROW(Generic!B231)-ROW(Generic!$B$215),\"\",\"#\")","v":"#"},{"$f":"+CONCATENATE(\"    interface fxs IF_FXS_\",'Extension Table'!C18,CHAR(13),CHAR(10),IF(Data!$C$42=\"(none)\",\"\",CONCATENATE(\"        caller-id-presentation \",Data!$C$42)),CHAR(13),CHAR(10),\"             route call dest-table RT_DIGITCOLLECTION\",CHAR(13),CHAR(10),\"             message-waiting-indication stutter-dial-tone\",CHAR(13),CHAR(10),\"             message-waiting-indication frequency-shift-keying\",CHAR(13),CHAR(10),\"             call-transfer\",CHAR(13),CHAR(10),\"             subscriber-number \",'Extension Table'!A18)","v":"    interface fxs IF_FXS_17\r\n        caller-id-presentation pre-ring\r\n             route call dest-table RT_DIGITCOLLECTION\r\n             message-waiting-indication stutter-dial-tone\r\n             message-waiting-indication frequency-shift-keying\r\n             call-transfer\r\n             subscriber-number 117"}]
[231,{"$f":"+IF(Data!$C$6>ROW(Generic!B232)-ROW(Generic!$B$215),\"\",\"#\")","v":"#"},{"$f":"+CONCATENATE(\"    interface fxs IF_FXS_\",'Extension Table'!C19,CHAR(13),CHAR(10),IF(Data!$C$42=\"(none)\",\"\",CONCATENATE(\"        caller-id-presentation \",Data!$C$42)),CHAR(13),CHAR(10),\"             route call dest-table RT_DIGITCOLLECTION\",CHAR(13),CHAR(10),\"             message-waiting-indication stutter-dial-tone\",CHAR(13),CHAR(10),\"             message-waiting-indication frequency-shift-keying\",CHAR(13),CHAR(10),\"             call-transfer\",CHAR(13),CHAR(10),\"             subscriber-number \",'Extension Table'!A19)","v":"    interface fxs IF_FXS_18\r\n        caller-id-presentation pre-ring\r\n             route call dest-table RT_DIGITCOLLECTION\r\n             message-waiting-indication stutter-dial-tone\r\n             message-waiting-indication frequency-shift-keying\r\n             call-transfer\r\n             subscriber-number 118"}]
[232,{"$f":"+IF(Data!$C$6>ROW(Generic!B233)-ROW(Generic!$B$215),\"\",\"#\")","v":"#"},{"$f":"+CONCATENATE(\"    interface fxs IF_FXS_\",'Extension Table'!C20,CHAR(13),CHAR(10),IF(Data!$C$42=\"(none)\",\"\",CONCATENATE(\"        caller-id-presentation \",Data!$C$42)),CHAR(13),CHAR(10),\"             route call dest-table RT_DIGITCOLLECTION\",CHAR(13),CHAR(10),\"             message-waiting-indication stutter-dial-tone\",CHAR(13),CHAR(10),\"             message-waiting-indication frequency-shift-keying\",CHAR(13),CHAR(10),\"             call-transfer\",CHAR(13),CHAR(10),\"             subscriber-number \",'Extension Table'!A20)","v":"    interface fxs IF_FXS_19\r\n        caller-id-presentation pre-ring\r\n             route call dest-table RT_DIGITCOLLECTION\r\n             message-waiting-indication stutter-dial-tone\r\n             message-waiting-indication frequency-shift-keying\r\n             call-transfer\r\n             subscriber-number 119"}]
[233,{"$f":"+IF(Data!$C$6>ROW(Generic!B234)-ROW(Generic!$B$215),\"\",\"#\")","v":"#"},{"$f":"+CONCATENATE(\"    interface fxs IF_FXS_\",'Extension Table'!C21,CHAR(13),CHAR(10),IF(Data!$C$42=\"(none)\",\"\",CONCATENATE(\"        caller-id-presentation \",Data!$C$42)),CHAR(13),CHAR(10),\"             route call dest-table RT_DIGITCOLLECTION\",CHAR(13),CHAR(10),\"             message-waiting-indication stutter-dial-tone\",CHAR(13),CHAR(10),\"             message-waiting-indication frequency-shift-keying\",CHAR(13),CHAR(10),\"             call-transfer\",CHAR(13),CHAR(10),\"             subscriber-number \",'Extension Table'!A21)","v":"    interface fxs IF_FXS_20\r\n        caller-id-presentation pre-ring\r\n             route call dest-table RT_DIGITCOLLECTION\r\n             message-waiting-indication stutter-dial-tone\r\n             message-waiting-indication frequency-shift-keying\r\n             call-transfer\r\n             subscriber-number 120"}]
[234,{"$f":"+IF(Data!$C$6>ROW(Generic!B235)-ROW(Generic!$B$215),\"\",\"#\")","v":"#"},{"$f":"+CONCATENATE(\"    interface fxs IF_FXS_\",'Extension Table'!C22,CHAR(13),CHAR(10),IF(Data!$C$42=\"(none)\",\"\",CONCATENATE(\"        caller-id-presentation \",Data!$C$42)),CHAR(13),CHAR(10),\"             route call dest-table RT_DIGITCOLLECTION\",CHAR(13),CHAR(10),\"             message-waiting-indication stutter-dial-tone\",CHAR(13),CHAR(10),\"             message-waiting-indication frequency-shift-keying\",CHAR(13),CHAR(10),\"             call-transfer\",CHAR(13),CHAR(10),\"             subscriber-number \",'Extension Table'!A22)","v":"    interface fxs IF_FXS_21\r\n        caller-id-presentation pre-ring\r\n             route call dest-table RT_DIGITCOLLECTION\r\n             message-waiting-indication stutter-dial-tone\r\n             message-waiting-indication frequency-shift-keying\r\n             call-transfer\r\n             subscriber-number 121"}]
[235,{"$f":"+IF(Data!$C$6>ROW(Generic!B236)-ROW(Generic!$B$215),\"\",\"#\")","v":"#"},{"$f":"+CONCATENATE(\"    interface fxs IF_FXS_\",'Extension Table'!C23,CHAR(13),CHAR(10),IF(Data!$C$42=\"(none)\",\"\",CONCATENATE(\"        caller-id-presentation \",Data!$C$42)),CHAR(13),CHAR(10),\"             route call dest-table RT_DIGITCOLLECTION\",CHAR(13),CHAR(10),\"             message-waiting-indication stutter-dial-tone\",CHAR(13),CHAR(10),\"             message-waiting-indication frequency-shift-keying\",CHAR(13),CHAR(10),\"             call-transfer\",CHAR(13),CHAR(10),\"             subscriber-number \",'Extension Table'!A23)","v":"    interface fxs IF_FXS_22\r\n        caller-id-presentation pre-ring\r\n             route call dest-table RT_DIGITCOLLECTION\r\n             message-waiting-indication stutter-dial-tone\r\n             message-waiting-indication frequency-shift-keying\r\n             call-transfer\r\n             subscriber-number 122"}]
[236,{"$f":"+IF(Data!$C$6>ROW(Generic!B237)-ROW(Generic!$B$215),\"\",\"#\")","v":"#"},{"$f":"+CONCATENATE(\"    interface fxs IF_FXS_\",'Extension Table'!C24,CHAR(13),CHAR(10),IF(Data!$C$42=\"(none)\",\"\",CONCATENATE(\"        caller-id-presentation \",Data!$C$42)),CHAR(13),CHAR(10),\"             route call dest-table RT_DIGITCOLLECTION\",CHAR(13),CHAR(10),\"             message-waiting-indication stutter-dial-tone\",CHAR(13),CHAR(10),\"             message-waiting-indication frequency-shift-keying\",CHAR(13),CHAR(10),\"             call-transfer\",CHAR(13),CHAR(10),\"             subscriber-number \",'Extension Table'!A24)","v":"    interface fxs IF_FXS_23\r\n        caller-id-presentation pre-ring\r\n             route call dest-table RT_DIGITCOLLECTION\r\n             message-waiting-indication stutter-dial-tone\r\n             message-waiting-indication frequency-shift-keying\r\n             call-transfer\r\n             subscriber-number 123"}]
[237,{"$f":"+IF(Data!$C$6>ROW(Generic!B238)-ROW(Generic!$B$215),\"\",\"#\")","v":"#"},{"$f":"+CONCATENATE(\"    interface fxs IF_FXS_\",'Extension Table'!C25,CHAR(13),CHAR(10),IF(Data!$C$42=\"(none)\",\"\",CONCATENATE(\"        caller-id-presentation \",Data!$C$42)),CHAR(13),CHAR(10),\"             route call dest-table RT_DIGITCOLLECTION\",CHAR(13),CHAR(10),\"             message-waiting-indication stutter-dial-tone\",CHAR(13),CHAR(10),\"             message-waiting-indication frequency-shift-keying\",CHAR(13),CHAR(10),\"             call-transfer\",CHAR(13),CHAR(10),\"             subscriber-number \",'Extension Table'!A25)","v":"    interface fxs IF_FXS_24\r\n        caller-id-presentation pre-ring\r\n             route call dest-table RT_DIGITCOLLECTION\r\n             message-waiting-indication stutter-dial-tone\r\n             message-waiting-indication frequency-shift-keying\r\n             call-transfer\r\n             subscriber-number 124"}]
[238,{"$f":"+IF(Data!$C$6>ROW(Generic!B239)-ROW(Generic!$B$215),\"\",\"#\")","v":"#"},{"$f":"+CONCATENATE(\"    interface fxs IF_FXS_\",'Extension Table'!C26,CHAR(13),CHAR(10),IF(Data!$C$42=\"(none)\",\"\",CONCATENATE(\"        caller-id-presentation \",Data!$C$42)),CHAR(13),CHAR(10),\"             route call dest-table RT_DIGITCOLLECTION\",CHAR(13),CHAR(10),\"             message-waiting-indication stutter-dial-tone\",CHAR(13),CHAR(10),\"             message-waiting-indication frequency-shift-keying\",CHAR(13),CHAR(10),\"             call-transfer\",CHAR(13),CHAR(10),\"             subscriber-number \",'Extension Table'!A26)","v":"    interface fxs IF_FXS_25\r\n        caller-id-presentation pre-ring\r\n             route call dest-table RT_DIGITCOLLECTION\r\n             message-waiting-indication stutter-dial-tone\r\n             message-waiting-indication frequency-shift-keying\r\n             call-transfer\r\n             subscriber-number 125"}]
[239,{"$f":"+IF(Data!$C$6>ROW(Generic!B240)-ROW(Generic!$B$215),\"\",\"#\")","v":"#"},{"$f":"+CONCATENATE(\"    interface fxs IF_FXS_\",'Extension Table'!C27,CHAR(13),CHAR(10),IF(Data!$C$42=\"(none)\",\"\",CONCATENATE(\"        caller-id-presentation \",Data!$C$42)),CHAR(13),CHAR(10),\"             route call dest-table RT_DIGITCOLLECTION\",CHAR(13),CHAR(10),\"             message-waiting-indication stutter-dial-tone\",CHAR(13),CHAR(10),\"             message-waiting-indication frequency-shift-keying\",CHAR(13),CHAR(10),\"             call-transfer\",CHAR(13),CHAR(10),\"             subscriber-number \",'Extension Table'!A27)","v":"    interface fxs IF_FXS_26\r\n        caller-id-presentation pre-ring\r\n             route call dest-table RT_DIGITCOLLECTION\r\n             message-waiting-indication stutter-dial-tone\r\n             message-waiting-indication frequency-shift-keying\r\n             call-transfer\r\n             subscriber-number 126"}]
[240,{"$f":"+IF(Data!$C$6>ROW(Generic!B241)-ROW(Generic!$B$215),\"\",\"#\")","v":"#"},{"$f":"+CONCATENATE(\"    interface fxs IF_FXS_\",'Extension Table'!C28,CHAR(13),CHAR(10),IF(Data!$C$42=\"(none)\",\"\",CONCATENATE(\"        caller-id-presentation \",Data!$C$42)),CHAR(13),CHAR(10),\"             route call dest-table RT_DIGITCOLLECTION\",CHAR(13),CHAR(10),\"             message-waiting-indication stutter-dial-tone\",CHAR(13),CHAR(10),\"             message-waiting-indication frequency-shift-keying\",CHAR(13),CHAR(10),\"             call-transfer\",CHAR(13),CHAR(10),\"             subscriber-number \",'Extension Table'!A28)","v":"    interface fxs IF_FXS_27\r\n        caller-id-presentation pre-ring\r\n             route call dest-table RT_DIGITCOLLECTION\r\n             message-waiting-indication stutter-dial-tone\r\n             message-waiting-indication frequency-shift-keying\r\n             call-transfer\r\n             subscriber-number 127"}]
[241,{"$f":"+IF(Data!$C$6>ROW(Generic!B242)-ROW(Generic!$B$215),\"\",\"#\")","v":"#"},{"$f":"+CONCATENATE(\"    interface fxs IF_FXS_\",'Extension Table'!C29,CHAR(13),CHAR(10),IF(Data!$C$42=\"(none)\",\"\",CONCATENATE(\"        caller-id-presentation \",Data!$C$42)),CHAR(13),CHAR(10),\"             route call dest-table RT_DIGITCOLLECTION\",CHAR(13),CHAR(10),\"             message-waiting-indication stutter-dial-tone\",CHAR(13),CHAR(10),\"             message-waiting-indication frequency-shift-keying\",CHAR(13),CHAR(10),\"             call-transfer\",CHAR(13),CHAR(10),\"             subscriber-number \",'Extension Table'!A29)","v":"    interface fxs IF_FXS_28\r\n        caller-id-presentation pre-ring\r\n             route call dest-table RT_DIGITCOLLECTION\r\n             message-waiting-indication stutter-dial-tone\r\n             message-waiting-indication frequency-shift-keying\r\n             call-transfer\r\n             subscriber-number 128"}]
[242,{"$f":"+IF(Data!$C$6>ROW(Generic!B243)-ROW(Generic!$B$215),\"\",\"#\")","v":"#"},{"$f":"+CONCATENATE(\"    interface fxs IF_FXS_\",'Extension Table'!C30,CHAR(13),CHAR(10),IF(Data!$C$42=\"(none)\",\"\",CONCATENATE(\"        caller-id-presentation \",Data!$C$42)),CHAR(13),CHAR(10),\"             route call dest-table RT_DIGITCOLLECTION\",CHAR(13),CHAR(10),\"             message-waiting-indication stutter-dial-tone\",CHAR(13),CHAR(10),\"             message-waiting-indication frequency-shift-keying\",CHAR(13),CHAR(10),\"             call-transfer\",CHAR(13),CHAR(10),\"             subscriber-number \",'Extension Table'!A30)","v":"    interface fxs IF_FXS_29\r\n        caller-id-presentation pre-ring\r\n             route call dest-table RT_DIGITCOLLECTION\r\n             message-waiting-indication stutter-dial-tone\r\n             message-waiting-indication frequency-shift-keying\r\n             call-transfer\r\n             subscriber-number 129"}]
[243,{"$f":"+IF(Data!$C$6>ROW(Generic!B244)-ROW(Generic!$B$215),\"\",\"#\")","v":"#"},{"$f":"+CONCATENATE(\"    interface fxs IF_FXS_\",'Extension Table'!C31,CHAR(13),CHAR(10),IF(Data!$C$42=\"(none)\",\"\",CONCATENATE(\"        caller-id-presentation \",Data!$C$42)),CHAR(13),CHAR(10),\"             route call dest-table RT_DIGITCOLLECTION\",CHAR(13),CHAR(10),\"             message-waiting-indication stutter-dial-tone\",CHAR(13),CHAR(10),\"             message-waiting-indication frequency-shift-keying\",CHAR(13),CHAR(10),\"             call-transfer\",CHAR(13),CHAR(10),\"             subscriber-number \",'Extension Table'!A31)","v":"    interface fxs IF_FXS_30\r\n        caller-id-presentation pre-ring\r\n             route call dest-table RT_DIGITCOLLECTION\r\n             message-waiting-indication stutter-dial-tone\r\n             message-waiting-indication frequency-shift-keying\r\n             call-transfer\r\n             subscriber-number 130"}]
[244,{"$f":"+IF(Data!$C$6>ROW(Generic!B245)-ROW(Generic!$B$215),\"\",\"#\")","v":"#"},{"$f":"+CONCATENATE(\"    interface fxs IF_FXS_\",'Extension Table'!C32,CHAR(13),CHAR(10),IF(Data!$C$42=\"(none)\",\"\",CONCATENATE(\"        caller-id-presentation \",Data!$C$42)),CHAR(13),CHAR(10),\"             route call dest-table RT_DIGITCOLLECTION\",CHAR(13),CHAR(10),\"             message-waiting-indication stutter-dial-tone\",CHAR(13),CHAR(10),\"             message-waiting-indication frequency-shift-keying\",CHAR(13),CHAR(10),\"             call-transfer\",CHAR(13),CHAR(10),\"             subscriber-number \",'Extension Table'!A32)","v":"    interface fxs IF_FXS_31\r\n        caller-id-presentation pre-ring\r\n             route call dest-table RT_DIGITCOLLECTION\r\n             message-waiting-indication stutter-dial-tone\r\n             message-waiting-indication frequency-shift-keying\r\n             call-transfer\r\n             subscriber-number 131"}]
[245,{"$f":"+IF(Data!$C$6>ROW(Generic!B246)-ROW(Generic!$B$215),\"\",\"#\")","v":"#"},{"$f":"+CONCATENATE(\"    interface fxs IF_FXS_\",'Extension Table'!C33,CHAR(13),CHAR(10),IF(Data!$C$42=\"(none)\",\"\",CONCATENATE(\"        caller-id-presentation \",Data!$C$42)),CHAR(13),CHAR(10),\"             route call dest-table RT_DIGITCOLLECTION\",CHAR(13),CHAR(10),\"             message-waiting-indication stutter-dial-tone\",CHAR(13),CHAR(10),\"             message-waiting-indication frequency-shift-keying\",CHAR(13),CHAR(10),\"             call-transfer\",CHAR(13),CHAR(10),\"             subscriber-number \",'Extension Table'!A33)","v":"    interface fxs IF_FXS_32\r\n        caller-id-presentation pre-ring\r\n             route call dest-table RT_DIGITCOLLECTION\r\n             message-waiting-indication stutter-dial-tone\r\n             message-waiting-indication frequency-shift-keying\r\n             call-transfer\r\n             subscriber-number 132"}]
[246,null,"                "]
[247,null,"context cs switch"]
[248,null,"  no shutdown"]
[249]
[250,{"$f":"+IF(Data!$C$6>0,\" \",\"#\")","v":"#"},"authentication-service AS_ALL_EXTENSIONS"]
[251,{"$f":"+IF(Data!$C$6>0,\" \",\"#\")","v":"#"},null,"Revisar si hace falta para 3CX"]
[252,{"$f":"+IF(Data!$C$6>ROW(Generic!B253)-ROW(Generic!$B$253),\"\",\"#\")","v":"#"},{"$f":"+CONCATENATE(\"      username \",'Extension Table'!F2,\" password \",'Extension Table'!G2)","v":"      username 101 password 101"}]
[253,{"$f":"+IF(Data!$C$6>ROW(Generic!B254)-ROW(Generic!$B$253),\"\",\"#\")","v":"#"},{"$f":"+CONCATENATE(\"      username \",'Extension Table'!F3,\" password \",'Extension Table'!G3)","v":"      username 102 password 102"}]
[254,{"$f":"+IF(Data!$C$6>ROW(Generic!B255)-ROW(Generic!$B$253),\"\",\"#\")","v":"#"},{"$f":"+CONCATENATE(\"      username \",'Extension Table'!F4,\" password \",'Extension Table'!G4)","v":"      username 103 password 103"}]
[255,{"$f":"+IF(Data!$C$6>ROW(Generic!B256)-ROW(Generic!$B$253),\"\",\"#\")","v":"#"},{"$f":"+CONCATENATE(\"      username \",'Extension Table'!F5,\" password \",'Extension Table'!G5)","v":"      username 104 password 104"}]
[256,{"$f":"+IF(Data!$C$6>ROW(Generic!B257)-ROW(Generic!$B$253),\"\",\"#\")","v":"#"},{"$f":"+CONCATENATE(\"      username \",'Extension Table'!F6,\" password \",'Extension Table'!G6)","v":"      username 105 password 105"}]
[257,{"$f":"+IF(Data!$C$6>ROW(Generic!B258)-ROW(Generic!$B$253),\"\",\"#\")","v":"#"},{"$f":"+CONCATENATE(\"      username \",'Extension Table'!F7,\" password \",'Extension Table'!G7)","v":"      username 106 password 106"}]
[258,{"$f":"+IF(Data!$C$6>ROW(Generic!B259)-ROW(Generic!$B$253),\"\",\"#\")","v":"#"},{"$f":"+CONCATENATE(\"      username \",'Extension Table'!F8,\" password \",'Extension Table'!G8)","v":"      username 107 password 107"}]
[259,{"$f":"+IF(Data!$C$6>ROW(Generic!B260)-ROW(Generic!$B$253),\"\",\"#\")","v":"#"},{"$f":"+CONCATENATE(\"      username \",'Extension Table'!F9,\" password \",'Extension Table'!G9)","v":"      username 108 password 108"}]
[260,{"$f":"+IF(Data!$C$6>ROW(Generic!B261)-ROW(Generic!$B$253),\"\",\"#\")","v":"#"},{"$f":"+CONCATENATE(\"      username \",'Extension Table'!F10,\" password \",'Extension Table'!G10)","v":"      username 109 password 109"}]
[261,{"$f":"+IF(Data!$C$6>ROW(Generic!B262)-ROW(Generic!$B$253),\"\",\"#\")","v":"#"},{"$f":"+CONCATENATE(\"      username \",'Extension Table'!F11,\" password \",'Extension Table'!G11)","v":"      username 110 password 110"}]
[262,{"$f":"+IF(Data!$C$6>ROW(Generic!B263)-ROW(Generic!$B$253),\"\",\"#\")","v":"#"},{"$f":"+CONCATENATE(\"      username \",'Extension Table'!F12,\" password \",'Extension Table'!G12)","v":"      username 111 password 111"}]
[263,{"$f":"+IF(Data!$C$6>ROW(Generic!B264)-ROW(Generic!$B$253),\"\",\"#\")","v":"#"},{"$f":"+CONCATENATE(\"      username \",'Extension Table'!F13,\" password \",'Extension Table'!G13)","v":"      username 112 password 112"}]
[264,{"$f":"+IF(Data!$C$6>ROW(Generic!B265)-ROW(Generic!$B$253),\"\",\"#\")","v":"#"},{"$f":"+CONCATENATE(\"      username \",'Extension Table'!F14,\" password \",'Extension Table'!G14)","v":"      username 113 password 113"}]
[265,{"$f":"+IF(Data!$C$6>ROW(Generic!B266)-ROW(Generic!$B$253),\"\",\"#\")","v":"#"},{"$f":"+CONCATENATE(\"      username \",'Extension Table'!F15,\" password \",'Extension Table'!G15)","v":"      username 114 password 114"}]
[266,{"$f":"+IF(Data!$C$6>ROW(Generic!B267)-ROW(Generic!$B$253),\"\",\"#\")","v":"#"},{"$f":"+CONCATENATE(\"      username \",'Extension Table'!F16,\" password \",'Extension Table'!G16)","v":"      username 115 password 115"}]
[267,{"$f":"+IF(Data!$C$6>ROW(Generic!B268)-ROW(Generic!$B$253),\"\",\"#\")","v":"#"},{"$f":"+CONCATENATE(\"      username \",'Extension Table'!F17,\" password \",'Extension Table'!G17)","v":"      username 116 password 116"}]
[268,{"$f":"+IF(Data!$C$6>ROW(Generic!B269)-ROW(Generic!$B$253),\"\",\"#\")","v":"#"},{"$f":"+CONCATENATE(\"      username \",'Extension Table'!F18,\" password \",'Extension Table'!G18)","v":"      username 117 password 117"}]
[269,{"$f":"+IF(Data!$C$6>ROW(Generic!B270)-ROW(Generic!$B$253),\"\",\"#\")","v":"#"},{"$f":"+CONCATENATE(\"      username \",'Extension Table'!F19,\" password \",'Extension Table'!G19)","v":"      username 118 password 118"}]
[270,{"$f":"+IF(Data!$C$6>ROW(Generic!B271)-ROW(Generic!$B$253),\"\",\"#\")","v":"#"},{"$f":"+CONCATENATE(\"      username \",'Extension Table'!F20,\" password \",'Extension Table'!G20)","v":"      username 119 password 119"}]
[271,{"$f":"+IF(Data!$C$6>ROW(Generic!B272)-ROW(Generic!$B$253),\"\",\"#\")","v":"#"},{"$f":"+CONCATENATE(\"      username \",'Extension Table'!F21,\" password \",'Extension Table'!G21)","v":"      username 120 password 120"}]
[272,{"$f":"+IF(Data!$C$6>ROW(Generic!B273)-ROW(Generic!$B$253),\"\",\"#\")","v":"#"},{"$f":"+CONCATENATE(\"      username \",'Extension Table'!F22,\" password \",'Extension Table'!G22)","v":"      username 121 password 121"}]
[273,{"$f":"+IF(Data!$C$6>ROW(Generic!B274)-ROW(Generic!$B$253),\"\",\"#\")","v":"#"},{"$f":"+CONCATENATE(\"      username \",'Extension Table'!F23,\" password \",'Extension Table'!G23)","v":"      username 122 password 122"}]
[274,{"$f":"+IF(Data!$C$6>ROW(Generic!B275)-ROW(Generic!$B$253),\"\",\"#\")","v":"#"},{"$f":"+CONCATENATE(\"      username \",'Extension Table'!F24,\" password \",'Extension Table'!G24)","v":"      username 123 password 123"}]
[275,{"$f":"+IF(Data!$C$6>ROW(Generic!B276)-ROW(Generic!$B$253),\"\",\"#\")","v":"#"},{"$f":"+CONCATENATE(\"      username \",'Extension Table'!F25,\" password \",'Extension Table'!G25)","v":"      username 124 password 124"}]
[276,{"$f":"+IF(Data!$C$6>ROW(Generic!B277)-ROW(Generic!$B$253),\"\",\"#\")","v":"#"},{"$f":"+CONCATENATE(\"      username \",'Extension Table'!F26,\" password \",'Extension Table'!G26)","v":"      username 125 password 125"}]
[277,{"$f":"+IF(Data!$C$6>ROW(Generic!B278)-ROW(Generic!$B$253),\"\",\"#\")","v":"#"},{"$f":"+CONCATENATE(\"      username \",'Extension Table'!F27,\" password \",'Extension Table'!G27)","v":"      username 126 password 126"}]
[278,{"$f":"+IF(Data!$C$6>ROW(Generic!B279)-ROW(Generic!$B$253),\"\",\"#\")","v":"#"},{"$f":"+CONCATENATE(\"      username \",'Extension Table'!F28,\" password \",'Extension Table'!G28)","v":"      username 127 password 127"}]
[279,{"$f":"+IF(Data!$C$6>ROW(Generic!B280)-ROW(Generic!$B$253),\"\",\"#\")","v":"#"},{"$f":"+CONCATENATE(\"      username \",'Extension Table'!F29,\" password \",'Extension Table'!G29)","v":"      username 128 password 128"}]
[280,{"$f":"+IF(Data!$C$6>ROW(Generic!B281)-ROW(Generic!$B$253),\"\",\"#\")","v":"#"},{"$f":"+CONCATENATE(\"      username \",'Extension Table'!F30,\" password \",'Extension Table'!G30)","v":"      username 129 password 129"}]
[281,{"$f":"+IF(Data!$C$6>ROW(Generic!B282)-ROW(Generic!$B$253),\"\",\"#\")","v":"#"},{"$f":"+CONCATENATE(\"      username \",'Extension Table'!F31,\" password \",'Extension Table'!G31)","v":"      username 130 password 130"}]
[282,{"$f":"+IF(Data!$C$6>ROW(Generic!B283)-ROW(Generic!$B$253),\"\",\"#\")","v":"#"},{"$f":"+CONCATENATE(\"      username \",'Extension Table'!F32,\" password \",'Extension Table'!G32)","v":"      username 131 password 131"}]
[283,{"$f":"+IF(Data!$C$6>ROW(Generic!B284)-ROW(Generic!$B$253),\"\",\"#\")","v":"#"},{"$f":"+CONCATENATE(\"      username \",'Extension Table'!F33,\" password \",'Extension Table'!G33)","v":"      username 132 password 132"}]
[284,null,"  "]
[285,{"$f":"+IF(Data!$C$5>0,\" \",\"#\")","v":" "},"authentication-service AS_ALL_LINES"]
[286,{"$f":"+IF(Data!$C$5>0,\" \",\"#\")","v":" "},null,"Revisar si hace falta para 3CX"]
[287]
[288,{"$f":"+IF(Data!$C$5>ROW(Generic!B289)-ROW(Generic!$B$289),\"\",\"#\")","v":""},{"$f":"+CONCATENATE(\"      username \",'Line Table'!E2,\" password \",'Line Table'!F2)","v":"      username 10002 password 10002"}]
[289,{"$f":"+IF(Data!$C$5>ROW(Generic!B290)-ROW(Generic!$B$289),\"\",\"#\")","v":""},{"$f":"+CONCATENATE(\"      username \",'Line Table'!E3,\" password \",'Line Table'!F3)","v":"      username 10003 password 10003"}]
[290,{"$f":"+IF(Data!$C$5>ROW(Generic!B291)-ROW(Generic!$B$289),\"\",\"#\")","v":""},{"$f":"+CONCATENATE(\"      username \",'Line Table'!E4,\" password \",'Line Table'!F4)","v":"      username 10004 password 10004"}]
[291,{"$f":"+IF(Data!$C$5>ROW(Generic!B292)-ROW(Generic!$B$289),\"\",\"#\")","v":""},{"$f":"+CONCATENATE(\"      username \",'Line Table'!E5,\" password \",'Line Table'!F5)","v":"      username 10005 password 10005"}]
[292,{"$f":"+IF(Data!$C$5>ROW(Generic!B293)-ROW(Generic!$B$289),\"\",\"#\")","v":""},{"$f":"+CONCATENATE(\"      username \",'Line Table'!E6,\" password \",'Line Table'!F6)","v":"      username 10006 password 10006"}]
[293,{"$f":"+IF(Data!$C$5>ROW(Generic!B294)-ROW(Generic!$B$289),\"\",\"#\")","v":""},{"$f":"+CONCATENATE(\"      username \",'Line Table'!E7,\" password \",'Line Table'!F7)","v":"      username 10007 password 10007"}]
[294,{"$f":"+IF(Data!$C$5>ROW(Generic!B295)-ROW(Generic!$B$289),\"\",\"#\")","v":""},{"$f":"+CONCATENATE(\"      username \",'Line Table'!E8,\" password \",'Line Table'!F8)","v":"      username 10008 password 10008"}]
[295,{"$f":"+IF(Data!$C$5>ROW(Generic!B296)-ROW(Generic!$B$289),\"\",\"#\")","v":""},{"$f":"+CONCATENATE(\"      username \",'Line Table'!E9,\" password \",'Line Table'!F9)","v":"      username 10009 password 10009"}]
[296,{"$f":"+IF(Data!$C$5>ROW(Generic!B297)-ROW(Generic!$B$289),\"\",\"#\")","v":""},{"$f":"+CONCATENATE(\"      username \",'Line Table'!E10,\" password \",'Line Table'!F10)","v":"      username 10010 password 10010"}]
[297,{"$f":"+IF(Data!$C$5>ROW(Generic!B298)-ROW(Generic!$B$289),\"\",\"#\")","v":""},{"$f":"+CONCATENATE(\"      username \",'Line Table'!E11,\" password \",'Line Table'!F11)","v":"      username 10011 password 10011"}]
[298,{"$f":"+IF(Data!$C$5>ROW(Generic!B299)-ROW(Generic!$B$289),\"\",\"#\")","v":""},{"$f":"+CONCATENATE(\"      username \",'Line Table'!E12,\" password \",'Line Table'!F12)","v":"      username 10012 password 10012"}]
[299,{"$f":"+IF(Data!$C$5>ROW(Generic!B300)-ROW(Generic!$B$289),\"\",\"#\")","v":""},{"$f":"+CONCATENATE(\"      username \",'Line Table'!E13,\" password \",'Line Table'!F13)","v":"      username 10013 password 10013"}]
[300,{"$f":"+IF(Data!$C$5>ROW(Generic!B301)-ROW(Generic!$B$289),\"\",\"#\")","v":"#"},{"$f":"+CONCATENATE(\"      username \",'Line Table'!E14,\" password \",'Line Table'!F14)","v":"      username 10014 password 10014"}]
[301,{"$f":"+IF(Data!$C$5>ROW(Generic!B302)-ROW(Generic!$B$289),\"\",\"#\")","v":"#"},{"$f":"+CONCATENATE(\"      username \",'Line Table'!E15,\" password \",'Line Table'!F15)","v":"      username 10015 password 10015"}]
[302,{"$f":"+IF(Data!$C$5>ROW(Generic!B303)-ROW(Generic!$B$289),\"\",\"#\")","v":"#"},{"$f":"+CONCATENATE(\"      username \",'Line Table'!E16,\" password \",'Line Table'!F16)","v":"      username 10016 password 10016"}]
[303,{"$f":"+IF(Data!$C$5>ROW(Generic!B304)-ROW(Generic!$B$289),\"\",\"#\")","v":"#"},{"$f":"+CONCATENATE(\"      username \",'Line Table'!E17,\" password \",'Line Table'!F17)","v":"      username 10017 password 10017"}]
[304,{"$f":"+IF(Data!$C$5>ROW(Generic!B305)-ROW(Generic!$B$289),\"\",\"#\")","v":"#"},{"$f":"+CONCATENATE(\"      username \",'Line Table'!E18,\" password \",'Line Table'!F18)","v":"      username 10018 password 10018"}]
[305,{"$f":"+IF(Data!$C$5>ROW(Generic!B306)-ROW(Generic!$B$289),\"\",\"#\")","v":"#"},{"$f":"+CONCATENATE(\"      username \",'Line Table'!E19,\" password \",'Line Table'!F19)","v":"      username 10019 password 10019"}]
[306,{"$f":"+IF(Data!$C$5>ROW(Generic!B307)-ROW(Generic!$B$289),\"\",\"#\")","v":"#"},{"$f":"+CONCATENATE(\"      username \",'Line Table'!E20,\" password \",'Line Table'!F20)","v":"      username 10020 password 10020"}]
[307,{"$f":"+IF(Data!$C$5>ROW(Generic!B308)-ROW(Generic!$B$289),\"\",\"#\")","v":"#"},{"$f":"+CONCATENATE(\"      username \",'Line Table'!E21,\" password \",'Line Table'!F21)","v":"      username 10021 password 10021"}]
[308,{"$f":"+IF(Data!$C$5>ROW(Generic!B309)-ROW(Generic!$B$289),\"\",\"#\")","v":"#"},{"$f":"+CONCATENATE(\"      username \",'Line Table'!E22,\" password \",'Line Table'!F22)","v":"      username 10022 password 10022"}]
[309,{"$f":"+IF(Data!$C$5>ROW(Generic!B310)-ROW(Generic!$B$289),\"\",\"#\")","v":"#"},{"$f":"+CONCATENATE(\"      username \",'Line Table'!E23,\" password \",'Line Table'!F23)","v":"      username 10023 password 10023"}]
[310,{"$f":"+IF(Data!$C$5>ROW(Generic!B311)-ROW(Generic!$B$289),\"\",\"#\")","v":"#"},{"$f":"+CONCATENATE(\"      username \",'Line Table'!E24,\" password \",'Line Table'!F24)","v":"      username 10024 password 10024"}]
[311,{"$f":"+IF(Data!$C$5>ROW(Generic!B312)-ROW(Generic!$B$289),\"\",\"#\")","v":"#"},{"$f":"+CONCATENATE(\"      username \",'Line Table'!E25,\" password \",'Line Table'!F25)","v":"      username 10025 password 10025"}]
[312,{"$f":"+IF(Data!$C$5>ROW(Generic!B313)-ROW(Generic!$B$289),\"\",\"#\")","v":"#"},{"$f":"+CONCATENATE(\"      username \",'Line Table'!E26,\" password \",'Line Table'!F26)","v":"      username 10026 password 10026"}]
[313,{"$f":"+IF(Data!$C$5>ROW(Generic!B314)-ROW(Generic!$B$289),\"\",\"#\")","v":"#"},{"$f":"+CONCATENATE(\"      username \",'Line Table'!E27,\" password \",'Line Table'!F27)","v":"      username 10027 password 10027"}]
[314,{"$f":"+IF(Data!$C$5>ROW(Generic!B315)-ROW(Generic!$B$289),\"\",\"#\")","v":"#"},{"$f":"+CONCATENATE(\"      username \",'Line Table'!E28,\" password \",'Line Table'!F28)","v":"      username 10028 password 10028"}]
[315,{"$f":"+IF(Data!$C$5>ROW(Generic!B316)-ROW(Generic!$B$289),\"\",\"#\")","v":"#"},{"$f":"+CONCATENATE(\"      username \",'Line Table'!E29,\" password \",'Line Table'!F29)","v":"      username 10029 password 10029"}]
[316,{"$f":"+IF(Data!$C$5>ROW(Generic!B317)-ROW(Generic!$B$289),\"\",\"#\")","v":"#"},{"$f":"+CONCATENATE(\"      username \",'Line Table'!E30,\" password \",'Line Table'!F30)","v":"      username 10030 password 10030"}]
[317,{"$f":"+IF(Data!$C$5>ROW(Generic!B318)-ROW(Generic!$B$289),\"\",\"#\")","v":"#"},{"$f":"+CONCATENATE(\"      username \",'Line Table'!E31,\" password \",'Line Table'!F31)","v":"      username 10031 password 10031"}]
[318,{"$f":"+IF(Data!$C$5>ROW(Generic!B319)-ROW(Generic!$B$289),\"\",\"#\")","v":"#"},{"$f":"+CONCATENATE(\"      username \",'Line Table'!E32,\" password \",'Line Table'!F32)","v":"      username 10032 password 10032"}]
[319,{"$f":"+IF(Data!$C$5>ROW(Generic!B320)-ROW(Generic!$B$289),\"\",\"#\")","v":"#"},{"$f":"+CONCATENATE(\"      username \",'Line Table'!E33,\" password \",'Line Table'!F33)","v":"      username 10033 password 10033"}]
[320]
[321,{"$f":"+IF(Data!$C$6>0,\" \",\"#\")","v":"#"},"location-service LS_ALL_EXTENSIONS"]
[322,{"$f":"+IF(Data!$C$6>0,\" \",\"#\")","v":"#"},{"$f":"+CONCATENATE(\"     domain 1 \",Data!C24,\" \",Data!C25)","v":"     domain 1 10.10.50.23 5060"}]
[323,null,"     identity-group default"]
[324,{"$f":"+IF(Data!$C$6>ROW(Generic!B325)-ROW(Generic!$B$325),\"\",\"#\")","v":"#"},{"$f":"+CONCATENATE(\"     identity \",'Extension Table'!A2,CHAR(13),CHAR(10),,\"          authentication outbound\",CHAR(13),CHAR(10),,\"              authenticate 1 authentication-service AS_ALL_EXTENSIONS username \",'Extension Table'!F2,CHAR(13),CHAR(10),\"          registration outbound\",CHAR(13),CHAR(10),\"             registrar \",Data!$C$24,\" \",Data!$C$25,CHAR(13),CHAR(10),\"             lifetime 300\",CHAR(13),CHAR(10),\"             register auto\",CHAR(13),CHAR(10),\"             retry-timeout on-system-error 10\",CHAR(13),CHAR(10),\"             retry-timeout on-client-error 10\",CHAR(13),CHAR(10),\"             retry-timeout on-server-error 10\")","v":"     identity 101\r\n          authentication outbound\r\n              authenticate 1 authentication-service AS_ALL_EXTENSIONS username 101\r\n          registration outbound\r\n             registrar 10.10.50.23 5060\r\n             lifetime 300\r\n             register auto\r\n             retry-timeout on-system-error 10\r\n             retry-timeout on-client-error 10\r\n             retry-timeout on-server-error 10"}]
[325,{"$f":"+IF(Data!$C$6>ROW(Generic!B326)-ROW(Generic!$B$325),\"\",\"#\")","v":"#"},{"$f":"+CONCATENATE(\"     identity \",'Extension Table'!A3,CHAR(13),CHAR(10),,\"          authentication outbound\",CHAR(13),CHAR(10),,\"              authenticate 1 authentication-service AS_ALL_EXTENSIONS username \",'Extension Table'!F3,CHAR(13),CHAR(10),\"          registration outbound\",CHAR(13),CHAR(10),\"             registrar \",Data!$C$24,\" \",Data!$C$25,CHAR(13),CHAR(10),\"             lifetime 300\",CHAR(13),CHAR(10),\"             register auto\",CHAR(13),CHAR(10),\"             retry-timeout on-system-error 10\",CHAR(13),CHAR(10),\"             retry-timeout on-client-error 10\",CHAR(13),CHAR(10),\"             retry-timeout on-server-error 10\")","v":"     identity 102\r\n          authentication outbound\r\n              authenticate 1 authentication-service AS_ALL_EXTENSIONS username 102\r\n          registration outbound\r\n             registrar 10.10.50.23 5060\r\n             lifetime 300\r\n             register auto\r\n             retry-timeout on-system-error 10\r\n             retry-timeout on-client-error 10\r\n             retry-timeout on-server-error 10"}]
[326,{"$f":"+IF(Data!$C$6>ROW(Generic!B327)-ROW(Generic!$B$325),\"\",\"#\")","v":"#"},{"$f":"+CONCATENATE(\"     identity \",'Extension Table'!A4,CHAR(13),CHAR(10),,\"          authentication outbound\",CHAR(13),CHAR(10),,\"              authenticate 1 authentication-service AS_ALL_EXTENSIONS username \",'Extension Table'!F4,CHAR(13),CHAR(10),\"          registration outbound\",CHAR(13),CHAR(10),\"             registrar \",Data!$C$24,\" \",Data!$C$25,CHAR(13),CHAR(10),\"             lifetime 300\",CHAR(13),CHAR(10),\"             register auto\",CHAR(13),CHAR(10),\"             retry-timeout on-system-error 10\",CHAR(13),CHAR(10),\"             retry-timeout on-client-error 10\",CHAR(13),CHAR(10),\"             retry-timeout on-server-error 10\")","v":"     identity 103\r\n          authentication outbound\r\n              authenticate 1 authentication-service AS_ALL_EXTENSIONS username 103\r\n          registration outbound\r\n             registrar 10.10.50.23 5060\r\n             lifetime 300\r\n             register auto\r\n             retry-timeout on-system-error 10\r\n             retry-timeout on-client-error 10\r\n             retry-timeout on-server-error 10"}]
[327,{"$f":"+IF(Data!$C$6>ROW(Generic!B328)-ROW(Generic!$B$325),\"\",\"#\")","v":"#"},{"$f":"+CONCATENATE(\"     identity \",'Extension Table'!A5,CHAR(13),CHAR(10),,\"          authentication outbound\",CHAR(13),CHAR(10),,\"              authenticate 1 authentication-service AS_ALL_EXTENSIONS username \",'Extension Table'!F5,CHAR(13),CHAR(10),\"          registration outbound\",CHAR(13),CHAR(10),\"             registrar \",Data!$C$24,\" \",Data!$C$25,CHAR(13),CHAR(10),\"             lifetime 300\",CHAR(13),CHAR(10),\"             register auto\",CHAR(13),CHAR(10),\"             retry-timeout on-system-error 10\",CHAR(13),CHAR(10),\"             retry-timeout on-client-error 10\",CHAR(13),CHAR(10),\"             retry-timeout on-server-error 10\")","v":"     identity 104\r\n          authentication outbound\r\n              authenticate 1 authentication-service AS_ALL_EXTENSIONS username 104\r\n          registration outbound\r\n             registrar 10.10.50.23 5060\r\n             lifetime 300\r\n             register auto\r\n             retry-timeout on-system-error 10\r\n             retry-timeout on-client-error 10\r\n             retry-timeout on-server-error 10"}]
[328,{"$f":"+IF(Data!$C$6>ROW(Generic!B329)-ROW(Generic!$B$325),\"\",\"#\")","v":"#"},{"$f":"+CONCATENATE(\"     identity \",'Extension Table'!A6,CHAR(13),CHAR(10),,\"          authentication outbound\",CHAR(13),CHAR(10),,\"              authenticate 1 authentication-service AS_ALL_EXTENSIONS username \",'Extension Table'!F6,CHAR(13),CHAR(10),\"          registration outbound\",CHAR(13),CHAR(10),\"             registrar \",Data!$C$24,\" \",Data!$C$25,CHAR(13),CHAR(10),\"             lifetime 300\",CHAR(13),CHAR(10),\"             register auto\",CHAR(13),CHAR(10),\"             retry-timeout on-system-error 10\",CHAR(13),CHAR(10),\"             retry-timeout on-client-error 10\",CHAR(13),CHAR(10),\"             retry-timeout on-server-error 10\")","v":"     identity 105\r\n          authentication outbound\r\n              authenticate 1 authentication-service AS_ALL_EXTENSIONS username 105\r\n          registration outbound\r\n             registrar 10.10.50.23 5060\r\n             lifetime 300\r\n             register auto\r\n             retry-timeout on-system-error 10\r\n             retry-timeout on-client-error 10\r\n             retry-timeout on-server-error 10"}]
[329,{"$f":"+IF(Data!$C$6>ROW(Generic!B330)-ROW(Generic!$B$325),\"\",\"#\")","v":"#"},{"$f":"+CONCATENATE(\"     identity \",'Extension Table'!A7,CHAR(13),CHAR(10),,\"          authentication outbound\",CHAR(13),CHAR(10),,\"              authenticate 1 authentication-service AS_ALL_EXTENSIONS username \",'Extension Table'!F7,CHAR(13),CHAR(10),\"          registration outbound\",CHAR(13),CHAR(10),\"             registrar \",Data!$C$24,\" \",Data!$C$25,CHAR(13),CHAR(10),\"             lifetime 300\",CHAR(13),CHAR(10),\"             register auto\",CHAR(13),CHAR(10),\"             retry-timeout on-system-error 10\",CHAR(13),CHAR(10),\"             retry-timeout on-client-error 10\",CHAR(13),CHAR(10),\"             retry-timeout on-server-error 10\")","v":"     identity 106\r\n          authentication outbound\r\n              authenticate 1 authentication-service AS_ALL_EXTENSIONS username 106\r\n          registration outbound\r\n             registrar 10.10.50.23 5060\r\n             lifetime 300\r\n             register auto\r\n             retry-timeout on-system-error 10\r\n             retry-timeout on-client-error 10\r\n             retry-timeout on-server-error 10"}]
[330,{"$f":"+IF(Data!$C$6>ROW(Generic!B331)-ROW(Generic!$B$325),\"\",\"#\")","v":"#"},{"$f":"+CONCATENATE(\"     identity \",'Extension Table'!A8,CHAR(13),CHAR(10),,\"          authentication outbound\",CHAR(13),CHAR(10),,\"              authenticate 1 authentication-service AS_ALL_EXTENSIONS username \",'Extension Table'!F8,CHAR(13),CHAR(10),\"          registration outbound\",CHAR(13),CHAR(10),\"             registrar \",Data!$C$24,\" \",Data!$C$25,CHAR(13),CHAR(10),\"             lifetime 300\",CHAR(13),CHAR(10),\"             register auto\",CHAR(13),CHAR(10),\"             retry-timeout on-system-error 10\",CHAR(13),CHAR(10),\"             retry-timeout on-client-error 10\",CHAR(13),CHAR(10),\"             retry-timeout on-server-error 10\")","v":"     identity 107\r\n          authentication outbound\r\n              authenticate 1 authentication-service AS_ALL_EXTENSIONS username 107\r\n          registration outbound\r\n             registrar 10.10.50.23 5060\r\n             lifetime 300\r\n             register auto\r\n             retry-timeout on-system-error 10\r\n             retry-timeout on-client-error 10\r\n             retry-timeout on-server-error 10"}]
[331,{"$f":"+IF(Data!$C$6>ROW(Generic!B332)-ROW(Generic!$B$325),\"\",\"#\")","v":"#"},{"$f":"+CONCATENATE(\"     identity \",'Extension Table'!A9,CHAR(13),CHAR(10),,\"          authentication outbound\",CHAR(13),CHAR(10),,\"              authenticate 1 authentication-service AS_ALL_EXTENSIONS username \",'Extension Table'!F9,CHAR(13),CHAR(10),\"          registration outbound\",CHAR(13),CHAR(10),\"             registrar \",Data!$C$24,\" \",Data!$C$25,CHAR(13),CHAR(10),\"             lifetime 300\",CHAR(13),CHAR(10),\"             register auto\",CHAR(13),CHAR(10),\"             retry-timeout on-system-error 10\",CHAR(13),CHAR(10),\"             retry-timeout on-client-error 10\",CHAR(13),CHAR(10),\"             retry-timeout on-server-error 10\")","v":"     identity 108\r\n          authentication outbound\r\n              authenticate 1 authentication-service AS_ALL_EXTENSIONS username 108\r\n          registration outbound\r\n             registrar 10.10.50.23 5060\r\n             lifetime 300\r\n             register auto\r\n             retry-timeout on-system-error 10\r\n             retry-timeout on-client-error 10\r\n             retry-timeout on-server-error 10"}]
[332,{"$f":"+IF(Data!$C$6>ROW(Generic!B333)-ROW(Generic!$B$325),\"\",\"#\")","v":"#"},{"$f":"+CONCATENATE(\"     identity \",'Extension Table'!A10,CHAR(13),CHAR(10),,\"          authentication outbound\",CHAR(13),CHAR(10),,\"              authenticate 1 authentication-service AS_ALL_EXTENSIONS username \",'Extension Table'!F10,CHAR(13),CHAR(10),\"          registration outbound\",CHAR(13),CHAR(10),\"             registrar \",Data!$C$24,\" \",Data!$C$25,CHAR(13),CHAR(10),\"             lifetime 300\",CHAR(13),CHAR(10),\"             register auto\",CHAR(13),CHAR(10),\"             retry-timeout on-system-error 10\",CHAR(13),CHAR(10),\"             retry-timeout on-client-error 10\",CHAR(13),CHAR(10),\"             retry-timeout on-server-error 10\")","v":"     identity 109\r\n          authentication outbound\r\n              authenticate 1 authentication-service AS_ALL_EXTENSIONS username 109\r\n          registration outbound\r\n             registrar 10.10.50.23 5060\r\n             lifetime 300\r\n             register auto\r\n             retry-timeout on-system-error 10\r\n             retry-timeout on-client-error 10\r\n             retry-timeout on-server-error 10"}]
[333,{"$f":"+IF(Data!$C$6>ROW(Generic!B334)-ROW(Generic!$B$325),\"\",\"#\")","v":"#"},{"$f":"+CONCATENATE(\"     identity \",'Extension Table'!A11,CHAR(13),CHAR(10),,\"          authentication outbound\",CHAR(13),CHAR(10),,\"              authenticate 1 authentication-service AS_ALL_EXTENSIONS username \",'Extension Table'!F11,CHAR(13),CHAR(10),\"          registration outbound\",CHAR(13),CHAR(10),\"             registrar \",Data!$C$24,\" \",Data!$C$25,CHAR(13),CHAR(10),\"             lifetime 300\",CHAR(13),CHAR(10),\"             register auto\",CHAR(13),CHAR(10),\"             retry-timeout on-system-error 10\",CHAR(13),CHAR(10),\"             retry-timeout on-client-error 10\",CHAR(13),CHAR(10),\"             retry-timeout on-server-error 10\")","v":"     identity 110\r\n          authentication outbound\r\n              authenticate 1 authentication-service AS_ALL_EXTENSIONS username 110\r\n          registration outbound\r\n             registrar 10.10.50.23 5060\r\n             lifetime 300\r\n             register auto\r\n             retry-timeout on-system-error 10\r\n             retry-timeout on-client-error 10\r\n             retry-timeout on-server-error 10"}]
[334,{"$f":"+IF(Data!$C$6>ROW(Generic!B335)-ROW(Generic!$B$325),\"\",\"#\")","v":"#"},{"$f":"+CONCATENATE(\"     identity \",'Extension Table'!A12,CHAR(13),CHAR(10),,\"          authentication outbound\",CHAR(13),CHAR(10),,\"              authenticate 1 authentication-service AS_ALL_EXTENSIONS username \",'Extension Table'!F12,CHAR(13),CHAR(10),\"          registration outbound\",CHAR(13),CHAR(10),\"             registrar \",Data!$C$24,\" \",Data!$C$25,CHAR(13),CHAR(10),\"             lifetime 300\",CHAR(13),CHAR(10),\"             register auto\",CHAR(13),CHAR(10),\"             retry-timeout on-system-error 10\",CHAR(13),CHAR(10),\"             retry-timeout on-client-error 10\",CHAR(13),CHAR(10),\"             retry-timeout on-server-error 10\")","v":"     identity 111\r\n          authentication outbound\r\n              authenticate 1 authentication-service AS_ALL_EXTENSIONS username 111\r\n          registration outbound\r\n             registrar 10.10.50.23 5060\r\n             lifetime 300\r\n             register auto\r\n             retry-timeout on-system-error 10\r\n             retry-timeout on-client-error 10\r\n             retry-timeout on-server-error 10"}]
[335,{"$f":"+IF(Data!$C$6>ROW(Generic!B336)-ROW(Generic!$B$325),\"\",\"#\")","v":"#"},{"$f":"+CONCATENATE(\"     identity \",'Extension Table'!A13,CHAR(13),CHAR(10),,\"          authentication outbound\",CHAR(13),CHAR(10),,\"              authenticate 1 authentication-service AS_ALL_EXTENSIONS username \",'Extension Table'!F13,CHAR(13),CHAR(10),\"          registration outbound\",CHAR(13),CHAR(10),\"             registrar \",Data!$C$24,\" \",Data!$C$25,CHAR(13),CHAR(10),\"             lifetime 300\",CHAR(13),CHAR(10),\"             register auto\",CHAR(13),CHAR(10),\"             retry-timeout on-system-error 10\",CHAR(13),CHAR(10),\"             retry-timeout on-client-error 10\",CHAR(13),CHAR(10),\"             retry-timeout on-server-error 10\")","v":"     identity 112\r\n          authentication outbound\r\n              authenticate 1 authentication-service AS_ALL_EXTENSIONS username 112\r\n          registration outbound\r\n             registrar 10.10.50.23 5060\r\n             lifetime 300\r\n             register auto\r\n             retry-timeout on-system-error 10\r\n             retry-timeout on-client-error 10\r\n             retry-timeout on-server-error 10"}]
[336,{"$f":"+IF(Data!$C$6>ROW(Generic!B337)-ROW(Generic!$B$325),\"\",\"#\")","v":"#"},{"$f":"+CONCATENATE(\"     identity \",'Extension Table'!A14,CHAR(13),CHAR(10),,\"          authentication outbound\",CHAR(13),CHAR(10),,\"              authenticate 1 authentication-service AS_ALL_EXTENSIONS username \",'Extension Table'!F14,CHAR(13),CHAR(10),\"          registration outbound\",CHAR(13),CHAR(10),\"             registrar \",Data!$C$24,\" \",Data!$C$25,CHAR(13),CHAR(10),\"             lifetime 300\",CHAR(13),CHAR(10),\"             register auto\",CHAR(13),CHAR(10),\"             retry-timeout on-system-error 10\",CHAR(13),CHAR(10),\"             retry-timeout on-client-error 10\",CHAR(13),CHAR(10),\"             retry-timeout on-server-error 10\")","v":"     identity 113\r\n          authentication outbound\r\n              authenticate 1 authentication-service AS_ALL_EXTENSIONS username 113\r\n          registration outbound\r\n             registrar 10.10.50.23 5060\r\n             lifetime 300\r\n             register auto\r\n             retry-timeout on-system-error 10\r\n             retry-timeout on-client-error 10\r\n             retry-timeout on-server-error 10"}]
[337,{"$f":"+IF(Data!$C$6>ROW(Generic!B338)-ROW(Generic!$B$325),\"\",\"#\")","v":"#"},{"$f":"+CONCATENATE(\"     identity \",'Extension Table'!A15,CHAR(13),CHAR(10),,\"          authentication outbound\",CHAR(13),CHAR(10),,\"              authenticate 1 authentication-service AS_ALL_EXTENSIONS username \",'Extension Table'!F15,CHAR(13),CHAR(10),\"          registration outbound\",CHAR(13),CHAR(10),\"             registrar \",Data!$C$24,\" \",Data!$C$25,CHAR(13),CHAR(10),\"             lifetime 300\",CHAR(13),CHAR(10),\"             register auto\",CHAR(13),CHAR(10),\"             retry-timeout on-system-error 10\",CHAR(13),CHAR(10),\"             retry-timeout on-client-error 10\",CHAR(13),CHAR(10),\"             retry-timeout on-server-error 10\")","v":"     identity 114\r\n          authentication outbound\r\n              authenticate 1 authentication-service AS_ALL_EXTENSIONS username 114\r\n          registration outbound\r\n             registrar 10.10.50.23 5060\r\n             lifetime 300\r\n             register auto\r\n             retry-timeout on-system-error 10\r\n             retry-timeout on-client-error 10\r\n             retry-timeout on-server-error 10"}]
[338,{"$f":"+IF(Data!$C$6>ROW(Generic!B339)-ROW(Generic!$B$325),\"\",\"#\")","v":"#"},{"$f":"+CONCATENATE(\"     identity \",'Extension Table'!A16,CHAR(13),CHAR(10),,\"          authentication outbound\",CHAR(13),CHAR(10),,\"              authenticate 1 authentication-service AS_ALL_EXTENSIONS username \",'Extension Table'!F16,CHAR(13),CHAR(10),\"          registration outbound\",CHAR(13),CHAR(10),\"             registrar \",Data!$C$24,\" \",Data!$C$25,CHAR(13),CHAR(10),\"             lifetime 300\",CHAR(13),CHAR(10),\"             register auto\",CHAR(13),CHAR(10),\"             retry-timeout on-system-error 10\",CHAR(13),CHAR(10),\"             retry-timeout on-client-error 10\",CHAR(13),CHAR(10),\"             retry-timeout on-server-error 10\")","v":"     identity 115\r\n          authentication outbound\r\n              authenticate 1 authentication-service AS_ALL_EXTENSIONS username 115\r\n          registration outbound\r\n             registrar 10.10.50.23 5060\r\n             lifetime 300\r\n             register auto\r\n             retry-timeout on-system-error 10\r\n             retry-timeout on-client-error 10\r\n             retry-timeout on-server-error 10"}]
[339,{"$f":"+IF(Data!$C$6>ROW(Generic!B340)-ROW(Generic!$B$325),\"\",\"#\")","v":"#"},{"$f":"+CONCATENATE(\"     identity \",'Extension Table'!A17,CHAR(13),CHAR(10),,\"          authentication outbound\",CHAR(13),CHAR(10),,\"              authenticate 1 authentication-service AS_ALL_EXTENSIONS username \",'Extension Table'!F17,CHAR(13),CHAR(10),\"          registration outbound\",CHAR(13),CHAR(10),\"             registrar \",Data!$C$24,\" \",Data!$C$25,CHAR(13),CHAR(10),\"             lifetime 300\",CHAR(13),CHAR(10),\"             register auto\",CHAR(13),CHAR(10),\"             retry-timeout on-system-error 10\",CHAR(13),CHAR(10),\"             retry-timeout on-client-error 10\",CHAR(13),CHAR(10),\"             retry-timeout on-server-error 10\")","v":"     identity 116\r\n          authentication outbound\r\n              authenticate 1 authentication-service AS_ALL_EXTENSIONS username 116\r\n          registration outbound\r\n             registrar 10.10.50.23 5060\r\n             lifetime 300\r\n             register auto\r\n             retry-timeout on-system-error 10\r\n             retry-timeout on-client-error 10\r\n             retry-timeout on-server-error 10"}]
[340,{"$f":"+IF(Data!$C$6>ROW(Generic!B341)-ROW(Generic!$B$325),\"\",\"#\")","v":"#"},{"$f":"+CONCATENATE(\"     identity \",'Extension Table'!A18,CHAR(13),CHAR(10),,\"          authentication outbound\",CHAR(13),CHAR(10),,\"              authenticate 1 authentication-service AS_ALL_EXTENSIONS username \",'Extension Table'!F18,CHAR(13),CHAR(10),\"          registration outbound\",CHAR(13),CHAR(10),\"             registrar \",Data!$C$24,\" \",Data!$C$25,CHAR(13),CHAR(10),\"             lifetime 300\",CHAR(13),CHAR(10),\"             register auto\",CHAR(13),CHAR(10),\"             retry-timeout on-system-error 10\",CHAR(13),CHAR(10),\"             retry-timeout on-client-error 10\",CHAR(13),CHAR(10),\"             retry-timeout on-server-error 10\")","v":"     identity 117\r\n          authentication outbound\r\n              authenticate 1 authentication-service AS_ALL_EXTENSIONS username 117\r\n          registration outbound\r\n             registrar 10.10.50.23 5060\r\n             lifetime 300\r\n             register auto\r\n             retry-timeout on-system-error 10\r\n             retry-timeout on-client-error 10\r\n             retry-timeout on-server-error 10"}]
[341,{"$f":"+IF(Data!$C$6>ROW(Generic!B342)-ROW(Generic!$B$325),\"\",\"#\")","v":"#"},{"$f":"+CONCATENATE(\"     identity \",'Extension Table'!A19,CHAR(13),CHAR(10),,\"          authentication outbound\",CHAR(13),CHAR(10),,\"              authenticate 1 authentication-service AS_ALL_EXTENSIONS username \",'Extension Table'!F19,CHAR(13),CHAR(10),\"          registration outbound\",CHAR(13),CHAR(10),\"             registrar \",Data!$C$24,\" \",Data!$C$25,CHAR(13),CHAR(10),\"             lifetime 300\",CHAR(13),CHAR(10),\"             register auto\",CHAR(13),CHAR(10),\"             retry-timeout on-system-error 10\",CHAR(13),CHAR(10),\"             retry-timeout on-client-error 10\",CHAR(13),CHAR(10),\"             retry-timeout on-server-error 10\")","v":"     identity 118\r\n          authentication outbound\r\n              authenticate 1 authentication-service AS_ALL_EXTENSIONS username 118\r\n          registration outbound\r\n             registrar 10.10.50.23 5060\r\n             lifetime 300\r\n             register auto\r\n             retry-timeout on-system-error 10\r\n             retry-timeout on-client-error 10\r\n             retry-timeout on-server-error 10"}]
[342,{"$f":"+IF(Data!$C$6>ROW(Generic!B343)-ROW(Generic!$B$325),\"\",\"#\")","v":"#"},{"$f":"+CONCATENATE(\"     identity \",'Extension Table'!A20,CHAR(13),CHAR(10),,\"          authentication outbound\",CHAR(13),CHAR(10),,\"              authenticate 1 authentication-service AS_ALL_EXTENSIONS username \",'Extension Table'!F20,CHAR(13),CHAR(10),\"          registration outbound\",CHAR(13),CHAR(10),\"             registrar \",Data!$C$24,\" \",Data!$C$25,CHAR(13),CHAR(10),\"             lifetime 300\",CHAR(13),CHAR(10),\"             register auto\",CHAR(13),CHAR(10),\"             retry-timeout on-system-error 10\",CHAR(13),CHAR(10),\"             retry-timeout on-client-error 10\",CHAR(13),CHAR(10),\"             retry-timeout on-server-error 10\")","v":"     identity 119\r\n          authentication outbound\r\n              authenticate 1 authentication-service AS_ALL_EXTENSIONS username 119\r\n          registration outbound\r\n             registrar 10.10.50.23 5060\r\n             lifetime 300\r\n             register auto\r\n             retry-timeout on-system-error 10\r\n             retry-timeout on-client-error 10\r\n             retry-timeout on-server-error 10"}]
[343,{"$f":"+IF(Data!$C$6>ROW(Generic!B344)-ROW(Generic!$B$325),\"\",\"#\")","v":"#"},{"$f":"+CONCATENATE(\"     identity \",'Extension Table'!A21,CHAR(13),CHAR(10),,\"          authentication outbound\",CHAR(13),CHAR(10),,\"              authenticate 1 authentication-service AS_ALL_EXTENSIONS username \",'Extension Table'!F21,CHAR(13),CHAR(10),\"          registration outbound\",CHAR(13),CHAR(10),\"             registrar \",Data!$C$24,\" \",Data!$C$25,CHAR(13),CHAR(10),\"             lifetime 300\",CHAR(13),CHAR(10),\"             register auto\",CHAR(13),CHAR(10),\"             retry-timeout on-system-error 10\",CHAR(13),CHAR(10),\"             retry-timeout on-client-error 10\",CHAR(13),CHAR(10),\"             retry-timeout on-server-error 10\")","v":"     identity 120\r\n          authentication outbound\r\n              authenticate 1 authentication-service AS_ALL_EXTENSIONS username 120\r\n          registration outbound\r\n             registrar 10.10.50.23 5060\r\n             lifetime 300\r\n             register auto\r\n             retry-timeout on-system-error 10\r\n             retry-timeout on-client-error 10\r\n             retry-timeout on-server-error 10"}]
[344,{"$f":"+IF(Data!$C$6>ROW(Generic!B345)-ROW(Generic!$B$325),\"\",\"#\")","v":"#"},{"$f":"+CONCATENATE(\"     identity \",'Extension Table'!A22,CHAR(13),CHAR(10),,\"          authentication outbound\",CHAR(13),CHAR(10),,\"              authenticate 1 authentication-service AS_ALL_EXTENSIONS username \",'Extension Table'!F22,CHAR(13),CHAR(10),\"          registration outbound\",CHAR(13),CHAR(10),\"             registrar \",Data!$C$24,\" \",Data!$C$25,CHAR(13),CHAR(10),\"             lifetime 300\",CHAR(13),CHAR(10),\"             register auto\",CHAR(13),CHAR(10),\"             retry-timeout on-system-error 10\",CHAR(13),CHAR(10),\"             retry-timeout on-client-error 10\",CHAR(13),CHAR(10),\"             retry-timeout on-server-error 10\")","v":"     identity 121\r\n          authentication outbound\r\n              authenticate 1 authentication-service AS_ALL_EXTENSIONS username 121\r\n          registration outbound\r\n             registrar 10.10.50.23 5060\r\n             lifetime 300\r\n             register auto\r\n             retry-timeout on-system-error 10\r\n             retry-timeout on-client-error 10\r\n             retry-timeout on-server-error 10"}]
[345,{"$f":"+IF(Data!$C$6>ROW(Generic!B346)-ROW(Generic!$B$325),\"\",\"#\")","v":"#"},{"$f":"+CONCATENATE(\"     identity \",'Extension Table'!A23,CHAR(13),CHAR(10),,\"          authentication outbound\",CHAR(13),CHAR(10),,\"              authenticate 1 authentication-service AS_ALL_EXTENSIONS username \",'Extension Table'!F23,CHAR(13),CHAR(10),\"          registration outbound\",CHAR(13),CHAR(10),\"             registrar \",Data!$C$24,\" \",Data!$C$25,CHAR(13),CHAR(10),\"             lifetime 300\",CHAR(13),CHAR(10),\"             register auto\",CHAR(13),CHAR(10),\"             retry-timeout on-system-error 10\",CHAR(13),CHAR(10),\"             retry-timeout on-client-error 10\",CHAR(13),CHAR(10),\"             retry-timeout on-server-error 10\")","v":"     identity 122\r\n          authentication outbound\r\n              authenticate 1 authentication-service AS_ALL_EXTENSIONS username 122\r\n          registration outbound\r\n             registrar 10.10.50.23 5060\r\n             lifetime 300\r\n             register auto\r\n             retry-timeout on-system-error 10\r\n             retry-timeout on-client-error 10\r\n             retry-timeout on-server-error 10"}]
[346,{"$f":"+IF(Data!$C$6>ROW(Generic!B347)-ROW(Generic!$B$325),\"\",\"#\")","v":"#"},{"$f":"+CONCATENATE(\"     identity \",'Extension Table'!A24,CHAR(13),CHAR(10),,\"          authentication outbound\",CHAR(13),CHAR(10),,\"              authenticate 1 authentication-service AS_ALL_EXTENSIONS username \",'Extension Table'!F24,CHAR(13),CHAR(10),\"          registration outbound\",CHAR(13),CHAR(10),\"             registrar \",Data!$C$24,\" \",Data!$C$25,CHAR(13),CHAR(10),\"             lifetime 300\",CHAR(13),CHAR(10),\"             register auto\",CHAR(13),CHAR(10),\"             retry-timeout on-system-error 10\",CHAR(13),CHAR(10),\"             retry-timeout on-client-error 10\",CHAR(13),CHAR(10),\"             retry-timeout on-server-error 10\")","v":"     identity 123\r\n          authentication outbound\r\n              authenticate 1 authentication-service AS_ALL_EXTENSIONS username 123\r\n          registration outbound\r\n             registrar 10.10.50.23 5060\r\n             lifetime 300\r\n             register auto\r\n             retry-timeout on-system-error 10\r\n             retry-timeout on-client-error 10\r\n             retry-timeout on-server-error 10"}]
[347,{"$f":"+IF(Data!$C$6>ROW(Generic!B348)-ROW(Generic!$B$325),\"\",\"#\")","v":"#"},{"$f":"+CONCATENATE(\"     identity \",'Extension Table'!A25,CHAR(13),CHAR(10),,\"          authentication outbound\",CHAR(13),CHAR(10),,\"              authenticate 1 authentication-service AS_ALL_EXTENSIONS username \",'Extension Table'!F25,CHAR(13),CHAR(10),\"          registration outbound\",CHAR(13),CHAR(10),\"             registrar \",Data!$C$24,\" \",Data!$C$25,CHAR(13),CHAR(10),\"             lifetime 300\",CHAR(13),CHAR(10),\"             register auto\",CHAR(13),CHAR(10),\"             retry-timeout on-system-error 10\",CHAR(13),CHAR(10),\"             retry-timeout on-client-error 10\",CHAR(13),CHAR(10),\"             retry-timeout on-server-error 10\")","v":"     identity 124\r\n          authentication outbound\r\n              authenticate 1 authentication-service AS_ALL_EXTENSIONS username 124\r\n          registration outbound\r\n             registrar 10.10.50.23 5060\r\n             lifetime 300\r\n             register auto\r\n             retry-timeout on-system-error 10\r\n             retry-timeout on-client-error 10\r\n             retry-timeout on-server-error 10"}]
[348,{"$f":"+IF(Data!$C$6>ROW(Generic!B349)-ROW(Generic!$B$325),\"\",\"#\")","v":"#"},{"$f":"+CONCATENATE(\"     identity \",'Extension Table'!A26,CHAR(13),CHAR(10),,\"          authentication outbound\",CHAR(13),CHAR(10),,\"              authenticate 1 authentication-service AS_ALL_EXTENSIONS username \",'Extension Table'!F26,CHAR(13),CHAR(10),\"          registration outbound\",CHAR(13),CHAR(10),\"             registrar \",Data!$C$24,\" \",Data!$C$25,CHAR(13),CHAR(10),\"             lifetime 300\",CHAR(13),CHAR(10),\"             register auto\",CHAR(13),CHAR(10),\"             retry-timeout on-system-error 10\",CHAR(13),CHAR(10),\"             retry-timeout on-client-error 10\",CHAR(13),CHAR(10),\"             retry-timeout on-server-error 10\")","v":"     identity 125\r\n          authentication outbound\r\n              authenticate 1 authentication-service AS_ALL_EXTENSIONS username 125\r\n          registration outbound\r\n             registrar 10.10.50.23 5060\r\n             lifetime 300\r\n             register auto\r\n             retry-timeout on-system-error 10\r\n             retry-timeout on-client-error 10\r\n             retry-timeout on-server-error 10"}]
[349,{"$f":"+IF(Data!$C$6>ROW(Generic!B350)-ROW(Generic!$B$325),\"\",\"#\")","v":"#"},{"$f":"+CONCATENATE(\"     identity \",'Extension Table'!A27,CHAR(13),CHAR(10),,\"          authentication outbound\",CHAR(13),CHAR(10),,\"              authenticate 1 authentication-service AS_ALL_EXTENSIONS username \",'Extension Table'!F27,CHAR(13),CHAR(10),\"          registration outbound\",CHAR(13),CHAR(10),\"             registrar \",Data!$C$24,\" \",Data!$C$25,CHAR(13),CHAR(10),\"             lifetime 300\",CHAR(13),CHAR(10),\"             register auto\",CHAR(13),CHAR(10),\"             retry-timeout on-system-error 10\",CHAR(13),CHAR(10),\"             retry-timeout on-client-error 10\",CHAR(13),CHAR(10),\"             retry-timeout on-server-error 10\")","v":"     identity 126\r\n          authentication outbound\r\n              authenticate 1 authentication-service AS_ALL_EXTENSIONS username 126\r\n          registration outbound\r\n             registrar 10.10.50.23 5060\r\n             lifetime 300\r\n             register auto\r\n             retry-timeout on-system-error 10\r\n             retry-timeout on-client-error 10\r\n             retry-timeout on-server-error 10"}]
[350,{"$f":"+IF(Data!$C$6>ROW(Generic!B351)-ROW(Generic!$B$325),\"\",\"#\")","v":"#"},{"$f":"+CONCATENATE(\"     identity \",'Extension Table'!A28,CHAR(13),CHAR(10),,\"          authentication outbound\",CHAR(13),CHAR(10),,\"              authenticate 1 authentication-service AS_ALL_EXTENSIONS username \",'Extension Table'!F28,CHAR(13),CHAR(10),\"          registration outbound\",CHAR(13),CHAR(10),\"             registrar \",Data!$C$24,\" \",Data!$C$25,CHAR(13),CHAR(10),\"             lifetime 300\",CHAR(13),CHAR(10),\"             register auto\",CHAR(13),CHAR(10),\"             retry-timeout on-system-error 10\",CHAR(13),CHAR(10),\"             retry-timeout on-client-error 10\",CHAR(13),CHAR(10),\"             retry-timeout on-server-error 10\")","v":"     identity 127\r\n          authentication outbound\r\n              authenticate 1 authentication-service AS_ALL_EXTENSIONS username 127\r\n          registration outbound\r\n             registrar 10.10.50.23 5060\r\n             lifetime 300\r\n             register auto\r\n             retry-timeout on-system-error 10\r\n             retry-timeout on-client-error 10\r\n             retry-timeout on-server-error 10"}]
[351,{"$f":"+IF(Data!$C$6>ROW(Generic!B352)-ROW(Generic!$B$325),\"\",\"#\")","v":"#"},{"$f":"+CONCATENATE(\"     identity \",'Extension Table'!A29,CHAR(13),CHAR(10),,\"          authentication outbound\",CHAR(13),CHAR(10),,\"              authenticate 1 authentication-service AS_ALL_EXTENSIONS username \",'Extension Table'!F29,CHAR(13),CHAR(10),\"          registration outbound\",CHAR(13),CHAR(10),\"             registrar \",Data!$C$24,\" \",Data!$C$25,CHAR(13),CHAR(10),\"             lifetime 300\",CHAR(13),CHAR(10),\"             register auto\",CHAR(13),CHAR(10),\"             retry-timeout on-system-error 10\",CHAR(13),CHAR(10),\"             retry-timeout on-client-error 10\",CHAR(13),CHAR(10),\"             retry-timeout on-server-error 10\")","v":"     identity 128\r\n          authentication outbound\r\n              authenticate 1 authentication-service AS_ALL_EXTENSIONS username 128\r\n          registration outbound\r\n             registrar 10.10.50.23 5060\r\n             lifetime 300\r\n             register auto\r\n             retry-timeout on-system-error 10\r\n             retry-timeout on-client-error 10\r\n             retry-timeout on-server-error 10"}]
[352,{"$f":"+IF(Data!$C$6>ROW(Generic!B353)-ROW(Generic!$B$325),\"\",\"#\")","v":"#"},{"$f":"+CONCATENATE(\"     identity \",'Extension Table'!A30,CHAR(13),CHAR(10),,\"          authentication outbound\",CHAR(13),CHAR(10),,\"              authenticate 1 authentication-service AS_ALL_EXTENSIONS username \",'Extension Table'!F30,CHAR(13),CHAR(10),\"          registration outbound\",CHAR(13),CHAR(10),\"             registrar \",Data!$C$24,\" \",Data!$C$25,CHAR(13),CHAR(10),\"             lifetime 300\",CHAR(13),CHAR(10),\"             register auto\",CHAR(13),CHAR(10),\"             retry-timeout on-system-error 10\",CHAR(13),CHAR(10),\"             retry-timeout on-client-error 10\",CHAR(13),CHAR(10),\"             retry-timeout on-server-error 10\")","v":"     identity 129\r\n          authentication outbound\r\n              authenticate 1 authentication-service AS_ALL_EXTENSIONS username 129\r\n          registration outbound\r\n             registrar 10.10.50.23 5060\r\n             lifetime 300\r\n             register auto\r\n             retry-timeout on-system-error 10\r\n             retry-timeout on-client-error 10\r\n             retry-timeout on-server-error 10"}]
[353,{"$f":"+IF(Data!$C$6>ROW(Generic!B354)-ROW(Generic!$B$325),\"\",\"#\")","v":"#"},{"$f":"+CONCATENATE(\"     identity \",'Extension Table'!A31,CHAR(13),CHAR(10),,\"          authentication outbound\",CHAR(13),CHAR(10),,\"              authenticate 1 authentication-service AS_ALL_EXTENSIONS username \",'Extension Table'!F31,CHAR(13),CHAR(10),\"          registration outbound\",CHAR(13),CHAR(10),\"             registrar \",Data!$C$24,\" \",Data!$C$25,CHAR(13),CHAR(10),\"             lifetime 300\",CHAR(13),CHAR(10),\"             register auto\",CHAR(13),CHAR(10),\"             retry-timeout on-system-error 10\",CHAR(13),CHAR(10),\"             retry-timeout on-client-error 10\",CHAR(13),CHAR(10),\"             retry-timeout on-server-error 10\")","v":"     identity 130\r\n          authentication outbound\r\n              authenticate 1 authentication-service AS_ALL_EXTENSIONS username 130\r\n          registration outbound\r\n             registrar 10.10.50.23 5060\r\n             lifetime 300\r\n             register auto\r\n             retry-timeout on-system-error 10\r\n             retry-timeout on-client-error 10\r\n             retry-timeout on-server-error 10"}]
[354,{"$f":"+IF(Data!$C$6>ROW(Generic!B355)-ROW(Generic!$B$325),\"\",\"#\")","v":"#"},{"$f":"+CONCATENATE(\"     identity \",'Extension Table'!A32,CHAR(13),CHAR(10),,\"          authentication outbound\",CHAR(13),CHAR(10),,\"              authenticate 1 authentication-service AS_ALL_EXTENSIONS username \",'Extension Table'!F32,CHAR(13),CHAR(10),\"          registration outbound\",CHAR(13),CHAR(10),\"             registrar \",Data!$C$24,\" \",Data!$C$25,CHAR(13),CHAR(10),\"             lifetime 300\",CHAR(13),CHAR(10),\"             register auto\",CHAR(13),CHAR(10),\"             retry-timeout on-system-error 10\",CHAR(13),CHAR(10),\"             retry-timeout on-client-error 10\",CHAR(13),CHAR(10),\"             retry-timeout on-server-error 10\")","v":"     identity 131\r\n          authentication outbound\r\n              authenticate 1 authentication-service AS_ALL_EXTENSIONS username 131\r\n          registration outbound\r\n             registrar 10.10.50.23 5060\r\n             lifetime 300\r\n             register auto\r\n             retry-timeout on-system-error 10\r\n             retry-timeout on-client-error 10\r\n             retry-timeout on-server-error 10"}]
[355,{"$f":"+IF(Data!$C$6>ROW(Generic!B356)-ROW(Generic!$B$325),\"\",\"#\")","v":"#"},{"$f":"+CONCATENATE(\"     identity \",'Extension Table'!A33,CHAR(13),CHAR(10),,\"          authentication outbound\",CHAR(13),CHAR(10),,\"              authenticate 1 authentication-service AS_ALL_EXTENSIONS username \",'Extension Table'!F33,CHAR(13),CHAR(10),\"          registration outbound\",CHAR(13),CHAR(10),\"             registrar \",Data!$C$24,\" \",Data!$C$25,CHAR(13),CHAR(10),\"             lifetime 300\",CHAR(13),CHAR(10),\"             register auto\",CHAR(13),CHAR(10),\"             retry-timeout on-system-error 10\",CHAR(13),CHAR(10),\"             retry-timeout on-client-error 10\",CHAR(13),CHAR(10),\"             retry-timeout on-server-error 10\")","v":"     identity 132\r\n          authentication outbound\r\n              authenticate 1 authentication-service AS_ALL_EXTENSIONS username 132\r\n          registration outbound\r\n             registrar 10.10.50.23 5060\r\n             lifetime 300\r\n             register auto\r\n             retry-timeout on-system-error 10\r\n             retry-timeout on-client-error 10\r\n             retry-timeout on-server-error 10"}]
[389,null,"          "]
[390,{"$f":"+IF(Data!$C$5>ROW(Generic!B391)-ROW(Generic!$B$391),\"\",\"#\")","v":""},{"$f":"+CONCATENATE(\"context sip-gateway GW_SIP_\",'Line Table'!A2,CHAR(13),CHAR(10),\" interface \",Data!$C$8,CHAR(13),CHAR(10),\" bind interface IF_IP_\",Data!$C$8,\" context router port \",'Line Table'!G2,CHAR(13),CHAR(10),\" context sip-gateway GW_SIP_\",'Line Table'!A2,CHAR(13),CHAR(10),\" bind location-service LS_\",'Line Table'!A2,CHAR(13),CHAR(10),\" no shutdown\")","v":"context sip-gateway GW_SIP_1\r\n interface LAN\r\n bind interface IF_IP_LAN context router port 5060\r\n context sip-gateway GW_SIP_1\r\n bind location-service LS_1\r\n no shutdown"}]
[391,{"$f":"+IF(Data!$C$5>ROW(Generic!B392)-ROW(Generic!$B$391),\"\",\"#\")","v":""},{"$f":"+CONCATENATE(\"context sip-gateway GW_SIP_\",'Line Table'!A3,CHAR(13),CHAR(10),\" interface \",Data!$C$8,CHAR(13),CHAR(10),\" bind interface IF_IP_\",Data!$C$8,\" context router port \",'Line Table'!G3,CHAR(13),CHAR(10),\" context sip-gateway GW_SIP_\",'Line Table'!A3,CHAR(13),CHAR(10),\" bind location-service LS_\",'Line Table'!A3,CHAR(13),CHAR(10),\" no shutdown\")","v":"context sip-gateway GW_SIP_2\r\n interface LAN\r\n bind interface IF_IP_LAN context router port 5062\r\n context sip-gateway GW_SIP_2\r\n bind location-service LS_2\r\n no shutdown"}]
[392,{"$f":"+IF(Data!$C$5>ROW(Generic!B393)-ROW(Generic!$B$391),\"\",\"#\")","v":""},{"$f":"+CONCATENATE(\"context sip-gateway GW_SIP_\",'Line Table'!A4,CHAR(13),CHAR(10),\" interface \",Data!$C$8,CHAR(13),CHAR(10),\" bind interface IF_IP_\",Data!$C$8,\" context router port \",'Line Table'!G4,CHAR(13),CHAR(10),\" context sip-gateway GW_SIP_\",'Line Table'!A4,CHAR(13),CHAR(10),\" bind location-service LS_\",'Line Table'!A4,CHAR(13),CHAR(10),\" no shutdown\")","v":"context sip-gateway GW_SIP_3\r\n interface LAN\r\n bind interface IF_IP_LAN context router port 5064\r\n context sip-gateway GW_SIP_3\r\n bind location-service LS_3\r\n no shutdown"}]
[393,{"$f":"+IF(Data!$C$5>ROW(Generic!B394)-ROW(Generic!$B$391),\"\",\"#\")","v":""},{"$f":"+CONCATENATE(\"context sip-gateway GW_SIP_\",'Line Table'!A5,CHAR(13),CHAR(10),\" interface \",Data!$C$8,CHAR(13),CHAR(10),\" bind interface IF_IP_\",Data!$C$8,\" context router port \",'Line Table'!G5,CHAR(13),CHAR(10),\" context sip-gateway GW_SIP_\",'Line Table'!A5,CHAR(13),CHAR(10),\" bind location-service LS_\",'Line Table'!A5,CHAR(13),CHAR(10),\" no shutdown\")","v":"context sip-gateway GW_SIP_4\r\n interface LAN\r\n bind interface IF_IP_LAN context router port 5066\r\n context sip-gateway GW_SIP_4\r\n bind location-service LS_4\r\n no shutdown"}]
[394,{"$f":"+IF(Data!$C$5>ROW(Generic!B395)-ROW(Generic!$B$391),\"\",\"#\")","v":""},{"$f":"+CONCATENATE(\"context sip-gateway GW_SIP_\",'Line Table'!A6,CHAR(13),CHAR(10),\" interface \",Data!$C$8,CHAR(13),CHAR(10),\" bind interface IF_IP_\",Data!$C$8,\" context router port \",'Line Table'!G6,CHAR(13),CHAR(10),\" context sip-gateway GW_SIP_\",'Line Table'!A6,CHAR(13),CHAR(10),\" bind location-service LS_\",'Line Table'!A6,CHAR(13),CHAR(10),\" no shutdown\")","v":"context sip-gateway GW_SIP_5\r\n interface LAN\r\n bind interface IF_IP_LAN context router port 5068\r\n context sip-gateway GW_SIP_5\r\n bind location-service LS_5\r\n no shutdown"}]
[395,{"$f":"+IF(Data!$C$5>ROW(Generic!B396)-ROW(Generic!$B$391),\"\",\"#\")","v":""},{"$f":"+CONCATENATE(\"context sip-gateway GW_SIP_\",'Line Table'!A7,CHAR(13),CHAR(10),\" interface \",Data!$C$8,CHAR(13),CHAR(10),\" bind interface IF_IP_\",Data!$C$8,\" context router port \",'Line Table'!G7,CHAR(13),CHAR(10),\" context sip-gateway GW_SIP_\",'Line Table'!A7,CHAR(13),CHAR(10),\" bind location-service LS_\",'Line Table'!A7,CHAR(13),CHAR(10),\" no shutdown\")","v":"context sip-gateway GW_SIP_6\r\n interface LAN\r\n bind interface IF_IP_LAN context router port 5070\r\n context sip-gateway GW_SIP_6\r\n bind location-service LS_6\r\n no shutdown"}]
[396,{"$f":"+IF(Data!$C$5>ROW(Generic!B397)-ROW(Generic!$B$391),\"\",\"#\")","v":""},{"$f":"+CONCATENATE(\"context sip-gateway GW_SIP_\",'Line Table'!A8,CHAR(13),CHAR(10),\" interface \",Data!$C$8,CHAR(13),CHAR(10),\" bind interface IF_IP_\",Data!$C$8,\" context router port \",'Line Table'!G8,CHAR(13),CHAR(10),\" context sip-gateway GW_SIP_\",'Line Table'!A8,CHAR(13),CHAR(10),\" bind location-service LS_\",'Line Table'!A8,CHAR(13),CHAR(10),\" no shutdown\")","v":"context sip-gateway GW_SIP_7\r\n interface LAN\r\n bind interface IF_IP_LAN context router port 5072\r\n context sip-gateway GW_SIP_7\r\n bind location-service LS_7\r\n no shutdown"}]
[397,{"$f":"+IF(Data!$C$5>ROW(Generic!B398)-ROW(Generic!$B$391),\"\",\"#\")","v":""},{"$f":"+CONCATENATE(\"context sip-gateway GW_SIP_\",'Line Table'!A9,CHAR(13),CHAR(10),\" interface \",Data!$C$8,CHAR(13),CHAR(10),\" bind interface IF_IP_\",Data!$C$8,\" context router port \",'Line Table'!G9,CHAR(13),CHAR(10),\" context sip-gateway GW_SIP_\",'Line Table'!A9,CHAR(13),CHAR(10),\" bind location-service LS_\",'Line Table'!A9,CHAR(13),CHAR(10),\" no shutdown\")","v":"context sip-gateway GW_SIP_8\r\n interface LAN\r\n bind interface IF_IP_LAN context router port 5074\r\n context sip-gateway GW_SIP_8\r\n bind location-service LS_8\r\n no shutdown"}]
[398,{"$f":"+IF(Data!$C$5>ROW(Generic!B399)-ROW(Generic!$B$391),\"\",\"#\")","v":""},{"$f":"+CONCATENATE(\"context sip-gateway GW_SIP_\",'Line Table'!A10,CHAR(13),CHAR(10),\" interface \",Data!$C$8,CHAR(13),CHAR(10),\" bind interface IF_IP_\",Data!$C$8,\" context router port \",'Line Table'!G10,CHAR(13),CHAR(10),\" context sip-gateway GW_SIP_\",'Line Table'!A10,CHAR(13),CHAR(10),\" bind location-service LS_\",'Line Table'!A10,CHAR(13),CHAR(10),\" no shutdown\")","v":"context sip-gateway GW_SIP_9\r\n interface LAN\r\n bind interface IF_IP_LAN context router port 5076\r\n context sip-gateway GW_SIP_9\r\n bind location-service LS_9\r\n no shutdown"}]
[399,{"$f":"+IF(Data!$C$5>ROW(Generic!B400)-ROW(Generic!$B$391),\"\",\"#\")","v":""},{"$f":"+CONCATENATE(\"context sip-gateway GW_SIP_\",'Line Table'!A11,CHAR(13),CHAR(10),\" interface \",Data!$C$8,CHAR(13),CHAR(10),\" bind interface IF_IP_\",Data!$C$8,\" context router port \",'Line Table'!G11,CHAR(13),CHAR(10),\" context sip-gateway GW_SIP_\",'Line Table'!A11,CHAR(13),CHAR(10),\" bind location-service LS_\",'Line Table'!A11,CHAR(13),CHAR(10),\" no shutdown\")","v":"context sip-gateway GW_SIP_10\r\n interface LAN\r\n bind interface IF_IP_LAN context router port 5078\r\n context sip-gateway GW_SIP_10\r\n bind location-service LS_10\r\n no shutdown"}]
[400,{"$f":"+IF(Data!$C$5>ROW(Generic!B401)-ROW(Generic!$B$391),\"\",\"#\")","v":""},{"$f":"+CONCATENATE(\"context sip-gateway GW_SIP_\",'Line Table'!A12,CHAR(13),CHAR(10),\" interface \",Data!$C$8,CHAR(13),CHAR(10),\" bind interface IF_IP_\",Data!$C$8,\" context router port \",'Line Table'!G12,CHAR(13),CHAR(10),\" context sip-gateway GW_SIP_\",'Line Table'!A12,CHAR(13),CHAR(10),\" bind location-service LS_\",'Line Table'!A12,CHAR(13),CHAR(10),\" no shutdown\")","v":"context sip-gateway GW_SIP_11\r\n interface LAN\r\n bind interface IF_IP_LAN context router port 5080\r\n context sip-gateway GW_SIP_11\r\n bind location-service LS_11\r\n no shutdown"}]
[401,{"$f":"+IF(Data!$C$5>ROW(Generic!B402)-ROW(Generic!$B$391),\"\",\"#\")","v":""},{"$f":"+CONCATENATE(\"context sip-gateway GW_SIP_\",'Line Table'!A13,CHAR(13),CHAR(10),\" interface \",Data!$C$8,CHAR(13),CHAR(10),\" bind interface IF_IP_\",Data!$C$8,\" context router port \",'Line Table'!G13,CHAR(13),CHAR(10),\" context sip-gateway GW_SIP_\",'Line Table'!A13,CHAR(13),CHAR(10),\" bind location-service LS_\",'Line Table'!A13,CHAR(13),CHAR(10),\" no shutdown\")","v":"context sip-gateway GW_SIP_12\r\n interface LAN\r\n bind interface IF_IP_LAN context router port 5082\r\n context sip-gateway GW_SIP_12\r\n bind location-service LS_12\r\n no shutdown"}]
[402,{"$f":"+IF(Data!$C$5>ROW(Generic!B403)-ROW(Generic!$B$391),\"\",\"#\")","v":"#"},{"$f":"+CONCATENATE(\"context sip-gateway GW_SIP_\",'Line Table'!A14,CHAR(13),CHAR(10),\" interface \",Data!$C$8,CHAR(13),CHAR(10),\" bind interface IF_IP_\",Data!$C$8,\" context router port \",'Line Table'!G14,CHAR(13),CHAR(10),\" context sip-gateway GW_SIP_\",'Line Table'!A14,CHAR(13),CHAR(10),\" bind location-service LS_\",'Line Table'!A14,CHAR(13),CHAR(10),\" no shutdown\")","v":"context sip-gateway GW_SIP_13\r\n interface LAN\r\n bind interface IF_IP_LAN context router port 5084\r\n context sip-gateway GW_SIP_13\r\n bind location-service LS_13\r\n no shutdown"}]
[403,{"$f":"+IF(Data!$C$5>ROW(Generic!B404)-ROW(Generic!$B$391),\"\",\"#\")","v":"#"},{"$f":"+CONCATENATE(\"context sip-gateway GW_SIP_\",'Line Table'!A15,CHAR(13),CHAR(10),\" interface \",Data!$C$8,CHAR(13),CHAR(10),\" bind interface IF_IP_\",Data!$C$8,\" context router port \",'Line Table'!G15,CHAR(13),CHAR(10),\" context sip-gateway GW_SIP_\",'Line Table'!A15,CHAR(13),CHAR(10),\" bind location-service LS_\",'Line Table'!A15,CHAR(13),CHAR(10),\" no shutdown\")","v":"context sip-gateway GW_SIP_14\r\n interface LAN\r\n bind interface IF_IP_LAN context router port 5086\r\n context sip-gateway GW_SIP_14\r\n bind location-service LS_14\r\n no shutdown"}]
[404,{"$f":"+IF(Data!$C$5>ROW(Generic!B405)-ROW(Generic!$B$391),\"\",\"#\")","v":"#"},{"$f":"+CONCATENATE(\"context sip-gateway GW_SIP_\",'Line Table'!A16,CHAR(13),CHAR(10),\" interface \",Data!$C$8,CHAR(13),CHAR(10),\" bind interface IF_IP_\",Data!$C$8,\" context router port \",'Line Table'!G16,CHAR(13),CHAR(10),\" context sip-gateway GW_SIP_\",'Line Table'!A16,CHAR(13),CHAR(10),\" bind location-service LS_\",'Line Table'!A16,CHAR(13),CHAR(10),\" no shutdown\")","v":"context sip-gateway GW_SIP_15\r\n interface LAN\r\n bind interface IF_IP_LAN context router port 5088\r\n context sip-gateway GW_SIP_15\r\n bind location-service LS_15\r\n no shutdown"}]
[405,{"$f":"+IF(Data!$C$5>ROW(Generic!B406)-ROW(Generic!$B$391),\"\",\"#\")","v":"#"},{"$f":"+CONCATENATE(\"context sip-gateway GW_SIP_\",'Line Table'!A17,CHAR(13),CHAR(10),\" interface \",Data!$C$8,CHAR(13),CHAR(10),\" bind interface IF_IP_\",Data!$C$8,\" context router port \",'Line Table'!G17,CHAR(13),CHAR(10),\" context sip-gateway GW_SIP_\",'Line Table'!A17,CHAR(13),CHAR(10),\" bind location-service LS_\",'Line Table'!A17,CHAR(13),CHAR(10),\" no shutdown\")","v":"context sip-gateway GW_SIP_16\r\n interface LAN\r\n bind interface IF_IP_LAN context router port 5090\r\n context sip-gateway GW_SIP_16\r\n bind location-service LS_16\r\n no shutdown"}]
[406,{"$f":"+IF(Data!$C$5>ROW(Generic!B407)-ROW(Generic!$B$391),\"\",\"#\")","v":"#"},{"$f":"+CONCATENATE(\"context sip-gateway GW_SIP_\",'Line Table'!A18,CHAR(13),CHAR(10),\" interface \",Data!$C$8,CHAR(13),CHAR(10),\" bind interface IF_IP_\",Data!$C$8,\" context router port \",'Line Table'!G18,CHAR(13),CHAR(10),\" context sip-gateway GW_SIP_\",'Line Table'!A18,CHAR(13),CHAR(10),\" bind location-service LS_\",'Line Table'!A18,CHAR(13),CHAR(10),\" no shutdown\")","v":"context sip-gateway GW_SIP_17\r\n interface LAN\r\n bind interface IF_IP_LAN context router port 5092\r\n context sip-gateway GW_SIP_17\r\n bind location-service LS_17\r\n no shutdown"}]
[407,{"$f":"+IF(Data!$C$5>ROW(Generic!B408)-ROW(Generic!$B$391),\"\",\"#\")","v":"#"},{"$f":"+CONCATENATE(\"context sip-gateway GW_SIP_\",'Line Table'!A19,CHAR(13),CHAR(10),\" interface \",Data!$C$8,CHAR(13),CHAR(10),\" bind interface IF_IP_\",Data!$C$8,\" context router port \",'Line Table'!G19,CHAR(13),CHAR(10),\" context sip-gateway GW_SIP_\",'Line Table'!A19,CHAR(13),CHAR(10),\" bind location-service LS_\",'Line Table'!A19,CHAR(13),CHAR(10),\" no shutdown\")","v":"context sip-gateway GW_SIP_18\r\n interface LAN\r\n bind interface IF_IP_LAN context router port 5094\r\n context sip-gateway GW_SIP_18\r\n bind location-service LS_18\r\n no shutdown"}]
[408,{"$f":"+IF(Data!$C$5>ROW(Generic!B409)-ROW(Generic!$B$391),\"\",\"#\")","v":"#"},{"$f":"+CONCATENATE(\"context sip-gateway GW_SIP_\",'Line Table'!A20,CHAR(13),CHAR(10),\" interface \",Data!$C$8,CHAR(13),CHAR(10),\" bind interface IF_IP_\",Data!$C$8,\" context router port \",'Line Table'!G20,CHAR(13),CHAR(10),\" context sip-gateway GW_SIP_\",'Line Table'!A20,CHAR(13),CHAR(10),\" bind location-service LS_\",'Line Table'!A20,CHAR(13),CHAR(10),\" no shutdown\")","v":"context sip-gateway GW_SIP_19\r\n interface LAN\r\n bind interface IF_IP_LAN context router port 5096\r\n context sip-gateway GW_SIP_19\r\n bind location-service LS_19\r\n no shutdown"}]
[409,{"$f":"+IF(Data!$C$5>ROW(Generic!B410)-ROW(Generic!$B$391),\"\",\"#\")","v":"#"},{"$f":"+CONCATENATE(\"context sip-gateway GW_SIP_\",'Line Table'!A21,CHAR(13),CHAR(10),\" interface \",Data!$C$8,CHAR(13),CHAR(10),\" bind interface IF_IP_\",Data!$C$8,\" context router port \",'Line Table'!G21,CHAR(13),CHAR(10),\" context sip-gateway GW_SIP_\",'Line Table'!A21,CHAR(13),CHAR(10),\" bind location-service LS_\",'Line Table'!A21,CHAR(13),CHAR(10),\" no shutdown\")","v":"context sip-gateway GW_SIP_20\r\n interface LAN\r\n bind interface IF_IP_LAN context router port 5098\r\n context sip-gateway GW_SIP_20\r\n bind location-service LS_20\r\n no shutdown"}]
[410,{"$f":"+IF(Data!$C$5>ROW(Generic!B411)-ROW(Generic!$B$391),\"\",\"#\")","v":"#"},{"$f":"+CONCATENATE(\"context sip-gateway GW_SIP_\",'Line Table'!A22,CHAR(13),CHAR(10),\" interface \",Data!$C$8,CHAR(13),CHAR(10),\" bind interface IF_IP_\",Data!$C$8,\" context router port \",'Line Table'!G22,CHAR(13),CHAR(10),\" context sip-gateway GW_SIP_\",'Line Table'!A22,CHAR(13),CHAR(10),\" bind location-service LS_\",'Line Table'!A22,CHAR(13),CHAR(10),\" no shutdown\")","v":"context sip-gateway GW_SIP_21\r\n interface LAN\r\n bind interface IF_IP_LAN context router port 5100\r\n context sip-gateway GW_SIP_21\r\n bind location-service LS_21\r\n no shutdown"}]
[411,{"$f":"+IF(Data!$C$5>ROW(Generic!B412)-ROW(Generic!$B$391),\"\",\"#\")","v":"#"},{"$f":"+CONCATENATE(\"context sip-gateway GW_SIP_\",'Line Table'!A23,CHAR(13),CHAR(10),\" interface \",Data!$C$8,CHAR(13),CHAR(10),\" bind interface IF_IP_\",Data!$C$8,\" context router port \",'Line Table'!G23,CHAR(13),CHAR(10),\" context sip-gateway GW_SIP_\",'Line Table'!A23,CHAR(13),CHAR(10),\" bind location-service LS_\",'Line Table'!A23,CHAR(13),CHAR(10),\" no shutdown\")","v":"context sip-gateway GW_SIP_22\r\n interface LAN\r\n bind interface IF_IP_LAN context router port 5102\r\n context sip-gateway GW_SIP_22\r\n bind location-service LS_22\r\n no shutdown"}]
[412,{"$f":"+IF(Data!$C$5>ROW(Generic!B413)-ROW(Generic!$B$391),\"\",\"#\")","v":"#"},{"$f":"+CONCATENATE(\"context sip-gateway GW_SIP_\",'Line Table'!A24,CHAR(13),CHAR(10),\" interface \",Data!$C$8,CHAR(13),CHAR(10),\" bind interface IF_IP_\",Data!$C$8,\" context router port \",'Line Table'!G24,CHAR(13),CHAR(10),\" context sip-gateway GW_SIP_\",'Line Table'!A24,CHAR(13),CHAR(10),\" bind location-service LS_\",'Line Table'!A24,CHAR(13),CHAR(10),\" no shutdown\")","v":"context sip-gateway GW_SIP_23\r\n interface LAN\r\n bind interface IF_IP_LAN context router port 5104\r\n context sip-gateway GW_SIP_23\r\n bind location-service LS_23\r\n no shutdown"}]
[413,{"$f":"+IF(Data!$C$5>ROW(Generic!B414)-ROW(Generic!$B$391),\"\",\"#\")","v":"#"},{"$f":"+CONCATENATE(\"context sip-gateway GW_SIP_\",'Line Table'!A25,CHAR(13),CHAR(10),\" interface \",Data!$C$8,CHAR(13),CHAR(10),\" bind interface IF_IP_\",Data!$C$8,\" context router port \",'Line Table'!G25,CHAR(13),CHAR(10),\" context sip-gateway GW_SIP_\",'Line Table'!A25,CHAR(13),CHAR(10),\" bind location-service LS_\",'Line Table'!A25,CHAR(13),CHAR(10),\" no shutdown\")","v":"context sip-gateway GW_SIP_24\r\n interface LAN\r\n bind interface IF_IP_LAN context router port 5106\r\n context sip-gateway GW_SIP_24\r\n bind location-service LS_24\r\n no shutdown"}]
[414,{"$f":"+IF(Data!$C$5>ROW(Generic!B415)-ROW(Generic!$B$391),\"\",\"#\")","v":"#"},{"$f":"+CONCATENATE(\"context sip-gateway GW_SIP_\",'Line Table'!A26,CHAR(13),CHAR(10),\" interface \",Data!$C$8,CHAR(13),CHAR(10),\" bind interface IF_IP_\",Data!$C$8,\" context router port \",'Line Table'!G26,CHAR(13),CHAR(10),\" context sip-gateway GW_SIP_\",'Line Table'!A26,CHAR(13),CHAR(10),\" bind location-service LS_\",'Line Table'!A26,CHAR(13),CHAR(10),\" no shutdown\")","v":"context sip-gateway GW_SIP_25\r\n interface LAN\r\n bind interface IF_IP_LAN context router port 5108\r\n context sip-gateway GW_SIP_25\r\n bind location-service LS_25\r\n no shutdown"}]
[415,{"$f":"+IF(Data!$C$5>ROW(Generic!B416)-ROW(Generic!$B$391),\"\",\"#\")","v":"#"},{"$f":"+CONCATENATE(\"context sip-gateway GW_SIP_\",'Line Table'!A27,CHAR(13),CHAR(10),\" interface \",Data!$C$8,CHAR(13),CHAR(10),\" bind interface IF_IP_\",Data!$C$8,\" context router port \",'Line Table'!G27,CHAR(13),CHAR(10),\" context sip-gateway GW_SIP_\",'Line Table'!A27,CHAR(13),CHAR(10),\" bind location-service LS_\",'Line Table'!A27,CHAR(13),CHAR(10),\" no shutdown\")","v":"context sip-gateway GW_SIP_26\r\n interface LAN\r\n bind interface IF_IP_LAN context router port 5110\r\n context sip-gateway GW_SIP_26\r\n bind location-service LS_26\r\n no shutdown"}]
[416,{"$f":"+IF(Data!$C$5>ROW(Generic!B417)-ROW(Generic!$B$391),\"\",\"#\")","v":"#"},{"$f":"+CONCATENATE(\"context sip-gateway GW_SIP_\",'Line Table'!A28,CHAR(13),CHAR(10),\" interface \",Data!$C$8,CHAR(13),CHAR(10),\" bind interface IF_IP_\",Data!$C$8,\" context router port \",'Line Table'!G28,CHAR(13),CHAR(10),\" context sip-gateway GW_SIP_\",'Line Table'!A28,CHAR(13),CHAR(10),\" bind location-service LS_\",'Line Table'!A28,CHAR(13),CHAR(10),\" no shutdown\")","v":"context sip-gateway GW_SIP_27\r\n interface LAN\r\n bind interface IF_IP_LAN context router port 5112\r\n context sip-gateway GW_SIP_27\r\n bind location-service LS_27\r\n no shutdown"}]
[417,{"$f":"+IF(Data!$C$5>ROW(Generic!B418)-ROW(Generic!$B$391),\"\",\"#\")","v":"#"},{"$f":"+CONCATENATE(\"context sip-gateway GW_SIP_\",'Line Table'!A29,CHAR(13),CHAR(10),\" interface \",Data!$C$8,CHAR(13),CHAR(10),\" bind interface IF_IP_\",Data!$C$8,\" context router port \",'Line Table'!G29,CHAR(13),CHAR(10),\" context sip-gateway GW_SIP_\",'Line Table'!A29,CHAR(13),CHAR(10),\" bind location-service LS_\",'Line Table'!A29,CHAR(13),CHAR(10),\" no shutdown\")","v":"context sip-gateway GW_SIP_28\r\n interface LAN\r\n bind interface IF_IP_LAN context router port 5114\r\n context sip-gateway GW_SIP_28\r\n bind location-service LS_28\r\n no shutdown"}]
[418,{"$f":"+IF(Data!$C$5>ROW(Generic!B419)-ROW(Generic!$B$391),\"\",\"#\")","v":"#"},{"$f":"+CONCATENATE(\"context sip-gateway GW_SIP_\",'Line Table'!A30,CHAR(13),CHAR(10),\" interface \",Data!$C$8,CHAR(13),CHAR(10),\" bind interface IF_IP_\",Data!$C$8,\" context router port \",'Line Table'!G30,CHAR(13),CHAR(10),\" context sip-gateway GW_SIP_\",'Line Table'!A30,CHAR(13),CHAR(10),\" bind location-service LS_\",'Line Table'!A30,CHAR(13),CHAR(10),\" no shutdown\")","v":"context sip-gateway GW_SIP_29\r\n interface LAN\r\n bind interface IF_IP_LAN context router port 5116\r\n context sip-gateway GW_SIP_29\r\n bind location-service LS_29\r\n no shutdown"}]
[419,{"$f":"+IF(Data!$C$5>ROW(Generic!B420)-ROW(Generic!$B$391),\"\",\"#\")","v":"#"},{"$f":"+CONCATENATE(\"context sip-gateway GW_SIP_\",'Line Table'!A31,CHAR(13),CHAR(10),\" interface \",Data!$C$8,CHAR(13),CHAR(10),\" bind interface IF_IP_\",Data!$C$8,\" context router port \",'Line Table'!G31,CHAR(13),CHAR(10),\" context sip-gateway GW_SIP_\",'Line Table'!A31,CHAR(13),CHAR(10),\" bind location-service LS_\",'Line Table'!A31,CHAR(13),CHAR(10),\" no shutdown\")","v":"context sip-gateway GW_SIP_30\r\n interface LAN\r\n bind interface IF_IP_LAN context router port 5118\r\n context sip-gateway GW_SIP_30\r\n bind location-service LS_30\r\n no shutdown"}]
[420,{"$f":"+IF(Data!$C$5>ROW(Generic!B421)-ROW(Generic!$B$391),\"\",\"#\")","v":"#"},{"$f":"+CONCATENATE(\"context sip-gateway GW_SIP_\",'Line Table'!A32,CHAR(13),CHAR(10),\" interface \",Data!$C$8,CHAR(13),CHAR(10),\" bind interface IF_IP_\",Data!$C$8,\" context router port \",'Line Table'!G32,CHAR(13),CHAR(10),\" context sip-gateway GW_SIP_\",'Line Table'!A32,CHAR(13),CHAR(10),\" bind location-service LS_\",'Line Table'!A32,CHAR(13),CHAR(10),\" no shutdown\")","v":"context sip-gateway GW_SIP_31\r\n interface LAN\r\n bind interface IF_IP_LAN context router port 5120\r\n context sip-gateway GW_SIP_31\r\n bind location-service LS_31\r\n no shutdown"}]
[421,{"$f":"+IF(Data!$C$5>ROW(Generic!B422)-ROW(Generic!$B$391),\"\",\"#\")","v":"#"},{"$f":"+CONCATENATE(\"context sip-gateway GW_SIP_\",'Line Table'!A33,CHAR(13),CHAR(10),\" interface \",Data!$C$8,CHAR(13),CHAR(10),\" bind interface IF_IP_\",Data!$C$8,\" context router port \",'Line Table'!G33,CHAR(13),CHAR(10),\" context sip-gateway GW_SIP_\",'Line Table'!A33,CHAR(13),CHAR(10),\" bind location-service LS_\",'Line Table'!A33,CHAR(13),CHAR(10),\" no shutdown\")","v":"context sip-gateway GW_SIP_32\r\n interface LAN\r\n bind interface IF_IP_LAN context router port 5122\r\n context sip-gateway GW_SIP_32\r\n bind location-service LS_32\r\n no shutdown"}]
[422,null,"        "]
[423,{"$f":"+IF(Data!$C$5>ROW(Generic!B424)-ROW(Generic!$B$424),\"\",\"#\")","v":""},{"$f":"+CONCATENATE(\"  port fxo 0 \",ROW()-ROW($C$391),CHAR(13),CHAR(10),\"      \",Data!$C$31,CHAR(13),CHAR(10),\"     encapsulation cc-fxo\",CHAR(13),CHAR(10),\"      bind interface IF_FXO_\",'Line Table'!A2,\" switch\",CHAR(13),CHAR(10),\"      no shutdown\")","v":"  port fxo 0 0\r\n      use profile fxo us\r\n     encapsulation cc-fxo\r\n      bind interface IF_FXO_1 switch\r\n      no shutdown"}]
[424,{"$f":"+IF(Data!$C$5>ROW(Generic!B425)-ROW(Generic!$B$424),\"\",\"#\")","v":""},{"$f":"+CONCATENATE(\"  port fxo 0 \",ROW()-ROW($C$391),CHAR(13),CHAR(10),\"      \",Data!$C$31,CHAR(13),CHAR(10),\"     encapsulation cc-fxo\",CHAR(13),CHAR(10),\"      bind interface IF_FXO_\",'Line Table'!A3,\" switch\",CHAR(13),CHAR(10),\"      no shutdown\")","v":"  port fxo 0 1\r\n      use profile fxo us\r\n     encapsulation cc-fxo\r\n      bind interface IF_FXO_2 switch\r\n      no shutdown"}]
[425,{"$f":"+IF(Data!$C$5>ROW(Generic!B426)-ROW(Generic!$B$424),\"\",\"#\")","v":""},{"$f":"+CONCATENATE(\"  port fxo 0 \",ROW()-ROW($C$391),CHAR(13),CHAR(10),\"      \",Data!$C$31,CHAR(13),CHAR(10),\"     encapsulation cc-fxo\",CHAR(13),CHAR(10),\"      bind interface IF_FXO_\",'Line Table'!A4,\" switch\",CHAR(13),CHAR(10),\"      no shutdown\")","v":"  port fxo 0 2\r\n      use profile fxo us\r\n     encapsulation cc-fxo\r\n      bind interface IF_FXO_3 switch\r\n      no shutdown"}]
[426,{"$f":"+IF(Data!$C$5>ROW(Generic!B427)-ROW(Generic!$B$424),\"\",\"#\")","v":""},{"$f":"+CONCATENATE(\"  port fxo 0 \",ROW()-ROW($C$391),CHAR(13),CHAR(10),\"      \",Data!$C$31,CHAR(13),CHAR(10),\"     encapsulation cc-fxo\",CHAR(13),CHAR(10),\"      bind interface IF_FXO_\",'Line Table'!A5,\" switch\",CHAR(13),CHAR(10),\"      no shutdown\")","v":"  port fxo 0 3\r\n      use profile fxo us\r\n     encapsulation cc-fxo\r\n      bind interface IF_FXO_4 switch\r\n      no shutdown"}]
[427,{"$f":"+IF(Data!$C$5>ROW(Generic!B428)-ROW(Generic!$B$424),\"\",\"#\")","v":""},{"$f":"+CONCATENATE(\"  port fxo 0 \",ROW()-ROW($C$391),CHAR(13),CHAR(10),\"      \",Data!$C$31,CHAR(13),CHAR(10),\"     encapsulation cc-fxo\",CHAR(13),CHAR(10),\"      bind interface IF_FXO_\",'Line Table'!A6,\" switch\",CHAR(13),CHAR(10),\"      no shutdown\")","v":"  port fxo 0 4\r\n      use profile fxo us\r\n     encapsulation cc-fxo\r\n      bind interface IF_FXO_5 switch\r\n      no shutdown"}]
[428,{"$f":"+IF(Data!$C$5>ROW(Generic!B429)-ROW(Generic!$B$424),\"\",\"#\")","v":""},{"$f":"+CONCATENATE(\"  port fxo 0 \",ROW()-ROW($C$391),CHAR(13),CHAR(10),\"      \",Data!$C$31,CHAR(13),CHAR(10),\"     encapsulation cc-fxo\",CHAR(13),CHAR(10),\"      bind interface IF_FXO_\",'Line Table'!A7,\" switch\",CHAR(13),CHAR(10),\"      no shutdown\")","v":"  port fxo 0 5\r\n      use profile fxo us\r\n     encapsulation cc-fxo\r\n      bind interface IF_FXO_6 switch\r\n      no shutdown"}]
[429,{"$f":"+IF(Data!$C$5>ROW(Generic!B430)-ROW(Generic!$B$424),\"\",\"#\")","v":""},{"$f":"+CONCATENATE(\"  port fxo 0 \",ROW()-ROW($C$391),CHAR(13),CHAR(10),\"      \",Data!$C$31,CHAR(13),CHAR(10),\"     encapsulation cc-fxo\",CHAR(13),CHAR(10),\"      bind interface IF_FXO_\",'Line Table'!A8,\" switch\",CHAR(13),CHAR(10),\"      no shutdown\")","v":"  port fxo 0 6\r\n      use profile fxo us\r\n     encapsulation cc-fxo\r\n      bind interface IF_FXO_7 switch\r\n      no shutdown"}]
[430,{"$f":"+IF(Data!$C$5>ROW(Generic!B431)-ROW(Generic!$B$424),\"\",\"#\")","v":""},{"$f":"+CONCATENATE(\"  port fxo 0 \",ROW()-ROW($C$391),CHAR(13),CHAR(10),\"      \",Data!$C$31,CHAR(13),CHAR(10),\"     encapsulation cc-fxo\",CHAR(13),CHAR(10),\"      bind interface IF_FXO_\",'Line Table'!A9,\" switch\",CHAR(13),CHAR(10),\"      no shutdown\")","v":"  port fxo 0 7\r\n      use profile fxo us\r\n     encapsulation cc-fxo\r\n      bind interface IF_FXO_8 switch\r\n      no shutdown"}]
[431,{"$f":"+IF(Data!$C$5>ROW(Generic!B432)-ROW(Generic!$B$424),\"\",\"#\")","v":""},{"$f":"+CONCATENATE(\"  port fxo 0 \",ROW()-ROW($C$391),CHAR(13),CHAR(10),\"      \",Data!$C$31,CHAR(13),CHAR(10),\"     encapsulation cc-fxo\",CHAR(13),CHAR(10),\"      bind interface IF_FXO_\",'Line Table'!A10,\" switch\",CHAR(13),CHAR(10),\"      no shutdown\")","v":"  port fxo 0 8\r\n      use profile fxo us\r\n     encapsulation cc-fxo\r\n      bind interface IF_FXO_9 switch\r\n      no shutdown"}]
[432,{"$f":"+IF(Data!$C$5>ROW(Generic!B433)-ROW(Generic!$B$424),\"\",\"#\")","v":""},{"$f":"+CONCATENATE(\"  port fxo 0 \",ROW()-ROW($C$391),CHAR(13),CHAR(10),\"      \",Data!$C$31,CHAR(13),CHAR(10),\"     encapsulation cc-fxo\",CHAR(13),CHAR(10),\"      bind interface IF_FXO_\",'Line Table'!A11,\" switch\",CHAR(13),CHAR(10),\"      no shutdown\")","v":"  port fxo 0 9\r\n      use profile fxo us\r\n     encapsulation cc-fxo\r\n      bind interface IF_FXO_10 switch\r\n      no shutdown"}]
[433,{"$f":"+IF(Data!$C$5>ROW(Generic!B434)-ROW(Generic!$B$424),\"\",\"#\")","v":""},{"$f":"+CONCATENATE(\"  port fxo 0 \",ROW()-ROW($C$391),CHAR(13),CHAR(10),\"      \",Data!$C$31,CHAR(13),CHAR(10),\"     encapsulation cc-fxo\",CHAR(13),CHAR(10),\"      bind interface IF_FXO_\",'Line Table'!A12,\" switch\",CHAR(13),CHAR(10),\"      no shutdown\")","v":"  port fxo 0 10\r\n      use profile fxo us\r\n     encapsulation cc-fxo\r\n      bind interface IF_FXO_11 switch\r\n      no shutdown"}]
[434,{"$f":"+IF(Data!$C$5>ROW(Generic!B435)-ROW(Generic!$B$424),\"\",\"#\")","v":""},{"$f":"+CONCATENATE(\"  port fxo 0 \",ROW()-ROW($C$391),CHAR(13),CHAR(10),\"      \",Data!$C$31,CHAR(13),CHAR(10),\"     encapsulation cc-fxo\",CHAR(13),CHAR(10),\"      bind interface IF_FXO_\",'Line Table'!A13,\" switch\",CHAR(13),CHAR(10),\"      no shutdown\")","v":"  port fxo 0 11\r\n      use profile fxo us\r\n     encapsulation cc-fxo\r\n      bind interface IF_FXO_12 switch\r\n      no shutdown"}]
[435,{"$f":"+IF(Data!$C$5>ROW(Generic!B436)-ROW(Generic!$B$424),\"\",\"#\")","v":"#"},{"$f":"+CONCATENATE(\"  port fxo 0 \",ROW()-ROW($C$391),CHAR(13),CHAR(10),\"      \",Data!$C$31,CHAR(13),CHAR(10),\"     encapsulation cc-fxo\",CHAR(13),CHAR(10),\"      bind interface IF_FXO_\",'Line Table'!A14,\" switch\",CHAR(13),CHAR(10),\"      no shutdown\")","v":"  port fxo 0 12\r\n      use profile fxo us\r\n     encapsulation cc-fxo\r\n      bind interface IF_FXO_13 switch\r\n      no shutdown"}]
[436,{"$f":"+IF(Data!$C$5>ROW(Generic!B437)-ROW(Generic!$B$424),\"\",\"#\")","v":"#"},{"$f":"+CONCATENATE(\"  port fxo 0 \",ROW()-ROW($C$391),CHAR(13),CHAR(10),\"      \",Data!$C$31,CHAR(13),CHAR(10),\"     encapsulation cc-fxo\",CHAR(13),CHAR(10),\"      bind interface IF_FXO_\",'Line Table'!A15,\" switch\",CHAR(13),CHAR(10),\"      no shutdown\")","v":"  port fxo 0 13\r\n      use profile fxo us\r\n     encapsulation cc-fxo\r\n      bind interface IF_FXO_14 switch\r\n      no shutdown"}]
[437,{"$f":"+IF(Data!$C$5>ROW(Generic!B438)-ROW(Generic!$B$424),\"\",\"#\")","v":"#"},{"$f":"+CONCATENATE(\"  port fxo 0 \",ROW()-ROW($C$391),CHAR(13),CHAR(10),\"      \",Data!$C$31,CHAR(13),CHAR(10),\"     encapsulation cc-fxo\",CHAR(13),CHAR(10),\"      bind interface IF_FXO_\",'Line Table'!A16,\" switch\",CHAR(13),CHAR(10),\"      no shutdown\")","v":"  port fxo 0 14\r\n      use profile fxo us\r\n     encapsulation cc-fxo\r\n      bind interface IF_FXO_15 switch\r\n      no shutdown"}]
[438,{"$f":"+IF(Data!$C$5>ROW(Generic!B439)-ROW(Generic!$B$424),\"\",\"#\")","v":"#"},{"$f":"+CONCATENATE(\"  port fxo 0 \",ROW()-ROW($C$391),CHAR(13),CHAR(10),\"      \",Data!$C$31,CHAR(13),CHAR(10),\"     encapsulation cc-fxo\",CHAR(13),CHAR(10),\"      bind interface IF_FXO_\",'Line Table'!A17,\" switch\",CHAR(13),CHAR(10),\"      no shutdown\")","v":"  port fxo 0 15\r\n      use profile fxo us\r\n     encapsulation cc-fxo\r\n      bind interface IF_FXO_16 switch\r\n      no shutdown"}]
[439,{"$f":"+IF(Data!$C$5>ROW(Generic!B440)-ROW(Generic!$B$424),\"\",\"#\")","v":"#"},{"$f":"+CONCATENATE(\"  port fxo 0 \",ROW()-ROW($C$391),CHAR(13),CHAR(10),\"      \",Data!$C$31,CHAR(13),CHAR(10),\"     encapsulation cc-fxo\",CHAR(13),CHAR(10),\"      bind interface IF_FXO_\",'Line Table'!A18,\" switch\",CHAR(13),CHAR(10),\"      no shutdown\")","v":"  port fxo 0 16\r\n      use profile fxo us\r\n     encapsulation cc-fxo\r\n      bind interface IF_FXO_17 switch\r\n      no shutdown"}]
[440,{"$f":"+IF(Data!$C$5>ROW(Generic!B441)-ROW(Generic!$B$424),\"\",\"#\")","v":"#"},{"$f":"+CONCATENATE(\"  port fxo 0 \",ROW()-ROW($C$391),CHAR(13),CHAR(10),\"      \",Data!$C$31,CHAR(13),CHAR(10),\"     encapsulation cc-fxo\",CHAR(13),CHAR(10),\"      bind interface IF_FXO_\",'Line Table'!A19,\" switch\",CHAR(13),CHAR(10),\"      no shutdown\")","v":"  port fxo 0 17\r\n      use profile fxo us\r\n     encapsulation cc-fxo\r\n      bind interface IF_FXO_18 switch\r\n      no shutdown"}]
[441,{"$f":"+IF(Data!$C$5>ROW(Generic!B442)-ROW(Generic!$B$424),\"\",\"#\")","v":"#"},{"$f":"+CONCATENATE(\"  port fxo 0 \",ROW()-ROW($C$391),CHAR(13),CHAR(10),\"      \",Data!$C$31,CHAR(13),CHAR(10),\"     encapsulation cc-fxo\",CHAR(13),CHAR(10),\"      bind interface IF_FXO_\",'Line Table'!A20,\" switch\",CHAR(13),CHAR(10),\"      no shutdown\")","v":"  port fxo 0 18\r\n      use profile fxo us\r\n     encapsulation cc-fxo\r\n      bind interface IF_FXO_19 switch\r\n      no shutdown"}]
[442,{"$f":"+IF(Data!$C$5>ROW(Generic!B443)-ROW(Generic!$B$424),\"\",\"#\")","v":"#"},{"$f":"+CONCATENATE(\"  port fxo 0 \",ROW()-ROW($C$391),CHAR(13),CHAR(10),\"      \",Data!$C$31,CHAR(13),CHAR(10),\"     encapsulation cc-fxo\",CHAR(13),CHAR(10),\"      bind interface IF_FXO_\",'Line Table'!A21,\" switch\",CHAR(13),CHAR(10),\"      no shutdown\")","v":"  port fxo 0 19\r\n      use profile fxo us\r\n     encapsulation cc-fxo\r\n      bind interface IF_FXO_20 switch\r\n      no shutdown"}]
[443,{"$f":"+IF(Data!$C$5>ROW(Generic!B444)-ROW(Generic!$B$424),\"\",\"#\")","v":"#"},{"$f":"+CONCATENATE(\"  port fxo 0 \",ROW()-ROW($C$391),CHAR(13),CHAR(10),\"      \",Data!$C$31,CHAR(13),CHAR(10),\"     encapsulation cc-fxo\",CHAR(13),CHAR(10),\"      bind interface IF_FXO_\",'Line Table'!A22,\" switch\",CHAR(13),CHAR(10),\"      no shutdown\")","v":"  port fxo 0 20\r\n      use profile fxo us\r\n     encapsulation cc-fxo\r\n      bind interface IF_FXO_21 switch\r\n      no shutdown"}]
[444,{"$f":"+IF(Data!$C$5>ROW(Generic!B445)-ROW(Generic!$B$424),\"\",\"#\")","v":"#"},{"$f":"+CONCATENATE(\"  port fxo 0 \",ROW()-ROW($C$391),CHAR(13),CHAR(10),\"      \",Data!$C$31,CHAR(13),CHAR(10),\"     encapsulation cc-fxo\",CHAR(13),CHAR(10),\"      bind interface IF_FXO_\",'Line Table'!A23,\" switch\",CHAR(13),CHAR(10),\"      no shutdown\")","v":"  port fxo 0 21\r\n      use profile fxo us\r\n     encapsulation cc-fxo\r\n      bind interface IF_FXO_22 switch\r\n      no shutdown"}]
[445,{"$f":"+IF(Data!$C$5>ROW(Generic!B446)-ROW(Generic!$B$424),\"\",\"#\")","v":"#"},{"$f":"+CONCATENATE(\"  port fxo 0 \",ROW()-ROW($C$391),CHAR(13),CHAR(10),\"      \",Data!$C$31,CHAR(13),CHAR(10),\"     encapsulation cc-fxo\",CHAR(13),CHAR(10),\"      bind interface IF_FXO_\",'Line Table'!A24,\" switch\",CHAR(13),CHAR(10),\"      no shutdown\")","v":"  port fxo 0 22\r\n      use profile fxo us\r\n     encapsulation cc-fxo\r\n      bind interface IF_FXO_23 switch\r\n      no shutdown"}]
[446,{"$f":"+IF(Data!$C$5>ROW(Generic!B447)-ROW(Generic!$B$424),\"\",\"#\")","v":"#"},{"$f":"+CONCATENATE(\"  port fxo 0 \",ROW()-ROW($C$391),CHAR(13),CHAR(10),\"      \",Data!$C$31,CHAR(13),CHAR(10),\"     encapsulation cc-fxo\",CHAR(13),CHAR(10),\"      bind interface IF_FXO_\",'Line Table'!A25,\" switch\",CHAR(13),CHAR(10),\"      no shutdown\")","v":"  port fxo 0 23\r\n      use profile fxo us\r\n     encapsulation cc-fxo\r\n      bind interface IF_FXO_24 switch\r\n      no shutdown"}]
[447,{"$f":"+IF(Data!$C$5>ROW(Generic!B448)-ROW(Generic!$B$424),\"\",\"#\")","v":"#"},{"$f":"+CONCATENATE(\"  port fxo 0 \",ROW()-ROW($C$391),CHAR(13),CHAR(10),\"      \",Data!$C$31,CHAR(13),CHAR(10),\"     encapsulation cc-fxo\",CHAR(13),CHAR(10),\"      bind interface IF_FXO_\",'Line Table'!A26,\" switch\",CHAR(13),CHAR(10),\"      no shutdown\")","v":"  port fxo 0 24\r\n      use profile fxo us\r\n     encapsulation cc-fxo\r\n      bind interface IF_FXO_25 switch\r\n      no shutdown"}]
[448,{"$f":"+IF(Data!$C$5>ROW(Generic!B449)-ROW(Generic!$B$424),\"\",\"#\")","v":"#"},{"$f":"+CONCATENATE(\"  port fxo 0 \",ROW()-ROW($C$391),CHAR(13),CHAR(10),\"      \",Data!$C$31,CHAR(13),CHAR(10),\"     encapsulation cc-fxo\",CHAR(13),CHAR(10),\"      bind interface IF_FXO_\",'Line Table'!A27,\" switch\",CHAR(13),CHAR(10),\"      no shutdown\")","v":"  port fxo 0 25\r\n      use profile fxo us\r\n     encapsulation cc-fxo\r\n      bind interface IF_FXO_26 switch\r\n      no shutdown"}]
[449,{"$f":"+IF(Data!$C$5>ROW(Generic!B450)-ROW(Generic!$B$424),\"\",\"#\")","v":"#"},{"$f":"+CONCATENATE(\"  port fxo 0 \",ROW()-ROW($C$391),CHAR(13),CHAR(10),\"      \",Data!$C$31,CHAR(13),CHAR(10),\"     encapsulation cc-fxo\",CHAR(13),CHAR(10),\"      bind interface IF_FXO_\",'Line Table'!A28,\" switch\",CHAR(13),CHAR(10),\"      no shutdown\")","v":"  port fxo 0 26\r\n      use profile fxo us\r\n     encapsulation cc-fxo\r\n      bind interface IF_FXO_27 switch\r\n      no shutdown"}]
[450,{"$f":"+IF(Data!$C$5>ROW(Generic!B451)-ROW(Generic!$B$424),\"\",\"#\")","v":"#"},{"$f":"+CONCATENATE(\"  port fxo 0 \",ROW()-ROW($C$391),CHAR(13),CHAR(10),\"      \",Data!$C$31,CHAR(13),CHAR(10),\"     encapsulation cc-fxo\",CHAR(13),CHAR(10),\"      bind interface IF_FXO_\",'Line Table'!A29,\" switch\",CHAR(13),CHAR(10),\"      no shutdown\")","v":"  port fxo 0 27\r\n      use profile fxo us\r\n     encapsulation cc-fxo\r\n      bind interface IF_FXO_28 switch\r\n      no shutdown"}]
[451,{"$f":"+IF(Data!$C$5>ROW(Generic!B452)-ROW(Generic!$B$424),\"\",\"#\")","v":"#"},{"$f":"+CONCATENATE(\"  port fxo 0 \",ROW()-ROW($C$391),CHAR(13),CHAR(10),\"      \",Data!$C$31,CHAR(13),CHAR(10),\"     encapsulation cc-fxo\",CHAR(13),CHAR(10),\"      bind interface IF_FXO_\",'Line Table'!A30,\" switch\",CHAR(13),CHAR(10),\"      no shutdown\")","v":"  port fxo 0 28\r\n      use profile fxo us\r\n     encapsulation cc-fxo\r\n      bind interface IF_FXO_29 switch\r\n      no shutdown"}]
[452,{"$f":"+IF(Data!$C$5>ROW(Generic!B453)-ROW(Generic!$B$424),\"\",\"#\")","v":"#"},{"$f":"+CONCATENATE(\"  port fxo 0 \",ROW()-ROW($C$391),CHAR(13),CHAR(10),\"      \",Data!$C$31,CHAR(13),CHAR(10),\"     encapsulation cc-fxo\",CHAR(13),CHAR(10),\"      bind interface IF_FXO_\",'Line Table'!A31,\" switch\",CHAR(13),CHAR(10),\"      no shutdown\")","v":"  port fxo 0 29\r\n      use profile fxo us\r\n     encapsulation cc-fxo\r\n      bind interface IF_FXO_30 switch\r\n      no shutdown"}]
[453,{"$f":"+IF(Data!$C$5>ROW(Generic!B454)-ROW(Generic!$B$424),\"\",\"#\")","v":"#"},{"$f":"+CONCATENATE(\"  port fxo 0 \",ROW()-ROW($C$391),CHAR(13),CHAR(10),\"      \",Data!$C$31,CHAR(13),CHAR(10),\"     encapsulation cc-fxo\",CHAR(13),CHAR(10),\"      bind interface IF_FXO_\",'Line Table'!A32,\" switch\",CHAR(13),CHAR(10),\"      no shutdown\")","v":"  port fxo 0 30\r\n      use profile fxo us\r\n     encapsulation cc-fxo\r\n      bind interface IF_FXO_31 switch\r\n      no shutdown"}]
[454,{"$f":"+IF(Data!$C$5>ROW(Generic!B455)-ROW(Generic!$B$424),\"\",\"#\")","v":"#"},{"$f":"+CONCATENATE(\"  port fxo 0 \",ROW()-ROW($C$391),CHAR(13),CHAR(10),\"      \",Data!$C$31,CHAR(13),CHAR(10),\"     encapsulation cc-fxo\",CHAR(13),CHAR(10),\"      bind interface IF_FXO_\",'Line Table'!A33,\" switch\",CHAR(13),CHAR(10),\"      no shutdown\")","v":"  port fxo 0 31\r\n      use profile fxo us\r\n     encapsulation cc-fxo\r\n      bind interface IF_FXO_32 switch\r\n      no shutdown"}]
[455]
[456,{"$f":"+IF(Data!$C$6>0,\" \",\"#\")","v":"#"},"context sip-gateway GW_SIP_ALL_EXTENSIONS"]
[457,{"$f":"+IF(Data!$C$6>0,\" \",\"#\")","v":"#"},{"$f":"+CONCATENATE(\"      interface \",Data!C8)","v":"      interface LAN"}]
[458,{"$f":"+IF(Data!$C$6>0,\" \",\"#\")","v":"#"},{"$f":"+CONCATENATE(\"        bind interface IF_IP_\",Data!C8,\" context router port \",Data!C36)","v":"        bind interface IF_IP_LAN context router port 5060"}]
[459]
[460,{"$f":"+IF(Data!$C$6>0,\" \",\"#\")","v":"#"},"context sip-gateway GW_SIP_ALL_EXTENSIONS"]
[461,{"$f":"+IF(Data!$C$6>0,\" \",\"#\")","v":"#"},"        bind location-service LS_ALL_EXTENSIONS"]
[462,{"$f":"+IF(Data!$C$6>0,\" \",\"#\")","v":"#"},"        no shutdown"]
[463]
[464,null,"port ethernet 0 0"]
[465,null,"  medium auto"]
[466,null,"  encapsulation ip"]
[467,null,"  bind interface IF_IP_LAN router"]
[468,null,"  no shutdown"]
[469]
[470,{"$f":"+IF(Data!$C$7=\"N\",\"#\",\"\")","v":"#"},"port ethernet 0 1"]
[471,{"$f":"+IF(Data!$C$7=\"N\",\"#\",\"\")","v":"#"},"  medium auto"]
[472,{"$f":"+IF(Data!$C$7=\"N\",\"#\",\"\")","v":"#"},"  encapsulation ip"]
[473,{"$f":"+IF(Data!$C$7=\"N\",\"#\",\"\")","v":"#"},"  bind interface IF_IP_WAN router"]
[474,{"$f":"+IF(Data!$C$7=\"N\",\"#\",\"\")","v":"#"},"  no shutdown"]
[475]
[476,{"$f":"+IF(Data!$C$6>ROW(Generic!B477)-ROW(Generic!$B$477),\"\",\"#\")","v":"#"},{"$f":"+CONCATENATE(\"  port fxs 0 \",ROW()-ROW($E$444),CHAR(13),CHAR(10),\"        caller-id format \", Data!$C$41,CHAR(13),CHAR(10),\"         \",Data!$C$32,CHAR(13),CHAR(10),\"      encapsulation cc-fxs\",CHAR(13),CHAR(10),\"       bind interface IF_FXS_\",'Extension Table'!C2,\" switch \",CHAR(13),CHAR(10),\"     no shutdown\")","v":"  port fxs 0 0\r\n        caller-id format etsi\r\n         use profile fxs us\r\n      encapsulation cc-fxs\r\n       bind interface IF_FXS_1 switch \r\n     no shutdown"}]
[477,{"$f":"+IF(Data!$C$6>ROW(Generic!B478)-ROW(Generic!$B$477),\"\",\"#\")","v":"#"},{"$f":"+CONCATENATE(\"  port fxs 0 \",ROW()-ROW($E$444),CHAR(13),CHAR(10),\"        caller-id format \", Data!$C$41,CHAR(13),CHAR(10),\"         \",Data!$C$32,CHAR(13),CHAR(10),\"      encapsulation cc-fxs\",CHAR(13),CHAR(10),\"       bind interface IF_FXS_\",'Extension Table'!C3,\" switch \",CHAR(13),CHAR(10),\"     no shutdown\")","v":"  port fxs 0 1\r\n        caller-id format etsi\r\n         use profile fxs us\r\n      encapsulation cc-fxs\r\n       bind interface IF_FXS_2 switch \r\n     no shutdown"}]
[478,{"$f":"+IF(Data!$C$6>ROW(Generic!B479)-ROW(Generic!$B$477),\"\",\"#\")","v":"#"},{"$f":"+CONCATENATE(\"  port fxs 0 \",ROW()-ROW($E$444),CHAR(13),CHAR(10),\"        caller-id format \", Data!$C$41,CHAR(13),CHAR(10),\"         \",Data!$C$32,CHAR(13),CHAR(10),\"      encapsulation cc-fxs\",CHAR(13),CHAR(10),\"       bind interface IF_FXS_\",'Extension Table'!C4,\" switch \",CHAR(13),CHAR(10),\"     no shutdown\")","v":"  port fxs 0 2\r\n        caller-id format etsi\r\n         use profile fxs us\r\n      encapsulation cc-fxs\r\n       bind interface IF_FXS_3 switch \r\n     no shutdown"}]
[479,{"$f":"+IF(Data!$C$6>ROW(Generic!B480)-ROW(Generic!$B$477),\"\",\"#\")","v":"#"},{"$f":"+CONCATENATE(\"  port fxs 0 \",ROW()-ROW($E$444),CHAR(13),CHAR(10),\"        caller-id format \", Data!$C$41,CHAR(13),CHAR(10),\"         \",Data!$C$32,CHAR(13),CHAR(10),\"      encapsulation cc-fxs\",CHAR(13),CHAR(10),\"       bind interface IF_FXS_\",'Extension Table'!C5,\" switch \",CHAR(13),CHAR(10),\"     no shutdown\")","v":"  port fxs 0 3\r\n        caller-id format etsi\r\n         use profile fxs us\r\n      encapsulation cc-fxs\r\n       bind interface IF_FXS_4 switch \r\n     no shutdown"}]
[480,{"$f":"+IF(Data!$C$6>ROW(Generic!B481)-ROW(Generic!$B$477),\"\",\"#\")","v":"#"},{"$f":"+CONCATENATE(\"  port fxs 0 \",ROW()-ROW($E$444),CHAR(13),CHAR(10),\"        caller-id format \", Data!$C$41,CHAR(13),CHAR(10),\"         \",Data!$C$32,CHAR(13),CHAR(10),\"      encapsulation cc-fxs\",CHAR(13),CHAR(10),\"       bind interface IF_FXS_\",'Extension Table'!C6,\" switch \",CHAR(13),CHAR(10),\"     no shutdown\")","v":"  port fxs 0 4\r\n        caller-id format etsi\r\n         use profile fxs us\r\n      encapsulation cc-fxs\r\n       bind interface IF_FXS_5 switch \r\n     no shutdown"}]
[481,{"$f":"+IF(Data!$C$6>ROW(Generic!B482)-ROW(Generic!$B$477),\"\",\"#\")","v":"#"},{"$f":"+CONCATENATE(\"  port fxs 0 \",ROW()-ROW($E$444),CHAR(13),CHAR(10),\"        caller-id format \", Data!$C$41,CHAR(13),CHAR(10),\"         \",Data!$C$32,CHAR(13),CHAR(10),\"      encapsulation cc-fxs\",CHAR(13),CHAR(10),\"       bind interface IF_FXS_\",'Extension Table'!C7,\" switch \",CHAR(13),CHAR(10),\"     no shutdown\")","v":"  port fxs 0 5\r\n        caller-id format etsi\r\n         use profile fxs us\r\n      encapsulation cc-fxs\r\n       bind interface IF_FXS_6 switch \r\n     no shutdown"}]
[482,{"$f":"+IF(Data!$C$6>ROW(Generic!B483)-ROW(Generic!$B$477),\"\",\"#\")","v":"#"},{"$f":"+CONCATENATE(\"  port fxs 0 \",ROW()-ROW($E$444),CHAR(13),CHAR(10),\"        caller-id format \", Data!$C$41,CHAR(13),CHAR(10),\"         \",Data!$C$32,CHAR(13),CHAR(10),\"      encapsulation cc-fxs\",CHAR(13),CHAR(10),\"       bind interface IF_FXS_\",'Extension Table'!C8,\" switch \",CHAR(13),CHAR(10),\"     no shutdown\")","v":"  port fxs 0 6\r\n        caller-id format etsi\r\n         use profile fxs us\r\n      encapsulation cc-fxs\r\n       bind interface IF_FXS_7 switch \r\n     no shutdown"}]
[483,{"$f":"+IF(Data!$C$6>ROW(Generic!B484)-ROW(Generic!$B$477),\"\",\"#\")","v":"#"},{"$f":"+CONCATENATE(\"  port fxs 0 \",ROW()-ROW($E$444),CHAR(13),CHAR(10),\"        caller-id format \", Data!$C$41,CHAR(13),CHAR(10),\"         \",Data!$C$32,CHAR(13),CHAR(10),\"      encapsulation cc-fxs\",CHAR(13),CHAR(10),\"       bind interface IF_FXS_\",'Extension Table'!C9,\" switch \",CHAR(13),CHAR(10),\"     no shutdown\")","v":"  port fxs 0 7\r\n        caller-id format etsi\r\n         use profile fxs us\r\n      encapsulation cc-fxs\r\n       bind interface IF_FXS_8 switch \r\n     no shutdown"}]
[484,{"$f":"+IF(Data!$C$6>ROW(Generic!B485)-ROW(Generic!$B$477),\"\",\"#\")","v":"#"},{"$f":"+CONCATENATE(\"  port fxs 0 \",ROW()-ROW($E$444),CHAR(13),CHAR(10),\"        caller-id format \", Data!$C$41,CHAR(13),CHAR(10),\"         \",Data!$C$32,CHAR(13),CHAR(10),\"      encapsulation cc-fxs\",CHAR(13),CHAR(10),\"       bind interface IF_FXS_\",'Extension Table'!C10,\" switch \",CHAR(13),CHAR(10),\"     no shutdown\")","v":"  port fxs 0 8\r\n        caller-id format etsi\r\n         use profile fxs us\r\n      encapsulation cc-fxs\r\n       bind interface IF_FXS_9 switch \r\n     no shutdown"}]
[485,{"$f":"+IF(Data!$C$6>ROW(Generic!B486)-ROW(Generic!$B$477),\"\",\"#\")","v":"#"},{"$f":"+CONCATENATE(\"  port fxs 0 \",ROW()-ROW($E$444),CHAR(13),CHAR(10),\"        caller-id format \", Data!$C$41,CHAR(13),CHAR(10),\"         \",Data!$C$32,CHAR(13),CHAR(10),\"      encapsulation cc-fxs\",CHAR(13),CHAR(10),\"       bind interface IF_FXS_\",'Extension Table'!C11,\" switch \",CHAR(13),CHAR(10),\"     no shutdown\")","v":"  port fxs 0 9\r\n        caller-id format etsi\r\n         use profile fxs us\r\n      encapsulation cc-fxs\r\n       bind interface IF_FXS_10 switch \r\n     no shutdown"}]
[486,{"$f":"+IF(Data!$C$6>ROW(Generic!B487)-ROW(Generic!$B$477),\"\",\"#\")","v":"#"},{"$f":"+CONCATENATE(\"  port fxs 0 \",ROW()-ROW($E$444),CHAR(13),CHAR(10),\"        caller-id format \", Data!$C$41,CHAR(13),CHAR(10),\"         \",Data!$C$32,CHAR(13),CHAR(10),\"      encapsulation cc-fxs\",CHAR(13),CHAR(10),\"       bind interface IF_FXS_\",'Extension Table'!C12,\" switch \",CHAR(13),CHAR(10),\"     no shutdown\")","v":"  port fxs 0 10\r\n        caller-id format etsi\r\n         use profile fxs us\r\n      encapsulation cc-fxs\r\n       bind interface IF_FXS_11 switch \r\n     no shutdown"}]
[487,{"$f":"+IF(Data!$C$6>ROW(Generic!B488)-ROW(Generic!$B$477),\"\",\"#\")","v":"#"},{"$f":"+CONCATENATE(\"  port fxs 0 \",ROW()-ROW($E$444),CHAR(13),CHAR(10),\"        caller-id format \", Data!$C$41,CHAR(13),CHAR(10),\"         \",Data!$C$32,CHAR(13),CHAR(10),\"      encapsulation cc-fxs\",CHAR(13),CHAR(10),\"       bind interface IF_FXS_\",'Extension Table'!C13,\" switch \",CHAR(13),CHAR(10),\"     no shutdown\")","v":"  port fxs 0 11\r\n        caller-id format etsi\r\n         use profile fxs us\r\n      encapsulation cc-fxs\r\n       bind interface IF_FXS_12 switch \r\n     no shutdown"}]
[488,{"$f":"+IF(Data!$C$6>ROW(Generic!B489)-ROW(Generic!$B$477),\"\",\"#\")","v":"#"},{"$f":"+CONCATENATE(\"  port fxs 0 \",ROW()-ROW($E$444),CHAR(13),CHAR(10),\"        caller-id format \", Data!$C$41,CHAR(13),CHAR(10),\"         \",Data!$C$32,CHAR(13),CHAR(10),\"      encapsulation cc-fxs\",CHAR(13),CHAR(10),\"       bind interface IF_FXS_\",'Extension Table'!C14,\" switch \",CHAR(13),CHAR(10),\"     no shutdown\")","v":"  port fxs 0 12\r\n        caller-id format etsi\r\n         use profile fxs us\r\n      encapsulation cc-fxs\r\n       bind interface IF_FXS_13 switch \r\n     no shutdown"}]
[489,{"$f":"+IF(Data!$C$6>ROW(Generic!B490)-ROW(Generic!$B$477),\"\",\"#\")","v":"#"},{"$f":"+CONCATENATE(\"  port fxs 0 \",ROW()-ROW($E$444),CHAR(13),CHAR(10),\"        caller-id format \", Data!$C$41,CHAR(13),CHAR(10),\"         \",Data!$C$32,CHAR(13),CHAR(10),\"      encapsulation cc-fxs\",CHAR(13),CHAR(10),\"       bind interface IF_FXS_\",'Extension Table'!C15,\" switch \",CHAR(13),CHAR(10),\"     no shutdown\")","v":"  port fxs 0 13\r\n        caller-id format etsi\r\n         use profile fxs us\r\n      encapsulation cc-fxs\r\n       bind interface IF_FXS_14 switch \r\n     no shutdown"}]
[490,{"$f":"+IF(Data!$C$6>ROW(Generic!B491)-ROW(Generic!$B$477),\"\",\"#\")","v":"#"},{"$f":"+CONCATENATE(\"  port fxs 0 \",ROW()-ROW($E$444),CHAR(13),CHAR(10),\"        caller-id format \", Data!$C$41,CHAR(13),CHAR(10),\"         \",Data!$C$32,CHAR(13),CHAR(10),\"      encapsulation cc-fxs\",CHAR(13),CHAR(10),\"       bind interface IF_FXS_\",'Extension Table'!C16,\" switch \",CHAR(13),CHAR(10),\"     no shutdown\")","v":"  port fxs 0 14\r\n        caller-id format etsi\r\n         use profile fxs us\r\n      encapsulation cc-fxs\r\n       bind interface IF_FXS_15 switch \r\n     no shutdown"}]
[491,{"$f":"+IF(Data!$C$6>ROW(Generic!B492)-ROW(Generic!$B$477),\"\",\"#\")","v":"#"},{"$f":"+CONCATENATE(\"  port fxs 0 \",ROW()-ROW($E$444),CHAR(13),CHAR(10),\"        caller-id format \", Data!$C$41,CHAR(13),CHAR(10),\"         \",Data!$C$32,CHAR(13),CHAR(10),\"      encapsulation cc-fxs\",CHAR(13),CHAR(10),\"       bind interface IF_FXS_\",'Extension Table'!C17,\" switch \",CHAR(13),CHAR(10),\"     no shutdown\")","v":"  port fxs 0 15\r\n        caller-id format etsi\r\n         use profile fxs us\r\n      encapsulation cc-fxs\r\n       bind interface IF_FXS_16 switch \r\n     no shutdown"}]
[492,{"$f":"+IF(Data!$C$6>ROW(Generic!B493)-ROW(Generic!$B$477),\"\",\"#\")","v":"#"},{"$f":"+CONCATENATE(\"  port fxs 0 \",ROW()-ROW($E$444),CHAR(13),CHAR(10),\"        caller-id format \", Data!$C$41,CHAR(13),CHAR(10),\"         \",Data!$C$32,CHAR(13),CHAR(10),\"      encapsulation cc-fxs\",CHAR(13),CHAR(10),\"       bind interface IF_FXS_\",'Extension Table'!C18,\" switch \",CHAR(13),CHAR(10),\"     no shutdown\")","v":"  port fxs 0 16\r\n        caller-id format etsi\r\n         use profile fxs us\r\n      encapsulation cc-fxs\r\n       bind interface IF_FXS_17 switch \r\n     no shutdown"}]
[493,{"$f":"+IF(Data!$C$6>ROW(Generic!B494)-ROW(Generic!$B$477),\"\",\"#\")","v":"#"},{"$f":"+CONCATENATE(\"  port fxs 0 \",ROW()-ROW($E$444),CHAR(13),CHAR(10),\"        caller-id format \", Data!$C$41,CHAR(13),CHAR(10),\"         \",Data!$C$32,CHAR(13),CHAR(10),\"      encapsulation cc-fxs\",CHAR(13),CHAR(10),\"       bind interface IF_FXS_\",'Extension Table'!C19,\" switch \",CHAR(13),CHAR(10),\"     no shutdown\")","v":"  port fxs 0 17\r\n        caller-id format etsi\r\n         use profile fxs us\r\n      encapsulation cc-fxs\r\n       bind interface IF_FXS_18 switch \r\n     no shutdown"}]
[494,{"$f":"+IF(Data!$C$6>ROW(Generic!B495)-ROW(Generic!$B$477),\"\",\"#\")","v":"#"},{"$f":"+CONCATENATE(\"  port fxs 0 \",ROW()-ROW($E$444),CHAR(13),CHAR(10),\"        caller-id format \", Data!$C$41,CHAR(13),CHAR(10),\"         \",Data!$C$32,CHAR(13),CHAR(10),\"      encapsulation cc-fxs\",CHAR(13),CHAR(10),\"       bind interface IF_FXS_\",'Extension Table'!C20,\" switch \",CHAR(13),CHAR(10),\"     no shutdown\")","v":"  port fxs 0 18\r\n        caller-id format etsi\r\n         use profile fxs us\r\n      encapsulation cc-fxs\r\n       bind interface IF_FXS_19 switch \r\n     no shutdown"}]
[495,{"$f":"+IF(Data!$C$6>ROW(Generic!B496)-ROW(Generic!$B$477),\"\",\"#\")","v":"#"},{"$f":"+CONCATENATE(\"  port fxs 0 \",ROW()-ROW($E$444),CHAR(13),CHAR(10),\"        caller-id format \", Data!$C$41,CHAR(13),CHAR(10),\"         \",Data!$C$32,CHAR(13),CHAR(10),\"      encapsulation cc-fxs\",CHAR(13),CHAR(10),\"       bind interface IF_FXS_\",'Extension Table'!C21,\" switch \",CHAR(13),CHAR(10),\"     no shutdown\")","v":"  port fxs 0 19\r\n        caller-id format etsi\r\n         use profile fxs us\r\n      encapsulation cc-fxs\r\n       bind interface IF_FXS_20 switch \r\n     no shutdown"}]
[496,{"$f":"+IF(Data!$C$6>ROW(Generic!B497)-ROW(Generic!$B$477),\"\",\"#\")","v":"#"},{"$f":"+CONCATENATE(\"  port fxs 0 \",ROW()-ROW($E$444),CHAR(13),CHAR(10),\"        caller-id format \", Data!$C$41,CHAR(13),CHAR(10),\"         \",Data!$C$32,CHAR(13),CHAR(10),\"      encapsulation cc-fxs\",CHAR(13),CHAR(10),\"       bind interface IF_FXS_\",'Extension Table'!C22,\" switch \",CHAR(13),CHAR(10),\"     no shutdown\")","v":"  port fxs 0 20\r\n        caller-id format etsi\r\n         use profile fxs us\r\n      encapsulation cc-fxs\r\n       bind interface IF_FXS_21 switch \r\n     no shutdown"}]
[497,{"$f":"+IF(Data!$C$6>ROW(Generic!B498)-ROW(Generic!$B$477),\"\",\"#\")","v":"#"},{"$f":"+CONCATENATE(\"  port fxs 0 \",ROW()-ROW($E$444),CHAR(13),CHAR(10),\"        caller-id format \", Data!$C$41,CHAR(13),CHAR(10),\"         \",Data!$C$32,CHAR(13),CHAR(10),\"      encapsulation cc-fxs\",CHAR(13),CHAR(10),\"       bind interface IF_FXS_\",'Extension Table'!C23,\" switch \",CHAR(13),CHAR(10),\"     no shutdown\")","v":"  port fxs 0 21\r\n        caller-id format etsi\r\n         use profile fxs us\r\n      encapsulation cc-fxs\r\n       bind interface IF_FXS_22 switch \r\n     no shutdown"}]
[498,{"$f":"+IF(Data!$C$6>ROW(Generic!B499)-ROW(Generic!$B$477),\"\",\"#\")","v":"#"},{"$f":"+CONCATENATE(\"  port fxs 0 \",ROW()-ROW($E$444),CHAR(13),CHAR(10),\"        caller-id format \", Data!$C$41,CHAR(13),CHAR(10),\"         \",Data!$C$32,CHAR(13),CHAR(10),\"      encapsulation cc-fxs\",CHAR(13),CHAR(10),\"       bind interface IF_FXS_\",'Extension Table'!C24,\" switch \",CHAR(13),CHAR(10),\"     no shutdown\")","v":"  port fxs 0 22\r\n        caller-id format etsi\r\n         use profile fxs us\r\n      encapsulation cc-fxs\r\n       bind interface IF_FXS_23 switch \r\n     no shutdown"}]
[499,{"$f":"+IF(Data!$C$6>ROW(Generic!B500)-ROW(Generic!$B$477),\"\",\"#\")","v":"#"},{"$f":"+CONCATENATE(\"  port fxs 0 \",ROW()-ROW($E$444),CHAR(13),CHAR(10),\"        caller-id format \", Data!$C$41,CHAR(13),CHAR(10),\"         \",Data!$C$32,CHAR(13),CHAR(10),\"      encapsulation cc-fxs\",CHAR(13),CHAR(10),\"       bind interface IF_FXS_\",'Extension Table'!C25,\" switch \",CHAR(13),CHAR(10),\"     no shutdown\")","v":"  port fxs 0 23\r\n        caller-id format etsi\r\n         use profile fxs us\r\n      encapsulation cc-fxs\r\n       bind interface IF_FXS_24 switch \r\n     no shutdown"}]
[500,{"$f":"+IF(Data!$C$6>ROW(Generic!B501)-ROW(Generic!$B$477),\"\",\"#\")","v":"#"},{"$f":"+CONCATENATE(\"  port fxs 0 \",ROW()-ROW($E$444),CHAR(13),CHAR(10),\"        caller-id format \", Data!$C$41,CHAR(13),CHAR(10),\"         \",Data!$C$32,CHAR(13),CHAR(10),\"      encapsulation cc-fxs\",CHAR(13),CHAR(10),\"       bind interface IF_FXS_\",'Extension Table'!C26,\" switch \",CHAR(13),CHAR(10),\"     no shutdown\")","v":"  port fxs 0 24\r\n        caller-id format etsi\r\n         use profile fxs us\r\n      encapsulation cc-fxs\r\n       bind interface IF_FXS_25 switch \r\n     no shutdown"}]
[501,{"$f":"+IF(Data!$C$6>ROW(Generic!B502)-ROW(Generic!$B$477),\"\",\"#\")","v":"#"},{"$f":"+CONCATENATE(\"  port fxs 0 \",ROW()-ROW($E$444),CHAR(13),CHAR(10),\"        caller-id format \", Data!$C$41,CHAR(13),CHAR(10),\"         \",Data!$C$32,CHAR(13),CHAR(10),\"      encapsulation cc-fxs\",CHAR(13),CHAR(10),\"       bind interface IF_FXS_\",'Extension Table'!C27,\" switch \",CHAR(13),CHAR(10),\"     no shutdown\")","v":"  port fxs 0 25\r\n        caller-id format etsi\r\n         use profile fxs us\r\n      encapsulation cc-fxs\r\n       bind interface IF_FXS_26 switch \r\n     no shutdown"}]
[502,{"$f":"+IF(Data!$C$6>ROW(Generic!B503)-ROW(Generic!$B$477),\"\",\"#\")","v":"#"},{"$f":"+CONCATENATE(\"  port fxs 0 \",ROW()-ROW($E$444),CHAR(13),CHAR(10),\"        caller-id format \", Data!$C$41,CHAR(13),CHAR(10),\"         \",Data!$C$32,CHAR(13),CHAR(10),\"      encapsulation cc-fxs\",CHAR(13),CHAR(10),\"       bind interface IF_FXS_\",'Extension Table'!C28,\" switch \",CHAR(13),CHAR(10),\"     no shutdown\")","v":"  port fxs 0 26\r\n        caller-id format etsi\r\n         use profile fxs us\r\n      encapsulation cc-fxs\r\n       bind interface IF_FXS_27 switch \r\n     no shutdown"}]
[503,{"$f":"+IF(Data!$C$6>ROW(Generic!B504)-ROW(Generic!$B$477),\"\",\"#\")","v":"#"},{"$f":"+CONCATENATE(\"  port fxs 0 \",ROW()-ROW($E$444),CHAR(13),CHAR(10),\"        caller-id format \", Data!$C$41,CHAR(13),CHAR(10),\"         \",Data!$C$32,CHAR(13),CHAR(10),\"      encapsulation cc-fxs\",CHAR(13),CHAR(10),\"       bind interface IF_FXS_\",'Extension Table'!C29,\" switch \",CHAR(13),CHAR(10),\"     no shutdown\")","v":"  port fxs 0 27\r\n        caller-id format etsi\r\n         use profile fxs us\r\n      encapsulation cc-fxs\r\n       bind interface IF_FXS_28 switch \r\n     no shutdown"}]
[504,{"$f":"+IF(Data!$C$6>ROW(Generic!B505)-ROW(Generic!$B$477),\"\",\"#\")","v":"#"},{"$f":"+CONCATENATE(\"  port fxs 0 \",ROW()-ROW($E$444),CHAR(13),CHAR(10),\"        caller-id format \", Data!$C$41,CHAR(13),CHAR(10),\"         \",Data!$C$32,CHAR(13),CHAR(10),\"      encapsulation cc-fxs\",CHAR(13),CHAR(10),\"       bind interface IF_FXS_\",'Extension Table'!C30,\" switch \",CHAR(13),CHAR(10),\"     no shutdown\")","v":"  port fxs 0 28\r\n        caller-id format etsi\r\n         use profile fxs us\r\n      encapsulation cc-fxs\r\n       bind interface IF_FXS_29 switch \r\n     no shutdown"}]
[505,{"$f":"+IF(Data!$C$6>ROW(Generic!B506)-ROW(Generic!$B$477),\"\",\"#\")","v":"#"},{"$f":"+CONCATENATE(\"  port fxs 0 \",ROW()-ROW($E$444),CHAR(13),CHAR(10),\"        caller-id format \", Data!$C$41,CHAR(13),CHAR(10),\"         \",Data!$C$32,CHAR(13),CHAR(10),\"      encapsulation cc-fxs\",CHAR(13),CHAR(10),\"       bind interface IF_FXS_\",'Extension Table'!C31,\" switch \",CHAR(13),CHAR(10),\"     no shutdown\")","v":"  port fxs 0 29\r\n        caller-id format etsi\r\n         use profile fxs us\r\n      encapsulation cc-fxs\r\n       bind interface IF_FXS_30 switch \r\n     no shutdown"}]
[506,{"$f":"+IF(Data!$C$6>ROW(Generic!B507)-ROW(Generic!$B$477),\"\",\"#\")","v":"#"},{"$f":"+CONCATENATE(\"  port fxs 0 \",ROW()-ROW($E$444),CHAR(13),CHAR(10),\"        caller-id format \", Data!$C$41,CHAR(13),CHAR(10),\"         \",Data!$C$32,CHAR(13),CHAR(10),\"      encapsulation cc-fxs\",CHAR(13),CHAR(10),\"       bind interface IF_FXS_\",'Extension Table'!C32,\" switch \",CHAR(13),CHAR(10),\"     no shutdown\")","v":"  port fxs 0 30\r\n        caller-id format etsi\r\n         use profile fxs us\r\n      encapsulation cc-fxs\r\n       bind interface IF_FXS_31 switch \r\n     no shutdown"}]
[507,{"$f":"+IF(Data!$C$6>ROW(Generic!B508)-ROW(Generic!$B$477),\"\",\"#\")","v":"#"},{"$f":"+CONCATENATE(\"  port fxs 0 \",ROW()-ROW($E$444),CHAR(13),CHAR(10),\"        caller-id format \", Data!$C$41,CHAR(13),CHAR(10),\"         \",Data!$C$32,CHAR(13),CHAR(10),\"      encapsulation cc-fxs\",CHAR(13),CHAR(10),\"       bind interface IF_FXS_\",'Extension Table'!C33,\" switch \",CHAR(13),CHAR(10),\"     no shutdown\")","v":"  port fxs 0 31\r\n        caller-id format etsi\r\n         use profile fxs us\r\n      encapsulation cc-fxs\r\n       bind interface IF_FXS_32 switch \r\n     no shutdown"}]
[508,null,"################################################# END ##################################################"]

{"sheet":"RESULT","index":12,"n_rows":0,"n_cols":0,"rows_kept":0,"cut":false,"hidden":true,"merged":[]}

{"sheet":"Gen info","index":13,"n_rows":77,"n_cols":4,"rows_kept":77,"cut":false,"hidden":true,"merged":[]}
["Text Write Program"]
["This program writes cells in a worksheet in any open workbook to a text file. See \"Running the program\" below."]
["It writes ordinary delimited-text files, or fixed-length files."]
["The program is not affected by Windows regional settings."]
["It writes cells exactly as they appear. There is one exception. See \"Field Delimiter\" and \"Bracketing character(s).\""]
["Available at www.smokeylake.com"]
[]
["Version:"]
[null,"This -1e  version replaces the Text Write Program -1d."]
[]
[null,"The following bugs are fixed."]
[null,null,"it can handle sheets with more than 32,768 rows."]
[null,null,"It no longer allows the user to do anything in Excel while it's running.  This is to prevent changes while the file is being written."]
[]
[]
["Setup Screen"]
["The Setup screen is sized for screen resolution 1024X768"]
["For screen resolution of 800X600, set the zoom in the Setup sheet to 75%, or preference."]
["For other screen resolutions, adjust the zoom as needed."]
[]
["Click \"Help\" (at the right of the row) for information on the settings."]
[]
["Select \"Character\" or \"Code\" depending on whether you've supplied a character ( quote, comma, etc.) or a code value, such as 9 (code for tab)."]
[null,"\"Character\" is selected where you've supplied the character to use, such as \" for bracketing, or comma for delimiter."]
[null,"\"Code\" is selected where you've supplied the code value for the delimiter or bracketing character. "]
[null,null,"Only numbers between 0-255 can be entered. Separate numbers with commas"]
[null,null,"Selecting Code and entering 34 for the bracketing character is equivalent to \"Character\" with a quote (\") for bracketing character."]
[null,null,"(34 is the code value for the quote )"]
[]
[null,"Record delimiter:"]
[null,null,"For the standard CR and LF (carriage return and line feed) record delimiter:  Code, 13,10"]
[null,null,"For /n, Character, /n"]
[]
[null,"Stop if Record Delimiter found in a cell."]
[null,null,"This option causes the program to stop if the record delimiter you've supplied is discovered in a cell. "]
[null,null,"If bracketing is not being used, a program reading the file would consider the record ended at this point, and subsequent data in the row would appear in the next record."]
[]
[">",null,"If this option is not selected and a record delimiter is found in a cell, it is written to the file.  Note that this will cause"]
[null,null,"the written file to have more records than rows in the sheet written. "]
[]
[null,null,"Note that Excel97 SR2 will consider the record ended if the the normal CR LF (13, 10) is encountered in the text file,"]
[null,null,"and also if either CR or LF appears separately. This is true even when bracketing is being used. "]
[null,null,"Access97 reads the text file correctly; it does not consider the record ended in these situations when bracketing is being used."]
[]
[null,"Field delimiters:"]
[null,null,"For the standard comma for the field delimiter: Character, comma."]
[null,null,"For a tab-delimited file, use \"Code\" and enter 9 for the delimiter"]
[null,null,null,"(9 is the code value for the Tab character)"]
[null,null,"If the field delimiter appears in a cell, bracketing characters will always be put around the field, regardless of Bracketing character settings."]
[null,null,null,"(Unless no bracketing character is supplied)."]
[]
[null,"Bracketing character(s) (aka \"text qualifier\")"]
[null,null,"Normally a quote (*)"]
[null,null,"If the supplied bracketing character is found in a cell, it is written twice consecutively in the field."]
[null,null,"If \"Bracket Data fields\" is \"No\", bracketing characters (if supplied)  will still be put around fields found to contain the field delimiter"]
[]
["Writing a fixed-length file:"]
[null,"Fixed-length files use no bracketing or field delimiters. The program that will read the file knows how many characters to expect in each field,"]
[null,"counts them, and figures out where each field begins and ends with the counts."]
[null,"The Field Delimiter, and Bracketing Character boxes would normally be set to blank."]
[null,"Note that this program does not truncate or pad the fields to a specified number of characters. "]
[null,"The cells must already contain the prescribed number of characters. "]
[null,"This program writes the cells to the file without change with these settings."]
[]
["Running the program"]
[]
["Go to the Setup Sheet and specify options."]
["Switch to the workbook containing the worksheet to be written, select the sheet, (and cells, if writing selection only)."]
["To start the program, press Ctrl-Shift-W. "]
["The row being processed appears on the status bar, along with a homemade progress bar."]
["A message will appear when it's finished reporting the count of records (rows) written, and blank rows skipped, if opted.."]
[]
["To terminate press Ctrl-Break. Answer \"End\" to the resulting prompt."]
[]
["Problems, suggestions, etc."]
[]
[null,"Send an email to me, and I'll add you to my notification list. If the program is upgraded (bugs fixed, more features), I'll send an email to all on the list (blind CC)."]

{"sheet":"Setup","index":14,"n_rows":68,"n_cols":5,"rows_kept":68,"cut":false,"hidden":true,"merged":[]}
["\""]
[null,"Text Write Program"]
[]
[null,"File Name to write.",{"$f":"CONCATENATE(Data!C12,Data!C79,\".\",Data!$C$11,\".cfg\")","v":"C:/temp/3CX.PattonSample.cfg"},"Help",{"$f":"IF(FileSpec=\"\",\"Must supply file name\",\"\")","v":""}]
[null,"Include extension (txt, csv, etc.) if needed. E.g.:  Myfile.csv\nInclude path if not Excel default folder. E.g.:  C:\\My Dir\\Text File.txt.  If you use the Browse button, you can manually remove the path information if you wish. ",null,"Hide"]
[]
[]
[null,"Record Delimiter","13,10","Help",{"$f":"IF(RecordDelimiter=\"\",\"No Record Delimiter\",\"\")","v":""}]
[null,"The record delimiter is usually CR and LF (carriage return and line feed)  codes (13 and 10).    [Code,  13,10]\nfor \\n  -- [Character,   \\n].",2,"Hide"]
[]
[]
[null,"Stop if Record Delimiter found in cell?",1,"Help"]
[null,"If yes, the program will stop if the Record Delimiter character(s) is found in a cell. See the General info sheet for more information.",null,"Hide"]
[]
[]
[null,"Field Delimiter",",","Help"]
[null,"The field delimiter is usually a comma. [Character, comma].\nFor tab-delimited,  [Code, 9]\nFor fixed-length files without delimiters, leave blank. See Gen Info.\nIf no value is supplied, no field delimiters will appear in the file. The fields will be immediately adjacent to each other.",1,"Hide"]
[]
[]
[null,"Bracketing Character",null,"Help"]
[null,"For delimited text files, the bracketing character (text qualifier) is usually a quote (\").      [Character,  \"]\n    E.g.: \"Fld1\",,,\"Fld4\"\nIf no bracketing character is supplied, the program will put no bracketing characters in the file, including fields that contain the delimiter.\nFor fixed-length (not delimited) files, leave blank.",1,"Hide"]
[]
[]
[null,"Bracket all fields?",1,"Help"]
[null,"Default = Yes\nIf yes, the bracketing character(s) are put around each field containing data.\n\"Fld1\",,\"Fld4\"    If no:   Fld1,,Fld4\nFields containing the delimiter character will always be bracketed, unless no bracketing character is supplied.",null,"Hide"]
[]
[]
[null,"Bracket blank fields also?",1,"Help"]
[null,"Default = No\nIf \"yes,\" blank fields will have bracketing characters. E.g.: \"Fld 1\",\"\",\"\",\"Fld 4\"\nIf \"no,\" blank fields will not have bracketing characters. E.g.: \"Fld 1\",,,\"Fld 4\"",null,"Hide"]
[]
[]
[null,"Skip blank rows?",1]
[]
[]
[]
[null,"Write entire sheet?",2,"Help"]
[null,"If yes, selection in the sheet is ignored. Each row will produce one record in the file, up to the last row containing data.\nIf \"no,\" only selected cells are written (must be a contiguous range).",null,"Hide"]
[]
[]
[null,"If no, Expand selection?",1,"Help"]
[null,"If \"yes,\" selecting a single cell causes the selection to expand to include any adjacent rows and columns that have contiguous data. This is the same as the expanded selection used in autofilters, sorting, charting, etc. Select only one cell.",null,"Hide"]
[]
[]
[null,"If no, write rectangular?",1,"Help"]
[null,"If No, no fields are written through the last cell of each row, from the left, containing data.\nIf Yes, the count of fields in each record is the count of cells in each row of the selected area, even if blank. \n             No              Yes\nA B C    \"A\",\"B\",\"C\"     \"A\",\"B\",\"C\"\nA        \"A\"             \"A\",\"\",\"\"\nA B      \"A\",\"B\"         \"A\",\"B\",\"\"",null,"Hide"]
[]
[]
[null,"Select sheet (and cells). Press Ctrl Shift W to initiate write."]
[]
[]
[]
[]
[]
[]
[]
[]
[]
[]
[]
[]
[]
[]
[]
[]
["Validation List"]
[]
[1]
[2]

{"sheet":"NOTA INTERNAS","index":15,"n_rows":24,"n_cols":4,"rows_kept":24,"cut":false,"hidden":true,"merged":[]}
[]
[]
[null,null,"NOTAS para 3CX","NOTAS para SNOM ONE"]
[null,null,"El realm debe estar en blanco para los servicios de LS y AS","El Realm Domain debe coincidir con la definicion de Domain en SNOM"]
[]
[]
[]
[]
[]
[]
[]
[]
[]
[]
[]
[null,null,"Sub Go2sheet()"]
[null,null,"myShts = ActiveWorkbook.Sheets.Count"]
[null,null,"For i = 1 To myShts"]
[null,null,"myList = myList & i & \" - \" & ActiveWorkbook.Sheets(i).Name & \" \" & vbCr"]
[null,null,"Next i"]
[null,null,"Dim mySht As Single"]
[null,null,"mySht = InputBox(\"Select sheet to go to.\" & vbCr & vbCr & myList)"]
[null,null,"Sheets(mySht).Select"]
[null,null,"End Sub"]